{"text_format":"1","workbook":"xlsx","n_sheets":11,"sheets":["README","ReleaseNotes","unique_contracts","Calcs","resources","lse_names","misc","btm_pv_forecast","Reliability","CSPReportSheet","ReportSheet"],"not_rendered":{"charts":0,"images":2,"macros":1,"external_links":1,"defined_names":62,"comments":0,"pivot_tables":0},"unopened":[],"bounds":{"document_bytes":16777216,"sheet_cells":100000,"rows_first":2000,"rows_last":500,"rows_between":2000,"halvings":0,"cell_chars":16384,"cell_head_chars":4096},"cells_cut":0,"cells_raw":0,"read":"whole","date_system":"1900"}

{"sheet":"README","index":0,"n_rows":4,"n_cols":4,"rows_kept":4,"cut":false,"hidden":false,"merged":[[3,0,3,1],[3,3,4,6]]}
["ReleaseVersion","rdtv3"]
["ReleaseDate","2022-09-23"]
[]
[null,null,null," In order to run the macro, LSEs must FIRST enable macros. Then, they are instructed to complete the RDT data entry fully, then push the button on the README tab. "]

{"sheet":"ReleaseNotes","index":1,"n_rows":8,"n_cols":4,"rows_kept":8,"cut":false,"hidden":false,"merged":[]}
["ReleaseVersion","ReleaseDate","ID","Note"]
["RDTv3 beta","2022-06-06"]
["RDTv3 Release","2022-06-15"]
["RDTv3 Updated","2022-06-20",null,"Minor updates in columns' names"]
["RDTv3 Updated","2022-07-15",null,"Reliability tabs updates & some minor updates to the resource tab"]
["RDTv3 Updated","2022-07-29",null,"1)\"misc\" tab: updated with all ELCC % values and added MRN/TRN ratios\n2)“Reliability” tab: added formulas to pull MRN/TRN ratios from the “misc” worksheet; updated formatting for cells H23:J50 and L23:P50 (previously greyed out since results weren’t available for those years)\n3)“Calcs” tab: updated formulas in columns S:T so that battery contracts with durations greater than or equal to 9 hours will get “8hr_batteries” ELCC%; updated formulas in columns S:T and added formulas in column Y so that battery contracts with durations less than 4 hours will get (“4hr_batteries” ELCC%) * (contract duration) / 4hr"]
["RDTv3 Updated","2022-08-23",null,"1)\"resources\" tab: updated to include several new resource IDs, remove duplicates, adjust how baseline hybrid/paired resources are characterized, and update some project-specific information\n2) \"btm_pv_forecast\" tab: Added an additional LSE\n3)“ReportSheet” tab: new macro generated error flag, Rows with invalid buying_energy_capacity and csp_resource_category; flags contracts with non-storage CSP resources is marked as CapacityOnly and is marked as CSP.\n4)“ReportSheet” tab: summation now includes contracts that ara both \"Buy\" and \"Owned\""]
["RDTv3 Updated","2022-09-23",null,"1) corrects made to macro\n2) fixes the ELCC type issues for a few generic resources"]

{"sheet":"unique_contracts","index":2,"n_rows":96,"n_cols":77,"rows_kept":96,"cut":false,"hidden":false,"merged":[]}
["lse_unique_contract_id","resource","alternative_resource_name","contract_status","project_interconnection_position","interconnection_substation","marginal_addition","marginal_addition_to","total_nameplate_capacity","contracted_nameplate_capacity","sep_contracted_mw_nqc","contract_gwh_annual","is_hybrid_paired","can_charge_from_grid","total_generator_mw","contracted_generator_mw","total_storage_mw","contracted_storage_mw","solar_technology_sub_type","storage_technology_sub_type","total_storage_depth_mwh","contracted_storage_depth_mwh","viability_cod_reasonableness","viability_technical_feasibility","viability_financing_sitecontrol","resource_mix","cam_d1911016_vamo_ghgfreepcia","buy_sell_own","counterparty","generator_supplier","developer_name","capacity_area","capacity_sub_area","cpuc_approval_ref","county","COD_year","COD_month","COD_day","contract_start_date_year","contract_start_date_month","contract_start_date_day","contract_end_date_year","contract_end_date_month","contract_end_date_day","contract_execution_date_year","contract_execution_date_month","contract_execution_date_day","tx_upgrades","tx_upgrade_date_year","tx_upgrade_date_month","tx_upgrade_date_day","tx_upgrade_description","d1911016_tranche","d2106035_procurement_cat","mtr_tranche1_NQC","mtr_tranche2_NQC","mtr_tranche3_NQC","mtr_tranche4_NQC_LDES","mtr_tranche4_NQC_firm_ZE","mtr_NQC_ZE_gen_paired_dr","previous_COD_year","previous_COD_month","previous_COD_day","remediation_plan","signed_contract","notice_to_proceed","public_contract","buying_energy_capacity","NQC_reporting_source","procurement_origin","csp_resource_category","csp_annual_2024","csp_annual_2026","csp_annual_2030","csp_annual_2035","macro_supertype","notes"]
["raonly_MUSTANG BESS_all","MSTANG_2_MTGBT1",null,"Online","Q-643W",null,"NA",null,75,75,75,0,"NotHybrid",null,null,null,null,null,null,"Li",300,300,null,null,null,null,null,null,null,null,null,"GreaterFresno",null,null,"KingsCounty",2021,10,1,2021,10,1,2031,9,30,2020,8,28,"NA",null,null,null,null,"1&2&3","general",25.038,11.791,null,null,null,null,2021,10,1,"YES","YES","YES","YES","CapacityOnly","Calculated","D1911016","Battery Storage (MWh Energy Capacity)",300,300,300,0,"physical"]
["energy_PROXIMA","PROXIMASOLAR",null,"Development","Q-1244",null,"NA",null,50,50,7,138.154,"NewSolarNewStorage","NO",50,50,5,5,"1Axis","Li",20,20,null,null,null,null,null,null,null,null,null,"PacGE",null,null,"StanislausCounty",2024,6,1,2024,6,1,2044,5,31,2018,9,24,"YES",2023,10,27,"Q1244 Switching station, Tracy Circuit Breaker Replacement (WAPA)","NA",null,null,null,null,null,null,null,2023,6,30,null,"YES","NO","NO","EnergyCapacity","Calculated","RPS","Hybrid_or_Paired_Solar_and_Battery (GWh)",83.238057142857159,131.81969285714285,128.79503571428572,125.09997857142857,"physical"]
["energy_PROXIMA_EXPANSION","_CREZ_GENERIC_CENTRAL_VALLEY_NORTH_LOS_BANOS_SOLAR",null,"Development","Q-1244",null,"NA",null,20,20,27,49.1,"NewSolarNewStorage","NO",20,20,27,27,"1Axis","Li",108,108,null,null,null,null,null,null,null,null,null,"PacGE",null,null,"StanislausCounty",2024,6,1,2024,6,1,2044,5,31,2022,1,21,"YES",2023,10,27,"Q1244 Switching station, Tracy Circuit Breaker Replacement (WAPA)","NA","general_&_ZE_gen_paired_dr",null,3.6,18,null,null,21.6,2023,6,30,null,"YES",null,"NO","EnergyCapacity","Calculated","D2106035","Hybrid_or_Paired_Solar_and_Battery (GWh)",33.295222857142861,52.727877142857146,51.518014285714287,50.039991428571433,"newresolve"]
["fulltoll_CCPower_Tumbleweed","_NEW_GENERIC_BATTERY_STORAGE",null,"Development","Q-1076,Q-1217",null,"NA",null,69,8.94,8.94,0,"NotHybrid",null,null,null,null,null,null,"Li",552,71.52,null,null,null,null,null,null,null,null,null,"SCE",null,null,"KernCounty",2026,4,1,2026,4,1,2041,4,1,2022,1,19,"NA",null,null,null,null,"NA","long_duration_storage",null,null,null,6.99,null,null,2026,4,1,null,"YES",null,"YES","EnergyCapacity","Calculated","D2106035","Battery Storage (MWh Energy Capacity)",0,53.625,71.5,71.5,"newgeneric"]
["fulltoll_CCPower_Goaline","_NEW_GENERIC_BATTERY_STORAGE",null,"Development","Q-1832",null,"NA",null,50,8.68,8.68,0,"NotHybrid",null,null,null,null,null,null,"Li",400,69.44,null,null,null,null,null,null,null,null,null,"SDGE",null,null,"SanDiegoCounty",2025,6,1,2025,6,1,2040,6,1,2022,3,1,"NA",null,null,null,null,"NA","long_duration_storage",null,null,null,6.79,null,null,2025,6,1,null,"YES",null,"YES","EnergyCapacity","Calculated","D2106035","Battery Storage (MWh Energy Capacity)",0,69.44,69.44,69.44,"newgeneric"]
["20220531_CCPower_OME_FishLake_Geo_SCPA​","_NEW_GENERIC_GEOTHERMAL",null,"Development","geothermal_import_planned",null,"NA",null,13,1.5210000000000001,1.3231092735456815,12.832984881337396,null,null,null,null,null,null,null,null,null,null,null,null,null,null,null,null,null,null,null,"NEVP",null,null,"Nevada",2024,6,1,2024,6,1,2044,5,31,2022,5,31,"NO",null,null,null,null,"NA","firm_ZE",null,null,null,null,1.3231092735456815,null,null,null,null,null,"YES",null,"YES","EnergyCapacity","Calculated","D2106035","Geothermal (GWh)",7.2677626376780111,12.832984881337396,12.832984881337396,12.832984881337396,"newgeneric"]
["20220531_CCPower_Ormat_Portfolio_Geo_Project1_SCPA​","_NEW_GENERIC_GEOTHERMAL",null,"Development","geothermal_import_planned",null,"NA",null,null,null,null,null,null,null,null,null,null,null,null,null,null,null,null,null,null,null,null,null,null,null,null,null,null,null,null,null,null,null,null,null,null,null,null,null,2022,5,31,null,null,null,null,null,"NA","firm_ZE",null,null,null,null,null,null,null,null,null,null,"YES",null,"YES","EnergyCapacity","Calculated","D2106035","Geothermal (GWh)",null,null,null,null,"newgeneric"]
["20220531_CCPower_Ormat_Portfolio_Geo_Project2_SCPA​","_NEW_GENERIC_GEOTHERMAL",null,"Development","geothermal_import_planned",null,"NA",null,null,null,null,null,null,null,null,null,null,null,null,null,null,null,null,null,null,null,null,null,null,null,null,null,null,null,null,null,null,null,null,null,null,null,null,null,2022,5,31,null,null,null,null,null,"NA","firm_ZE",null,null,null,null,null,null,null,null,null,null,"YES",null,"YES","EnergyCapacity","Calculated","D2106035","Geothermal (GWh)",null,null,null,null,"newgeneric"]
["20220531_CCPower_Ormat_Portfolio_Geo_Project3_SCPA​","_NEW_GENERIC_GEOTHERMAL",null,"Development","geothermal_import_planned",null,"NA",null,null,null,null,null,null,null,null,null,null,null,null,null,null,null,null,null,null,null,null,null,null,null,null,null,null,null,null,null,null,null,null,null,null,null,null,null,2022,5,31,null,null,null,null,null,"NA","firm_ZE",null,null,null,null,null,null,null,null,null,null,"YES",null,"YES","EnergyCapacity","Calculated","D2106035","Geothermal (GWh)",null,null,null,null,"newgeneric"]
["20220531_CCPower_Ormat_Portfolio_Geo_Project4_SCPA​","_NEW_GENERIC_GEOTHERMAL",null,"Development","geothermal_import_planned",null,"NA",null,null,null,null,null,null,null,null,null,null,null,null,null,null,null,null,null,null,null,null,null,null,null,null,null,null,null,null,null,null,null,null,null,null,null,null,null,2022,5,31,null,null,null,null,null,"NA","firm_ZE",null,null,null,null,null,null,null,null,null,null,"YES",null,"YES","EnergyCapacity","Calculated","D2106035","Geothermal (GWh)",null,null,null,null,"newgeneric"]
["20220531_CCPower_Ormat_Portfolio_Geo_Project5_SCPA​","_NEW_GENERIC_GEOTHERMAL",null,"Development","geothermal_import_planned",null,"NA",null,null,null,null,null,null,null,null,null,null,null,null,null,null,null,null,null,null,null,null,null,null,null,null,null,null,null,null,null,null,null,null,null,null,null,null,null,2022,5,31,null,null,null,null,null,"NA","firm_ZE",null,null,null,null,null,null,null,null,null,null,"YES",null,"YES","EnergyCapacity","Calculated","D2106035","Geothermal (GWh)",null,null,null,null,"newgeneric"]
["20220531_CCPower_Ormat_Portfolio_Geo_Project6_SCPA​","_NEW_GENERIC_GEOTHERMAL",null,"Development","geothermal_import_planned",null,"NA",null,null,null,null,null,null,null,null,null,null,null,null,null,null,null,null,null,null,null,null,null,null,null,null,null,null,null,null,null,null,null,null,null,null,null,null,null,2022,5,31,null,null,null,null,null,"NA","firm_ZE",null,null,null,null,null,null,null,null,null,null,"YES",null,"YES","EnergyCapacity","Calculated","D2106035","Geothermal (GWh)",null,null,null,null,"newgeneric"]
["20220531_CCPower_Ormat_Portfolio_Geo_Project7_SCPA​","_CREZ_GENERIC_SOLANO_GEOTHERMAL",null,"Development",1859,null,"NA",null,null,null,null,null,null,null,null,null,null,null,null,null,null,null,null,null,null,null,null,null,null,null,null,null,null,null,null,null,null,null,null,null,null,null,null,null,2022,5,31,null,null,null,null,null,"NA","firm_ZE",null,null,null,null,null,null,null,null,null,null,"YES",null,"YES","EnergyCapacity","Calculated","D2106035","Geothermal (GWh)",null,null,null,null,"newresolve"]
["20220608_Tubbs Island PPA Fully executed","_NEW_GENERIC_SOLAR_2AXIS",null,"Development","solar_caiso_planned","Sonoma (PG&E)","NA",null,11.6,11.6,8,29.457999999999998,"NewSolarNewStorage","NO",11.6,11.6,8,8,"2Axis","Li",32,32,null,null,null,null,null,null,null,null,null,"PacGE",null,null,"SonomaCounty",2024,6,1,2024,6,1,2044,5,31,2022,6,8,"NA",null,null,null,null,"NA","general_&_ZE_gen_paired_dr",null,6.4,null,null,null,6.4,null,null,null,null,"YES",null,"YES","EnergyCapacity","Calculated","D2106035","Hybrid_or_Paired_Solar_and_Battery (GWh)",16.567319999999999,27.03267,26.41582,25.71529,"newgeneric"]
["raonly_CALPINE SUTTER IRP_tranche1","SUTTERENERGYCC_TOTAL",null,"Online",null,null,"NA",null,525,6.8,6.8,0,null,null,null,null,null,null,null,null,null,null,null,null,null,null,null,null,null,null,null,null,null,null,null,null,null,null,2021,1,1,2023,12,31,2020,2,28,"NA",null,null,null,null,1,null,null,null,null,null,null,null,null,null,null,null,"YES","NO","NO","CapacityOnly","In the contract","D1911016","NA",null,null,null,null,"physical"]
["raonly_CALPINE SUTTER IRP_tranche2","SUTTERENERGYCC_TOTAL",null,"Online",null,null,"NA",null,525,0.5,0.5,0,null,null,null,null,null,null,null,null,null,null,null,null,null,null,null,null,null,null,null,null,null,null,null,null,null,null,2022,1,1,2023,12,31,2020,2,28,"NA",null,null,null,null,2,null,null,null,null,null,null,null,null,null,null,null,"YES","NO","NO","CapacityOnly","In the contract","D1911016","NA",null,null,null,null,"physical"]
["energy_CALPINE_GEYSERS_2014","_EXISTING_GENERIC_GEOTHERMAL",null,"Online",null,null,"NA",null,50,50,50,438,null,null,null,null,null,null,null,null,null,null,null,null,null,null,null,null,null,null,null,"NorthCoastNorthBay",null,null,"SonomaCounty",null,null,null,2017,1,1,2026,12,31,2014,10,20,"NA",null,null,null,null,null,null,null,null,null,null,null,null,null,null,null,null,"YES",null,"YES","EnergyCapacity","In the contract","RPS","Geothermal (GWh)",438,438,0,0,"existinggeneric"]
["energy_LAVIO","_EXISTING_GENERIC_SOLAR_FIXED",null,"Online",null,null,"NA",null,1,1,0,1.99,null,null,null,null,null,null,null,null,null,null,null,null,null,null,null,null,null,null,null,null,null,null,"SonomaCounty",2018,4,20,2018,4,20,2038,4,19,2015,11,6,"NA",null,null,null,null,null,null,null,null,null,null,null,null,null,null,null,null,"YES",null,"YES","EnergyOnly",null,"RPS","Solar Existing California (GWh)",2.0048499999999998,1.9848299999999999,1.9454200000000001,1.897279999,"existinggeneric"]
["energy_STAGE GULCH","_EXISTING_GENERIC_SOLAR_FIXED",null,"Online",null,null,"NA",null,1,1,0,1.99,null,null,null,null,null,null,null,null,null,null,null,null,null,null,null,null,null,null,null,null,null,null,"SonomaCounty",2018,4,24,2018,4,24,2038,4,23,2015,11,6,"NA",null,null,null,null,null,null,null,null,null,null,null,null,null,null,null,null,"YES",null,"YES","EnergyOnly",null,"RPS","Solar Existing California (GWh)",1.7043099990000001,1.687309999,1.6538099990000001,1.6128699999999998,"existinggeneric"]
["energy_CLOVERDALE","_EXISTING_GENERIC_SOLAR_FIXED",null,"Online",null,null,"NA",null,1,1,0,2.34,null,null,null,null,null,null,null,null,null,null,null,null,null,null,null,null,null,null,null,null,null,null,"SonomaCounty",2019,6,11,2019,6,11,2039,6,10,2018,1,31,"NA",null,null,null,null,null,null,null,null,null,null,null,null,null,null,null,null,"YES",null,"YES","EnergyOnly",null,"RPS","Solar Existing California (GWh)",2.2807199999999996,2.2579699999999998,2.213139999,2.1583800000000002,"existinggeneric"]
["energy_MUSTANG","MSTANG_2_SOLAR",null,"Online",null,null,"NA",null,30,30,0,84.126000000000005,null,null,null,null,null,null,null,null,null,null,null,null,null,null,null,null,null,null,null,"GreaterFresno",null,null,"KingsCounty",2016,8,1,2016,8,1,2036,7,31,2014,6,12,"NA",null,null,null,null,null,null,null,null,null,null,null,null,null,null,null,null,"YES",null,"YES","EnergyOnly","Calculated","RPS","Solar Existing California (GWh)",74.76382000000001,74.018059999999991,72.548789999999997,70.753100000000003,"physical"]
["energy_MUSTANG_3","MSTANG_2_SOLAR3",null,"Online",null,null,"NA",null,40,40,4.2,113.104,null,null,null,null,null,null,null,null,null,null,null,null,null,null,null,null,null,null,null,"GreaterFresno",null,null,"KingsCounty",2016,7,12,2016,7,12,2036,7,11,2014,10,20,"NA",null,null,null,null,null,null,null,null,null,null,null,null,null,null,null,null,"YES",null,"YES","EnergyCapacity","Calculated","RPS","Solar Existing California (GWh)",96.086259999999996,95.12778999999999,93.23948,90.931669999999997,"physical"]
["energy_MALBEC","_EXISTING_GENERIC_SOLAR_1AXIS",null,"Online",null,null,"NA",null,1,1,0,2.448,null,null,null,null,null,null,null,null,null,null,null,null,null,null,null,null,null,null,null,null,null,null,"MendocinoCounty",2019,11,14,2019,11,14,2039,11,13,2019,9,5,"NA",null,null,null,null,null,null,null,null,null,null,null,null,null,null,null,null,"YES",null,"YES","EnergyOnly",null,"RPS","Solar Existing California (GWh)",2.3890899989999999,2.3652600000000001,2.3183000000000002,2.2609399990000001,"existinggeneric"]
["energy_GOLDEN_HILLS","USWND2_1_WIND3",null,"Online",null,null,"NA",null,46,46,6.9,181.32,null,null,null,null,null,null,null,null,null,null,null,null,null,null,null,null,null,null,null,"PacGE",null,null,"AlamedaCounty",2014,11,13,2014,11,13,2037,11,12,2016,7,18,"NA",null,null,null,null,null,null,null,null,null,null,null,null,null,null,null,null,"YES",null,"YES","EnergyCapacity","Calculated","RPS","Wind Existing California (GWh)",170.40433999999999,170.40432999999999,170.40433999999999,170.40434999999999,"physical"]
["energy_BODEGA WEST","_EXISTING_GENERIC_SOLAR_1AXIS",null,"Online",null,null,"NA",null,1,1,0,2.4420000000000002,null,null,null,null,null,null,null,null,null,null,null,null,null,null,null,null,null,null,null,null,null,null,"SonomaCounty",2020,12,31,2020,12,31,2040,4,29,2017,6,12,"NA",null,null,null,null,null,null,null,null,null,null,null,null,null,null,null,null,"YES",null,"YES","EnergyOnly",null,"RPS","Solar Existing California (GWh)",2.0048499999999998,1.9848299999999999,1.9454200000000001,1.897279999,"existinggeneric"]
["energy_PETALUMA EAST","_EXISTING_GENERIC_SOLAR_1AXIS",null,"Online",null,null,"NA",null,1,1,0,2.3679999999999999,null,null,null,null,null,null,null,null,null,null,null,null,null,null,null,null,null,null,null,null,null,null,"SonomaCounty",2021,2,23,2021,2,23,2040,12,17,2017,6,12,"NA",null,null,null,null,null,null,null,null,null,null,null,null,null,null,null,null,"YES",null,"YES","EnergyOnly",null,"RPS","Solar Existing California (GWh)",2.0048499999999998,1.9848299999999999,1.9454200000000001,1.897279999,"existinggeneric"]
["raonly_20190523 GH multi-year","USWND2_1_WIND1",null,"Online",null,null,"NA",null,42.96,42.96,6.44,0,null,null,null,null,null,null,null,null,null,null,null,null,null,null,null,null,null,null,null,"PacGE",null,null,"AlamedaCounty",null,null,null,2020,1,1,2024,12,31,2019,5,23,"NA",null,null,null,null,null,null,null,null,null,null,null,null,null,null,null,null,"YES",null,"NO","CapacityOnly","Calculated","RA","NA",null,null,null,null,"physical"]
["raonly_20190532 Blythe multi-year","DRACKR_2_SOLAR1",null,"Online",null,null,"NA",null,110,110,15.4,0,null,null,null,null,null,null,null,null,null,null,null,null,null,null,null,null,null,null,null,"SCE",null,null,"RiversideCounty",null,null,null,2020,1,1,2024,12,31,2019,5,23,"NA",null,null,null,null,null,null,null,null,null,null,null,null,null,null,null,null,"YES",null,"NO","CapacityOnly","Calculated","RA","NA",null,null,null,null,"physical"]
["raonly_191007_SDGE_Jan20Sep24_SysRA","LASSEN_6_UNITS",null,"Online",null,null,"NA",null,30,30,24,0,null,null,null,null,null,null,null,null,null,null,null,null,null,null,null,null,null,null,null,"PacGE",null,null,"LassenCounty",null,null,null,2020,1,1,2024,9,30,2019,10,7,"NA",null,null,null,null,null,null,null,null,null,null,null,null,null,null,null,null,"YES",null,"NO","CapacityOnly","In the contract","RA","NA",null,null,null,null,"physical"]
["raonly_01132022_WSPP_SD_Local_Flex_50MW_2024_2025 Buy","TERMEX_2_PL1X3",null,"Online",null,null,"NA",null,625,50,50,0,null,null,null,null,null,null,null,null,null,null,null,null,null,null,null,null,null,null,null,"SanDiegoImperialValley",null,null,"BajaCaliforniaMexico",null,null,null,2024,1,1,2025,12,31,2022,1,13,"NA",null,null,null,null,null,null,null,null,null,null,null,null,null,null,null,null,"YES",null,"NO","CapacityOnly","In the contract","RA","NA",null,null,null,null,"physical"]
["raonly)01142022_System Flex 2024-2025 Buy","TERMEX_2_PL1X3",null,"Online",null,null,"NA",null,625,50,50,0,null,null,null,null,null,null,null,null,null,null,null,null,null,null,null,null,null,null,null,"SanDiegoImperialValley",null,null,"BajaCaliforniaMexico",null,null,null,2024,1,1,2025,12,31,2022,1,14,"NA",null,null,null,null,null,null,null,null,null,null,null,null,null,null,null,null,"YES",null,"NO","CapacityOnly","In the contract","RA","NA",null,null,null,null,"physical"]
["raonly_20220405_SCP-Chevron RA 2023 System Buy Fully Executed","_EXISTING_GENERIC_COGEN",null,"Online",null,null,"NA",null,86,50,50,0,null,null,null,null,null,null,null,null,null,null,null,null,null,null,null,null,null,null,null,"PacGE",null,null,"KernCounty",null,null,null,2023,1,1,2025,12,31,2022,4,5,"NA",null,null,null,null,null,null,null,null,null,null,null,null,null,null,null,null,"YES",null,"NO","CapacityOnly","In the contract","RA","NA",null,null,null,null,"existinggeneric"]
["energy_20220520_BioRAM PCC1 2023-2024 Buy","_EXISTING_GENERIC_BIOMASS/WOOD",null,"Online",null,null,"NA",null,42.4,22,0,150.4,null,null,null,null,null,null,null,null,null,null,null,null,null,null,null,null,null,null,null,null,null,null,null,null,null,null,2023,1,1,2024,12,31,2022,5,20,"NA",null,null,null,null,null,null,null,null,null,null,null,null,null,null,null,null,"YES",null,"NO","EnergyOnly",null,"RPS","Biomass (GWh)",150.43899999999999,0,0,0,"existinggeneric"]
["energy_SCP_PG&E_PCIA_hydro_allocation","_EXISTING_GENERIC_INSTATE_LARGE_HYDRO",null,"PlannedExisting",null,null,"NA",null,71.91780821917807,71.91780821917807,0,252,null,null,null,null,null,null,null,null,null,null,null,null,null,null,"GHG-free PCIA",null,null,null,null,null,null,null,null,null,null,null,2020,7,1,2040,12,31,2020,1,25,"NA",null,null,null,null,null,null,null,null,null,null,null,null,null,null,null,null,"YES",null,"NO","EnergyOnly",null,"GHGTarget","Large Hydro (GWh)",242.96544,242.30160000000001,242.30160000000001,242.30160000000001,"existinggeneric"]
["energy_MORGAN_ACS","_EXISTING_GENERIC_NW_HYDRO",null,"Online",null,null,"NA",null,28.538812785388128,28.538812785388128,0,100,null,null,null,null,null,null,null,null,null,null,null,null,null,null,null,null,null,null,null,null,null,null,null,null,null,null,2021,1,1,2024,12,31,2020,4,8,"NA",null,null,null,null,null,null,null,null,null,null,null,null,null,null,null,null,"YES",null,"NO","EnergyOnly",null,"GHGTarget","Asset Controlling Supplier (GWh)",100,0,0,0,"existinggeneric"]
["energy_20211220_Carbon free allocation 2023-2025 Buy","_EXISTING_GENERIC_INSTATE_LARGE_HYDRO",null,"Online",null,null,"NA",null,146.68949771689498,146.68949771689498,0,514,null,null,null,null,null,null,null,null,null,null,null,null,null,null,"GHG-free PCIA",null,null,null,null,null,null,null,null,null,null,null,2023,1,1,2024,12,31,2021,12,20,"NA",null,null,null,null,null,null,null,null,null,null,null,null,null,null,null,null,"YES",null,"NO","EnergyOnly",null,"GHGTarget","Large Hydro (GWh)",515.59084999999993,0,0,0,"existinggeneric"]
[null,null,null,"PlannedNew",null,null,"NA",null,null,null,null,null,null,null,null,null,null,null,null,null,null,null,null,null,null,null,null,null,null,null,null,null,null,null,null,2025,12,1,2025,12,1,null,null,null,null,null,null,null,null,null,null,null,null,null,null,null,null,null,null,null,null,null,null,null,"NO",null,null,"EnergyCapacity",null,"D2106035","Battery Storage (MWh Energy Capacity)",0,132,132,132,"newgeneric"]
["energy_planned_Shortterm_CarbonFree","_EXISTING_GENERIC_NW_HYDRO",null,"PlannedExisting",null,null,"NA",null,44.375,44.375,0,155.48999999999998,null,null,null,null,null,null,null,null,null,null,null,null,null,null,null,null,null,null,null,null,null,null,null,null,null,null,2025,1,1,2035,12,31,null,null,null,null,null,null,null,null,null,null,null,null,null,null,null,null,null,null,null,null,"NO",null,"NO","EnergyOnly",null,null,"Imported Hydro (GWh)",0,394.2,201.48,26.28,"existinggeneric"]
["energy_planned_solarAndStorage_2027","_NEW_GENERIC_SOLAR_1AXIS",null,"PlannedNew","solar_caiso_planned",null,"NA",null,40,40,40,113.937,"NewSolarNewStorage","NO",40,40,40,40,"1Axis","Li",160,160,1,1,1,null,null,null,null,null,null,null,null,null,null,2027,1,1,2027,1,1,2040,12,31,null,null,null,null,null,null,null,null,null,null,null,null,null,null,null,null,null,null,null,null,"NO",null,null,"EnergyCapacity",null,null,"Hybrid_or_Paired_Solar_and_Battery (GWh)",0,0,105.90127000000001,105.87014000000001,"newgeneric"]
["energy_planned_solarAndStorage_2034","_NEW_GENERIC_SOLAR_1AXIS",null,"PlannedNew","solar_caiso_planned",null,"NA",null,40,40,40,113.937,"NewSolarNewStorage","NO",40,40,40,40,"1Axis","Li",160,160,1,1,1,null,null,null,null,null,null,null,null,null,null,2034,1,1,2034,1,1,2040,12,31,null,null,null,null,null,null,null,null,null,null,null,null,null,null,null,null,null,null,null,null,"NO",null,null,"EnergyCapacity",null,null,"Hybrid_or_Paired_Solar_and_Battery (GWh)",0,0,0,105.87014000000001,"newgeneric"]
["fulltoll_planned_standalone_2027","_NEW_GENERIC_BATTERY_STORAGE",null,"PlannedNew","battery_caiso_planned",null,"NA",null,30,30,30,0,null,null,null,null,null,null,null,"Li",120,120,1,1,1,null,null,null,null,null,null,null,null,null,null,2027,1,1,2027,1,1,2040,12,31,null,null,null,null,null,null,null,null,null,null,null,null,null,null,null,null,null,null,null,null,"NO",null,null,"EnergyCapacity",null,null,"Battery Storage (MWh Energy Capacity)",0,0,120,120,"newgeneric"]
["fulltoll_planned_standalone_2028","_NEW_GENERIC_BATTERY_STORAGE",null,"PlannedNew","battery_caiso_planned",null,"NA",null,20,20,20,0,null,null,null,null,null,null,null,"Li",80,80,1,1,1,null,null,null,null,null,null,null,null,null,null,2028,1,1,2028,1,1,2040,12,31,null,null,null,null,null,null,null,null,null,null,null,null,null,null,null,null,null,null,null,null,"NO",null,null,"EnergyCapacity",null,null,"Battery Storage (MWh Energy Capacity)",0,0,80,80,"newgeneric"]
["energ_planned_Shortterm_RPS","_EXISTING_GENERIC_SOLAR_1AXIS",null,"PlannedExisting",null,null,"NA",null,40.475119863013703,40.475119863013703,0,106.36861500000001,null,null,null,null,null,null,null,null,null,null,null,null,null,null,null,null,null,null,null,null,null,null,null,null,null,null,2022,1,1,2029,12,31,null,null,null,null,null,null,null,null,null,null,null,null,null,null,null,null,null,null,null,null,"NO",null,null,"EnergyOnly",null,null,"Solar Existing California (GWh)",154.12845999999999,271.346,0,0,"existinggeneric"]
["energy_planned_existinggeo_bridge","_EXISTING_GENERIC_GEOTHERMAL",null,"PlannedExisting",null,null,"NA",null,40,40,40,350.4,null,null,null,null,null,null,null,null,null,null,null,null,null,null,null,null,null,null,null,null,null,null,null,null,null,null,2027,1,1,2036,12,31,null,null,null,null,null,null,null,null,null,null,null,null,null,null,null,null,null,null,null,null,"NO",null,null,"EnergyCapacity",null,null,"Geothermal (GWh)",0,0,350.4,350.4,"existinggeneric"]
["energy_planned_new_dispatchable_GeoZone_2030","_CREZ_GENERIC_SOLANO_GEOTHERMAL",null,"PlannedNew","geothermal_caiso_planned",null,"NA",null,30,30,30,257.471,null,null,null,null,null,null,null,null,null,null,1,1,1,null,null,null,null,null,null,null,null,null,"SonomaCounty",2030,1,1,2030,1,1,2040,12,31,null,null,null,null,null,null,null,null,null,null,null,null,null,null,null,null,null,null,null,null,"NO",null,null,"EnergyCapacity",null,null,"Geothermal (GWh)",0,0,257.42599999999999,257.42599999999999,"newresolve"]
["energy_planned_new_dispatchable_GeoZone_2032","_CREZ_GENERIC_SOLANO_GEOTHERMAL",null,"PlannedNew","geothermal_caiso_planned",null,"NA",null,20,20,20,171.61799999999999,null,null,null,null,null,null,null,null,null,null,1,1,1,null,null,null,null,null,null,null,null,null,"SonomaCounty",2032,1,1,2032,1,1,2040,12,31,null,null,null,null,null,null,null,null,null,null,null,null,null,null,null,null,null,null,null,null,"NO",null,null,"EnergyCapacity",null,null,"Geothermal (GWh)",0,0,0,171.61799999999999,"newresolve"]
["energy_planned_new_dispatchable_GeoZone_2033","_CREZ_GENERIC_SOLANO_GEOTHERMAL",null,"PlannedNew","geothermal_caiso_planned",null,"NA",null,20,20,20,171.61799999999999,null,null,null,null,null,null,null,null,null,null,1,1,1,null,null,null,null,null,null,null,null,null,"SonomaCounty",2033,1,1,2033,1,1,2040,12,31,null,null,null,null,null,null,null,null,null,null,null,null,null,null,null,null,null,null,null,null,"NO",null,null,"EnergyCapacity",null,null,"Geothermal (GWh)",0,0,0,171.61799999999999,"newresolve"]
["raonly_planned_GridSavvy_2024","_NEW_GENERIC_DR",null,"PlannedNew","dr_caiso_planned",null,"NA",null,1,1,0,0,null,null,null,null,null,null,null,null,null,null,1,1,1,null,null,null,null,null,null,null,null,null,null,2024,1,1,2024,1,1,2040,12,31,null,null,null,null,null,null,null,null,null,null,null,null,null,null,null,null,null,null,null,null,"NO",null,null,"EnergyCapacity",null,null,"Shed DR (MW)",1,1,1,1,"newgeneric"]
["raonly_planned_GridSavvy_2025","_NEW_GENERIC_DR",null,"PlannedNew","dr_caiso_planned",null,"NA",null,2,2,0,0,null,null,null,null,null,null,null,null,null,null,1,1,1,null,null,null,null,null,null,null,null,null,null,2025,1,1,2025,1,1,2040,12,31,null,null,null,null,null,null,null,null,null,null,null,null,null,null,null,null,null,null,null,null,"NO",null,null,"EnergyCapacity",null,null,"Shed DR (MW)",0,2,2,2,"newgeneric"]
["raonly_planned_GridSavvy_2026","_NEW_GENERIC_DR",null,"PlannedNew","dr_caiso_planned",null,"NA",null,2,2,0,0,null,null,null,null,null,null,null,null,null,null,1,1,1,null,null,null,null,null,null,null,null,null,null,2026,1,1,2026,1,1,2040,12,31,null,null,null,null,null,null,null,null,null,null,null,null,null,null,null,null,null,null,null,null,"NO",null,null,"EnergyCapacity",null,null,"Shed DR (MW)",0,2,2,2,"newgeneric"]
["raonly_planned_GridSavvy_2027","_NEW_GENERIC_DR",null,"PlannedNew","dr_caiso_planned",null,"NA",null,2,2,0,0,null,null,null,null,null,null,null,null,null,null,1,1,1,null,null,null,null,null,null,null,null,null,null,2027,1,1,2027,1,1,2040,12,31,null,null,null,null,null,null,null,null,null,null,null,null,null,null,null,null,null,null,null,null,"NO",null,null,"EnergyCapacity",null,null,"Shed DR (MW)",0,0,2,2,"newgeneric"]
["raonly_planned_GridSavvy_2028","_NEW_GENERIC_DR",null,"PlannedNew","dr_caiso_planned",null,"NA",null,1,1,0,0,null,null,null,null,null,null,null,null,null,null,1,1,1,null,null,null,null,null,null,null,null,null,null,2028,1,1,2028,1,1,2040,12,31,null,null,null,null,null,null,null,null,null,null,null,null,null,null,null,null,null,null,null,null,"NO",null,null,"EnergyCapacity",null,null,"Shed DR (MW)",0,0,1,1,"newgeneric"]
["raonly_planned_GridSavvy_2029","_NEW_GENERIC_DR",null,"PlannedNew","dr_caiso_planned",null,"NA",null,1,1,0,0,null,null,null,null,null,null,null,null,null,null,1,1,1,null,null,null,null,null,null,null,null,null,null,2029,1,1,2029,1,1,2040,12,31,null,null,null,null,null,null,null,null,null,null,null,null,null,null,null,null,null,null,null,null,"NO",null,null,"EnergyCapacity",null,null,"Shed DR (MW)",0,0,1,1,"newgeneric"]
["raonly_planned_GridSavvy_2030","_NEW_GENERIC_DR",null,"PlannedNew","dr_caiso_planned",null,"NA",null,1,1,0,0,null,null,null,null,null,null,null,null,null,null,1,1,1,null,null,null,null,null,null,null,null,null,null,2030,1,1,2030,1,1,2040,12,31,null,null,null,null,null,null,null,null,null,null,null,null,null,null,null,null,null,null,null,null,"NO",null,null,"EnergyCapacity",null,null,"Shed DR (MW)",0,0,1,1,"newgeneric"]
[null,null,null,"PlannedNew","wind_import_planned",null,"NA",null,null,null,null,null,null,null,null,null,null,null,null,null,null,null,null,null,null,null,null,null,null,null,null,null,null,null,null,2026,1,1,2026,1,1,null,null,null,null,null,null,null,null,null,null,null,null,null,null,null,null,null,null,null,null,null,null,null,"NO",null,null,"EnergyCapacity",null,null,"Wind Wyoming (GWh)",0,331.48559999999998,336.90965,335.21659999999997,"newresolve"]
["fulltoll_planned_LDS_2027","_NEW_GENERIC_BATTERY_STORAGE",null,"PlannedNew","battery_caiso_planned",null,"NA",null,30,30,30,0,null,null,null,null,null,null,null,"Li",240,240,1,1,1,null,null,null,null,null,null,null,null,null,null,2027,1,1,2027,1,1,2040,12,31,null,null,null,null,null,null,null,null,null,null,null,null,null,null,null,null,null,null,null,null,"NO",null,null,"EnergyCapacity",null,null,"Battery Storage (MWh Energy Capacity)",0,0,240,240,"newgeneric"]
["energy_planned_instate_wind_2028","_NEW_GENERIC_WIND",null,"PlannedNew","wind_caiso_planned",null,"NA",null,50,50,7.5,141.494,null,null,null,null,null,null,null,null,null,null,1,1,1,null,null,null,null,null,null,null,null,null,null,2028,1,1,2028,1,1,2040,12,31,null,null,null,null,null,null,null,null,null,null,null,null,null,null,null,null,null,null,null,null,"NO",null,null,"EnergyCapacity",null,null,"Wind New SCE SDG&E (GWh)",0,0,141.494,141.494,"newgeneric"]
["energy_planned_instate_wind_2029","_NEW_GENERIC_WIND",null,"PlannedNew","wind_caiso_planned",null,"NA",null,50,50,7.5,141.494,null,null,null,null,null,null,null,null,null,null,1,1,1,null,null,null,null,null,null,null,null,null,null,2029,1,1,2029,1,1,2040,12,31,null,null,null,null,null,null,null,null,null,null,null,null,null,null,null,null,null,null,null,null,"NO",null,null,"EnergyCapacity",null,null,"Wind New SCE SDG&E (GWh)",0,0,141.494,141.494,"newgeneric"]
["energy_planned_instate_wind_2030","_NEW_GENERIC_WIND",null,"PlannedNew","wind_caiso_planned",null,"NA",null,50,50,7.5,141.494,null,null,null,null,null,null,null,null,null,null,1,1,1,null,null,null,null,null,null,null,null,null,null,2030,1,1,2030,1,1,2040,12,31,null,null,null,null,null,null,null,null,null,null,null,null,null,null,null,null,null,null,null,null,"NO",null,null,"EnergyCapacity",null,null,"Wind New SCE SDG&E (GWh)",0,0,141.494,141.494,"newgeneric"]
["raonly_planned_MTR_standalone","_NEW_GENERIC_BATTERY_STORAGE",null,"PlannedNew","battery_caiso_planned",null,"NA",null,55,55,55,0,null,null,null,null,null,null,null,"Li",220,220,1,1,1,null,null,null,null,null,null,null,null,null,null,2024,6,1,2024,6,1,2034,5,31,null,null,null,null,null,null,null,null,null,"general",null,49.885000000000005,null,null,null,null,null,null,null,null,"NO",null,null,"CapacityOnly",null,"D2106035","NA",0,0,0,0,"newgeneric"]
["capacity_planned_PowerSIMM_RA_2024","_EXISTING_GENERIC_COMBINED_CYCLE",null,"PlannedExisting",null,null,"NA",null,57.34,57.34,57.34,0,null,null,null,null,null,null,null,null,null,null,null,null,null,null,null,null,null,null,null,null,null,null,null,null,null,null,2024,1,1,2024,12,31,null,null,null,null,null,null,null,null,null,null,null,null,null,null,null,null,null,null,null,null,"NO",null,null,"CapacityOnly",null,null,"NA",null,null,null,null,"existinggeneric"]
["capacity_planned_PowerSIMM_RA_2025","_EXISTING_GENERIC_COMBINED_CYCLE",null,"PlannedExisting",null,null,"NA",null,41.11,41.11,41.11,0,null,null,null,null,null,null,null,null,null,null,null,null,null,null,null,null,null,null,null,null,null,null,null,null,null,null,2025,1,1,2025,12,31,null,null,null,null,null,null,null,null,null,null,null,null,null,null,null,null,null,null,null,null,"NO",null,null,"CapacityOnly",null,null,"NA",null,null,null,null,"existinggeneric"]
["capacity_planned_PowerSIMM_RA_2026","_EXISTING_GENERIC_COMBINED_CYCLE",null,"PlannedExisting",null,null,"NA",null,149.76,149.76,149.76,0,null,null,null,null,null,null,null,null,null,null,null,null,null,null,null,null,null,null,null,null,null,null,null,null,null,null,2026,1,1,2026,12,31,null,null,null,null,null,null,null,null,null,null,null,null,null,null,null,null,null,null,null,null,"NO",null,null,"CapacityOnly",null,null,"NA",null,null,null,null,"existinggeneric"]
["capacity_planned_PowerSIMM_RA_2027","_EXISTING_GENERIC_COMBINED_CYCLE",null,"PlannedExisting",null,null,"NA",null,84.5,84.5,84.5,0,null,null,null,null,null,null,null,null,null,null,null,null,null,null,null,null,null,null,null,null,null,null,null,null,null,null,2027,1,1,2027,12,31,null,null,null,null,null,null,null,null,null,null,null,null,null,null,null,null,null,null,null,null,"NO",null,null,"CapacityOnly",null,null,"NA",null,null,null,null,"existinggeneric"]
["capacity_planned_PowerSIMM_RA_2028","_EXISTING_GENERIC_COMBINED_CYCLE",null,"PlannedExisting",null,null,"NA",null,77.2,77.2,77.2,0,null,null,null,null,null,null,null,null,null,null,null,null,null,null,null,null,null,null,null,null,null,null,null,null,null,null,2028,1,1,2028,12,31,null,null,null,null,null,null,null,null,null,null,null,null,null,null,null,null,null,null,null,null,"NO",null,null,"CapacityOnly",null,null,"NA",null,null,null,null,"existinggeneric"]
["capacity_planned_PowerSIMM_RA_2029","_EXISTING_GENERIC_COMBINED_CYCLE",null,"PlannedExisting",null,null,"NA",null,90.34,90.34,90.34,0,null,null,null,null,null,null,null,null,null,null,null,null,null,null,null,null,null,null,null,null,null,null,null,null,null,null,2029,1,1,2029,12,31,null,null,null,null,null,null,null,null,null,null,null,null,null,null,null,null,null,null,null,null,"NO",null,null,"CapacityOnly",null,null,"NA",null,null,null,null,"existinggeneric"]
["capacity_planned_PowerSIMM_RA_2030","_EXISTING_GENERIC_COMBINED_CYCLE",null,"PlannedExisting",null,null,"NA",null,32.44,32.44,32.44,0,null,null,null,null,null,null,null,null,null,null,null,null,null,null,null,null,null,null,null,null,null,null,null,null,null,null,2030,1,1,2030,12,31,null,null,null,null,null,null,null,null,null,null,null,null,null,null,null,null,null,null,null,null,"NO",null,null,"CapacityOnly",null,null,"NA",null,null,null,null,"existinggeneric"]
["capacity_planned_PowerSIMM_RA_2031","_EXISTING_GENERIC_COMBINED_CYCLE",null,"PlannedExisting",null,null,"NA",null,63.19,63.19,63.19,0,null,null,null,null,null,null,null,null,null,null,null,null,null,null,null,null,null,null,null,null,null,null,null,null,null,null,2031,1,1,2031,12,31,null,null,null,null,null,null,null,null,null,null,null,null,null,null,null,null,null,null,null,null,"NO",null,null,"CapacityOnly",null,null,"NA",null,null,null,null,"existinggeneric"]
["capacity_planned_PowerSIMM_RA_2032","_EXISTING_GENERIC_COMBINED_CYCLE",null,"PlannedExisting",null,null,"NA",null,73.459999999999994,73.459999999999994,73.459999999999994,0,null,null,null,null,null,null,null,null,null,null,null,null,null,null,null,null,null,null,null,null,null,null,null,null,null,null,2032,1,1,2032,12,31,null,null,null,null,null,null,null,null,null,null,null,null,null,null,null,null,null,null,null,null,"NO",null,null,"CapacityOnly",null,null,"NA",null,null,null,null,"existinggeneric"]
["capacity_planned_PowerSIMM_RA_2033","_EXISTING_GENERIC_COMBINED_CYCLE",null,"PlannedExisting",null,null,"NA",null,55.8,55.8,55.8,0,null,null,null,null,null,null,null,null,null,null,null,null,null,null,null,null,null,null,null,null,null,null,null,null,null,null,2033,1,1,2033,12,31,null,null,null,null,null,null,null,null,null,null,null,null,null,null,null,null,null,null,null,null,"NO",null,null,"CapacityOnly",null,null,"NA",null,null,null,null,"existinggeneric"]
["capacity_planned_PowerSIMM_RA_2034","_EXISTING_GENERIC_COMBINED_CYCLE",null,"PlannedExisting",null,null,"NA",null,78.2,78.2,78.2,0,null,null,null,null,null,null,null,null,null,null,null,null,null,null,null,null,null,null,null,null,null,null,null,null,null,null,2034,1,1,2034,12,31,null,null,null,null,null,null,null,null,null,null,null,null,null,null,null,null,null,null,null,null,"NO",null,null,"CapacityOnly",null,null,"NA",null,null,null,null,"existinggeneric"]
["capacity_planned_PowerSIMM_RA_2035","_EXISTING_GENERIC_COMBINED_CYCLE",null,"PlannedExisting",null,null,"NA",null,127.96,127.96,127.96,0,null,null,null,null,null,null,null,null,null,null,null,null,null,null,null,null,null,null,null,null,null,null,null,null,null,null,2035,1,1,2035,12,31,null,null,null,null,null,null,null,null,null,null,null,null,null,null,null,null,null,null,null,null,"NO",null,null,"CapacityOnly",null,null,"NA",null,null,null,null,"existinggeneric"]
["capacity_dr_alloc","_EXISTING_GENERIC_DR",null,"PlannedExisting",null,null,"NA",null,5.927500000000002,5.927500000000002,6.49,0,null,null,null,null,null,null,null,null,null,null,null,null,null,null,"CAM",null,null,null,null,null,null,null,null,null,null,null,2023,1,1,2035,12,31,null,null,null,null,null,null,null,null,null,null,null,null,null,null,null,null,null,null,null,null,"NO",null,null,"CapacityOnly",null,null,"NA",null,null,null,null,"existinggeneric"]
["capacity_planned_RDT_2024","_EXISTING_GENERIC_COMBINED_CYCLE",null,"PlannedExisting",null,null,"NA",null,19.401729506881608,19.401729506881608,19.401729506881608,0,null,null,null,null,null,null,null,null,null,null,null,null,null,null,null,null,null,null,null,null,null,null,null,null,null,null,2024,1,1,2024,12,31,null,null,null,null,null,null,null,null,null,null,null,null,null,null,null,null,null,null,null,null,"NO",null,null,"CapacityOnly",null,null,"NA",null,null,null,null,"existinggeneric"]
["capacity_planned_RDT_2025","_EXISTING_GENERIC_COMBINED_CYCLE",null,"PlannedExisting",null,null,"NA",null,70.354231607559242,70.354231607559242,70.354231607559242,0,null,null,null,null,null,null,null,null,null,null,null,null,null,null,null,null,null,null,null,null,null,null,null,null,null,null,2025,1,1,2025,12,31,null,null,null,null,null,null,null,null,null,null,null,null,null,null,null,null,null,null,null,null,"NO",null,null,"CapacityOnly",null,null,"NA",null,null,null,null,"existinggeneric"]
["capacity_planned_RDT_2026","_EXISTING_GENERIC_COMBINED_CYCLE",null,"PlannedExisting",null,null,"NA",null,77.336210844164711,77.336210844164711,77.336210844164711,0,null,null,null,null,null,null,null,null,null,null,null,null,null,null,null,null,null,null,null,null,null,null,null,null,null,null,2026,1,1,2026,12,31,null,null,null,null,null,null,null,null,null,null,null,null,null,null,null,null,null,null,null,null,"NO",null,null,"CapacityOnly",null,null,"NA",null,null,null,null,"existinggeneric"]
["capacity_planned_RDT_2027","_EXISTING_GENERIC_COMBINED_CYCLE",null,"PlannedExisting",null,null,"NA",null,116.26454409260077,116.26454409260077,116.26454409260077,0,null,null,null,null,null,null,null,null,null,null,null,null,null,null,null,null,null,null,null,null,null,null,null,null,null,null,2027,1,1,2027,12,31,null,null,null,null,null,null,null,null,null,null,null,null,null,null,null,null,null,null,null,null,"NO",null,null,"CapacityOnly",null,null,"NA",null,null,null,null,"existinggeneric"]
["capacity_planned_RDT_2028","_EXISTING_GENERIC_COMBINED_CYCLE",null,"PlannedExisting",null,null,"NA",null,124.28504766165376,124.28504766165376,124.28504766165376,0,null,null,null,null,null,null,null,null,null,null,null,null,null,null,null,null,null,null,null,null,null,null,null,null,null,null,2028,1,1,2028,12,31,null,null,null,null,null,null,null,null,null,null,null,null,null,null,null,null,null,null,null,null,"NO",null,null,"CapacityOnly",null,null,"NA",null,null,null,null,"existinggeneric"]
["capacity_planned_RDT_2029","_EXISTING_GENERIC_COMBINED_CYCLE",null,"PlannedExisting",null,null,"NA",null,115.5128679038514,115.5128679038514,115.5128679038514,0,null,null,null,null,null,null,null,null,null,null,null,null,null,null,null,null,null,null,null,null,null,null,null,null,null,null,2029,1,1,2029,12,31,null,null,null,null,null,null,null,null,null,null,null,null,null,null,null,null,null,null,null,null,"NO",null,null,"CapacityOnly",null,null,"NA",null,null,null,null,"existinggeneric"]
["capacity_planned_RDT_2030","_EXISTING_GENERIC_COMBINED_CYCLE",null,"PlannedExisting",null,null,"NA",null,149.55323597360928,149.55323597360928,149.55323597360928,0,null,null,null,null,null,null,null,null,null,null,null,null,null,null,null,null,null,null,null,null,null,null,null,null,null,null,2030,1,1,2030,12,31,null,null,null,null,null,null,null,null,null,null,null,null,null,null,null,null,null,null,null,null,"NO",null,null,"CapacityOnly",null,null,"NA",null,null,null,null,"existinggeneric"]
["capacity_planned_RDT_2031","_EXISTING_GENERIC_COMBINED_CYCLE",null,"PlannedExisting",null,null,"NA",null,184.00272953624858,184.00272953624858,184.00272953624858,0,null,null,null,null,null,null,null,null,null,null,null,null,null,null,null,null,null,null,null,null,null,null,null,null,null,null,2031,1,1,2031,12,31,null,null,null,null,null,null,null,null,null,null,null,null,null,null,null,null,null,null,null,null,"NO",null,null,"CapacityOnly",null,null,"NA",null,null,null,null,"existinggeneric"]
["capacity_planned_RDT_2032","_EXISTING_GENERIC_COMBINED_CYCLE",null,"PlannedExisting",null,null,"NA",null,149.64474417216758,149.64474417216758,149.64474417216758,0,null,null,null,null,null,null,null,null,null,null,null,null,null,null,null,null,null,null,null,null,null,null,null,null,null,null,2032,1,1,2032,12,31,null,null,null,null,null,null,null,null,null,null,null,null,null,null,null,null,null,null,null,null,"NO",null,null,"CapacityOnly",null,null,"NA",null,null,null,null,"existinggeneric"]
["capacity_planned_RDT_2033","_EXISTING_GENERIC_COMBINED_CYCLE",null,"PlannedExisting",null,null,"NA",null,143.66081763425439,143.66081763425439,143.66081763425439,0,null,null,null,null,null,null,null,null,null,null,null,null,null,null,null,null,null,null,null,null,null,null,null,null,null,null,2033,1,1,2033,12,31,null,null,null,null,null,null,null,null,null,null,null,null,null,null,null,null,null,null,null,null,"NO",null,null,"CapacityOnly",null,null,"NA",null,null,null,null,"existinggeneric"]
["capacity_planned_RDT_2034","_EXISTING_GENERIC_COMBINED_CYCLE",null,"PlannedExisting",null,null,"NA",null,97.814437596937907,97.814437596937907,97.814437596937907,0,null,null,null,null,null,null,null,null,null,null,null,null,null,null,null,null,null,null,null,null,null,null,null,null,null,null,2034,1,1,2034,12,31,null,null,null,null,null,null,null,null,null,null,null,null,null,null,null,null,null,null,null,null,"NO",null,null,"CapacityOnly",null,null,"NA",null,null,null,null,"existinggeneric"]
["capacity_planned_RDT_2035","_EXISTING_GENERIC_COMBINED_CYCLE",null,"PlannedExisting",null,null,"NA",null,47.748949873973636,47.748949873973636,47.748949873973636,0,null,null,null,null,null,null,null,null,null,null,null,null,null,null,null,null,null,null,null,null,null,null,null,null,null,null,2035,1,1,2035,12,31,null,null,null,null,null,null,null,null,null,null,null,null,null,null,null,null,null,null,null,null,"NO",null,null,"CapacityOnly",null,null,"NA",null,null,null,null,"existinggeneric"]
[null,"_NEW_GENERIC_SOLAR_2AXIS",null,"PlannedNew","solar_caiso_planned",null,"NA",null,null,null,null,null,null,null,null,null,null,null,null,null,null,null,null,null,null,null,null,null,null,null,null,null,null,null,null,2024,6,1,2024,6,1,null,null,null,null,null,null,"NA",null,null,null,null,"NA","general_&_ZE_gen_paired_dr",null,2.88,null,null,null,2.88,null,null,null,null,"NO",null,null,"EnergyCapacity","Calculated","D2106035","Battery Storage (MWh Energy Capacity)",8.4,14.4,14.4,14.4,"newgeneric"]
["PGE_Online_ccgt_1","_EXISTING_GENERIC_COMBINED_CYCLE",null,"Online",null,null,null,null,570,14.135999999999999,14.144183999999997,0,"NotHybrid",null,null,null,null,null,null,null,null,null,null,null,null,null,"CAM",null,null,null,null,null,null,null,null,2018,1,1,2024,1,1,2026,12,31,2017,1,1,null,null,null,null,null,null,null,null,null,null,null,null,null,null,null,null,null,null,null,null,"EnergyCapacity",null,null,"NA",null,null,null,null,"existinggeneric"]
["PGE_Online_ccgt_2","_EXISTING_GENERIC_COMBINED_CYCLE",null,"Online",null,null,"NA",null,505,12.523999999999999,12.531687999999999,0,"NotHybrid",null,null,null,null,null,null,null,null,null,null,null,null,null,"CAM",null,null,null,null,null,null,null,null,2018,1,1,2024,1,1,2025,12,31,2017,1,1,null,null,null,null,null,null,null,null,null,null,null,null,null,null,null,null,null,null,null,null,"EnergyCapacity",null,null,"NA",null,null,null,null,"existinggeneric"]
["PGE_Online_ccgt_3","_EXISTING_GENERIC_COMBINED_CYCLE",null,"Online",null,null,"NA",null,788,19.542400000000001,19.534711999999999,0,"NotHybrid",null,null,null,null,null,null,null,null,null,null,null,null,null,"CAM",null,null,null,null,null,null,null,null,2018,1,1,2024,1,1,2024,12,31,2017,1,1,null,null,null,null,null,null,null,null,null,null,null,null,null,null,null,null,null,null,null,null,"EnergyCapacity",null,null,"NA",null,null,null,null,"existinggeneric"]
["PGE_Online_chp","_EXISTING_GENERIC_COGEN",null,"Online",null,null,"NA",null,47,1.1656,1.1656,0,"NotHybrid",null,null,null,null,null,null,null,null,null,null,null,null,null,"CAM",null,null,null,null,null,null,null,null,2018,1,1,2024,1,1,2024,12,31,2017,1,1,null,null,null,null,null,null,null,null,null,null,null,null,null,null,null,null,null,null,null,null,"EnergyCapacity",null,null,"NA",null,null,null,null,"existinggeneric"]
["PGE_Online_chp_1","_EXISTING_GENERIC_COGEN",null,"Online",null,null,"NA",null,40,0.99199999999999999,3.4720000000000003E-3,1.5871999999999999,"NotHybrid",null,null,null,null,null,null,null,null,null,null,null,null,null,"CAM",null,null,null,null,null,null,null,null,2018,1,1,2024,1,1,2025,12,31,2017,1,1,null,null,null,null,null,null,null,null,null,null,null,null,null,null,null,null,null,null,null,null,"EnergyCapacity",null,null,"NA",null,null,null,null,"existinggeneric"]
["PGE_Online_chp_2","_EXISTING_GENERIC_COGEN",null,"Online",null,null,"NA",null,17.5,0.434,0.27726400000000001,2.3807999999999998,"NotHybrid",null,null,null,null,null,null,null,null,null,null,null,null,null,"CAM",null,null,null,null,null,null,null,null,2018,1,1,2024,1,1,2026,12,31,2017,1,1,null,null,null,null,null,null,null,null,null,null,null,null,null,null,null,null,null,null,null,null,"EnergyCapacity",null,null,"NA",null,null,null,null,"existinggeneric"]
["PGE_Online_battery","_EXISTING_GENERIC_BATTERY_STORAGE",null,"Online",null,null,"NA",null,483,11.978399999999999,11.978399999999999,0,"NotHybrid",null,null,null,null,null,null,"Li",1930,47.863999999999997,null,null,null,null,"CAM",null,null,null,null,null,null,null,null,2018,1,1,2024,1,1,2035,12,31,2017,1,1,null,null,null,null,null,null,null,null,null,null,null,null,null,null,null,null,null,null,null,null,"CapacityOnly",null,null,"Battery Storage (MWh Energy Capacity)",47.863999999999997,47.863999999999997,47.863999999999997,47.863999999999997,"existinggeneric"]
["PGE_Development_battery_1","_NEW_GENERIC_BATTERY_STORAGE",null,"Development","battery_caiso_planned",null,"NA",null,75,1.8599999999999999,1.6870200000000002,0,"NotHybrid",null,null,null,null,null,null,"Li",300,7.4399999999999995,null,null,null,null,"CAM",null,null,null,null,null,null,null,null,2024,1,1,2025,1,1,2035,12,31,2022,1,1,null,null,null,null,null,null,null,null,null,null,null,null,null,null,null,null,null,null,null,null,"CapacityOnly",null,null,"Battery Storage (MWh Energy Capacity)",7.4399999999999995,7.4399999999999995,7.4399999999999995,7.4399999999999995,"newgeneric"]
["PGE_Development_battery_2","_NEW_GENERIC_BATTERY_STORAGE",null,"Development","battery_caiso_planned",null,"NA",null,1,2.4799999999999999E-2,2.4799999999999999E-2,0,"NotHybrid",null,null,null,null,null,null,"Li",4.96,0.12300799999999999,null,null,null,null,"CAM",null,null,null,null,null,null,null,null,2024,1,1,2024,1,1,2035,12,31,2022,1,1,null,null,null,null,null,null,null,null,null,null,null,null,null,null,null,null,null,null,null,null,"EnergyCapacity",null,null,"Battery Storage (MWh Energy Capacity)",0.12300799999999999,0.12300799999999999,0.12300799999999999,0.12300799999999999,"newgeneric"]

{"sheet":"Calcs","index":3,"n_rows":96,"n_cols":37,"rows_kept":96,"cut":false,"hidden":false,"merged":[[0,0,20,0]]}
["Instruction: This worksheet consists of formulas only. LSEs should extend formulas in columns B:AK to cover all contracts entered in the \"unique_contracts\" worksheet (i.e. the last row that has formulas in this worksheet should have a row number that is greater than or equal to that of the last row in the \"unique_contracts\" worksheet). To extend formulas in this worksheet, please select one row (e.g. B500:AK500) and drag down the formulas vertically. PLEASE DO NOT DRAG FORMULAS HORIZONTALLY. Please do not hard-code values in this worksheet. All contract information should be entered in the \"unique_contracts\" tab.","resource","contract_status","contracted_nameplate_capacity","is_hybrid_paired","can_charge_from_grid","contracted_generator_mw","contracted_storage_mw","contracted_storage_depth_mwh","buy_sell_own","contract_start_date_year","contract_start_date_month","contract_start_date_day","contract_end_date_year","contract_end_date_month","contract_end_date_day","buying_energy_capacity","multiplier","resource elcc type","hybrid/paired storage elcc type","elcc type (for summary tables and charts)","start year","end year","hybrid storage derate (100% means no derates)","short duration derate",2024,2025,2026,2027,2028,2029,2030,2031,2032,2033,2034,2035]
[null,{"$f":"unique_contracts!B2","v":"MSTANG_2_MTGBT1"},{"$f":"unique_contracts!D2","v":"Online"},{"$f":"unique_contracts!J2","v":75},{"$f":"unique_contracts!M2","v":"NotHybrid"},{"$f":"unique_contracts!N2","v":0},{"$f":"unique_contracts!P2","v":0},{"$f":"unique_contracts!R2","v":0},{"$f":"unique_contracts!V2","v":300},null,{"$f":"unique_contracts!AM2","v":2021},{"$f":"unique_contracts!AN2","v":10},{"$f":"unique_contracts!AO2","v":1},{"$f":"unique_contracts!AP2","v":2031},{"$f":"unique_contracts!AQ2","v":9},{"$f":"unique_contracts!AR2","v":30},{"$f":"unique_contracts!BP2","v":"CapacityOnly"},{"$f":"IF(AND(J2=\"Sell\",ISNUMBER(SEARCH(\"Capacity\",Q2))),-1,IF(AND(NOT(J2=\"Sell\"),ISNUMBER(SEARCH(\"Capacity\",Q2))),1,0))","v":1},{"$f":"IFERROR(IF(AND(I2>0,E2=\"NotHybrid\"),_xlfn.CONCAT(MAX(MIN(ROUNDDOWN(I2/D2,0),8),4),INDEX(resources!$G:$G,MATCH(B2,resources!$A:$A,0))),INDEX(resources!$G:$G,MATCH(B2,resources!$A:$A,0))),\"n/a\")","v":"4hr_batteries"},{"$f":"IFERROR(IF(NOT(E2=\"NotHybrid\"),_xlfn.CONCAT(MAX(MIN(ROUNDDOWN(I2/H2,0),8),4),\"hr_batteries\"),\"n/a\"),\"n/a\")","v":"n/a"},{"$f":"IF(T2=\"n/a\",S2,\"hybrid\")","v":"4hr_batteries"},{"$f":"IFERROR(IF(DATE(K2,L2,M2)<=DATE(K2,6,1),K2,K2+1),0)","v":2022},{"$f":"IFERROR(IF(DATE(N2,O2,P2)>=DATE(N2,10,1),N2,N2-1),0)","v":2030},{"$f":"IF(OR(T2=\"n/a\",NOT(F2=\"NO\")),100%,IF(ISNUMBER(SEARCH(\"pv\",S2)),MIN(G2/(1*(ROUNDDOWN(I2/H2,0)/4)),H2)/H2,IF(ISNUMBER(SEARCH(\"wind\",S2)),MIN(G2/(2*(ROUNDDOWN(I2/H2,0)/4)),H2)/H2,1)))","v":1},{"$f":"IF(ISNUMBER(SEARCH(\"batteries\",S2)),MIN(ROUNDDOWN(I2/D2,0)/4,1), IF(ISNUMBER(SEARCH(\"batteries\",T2)),MIN(ROUNDDOWN(I2/H2,0)/4,1),1))","v":1},{"$f":"MIN((IFERROR(IF(AND($V2<=Z$1,$W2>=Z$1),INDEX(Reliability!E$23:E$50,MATCH($S2,Reliability!$C$23:$C$50,0)),0),0)*IF($T2=\"n/a\",$D2*$Y2,$G2)+IFERROR(IF(AND($V2<=Z$1,$W2>=Z$1),INDEX(Reliability!E$23:E$50,MATCH($T2,Reliability!$C$23:$C$50,0)),0),0)*$H2*$X2*$Y2),$D2)*$R2","v":66.375},{"$f":"MIN((IFERROR(IF(AND($V2<=AA$1,$W2>=AA$1),INDEX(Reliability!F$23:F$50,MATCH($S2,Reliability!$C$23:$C$50,0)),0),0)*IF($T2=\"n/a\",$D2*$Y2,$G2)+IFERROR(IF(AND($V2<=AA$1,$W2>=AA$1),INDEX(Reliability!F$23:F$50,MATCH($T2,Reliability!$C$23:$C$50,0)),0),0)*$H2*$X2*$Y2),$D2)*$R2","v":67.612499999999997},{"$f":"MIN((IFERROR(IF(AND($V2<=AB$1,$W2>=AB$1),INDEX(Reliability!G$23:G$50,MATCH($S2,Reliability!$C$23:$C$50,0)),0),0)*IF($T2=\"n/a\",$D2*$Y2,$G2)+IFERROR(IF(AND($V2<=AB$1,$W2>=AB$1),INDEX(Reliability!G$23:G$50,MATCH($T2,Reliability!$C$23:$C$50,0)),0),0)*$H2*$X2*$Y2),$D2)*$R2","v":68.850000000000009},{"$f":"MIN((IFERROR(IF(AND($V2<=AC$1,$W2>=AC$1),INDEX(Reliability!H$23:H$50,MATCH($S2,Reliability!$C$23:$C$50,0)),0),0)*IF($T2=\"n/a\",$D2*$Y2,$G2)+IFERROR(IF(AND($V2<=AC$1,$W2>=AC$1),INDEX(Reliability!H$23:H$50,MATCH($T2,Reliability!$C$23:$C$50,0)),0),0)*$H2*$X2*$Y2),$D2)*$R2","v":63.412500000000001},{"$f":"MIN((IFERROR(IF(AND($V2<=AD$1,$W2>=AD$1),INDEX(Reliability!I$23:I$50,MATCH($S2,Reliability!$C$23:$C$50,0)),0),0)*IF($T2=\"n/a\",$D2*$Y2,$G2)+IFERROR(IF(AND($V2<=AD$1,$W2>=AD$1),INDEX(Reliability!I$23:I$50,MATCH($T2,Reliability!$C$23:$C$50,0)),0),0)*$H2*$X2*$Y2),$D2)*$R2","v":57.975000000000001},{"$f":"MIN((IFERROR(IF(AND($V2<=AE$1,$W2>=AE$1),INDEX(Reliability!J$23:J$50,MATCH($S2,Reliability!$C$23:$C$50,0)),0),0)*IF($T2=\"n/a\",$D2*$Y2,$G2)+IFERROR(IF(AND($V2<=AE$1,$W2>=AE$1),INDEX(Reliability!J$23:J$50,MATCH($T2,Reliability!$C$23:$C$50,0)),0),0)*$H2*$X2*$Y2),$D2)*$R2","v":56.924999999999997},{"$f":"MIN((IFERROR(IF(AND($V2<=AF$1,$W2>=AF$1),INDEX(Reliability!K$23:K$50,MATCH($S2,Reliability!$C$23:$C$50,0)),0),0)*IF($T2=\"n/a\",$D2*$Y2,$G2)+IFERROR(IF(AND($V2<=AF$1,$W2>=AF$1),INDEX(Reliability!K$23:K$50,MATCH($T2,Reliability!$C$23:$C$50,0)),0),0)*$H2*$X2*$Y2),$D2)*$R2","v":55.875},{"$f":"MIN((IFERROR(IF(AND($V2<=AG$1,$W2>=AG$1),INDEX(Reliability!L$23:L$50,MATCH($S2,Reliability!$C$23:$C$50,0)),0),0)*IF($T2=\"n/a\",$D2*$Y2,$G2)+IFERROR(IF(AND($V2<=AG$1,$W2>=AG$1),INDEX(Reliability!L$23:L$50,MATCH($T2,Reliability!$C$23:$C$50,0)),0),0)*$H2*$X2*$Y2),$D2)*$R2","v":0},{"$f":"MIN((IFERROR(IF(AND($V2<=AH$1,$W2>=AH$1),INDEX(Reliability!M$23:M$50,MATCH($S2,Reliability!$C$23:$C$50,0)),0),0)*IF($T2=\"n/a\",$D2*$Y2,$G2)+IFERROR(IF(AND($V2<=AH$1,$W2>=AH$1),INDEX(Reliability!M$23:M$50,MATCH($T2,Reliability!$C$23:$C$50,0)),0),0)*$H2*$X2*$Y2),$D2)*$R2","v":0},{"$f":"MIN((IFERROR(IF(AND($V2<=AI$1,$W2>=AI$1),INDEX(Reliability!N$23:N$50,MATCH($S2,Reliability!$C$23:$C$50,0)),0),0)*IF($T2=\"n/a\",$D2*$Y2,$G2)+IFERROR(IF(AND($V2<=AI$1,$W2>=AI$1),INDEX(Reliability!N$23:N$50,MATCH($T2,Reliability!$C$23:$C$50,0)),0),0)*$H2*$X2*$Y2),$D2)*$R2","v":0},{"$f":"MIN((IFERROR(IF(AND($V2<=AJ$1,$W2>=AJ$1),INDEX(Reliability!O$23:O$50,MATCH($S2,Reliability!$C$23:$C$50,0)),0),0)*IF($T2=\"n/a\",$D2*$Y2,$G2)+IFERROR(IF(AND($V2<=AJ$1,$W2>=AJ$1),INDEX(Reliability!O$23:O$50,MATCH($T2,Reliability!$C$23:$C$50,0)),0),0)*$H2*$X2*$Y2),$D2)*$R2","v":0},{"$f":"MIN((IFERROR(IF(AND($V2<=AK$1,$W2>=AK$1),INDEX(Reliability!P$23:P$50,MATCH($S2,Reliability!$C$23:$C$50,0)),0),0)*IF($T2=\"n/a\",$D2*$Y2,$G2)+IFERROR(IF(AND($V2<=AK$1,$W2>=AK$1),INDEX(Reliability!P$23:P$50,MATCH($T2,Reliability!$C$23:$C$50,0)),0),0)*$H2*$X2*$Y2),$D2)*$R2","v":0}]
[null,{"$f":"unique_contracts!B3","v":"PROXIMASOLAR"},{"$f":"unique_contracts!D3","v":"Development"},{"$f":"unique_contracts!J3","v":50},{"$f":"unique_contracts!M3","v":"NewSolarNewStorage"},{"$f":"unique_contracts!N3","v":"NO"},{"$f":"unique_contracts!P3","v":50},{"$f":"unique_contracts!R3","v":5},{"$f":"unique_contracts!V3","v":20},null,{"$f":"unique_contracts!AM3","v":2024},{"$f":"unique_contracts!AN3","v":6},{"$f":"unique_contracts!AO3","v":1},{"$f":"unique_contracts!AP3","v":2044},{"$f":"unique_contracts!AQ3","v":5},{"$f":"unique_contracts!AR3","v":31},{"$f":"unique_contracts!BP3","v":"EnergyCapacity"},1,{"$f":"IFERROR(IF(AND(I3>0,E3=\"NotHybrid\"),_xlfn.CONCAT(MAX(MIN(ROUNDDOWN(I3/D3,0),8),4),INDEX(resources!$G:$G,MATCH(B3,resources!$A:$A,0))),INDEX(resources!$G:$G,MATCH(B3,resources!$A:$A,0))),\"n/a\")","v":"utility_pv"},"4hr_batteries","hybrid",2024,2043,1,1,{"$f":"MIN((IFERROR(IF(AND($V3<=Z$1,$W3>=Z$1),INDEX(Reliability!E$23:E$50,MATCH($S3,Reliability!$C$23:$C$50,0)),0),0)*IF($T3=\"n/a\",$D3*$Y3,$G3)+IFERROR(IF(AND($V3<=Z$1,$W3>=Z$1),INDEX(Reliability!E$23:E$50,MATCH($T3,Reliability!$C$23:$C$50,0)),0),0)*$H3*$X3*$Y3),$D3)*$R3","v":9.2249999999999996},{"$f":"MIN((IFERROR(IF(AND($V3<=AA$1,$W3>=AA$1),INDEX(Reliability!F$23:F$50,MATCH($S3,Reliability!$C$23:$C$50,0)),0),0)*IF($T3=\"n/a\",$D3*$Y3,$G3)+IFERROR(IF(AND($V3<=AA$1,$W3>=AA$1),INDEX(Reliability!F$23:F$50,MATCH($T3,Reliability!$C$23:$C$50,0)),0),0)*$H3*$X3*$Y3),$D3)*$R3","v":9.6175321762949153},{"$f":"MIN((IFERROR(IF(AND($V3<=AB$1,$W3>=AB$1),INDEX(Reliability!G$23:G$50,MATCH($S3,Reliability!$C$23:$C$50,0)),0),0)*IF($T3=\"n/a\",$D3*$Y3,$G3)+IFERROR(IF(AND($V3<=AB$1,$W3>=AB$1),INDEX(Reliability!G$23:G$50,MATCH($T3,Reliability!$C$23:$C$50,0)),0),0)*$H3*$X3*$Y3),$D3)*$R3","v":10.010064352589829},{"$f":"MIN((IFERROR(IF(AND($V3<=AC$1,$W3>=AC$1),INDEX(Reliability!H$23:H$50,MATCH($S3,Reliability!$C$23:$C$50,0)),0),0)*IF($T3=\"n/a\",$D3*$Y3,$G3)+IFERROR(IF(AND($V3<=AC$1,$W3>=AC$1),INDEX(Reliability!H$23:H$50,MATCH($T3,Reliability!$C$23:$C$50,0)),0),0)*$H3*$X3*$Y3),$D3)*$R3","v":9.3115161021517601},{"$f":"MIN((IFERROR(IF(AND($V3<=AD$1,$W3>=AD$1),INDEX(Reliability!I$23:I$50,MATCH($S3,Reliability!$C$23:$C$50,0)),0),0)*IF($T3=\"n/a\",$D3*$Y3,$G3)+IFERROR(IF(AND($V3<=AD$1,$W3>=AD$1),INDEX(Reliability!I$23:I$50,MATCH($T3,Reliability!$C$23:$C$50,0)),0),0)*$H3*$X3*$Y3),$D3)*$R3","v":8.6129678517136909},{"$f":"MIN((IFERROR(IF(AND($V3<=AE$1,$W3>=AE$1),INDEX(Reliability!J$23:J$50,MATCH($S3,Reliability!$C$23:$C$50,0)),0),0)*IF($T3=\"n/a\",$D3*$Y3,$G3)+IFERROR(IF(AND($V3<=AE$1,$W3>=AE$1),INDEX(Reliability!J$23:J$50,MATCH($T3,Reliability!$C$23:$C$50,0)),0),0)*$H3*$X3*$Y3),$D3)*$R3","v":7.6689839258568462},{"$f":"MIN((IFERROR(IF(AND($V3<=AF$1,$W3>=AF$1),INDEX(Reliability!K$23:K$50,MATCH($S3,Reliability!$C$23:$C$50,0)),0),0)*IF($T3=\"n/a\",$D3*$Y3,$G3)+IFERROR(IF(AND($V3<=AF$1,$W3>=AF$1),INDEX(Reliability!K$23:K$50,MATCH($T3,Reliability!$C$23:$C$50,0)),0),0)*$H3*$X3*$Y3),$D3)*$R3","v":6.7249999999999996},{"$f":"MIN((IFERROR(IF(AND($V3<=AG$1,$W3>=AG$1),INDEX(Reliability!L$23:L$50,MATCH($S3,Reliability!$C$23:$C$50,0)),0),0)*IF($T3=\"n/a\",$D3*$Y3,$G3)+IFERROR(IF(AND($V3<=AG$1,$W3>=AG$1),INDEX(Reliability!L$23:L$50,MATCH($T3,Reliability!$C$23:$C$50,0)),0),0)*$H3*$X3*$Y3),$D3)*$R3","v":6.4210000000000003},{"$f":"MIN((IFERROR(IF(AND($V3<=AH$1,$W3>=AH$1),INDEX(Reliability!M$23:M$50,MATCH($S3,Reliability!$C$23:$C$50,0)),0),0)*IF($T3=\"n/a\",$D3*$Y3,$G3)+IFERROR(IF(AND($V3<=AH$1,$W3>=AH$1),INDEX(Reliability!M$23:M$50,MATCH($T3,Reliability!$C$23:$C$50,0)),0),0)*$H3*$X3*$Y3),$D3)*$R3","v":6.1170000000000009},{"$f":"MIN((IFERROR(IF(AND($V3<=AI$1,$W3>=AI$1),INDEX(Reliability!N$23:N$50,MATCH($S3,Reliability!$C$23:$C$50,0)),0),0)*IF($T3=\"n/a\",$D3*$Y3,$G3)+IFERROR(IF(AND($V3<=AI$1,$W3>=AI$1),INDEX(Reliability!N$23:N$50,MATCH($T3,Reliability!$C$23:$C$50,0)),0),0)*$H3*$X3*$Y3),$D3)*$R3","v":5.8130000000000006},{"$f":"MIN((IFERROR(IF(AND($V3<=AJ$1,$W3>=AJ$1),INDEX(Reliability!O$23:O$50,MATCH($S3,Reliability!$C$23:$C$50,0)),0),0)*IF($T3=\"n/a\",$D3*$Y3,$G3)+IFERROR(IF(AND($V3<=AJ$1,$W3>=AJ$1),INDEX(Reliability!O$23:O$50,MATCH($T3,Reliability!$C$23:$C$50,0)),0),0)*$H3*$X3*$Y3),$D3)*$R3","v":5.5090000000000003},{"$f":"MIN((IFERROR(IF(AND($V3<=AK$1,$W3>=AK$1),INDEX(Reliability!P$23:P$50,MATCH($S3,Reliability!$C$23:$C$50,0)),0),0)*IF($T3=\"n/a\",$D3*$Y3,$G3)+IFERROR(IF(AND($V3<=AK$1,$W3>=AK$1),INDEX(Reliability!P$23:P$50,MATCH($T3,Reliability!$C$23:$C$50,0)),0),0)*$H3*$X3*$Y3),$D3)*$R3","v":5.2050000000000001}]
[null,{"$f":"unique_contracts!B4","v":"_CREZ_GENERIC_CENTRAL_VALLEY_NORTH_LOS_BANOS_SOLAR"},{"$f":"unique_contracts!D4","v":"Development"},{"$f":"unique_contracts!J4","v":20},{"$f":"unique_contracts!M4","v":"NewSolarNewStorage"},{"$f":"unique_contracts!N4","v":"NO"},{"$f":"unique_contracts!P4","v":20},{"$f":"unique_contracts!R4","v":27},{"$f":"unique_contracts!V4","v":108},null,{"$f":"unique_contracts!AM4","v":2024},{"$f":"unique_contracts!AN4","v":6},{"$f":"unique_contracts!AO4","v":1},{"$f":"unique_contracts!AP4","v":2044},{"$f":"unique_contracts!AQ4","v":5},{"$f":"unique_contracts!AR4","v":31},{"$f":"unique_contracts!BP4","v":"EnergyCapacity"},1,{"$f":"IFERROR(IF(AND(I4>0,E4=\"NotHybrid\"),_xlfn.CONCAT(MAX(MIN(ROUNDDOWN(I4/D4,0),8),4),INDEX(resources!$G:$G,MATCH(B4,resources!$A:$A,0))),INDEX(resources!$G:$G,MATCH(B4,resources!$A:$A,0))),\"n/a\")","v":"utility_pv"},"4hr_batteries","hybrid",2024,2043,0.7407407407407407,1,{"$f":"MIN((IFERROR(IF(AND($V4<=Z$1,$W4>=Z$1),INDEX(Reliability!E$23:E$50,MATCH($S4,Reliability!$C$23:$C$50,0)),0),0)*IF($T4=\"n/a\",$D4*$Y4,$G4)+IFERROR(IF(AND($V4<=Z$1,$W4>=Z$1),INDEX(Reliability!E$23:E$50,MATCH($T4,Reliability!$C$23:$C$50,0)),0),0)*$H4*$X4*$Y4),$D4)*$R4","v":19.619999999999997},{"$f":"MIN((IFERROR(IF(AND($V4<=AA$1,$W4>=AA$1),INDEX(Reliability!F$23:F$50,MATCH($S4,Reliability!$C$23:$C$50,0)),0),0)*IF($T4=\"n/a\",$D4*$Y4,$G4)+IFERROR(IF(AND($V4<=AA$1,$W4>=AA$1),INDEX(Reliability!F$23:F$50,MATCH($T4,Reliability!$C$23:$C$50,0)),0),0)*$H4*$X4*$Y4),$D4)*$R4","v":20},{"$f":"MIN((IFERROR(IF(AND($V4<=AB$1,$W4>=AB$1),INDEX(Reliability!G$23:G$50,MATCH($S4,Reliability!$C$23:$C$50,0)),0),0)*IF($T4=\"n/a\",$D4*$Y4,$G4)+IFERROR(IF(AND($V4<=AB$1,$W4>=AB$1),INDEX(Reliability!G$23:G$50,MATCH($T4,Reliability!$C$23:$C$50,0)),0),0)*$H4*$X4*$Y4),$D4)*$R4","v":20},{"$f":"MIN((IFERROR(IF(AND($V4<=AC$1,$W4>=AC$1),INDEX(Reliability!H$23:H$50,MATCH($S4,Reliability!$C$23:$C$50,0)),0),0)*IF($T4=\"n/a\",$D4*$Y4,$G4)+IFERROR(IF(AND($V4<=AC$1,$W4>=AC$1),INDEX(Reliability!H$23:H$50,MATCH($T4,Reliability!$C$23:$C$50,0)),0),0)*$H4*$X4*$Y4),$D4)*$R4","v":18.943606440860705},{"$f":"MIN((IFERROR(IF(AND($V4<=AD$1,$W4>=AD$1),INDEX(Reliability!I$23:I$50,MATCH($S4,Reliability!$C$23:$C$50,0)),0),0)*IF($T4=\"n/a\",$D4*$Y4,$G4)+IFERROR(IF(AND($V4<=AD$1,$W4>=AD$1),INDEX(Reliability!I$23:I$50,MATCH($T4,Reliability!$C$23:$C$50,0)),0),0)*$H4*$X4*$Y4),$D4)*$R4","v":17.359187140685478},{"$f":"MIN((IFERROR(IF(AND($V4<=AE$1,$W4>=AE$1),INDEX(Reliability!J$23:J$50,MATCH($S4,Reliability!$C$23:$C$50,0)),0),0)*IF($T4=\"n/a\",$D4*$Y4,$G4)+IFERROR(IF(AND($V4<=AE$1,$W4>=AE$1),INDEX(Reliability!J$23:J$50,MATCH($T4,Reliability!$C$23:$C$50,0)),0),0)*$H4*$X4*$Y4),$D4)*$R4","v":16.729593570342736},{"$f":"MIN((IFERROR(IF(AND($V4<=AF$1,$W4>=AF$1),INDEX(Reliability!K$23:K$50,MATCH($S4,Reliability!$C$23:$C$50,0)),0),0)*IF($T4=\"n/a\",$D4*$Y4,$G4)+IFERROR(IF(AND($V4<=AF$1,$W4>=AF$1),INDEX(Reliability!K$23:K$50,MATCH($T4,Reliability!$C$23:$C$50,0)),0),0)*$H4*$X4*$Y4),$D4)*$R4","v":16.099999999999998},{"$f":"MIN((IFERROR(IF(AND($V4<=AG$1,$W4>=AG$1),INDEX(Reliability!L$23:L$50,MATCH($S4,Reliability!$C$23:$C$50,0)),0),0)*IF($T4=\"n/a\",$D4*$Y4,$G4)+IFERROR(IF(AND($V4<=AG$1,$W4>=AG$1),INDEX(Reliability!L$23:L$50,MATCH($T4,Reliability!$C$23:$C$50,0)),0),0)*$H4*$X4*$Y4),$D4)*$R4","v":14.739999999999998},{"$f":"MIN((IFERROR(IF(AND($V4<=AH$1,$W4>=AH$1),INDEX(Reliability!M$23:M$50,MATCH($S4,Reliability!$C$23:$C$50,0)),0),0)*IF($T4=\"n/a\",$D4*$Y4,$G4)+IFERROR(IF(AND($V4<=AH$1,$W4>=AH$1),INDEX(Reliability!M$23:M$50,MATCH($T4,Reliability!$C$23:$C$50,0)),0),0)*$H4*$X4*$Y4),$D4)*$R4","v":13.38},{"$f":"MIN((IFERROR(IF(AND($V4<=AI$1,$W4>=AI$1),INDEX(Reliability!N$23:N$50,MATCH($S4,Reliability!$C$23:$C$50,0)),0),0)*IF($T4=\"n/a\",$D4*$Y4,$G4)+IFERROR(IF(AND($V4<=AI$1,$W4>=AI$1),INDEX(Reliability!N$23:N$50,MATCH($T4,Reliability!$C$23:$C$50,0)),0),0)*$H4*$X4*$Y4),$D4)*$R4","v":12.020000000000001},{"$f":"MIN((IFERROR(IF(AND($V4<=AJ$1,$W4>=AJ$1),INDEX(Reliability!O$23:O$50,MATCH($S4,Reliability!$C$23:$C$50,0)),0),0)*IF($T4=\"n/a\",$D4*$Y4,$G4)+IFERROR(IF(AND($V4<=AJ$1,$W4>=AJ$1),INDEX(Reliability!O$23:O$50,MATCH($T4,Reliability!$C$23:$C$50,0)),0),0)*$H4*$X4*$Y4),$D4)*$R4","v":10.660000000000004},{"$f":"MIN((IFERROR(IF(AND($V4<=AK$1,$W4>=AK$1),INDEX(Reliability!P$23:P$50,MATCH($S4,Reliability!$C$23:$C$50,0)),0),0)*IF($T4=\"n/a\",$D4*$Y4,$G4)+IFERROR(IF(AND($V4<=AK$1,$W4>=AK$1),INDEX(Reliability!P$23:P$50,MATCH($T4,Reliability!$C$23:$C$50,0)),0),0)*$H4*$X4*$Y4),$D4)*$R4","v":9.2999999999999989}]
[null,{"$f":"unique_contracts!B5","v":"_NEW_GENERIC_BATTERY_STORAGE"},{"$f":"unique_contracts!D5","v":"Development"},{"$f":"unique_contracts!J5","v":8.94},{"$f":"unique_contracts!M5","v":"NotHybrid"},{"$f":"unique_contracts!N5","v":0},{"$f":"unique_contracts!P5","v":0},{"$f":"unique_contracts!R5","v":0},{"$f":"unique_contracts!V5","v":71.52},null,{"$f":"unique_contracts!AM5","v":2026},{"$f":"unique_contracts!AN5","v":4},{"$f":"unique_contracts!AO5","v":1},{"$f":"unique_contracts!AP5","v":2041},{"$f":"unique_contracts!AQ5","v":4},{"$f":"unique_contracts!AR5","v":1},{"$f":"unique_contracts!BP5","v":"EnergyCapacity"},{"$f":"IF(AND(J5=\"Sell\",ISNUMBER(SEARCH(\"Capacity\",Q5))),-1,IF(AND(NOT(J5=\"Sell\"),ISNUMBER(SEARCH(\"Capacity\",Q5))),1,0))","v":1},{"$f":"IFERROR(IF(AND(I5>0,E5=\"NotHybrid\"),_xlfn.CONCAT(MAX(MIN(ROUNDDOWN(I5/D5,0),8),4),INDEX(resources!$G:$G,MATCH(B5,resources!$A:$A,0))),INDEX(resources!$G:$G,MATCH(B5,resources!$A:$A,0))),\"n/a\")","v":"8hr_batteries"},{"$f":"IFERROR(IF(NOT(E5=\"NotHybrid\"),_xlfn.CONCAT(MAX(MIN(ROUNDDOWN(I5/H5,0),8),4),\"hr_batteries\"),\"n/a\"),\"n/a\")","v":"n/a"},{"$f":"IF(T5=\"n/a\",S5,\"hybrid\")","v":"8hr_batteries"},{"$f":"IFERROR(IF(DATE(K5,L5,M5)<=DATE(K5,6,1),K5,K5+1),0)","v":2026},{"$f":"IFERROR(IF(DATE(N5,O5,P5)>=DATE(N5,10,1),N5,N5-1),0)","v":2040},{"$f":"IF(OR(T5=\"n/a\",NOT(F5=\"NO\")),100%,IF(ISNUMBER(SEARCH(\"pv\",S5)),MIN(G5/(1*(ROUNDDOWN(I5/H5,0)/4)),H5)/H5,IF(ISNUMBER(SEARCH(\"wind\",S5)),MIN(G5/(2*(ROUNDDOWN(I5/H5,0)/4)),H5)/H5,1)))","v":1},{"$f":"IF(ISNUMBER(SEARCH(\"batteries\",S5)),MIN(ROUNDDOWN(I5/D5,0)/4,1), IF(ISNUMBER(SEARCH(\"batteries\",T5)),MIN(ROUNDDOWN(I5/H5,0)/4,1),1))","v":1},{"$f":"MIN((IFERROR(IF(AND($V5<=Z$1,$W5>=Z$1),INDEX(Reliability!E$23:E$50,MATCH($S5,Reliability!$C$23:$C$50,0)),0),0)*IF($T5=\"n/a\",$D5*$Y5,$G5)+IFERROR(IF(AND($V5<=Z$1,$W5>=Z$1),INDEX(Reliability!E$23:E$50,MATCH($T5,Reliability!$C$23:$C$50,0)),0),0)*$H5*$X5*$Y5),$D5)*$R5","v":0},{"$f":"MIN((IFERROR(IF(AND($V5<=AA$1,$W5>=AA$1),INDEX(Reliability!F$23:F$50,MATCH($S5,Reliability!$C$23:$C$50,0)),0),0)*IF($T5=\"n/a\",$D5*$Y5,$G5)+IFERROR(IF(AND($V5<=AA$1,$W5>=AA$1),INDEX(Reliability!F$23:F$50,MATCH($T5,Reliability!$C$23:$C$50,0)),0),0)*$H5*$X5*$Y5),$D5)*$R5","v":0},{"$f":"MIN((IFERROR(IF(AND($V5<=AB$1,$W5>=AB$1),INDEX(Reliability!G$23:G$50,MATCH($S5,Reliability!$C$23:$C$50,0)),0),0)*IF($T5=\"n/a\",$D5*$Y5,$G5)+IFERROR(IF(AND($V5<=AB$1,$W5>=AB$1),INDEX(Reliability!G$23:G$50,MATCH($T5,Reliability!$C$23:$C$50,0)),0),0)*$H5*$X5*$Y5),$D5)*$R5","v":8.3141999999999996},{"$f":"MIN((IFERROR(IF(AND($V5<=AC$1,$W5>=AC$1),INDEX(Reliability!H$23:H$50,MATCH($S5,Reliability!$C$23:$C$50,0)),0),0)*IF($T5=\"n/a\",$D5*$Y5,$G5)+IFERROR(IF(AND($V5<=AC$1,$W5>=AC$1),INDEX(Reliability!H$23:H$50,MATCH($T5,Reliability!$C$23:$C$50,0)),0),0)*$H5*$X5*$Y5),$D5)*$R5","v":8.0370600000000003},{"$f":"MIN((IFERROR(IF(AND($V5<=AD$1,$W5>=AD$1),INDEX(Reliability!I$23:I$50,MATCH($S5,Reliability!$C$23:$C$50,0)),0),0)*IF($T5=\"n/a\",$D5*$Y5,$G5)+IFERROR(IF(AND($V5<=AD$1,$W5>=AD$1),INDEX(Reliability!I$23:I$50,MATCH($T5,Reliability!$C$23:$C$50,0)),0),0)*$H5*$X5*$Y5),$D5)*$R5","v":7.7599199999999993},{"$f":"MIN((IFERROR(IF(AND($V5<=AE$1,$W5>=AE$1),INDEX(Reliability!J$23:J$50,MATCH($S5,Reliability!$C$23:$C$50,0)),0),0)*IF($T5=\"n/a\",$D5*$Y5,$G5)+IFERROR(IF(AND($V5<=AE$1,$W5>=AE$1),INDEX(Reliability!J$23:J$50,MATCH($T5,Reliability!$C$23:$C$50,0)),0),0)*$H5*$X5*$Y5),$D5)*$R5","v":7.6660499999999994},{"$f":"MIN((IFERROR(IF(AND($V5<=AF$1,$W5>=AF$1),INDEX(Reliability!K$23:K$50,MATCH($S5,Reliability!$C$23:$C$50,0)),0),0)*IF($T5=\"n/a\",$D5*$Y5,$G5)+IFERROR(IF(AND($V5<=AF$1,$W5>=AF$1),INDEX(Reliability!K$23:K$50,MATCH($T5,Reliability!$C$23:$C$50,0)),0),0)*$H5*$X5*$Y5),$D5)*$R5","v":7.5721799999999995},{"$f":"MIN((IFERROR(IF(AND($V5<=AG$1,$W5>=AG$1),INDEX(Reliability!L$23:L$50,MATCH($S5,Reliability!$C$23:$C$50,0)),0),0)*IF($T5=\"n/a\",$D5*$Y5,$G5)+IFERROR(IF(AND($V5<=AG$1,$W5>=AG$1),INDEX(Reliability!L$23:L$50,MATCH($T5,Reliability!$C$23:$C$50,0)),0),0)*$H5*$X5*$Y5),$D5)*$R5","v":7.3021919999999989},{"$f":"MIN((IFERROR(IF(AND($V5<=AH$1,$W5>=AH$1),INDEX(Reliability!M$23:M$50,MATCH($S5,Reliability!$C$23:$C$50,0)),0),0)*IF($T5=\"n/a\",$D5*$Y5,$G5)+IFERROR(IF(AND($V5<=AH$1,$W5>=AH$1),INDEX(Reliability!M$23:M$50,MATCH($T5,Reliability!$C$23:$C$50,0)),0),0)*$H5*$X5*$Y5),$D5)*$R5","v":7.0322039999999992},{"$f":"MIN((IFERROR(IF(AND($V5<=AI$1,$W5>=AI$1),INDEX(Reliability!N$23:N$50,MATCH($S5,Reliability!$C$23:$C$50,0)),0),0)*IF($T5=\"n/a\",$D5*$Y5,$G5)+IFERROR(IF(AND($V5<=AI$1,$W5>=AI$1),INDEX(Reliability!N$23:N$50,MATCH($T5,Reliability!$C$23:$C$50,0)),0),0)*$H5*$X5*$Y5),$D5)*$R5","v":6.7622159999999996},{"$f":"MIN((IFERROR(IF(AND($V5<=AJ$1,$W5>=AJ$1),INDEX(Reliability!O$23:O$50,MATCH($S5,Reliability!$C$23:$C$50,0)),0),0)*IF($T5=\"n/a\",$D5*$Y5,$G5)+IFERROR(IF(AND($V5<=AJ$1,$W5>=AJ$1),INDEX(Reliability!O$23:O$50,MATCH($T5,Reliability!$C$23:$C$50,0)),0),0)*$H5*$X5*$Y5),$D5)*$R5","v":6.492227999999999},{"$f":"MIN((IFERROR(IF(AND($V5<=AK$1,$W5>=AK$1),INDEX(Reliability!P$23:P$50,MATCH($S5,Reliability!$C$23:$C$50,0)),0),0)*IF($T5=\"n/a\",$D5*$Y5,$G5)+IFERROR(IF(AND($V5<=AK$1,$W5>=AK$1),INDEX(Reliability!P$23:P$50,MATCH($T5,Reliability!$C$23:$C$50,0)),0),0)*$H5*$X5*$Y5),$D5)*$R5","v":6.2222399999999993}]
[null,{"$f":"unique_contracts!B6","v":"_NEW_GENERIC_BATTERY_STORAGE"},{"$f":"unique_contracts!D6","v":"Development"},{"$f":"unique_contracts!J6","v":8.68},{"$f":"unique_contracts!M6","v":"NotHybrid"},{"$f":"unique_contracts!N6","v":0},{"$f":"unique_contracts!P6","v":0},{"$f":"unique_contracts!R6","v":0},{"$f":"unique_contracts!V6","v":69.44},null,{"$f":"unique_contracts!AM6","v":2025},{"$f":"unique_contracts!AN6","v":6},{"$f":"unique_contracts!AO6","v":1},{"$f":"unique_contracts!AP6","v":2040},{"$f":"unique_contracts!AQ6","v":6},{"$f":"unique_contracts!AR6","v":1},{"$f":"unique_contracts!BP6","v":"EnergyCapacity"},1,{"$f":"IFERROR(IF(AND(I6>0,E6=\"NotHybrid\"),_xlfn.CONCAT(MAX(MIN(ROUNDDOWN(I6/D6,0),8),4),INDEX(resources!$G:$G,MATCH(B6,resources!$A:$A,0))),INDEX(resources!$G:$G,MATCH(B6,resources!$A:$A,0))),\"n/a\")","v":"8hr_batteries"},"n/a","8hr_batteries",2025,2039,1,1,{"$f":"MIN((IFERROR(IF(AND($V6<=Z$1,$W6>=Z$1),INDEX(Reliability!E$23:E$50,MATCH($S6,Reliability!$C$23:$C$50,0)),0),0)*IF($T6=\"n/a\",$D6*$Y6,$G6)+IFERROR(IF(AND($V6<=Z$1,$W6>=Z$1),INDEX(Reliability!E$23:E$50,MATCH($T6,Reliability!$C$23:$C$50,0)),0),0)*$H6*$X6*$Y6),$D6)*$R6","v":0},{"$f":"MIN((IFERROR(IF(AND($V6<=AA$1,$W6>=AA$1),INDEX(Reliability!F$23:F$50,MATCH($S6,Reliability!$C$23:$C$50,0)),0),0)*IF($T6=\"n/a\",$D6*$Y6,$G6)+IFERROR(IF(AND($V6<=AA$1,$W6>=AA$1),INDEX(Reliability!F$23:F$50,MATCH($T6,Reliability!$C$23:$C$50,0)),0),0)*$H6*$X6*$Y6),$D6)*$R6","v":7.9074799999999996},{"$f":"MIN((IFERROR(IF(AND($V6<=AB$1,$W6>=AB$1),INDEX(Reliability!G$23:G$50,MATCH($S6,Reliability!$C$23:$C$50,0)),0),0)*IF($T6=\"n/a\",$D6*$Y6,$G6)+IFERROR(IF(AND($V6<=AB$1,$W6>=AB$1),INDEX(Reliability!G$23:G$50,MATCH($T6,Reliability!$C$23:$C$50,0)),0),0)*$H6*$X6*$Y6),$D6)*$R6","v":8.0724},{"$f":"MIN((IFERROR(IF(AND($V6<=AC$1,$W6>=AC$1),INDEX(Reliability!H$23:H$50,MATCH($S6,Reliability!$C$23:$C$50,0)),0),0)*IF($T6=\"n/a\",$D6*$Y6,$G6)+IFERROR(IF(AND($V6<=AC$1,$W6>=AC$1),INDEX(Reliability!H$23:H$50,MATCH($T6,Reliability!$C$23:$C$50,0)),0),0)*$H6*$X6*$Y6),$D6)*$R6","v":7.8033200000000003},{"$f":"MIN((IFERROR(IF(AND($V6<=AD$1,$W6>=AD$1),INDEX(Reliability!I$23:I$50,MATCH($S6,Reliability!$C$23:$C$50,0)),0),0)*IF($T6=\"n/a\",$D6*$Y6,$G6)+IFERROR(IF(AND($V6<=AD$1,$W6>=AD$1),INDEX(Reliability!I$23:I$50,MATCH($T6,Reliability!$C$23:$C$50,0)),0),0)*$H6*$X6*$Y6),$D6)*$R6","v":7.5342399999999996},{"$f":"MIN((IFERROR(IF(AND($V6<=AE$1,$W6>=AE$1),INDEX(Reliability!J$23:J$50,MATCH($S6,Reliability!$C$23:$C$50,0)),0),0)*IF($T6=\"n/a\",$D6*$Y6,$G6)+IFERROR(IF(AND($V6<=AE$1,$W6>=AE$1),INDEX(Reliability!J$23:J$50,MATCH($T6,Reliability!$C$23:$C$50,0)),0),0)*$H6*$X6*$Y6),$D6)*$R6","v":7.4430999999999994},{"$f":"MIN((IFERROR(IF(AND($V6<=AF$1,$W6>=AF$1),INDEX(Reliability!K$23:K$50,MATCH($S6,Reliability!$C$23:$C$50,0)),0),0)*IF($T6=\"n/a\",$D6*$Y6,$G6)+IFERROR(IF(AND($V6<=AF$1,$W6>=AF$1),INDEX(Reliability!K$23:K$50,MATCH($T6,Reliability!$C$23:$C$50,0)),0),0)*$H6*$X6*$Y6),$D6)*$R6","v":7.3519599999999992},{"$f":"MIN((IFERROR(IF(AND($V6<=AG$1,$W6>=AG$1),INDEX(Reliability!L$23:L$50,MATCH($S6,Reliability!$C$23:$C$50,0)),0),0)*IF($T6=\"n/a\",$D6*$Y6,$G6)+IFERROR(IF(AND($V6<=AG$1,$W6>=AG$1),INDEX(Reliability!L$23:L$50,MATCH($T6,Reliability!$C$23:$C$50,0)),0),0)*$H6*$X6*$Y6),$D6)*$R6","v":7.0898239999999992},{"$f":"MIN((IFERROR(IF(AND($V6<=AH$1,$W6>=AH$1),INDEX(Reliability!M$23:M$50,MATCH($S6,Reliability!$C$23:$C$50,0)),0),0)*IF($T6=\"n/a\",$D6*$Y6,$G6)+IFERROR(IF(AND($V6<=AH$1,$W6>=AH$1),INDEX(Reliability!M$23:M$50,MATCH($T6,Reliability!$C$23:$C$50,0)),0),0)*$H6*$X6*$Y6),$D6)*$R6","v":6.8276879999999993},{"$f":"MIN((IFERROR(IF(AND($V6<=AI$1,$W6>=AI$1),INDEX(Reliability!N$23:N$50,MATCH($S6,Reliability!$C$23:$C$50,0)),0),0)*IF($T6=\"n/a\",$D6*$Y6,$G6)+IFERROR(IF(AND($V6<=AI$1,$W6>=AI$1),INDEX(Reliability!N$23:N$50,MATCH($T6,Reliability!$C$23:$C$50,0)),0),0)*$H6*$X6*$Y6),$D6)*$R6","v":6.5655519999999994},{"$f":"MIN((IFERROR(IF(AND($V6<=AJ$1,$W6>=AJ$1),INDEX(Reliability!O$23:O$50,MATCH($S6,Reliability!$C$23:$C$50,0)),0),0)*IF($T6=\"n/a\",$D6*$Y6,$G6)+IFERROR(IF(AND($V6<=AJ$1,$W6>=AJ$1),INDEX(Reliability!O$23:O$50,MATCH($T6,Reliability!$C$23:$C$50,0)),0),0)*$H6*$X6*$Y6),$D6)*$R6","v":6.3034159999999995},{"$f":"MIN((IFERROR(IF(AND($V6<=AK$1,$W6>=AK$1),INDEX(Reliability!P$23:P$50,MATCH($S6,Reliability!$C$23:$C$50,0)),0),0)*IF($T6=\"n/a\",$D6*$Y6,$G6)+IFERROR(IF(AND($V6<=AK$1,$W6>=AK$1),INDEX(Reliability!P$23:P$50,MATCH($T6,Reliability!$C$23:$C$50,0)),0),0)*$H6*$X6*$Y6),$D6)*$R6","v":6.0412799999999995}]
[null,{"$f":"unique_contracts!B7","v":"_NEW_GENERIC_GEOTHERMAL"},{"$f":"unique_contracts!D7","v":"Development"},{"$f":"unique_contracts!J7","v":1.5210000000000001},{"$f":"unique_contracts!M7","v":0},{"$f":"unique_contracts!N7","v":0},{"$f":"unique_contracts!P7","v":0},{"$f":"unique_contracts!R7","v":0},{"$f":"unique_contracts!V7","v":0},null,{"$f":"unique_contracts!AM7","v":2024},{"$f":"unique_contracts!AN7","v":6},{"$f":"unique_contracts!AO7","v":1},{"$f":"unique_contracts!AP7","v":2044},{"$f":"unique_contracts!AQ7","v":5},{"$f":"unique_contracts!AR7","v":31},{"$f":"unique_contracts!BP7","v":"EnergyCapacity"},1,{"$f":"IFERROR(IF(AND(I7>0,E7=\"NotHybrid\"),_xlfn.CONCAT(MAX(MIN(ROUNDDOWN(I7/D7,0),8),4),INDEX(resources!$G:$G,MATCH(B7,resources!$A:$A,0))),INDEX(resources!$G:$G,MATCH(B7,resources!$A:$A,0))),\"n/a\")","v":"geothermal"},"n/a","geothermal",2024,2043,1,1,{"$f":"MIN((IFERROR(IF(AND($V7<=Z$1,$W7>=Z$1),INDEX(Reliability!E$23:E$50,MATCH($S7,Reliability!$C$23:$C$50,0)),0),0)*IF($T7=\"n/a\",$D7*$Y7,$G7)+IFERROR(IF(AND($V7<=Z$1,$W7>=Z$1),INDEX(Reliability!E$23:E$50,MATCH($T7,Reliability!$C$23:$C$50,0)),0),0)*$H7*$X7*$Y7),$D7)*$R7","v":1.3141495604093258},{"$f":"MIN((IFERROR(IF(AND($V7<=AA$1,$W7>=AA$1),INDEX(Reliability!F$23:F$50,MATCH($S7,Reliability!$C$23:$C$50,0)),0),0)*IF($T7=\"n/a\",$D7*$Y7,$G7)+IFERROR(IF(AND($V7<=AA$1,$W7>=AA$1),INDEX(Reliability!F$23:F$50,MATCH($T7,Reliability!$C$23:$C$50,0)),0),0)*$H7*$X7*$Y7),$D7)*$R7","v":1.335836565567341},{"$f":"MIN((IFERROR(IF(AND($V7<=AB$1,$W7>=AB$1),INDEX(Reliability!G$23:G$50,MATCH($S7,Reliability!$C$23:$C$50,0)),0),0)*IF($T7=\"n/a\",$D7*$Y7,$G7)+IFERROR(IF(AND($V7<=AB$1,$W7>=AB$1),INDEX(Reliability!G$23:G$50,MATCH($T7,Reliability!$C$23:$C$50,0)),0),0)*$H7*$X7*$Y7),$D7)*$R7","v":1.3575235707253563},{"$f":"MIN((IFERROR(IF(AND($V7<=AC$1,$W7>=AC$1),INDEX(Reliability!H$23:H$50,MATCH($S7,Reliability!$C$23:$C$50,0)),0),0)*IF($T7=\"n/a\",$D7*$Y7,$G7)+IFERROR(IF(AND($V7<=AC$1,$W7>=AC$1),INDEX(Reliability!H$23:H$50,MATCH($T7,Reliability!$C$23:$C$50,0)),0),0)*$H7*$X7*$Y7),$D7)*$R7","v":1.3841379256801041},{"$f":"MIN((IFERROR(IF(AND($V7<=AD$1,$W7>=AD$1),INDEX(Reliability!I$23:I$50,MATCH($S7,Reliability!$C$23:$C$50,0)),0),0)*IF($T7=\"n/a\",$D7*$Y7,$G7)+IFERROR(IF(AND($V7<=AD$1,$W7>=AD$1),INDEX(Reliability!I$23:I$50,MATCH($T7,Reliability!$C$23:$C$50,0)),0),0)*$H7*$X7*$Y7),$D7)*$R7","v":1.4107522806348518},{"$f":"MIN((IFERROR(IF(AND($V7<=AE$1,$W7>=AE$1),INDEX(Reliability!J$23:J$50,MATCH($S7,Reliability!$C$23:$C$50,0)),0),0)*IF($T7=\"n/a\",$D7*$Y7,$G7)+IFERROR(IF(AND($V7<=AE$1,$W7>=AE$1),INDEX(Reliability!J$23:J$50,MATCH($T7,Reliability!$C$23:$C$50,0)),0),0)*$H7*$X7*$Y7),$D7)*$R7","v":1.4035877759364492},{"$f":"MIN((IFERROR(IF(AND($V7<=AF$1,$W7>=AF$1),INDEX(Reliability!K$23:K$50,MATCH($S7,Reliability!$C$23:$C$50,0)),0),0)*IF($T7=\"n/a\",$D7*$Y7,$G7)+IFERROR(IF(AND($V7<=AF$1,$W7>=AF$1),INDEX(Reliability!K$23:K$50,MATCH($T7,Reliability!$C$23:$C$50,0)),0),0)*$H7*$X7*$Y7),$D7)*$R7","v":1.3964232712380467},{"$f":"MIN((IFERROR(IF(AND($V7<=AG$1,$W7>=AG$1),INDEX(Reliability!L$23:L$50,MATCH($S7,Reliability!$C$23:$C$50,0)),0),0)*IF($T7=\"n/a\",$D7*$Y7,$G7)+IFERROR(IF(AND($V7<=AG$1,$W7>=AG$1),INDEX(Reliability!L$23:L$50,MATCH($T7,Reliability!$C$23:$C$50,0)),0),0)*$H7*$X7*$Y7),$D7)*$R7","v":1.4075101626161874},{"$f":"MIN((IFERROR(IF(AND($V7<=AH$1,$W7>=AH$1),INDEX(Reliability!M$23:M$50,MATCH($S7,Reliability!$C$23:$C$50,0)),0),0)*IF($T7=\"n/a\",$D7*$Y7,$G7)+IFERROR(IF(AND($V7<=AH$1,$W7>=AH$1),INDEX(Reliability!M$23:M$50,MATCH($T7,Reliability!$C$23:$C$50,0)),0),0)*$H7*$X7*$Y7),$D7)*$R7","v":1.4185970539943282},{"$f":"MIN((IFERROR(IF(AND($V7<=AI$1,$W7>=AI$1),INDEX(Reliability!N$23:N$50,MATCH($S7,Reliability!$C$23:$C$50,0)),0),0)*IF($T7=\"n/a\",$D7*$Y7,$G7)+IFERROR(IF(AND($V7<=AI$1,$W7>=AI$1),INDEX(Reliability!N$23:N$50,MATCH($T7,Reliability!$C$23:$C$50,0)),0),0)*$H7*$X7*$Y7),$D7)*$R7","v":1.4296839453724692},{"$f":"MIN((IFERROR(IF(AND($V7<=AJ$1,$W7>=AJ$1),INDEX(Reliability!O$23:O$50,MATCH($S7,Reliability!$C$23:$C$50,0)),0),0)*IF($T7=\"n/a\",$D7*$Y7,$G7)+IFERROR(IF(AND($V7<=AJ$1,$W7>=AJ$1),INDEX(Reliability!O$23:O$50,MATCH($T7,Reliability!$C$23:$C$50,0)),0),0)*$H7*$X7*$Y7),$D7)*$R7","v":1.44077083675061},{"$f":"MIN((IFERROR(IF(AND($V7<=AK$1,$W7>=AK$1),INDEX(Reliability!P$23:P$50,MATCH($S7,Reliability!$C$23:$C$50,0)),0),0)*IF($T7=\"n/a\",$D7*$Y7,$G7)+IFERROR(IF(AND($V7<=AK$1,$W7>=AK$1),INDEX(Reliability!P$23:P$50,MATCH($T7,Reliability!$C$23:$C$50,0)),0),0)*$H7*$X7*$Y7),$D7)*$R7","v":1.4518577281287508}]
[null,{"$f":"unique_contracts!B8","v":"_NEW_GENERIC_GEOTHERMAL"},{"$f":"unique_contracts!D8","v":"Development"},null,null,null,null,null,null,null,null,null,null,null,null,null,{"$f":"unique_contracts!BP8","v":"EnergyCapacity"},1,{"$f":"IFERROR(IF(AND(I8>0,E8=\"NotHybrid\"),_xlfn.CONCAT(MAX(MIN(ROUNDDOWN(I8/D8,0),8),4),INDEX(resources!$G:$G,MATCH(B8,resources!$A:$A,0))),INDEX(resources!$G:$G,MATCH(B8,resources!$A:$A,0))),\"n/a\")","v":"geothermal"},"n/a","geothermal",null,null,1,1]
[null,{"$f":"unique_contracts!B9","v":"_NEW_GENERIC_GEOTHERMAL"},{"$f":"unique_contracts!D9","v":"Development"},null,null,null,null,null,null,null,null,null,null,null,null,null,{"$f":"unique_contracts!BP9","v":"EnergyCapacity"},1,{"$f":"IFERROR(IF(AND(I9>0,E9=\"NotHybrid\"),_xlfn.CONCAT(MAX(MIN(ROUNDDOWN(I9/D9,0),8),4),INDEX(resources!$G:$G,MATCH(B9,resources!$A:$A,0))),INDEX(resources!$G:$G,MATCH(B9,resources!$A:$A,0))),\"n/a\")","v":"geothermal"},"n/a","geothermal",null,null,1,1]
[null,{"$f":"unique_contracts!B10","v":"_NEW_GENERIC_GEOTHERMAL"},{"$f":"unique_contracts!D10","v":"Development"},null,null,null,null,null,null,null,null,null,null,null,null,null,{"$f":"unique_contracts!BP10","v":"EnergyCapacity"},1,{"$f":"IFERROR(IF(AND(I10>0,E10=\"NotHybrid\"),_xlfn.CONCAT(MAX(MIN(ROUNDDOWN(I10/D10,0),8),4),INDEX(resources!$G:$G,MATCH(B10,resources!$A:$A,0))),INDEX(resources!$G:$G,MATCH(B10,resources!$A:$A,0))),\"n/a\")","v":"geothermal"},"n/a","geothermal",null,null,1,1]
[null,{"$f":"unique_contracts!B11","v":"_NEW_GENERIC_GEOTHERMAL"},{"$f":"unique_contracts!D11","v":"Development"},null,null,null,null,null,null,null,null,null,null,null,null,null,{"$f":"unique_contracts!BP11","v":"EnergyCapacity"},1,{"$f":"IFERROR(IF(AND(I11>0,E11=\"NotHybrid\"),_xlfn.CONCAT(MAX(MIN(ROUNDDOWN(I11/D11,0),8),4),INDEX(resources!$G:$G,MATCH(B11,resources!$A:$A,0))),INDEX(resources!$G:$G,MATCH(B11,resources!$A:$A,0))),\"n/a\")","v":"geothermal"},"n/a","geothermal",null,null,1,1]
[null,{"$f":"unique_contracts!B12","v":"_NEW_GENERIC_GEOTHERMAL"},{"$f":"unique_contracts!D12","v":"Development"},null,null,null,null,null,null,null,null,null,null,null,null,null,{"$f":"unique_contracts!BP12","v":"EnergyCapacity"},1,{"$f":"IFERROR(IF(AND(I12>0,E12=\"NotHybrid\"),_xlfn.CONCAT(MAX(MIN(ROUNDDOWN(I12/D12,0),8),4),INDEX(resources!$G:$G,MATCH(B12,resources!$A:$A,0))),INDEX(resources!$G:$G,MATCH(B12,resources!$A:$A,0))),\"n/a\")","v":"geothermal"},"n/a","geothermal",null,null,1,1]
[null,{"$f":"unique_contracts!B13","v":"_NEW_GENERIC_GEOTHERMAL"},{"$f":"unique_contracts!D13","v":"Development"},null,null,null,null,null,null,null,null,null,null,null,null,null,{"$f":"unique_contracts!BP13","v":"EnergyCapacity"},1,{"$f":"IFERROR(IF(AND(I13>0,E13=\"NotHybrid\"),_xlfn.CONCAT(MAX(MIN(ROUNDDOWN(I13/D13,0),8),4),INDEX(resources!$G:$G,MATCH(B13,resources!$A:$A,0))),INDEX(resources!$G:$G,MATCH(B13,resources!$A:$A,0))),\"n/a\")","v":"geothermal"},"n/a","geothermal",null,null,1,1]
[null,{"$f":"unique_contracts!B14","v":"_CREZ_GENERIC_SOLANO_GEOTHERMAL"},{"$f":"unique_contracts!D14","v":"Development"},null,null,null,null,null,null,null,null,null,null,null,null,null,{"$f":"unique_contracts!BP14","v":"EnergyCapacity"},1,{"$f":"IFERROR(IF(AND(I14>0,E14=\"NotHybrid\"),_xlfn.CONCAT(MAX(MIN(ROUNDDOWN(I14/D14,0),8),4),INDEX(resources!$G:$G,MATCH(B14,resources!$A:$A,0))),INDEX(resources!$G:$G,MATCH(B14,resources!$A:$A,0))),\"n/a\")","v":"geothermal"},"n/a","geothermal",null,null,1,1]
[null,{"$f":"unique_contracts!B15","v":"_NEW_GENERIC_SOLAR_2AXIS"},{"$f":"unique_contracts!D15","v":"Development"},{"$f":"unique_contracts!J15","v":11.6},{"$f":"unique_contracts!M15","v":"NewSolarNewStorage"},{"$f":"unique_contracts!N15","v":"NO"},{"$f":"unique_contracts!P15","v":11.6},{"$f":"unique_contracts!R15","v":8},{"$f":"unique_contracts!V15","v":32},null,{"$f":"unique_contracts!AM15","v":2024},{"$f":"unique_contracts!AN15","v":6},{"$f":"unique_contracts!AO15","v":1},{"$f":"unique_contracts!AP15","v":2044},{"$f":"unique_contracts!AQ15","v":5},{"$f":"unique_contracts!AR15","v":31},{"$f":"unique_contracts!BP15","v":"EnergyCapacity"},1,{"$f":"IFERROR(IF(AND(I15>0,E15=\"NotHybrid\"),_xlfn.CONCAT(MAX(MIN(ROUNDDOWN(I15/D15,0),8),4),INDEX(resources!$G:$G,MATCH(B15,resources!$A:$A,0))),INDEX(resources!$G:$G,MATCH(B15,resources!$A:$A,0))),\"n/a\")","v":"utility_pv"},"4hr_batteries","hybrid",2024,2043,1,1,{"$f":"MIN((IFERROR(IF(AND($V15<=Z$1,$W15>=Z$1),INDEX(Reliability!E$23:E$50,MATCH($S15,Reliability!$C$23:$C$50,0)),0),0)*IF($T15=\"n/a\",$D15*$Y15,$G15)+IFERROR(IF(AND($V15<=Z$1,$W15>=Z$1),INDEX(Reliability!E$23:E$50,MATCH($T15,Reliability!$C$23:$C$50,0)),0),0)*$H15*$X15*$Y15),$D15)*$R15","v":8.1936},{"$f":"MIN((IFERROR(IF(AND($V15<=AA$1,$W15>=AA$1),INDEX(Reliability!F$23:F$50,MATCH($S15,Reliability!$C$23:$C$50,0)),0),0)*IF($T15=\"n/a\",$D15*$Y15,$G15)+IFERROR(IF(AND($V15<=AA$1,$W15>=AA$1),INDEX(Reliability!F$23:F$50,MATCH($T15,Reliability!$C$23:$C$50,0)),0),0)*$H15*$X15*$Y15),$D15)*$R15","v":8.3975274649004206},{"$f":"MIN((IFERROR(IF(AND($V15<=AB$1,$W15>=AB$1),INDEX(Reliability!G$23:G$50,MATCH($S15,Reliability!$C$23:$C$50,0)),0),0)*IF($T15=\"n/a\",$D15*$Y15,$G15)+IFERROR(IF(AND($V15<=AB$1,$W15>=AB$1),INDEX(Reliability!G$23:G$50,MATCH($T15,Reliability!$C$23:$C$50,0)),0),0)*$H15*$X15*$Y15),$D15)*$R15","v":8.6014549298008411},{"$f":"MIN((IFERROR(IF(AND($V15<=AC$1,$W15>=AC$1),INDEX(Reliability!H$23:H$50,MATCH($S15,Reliability!$C$23:$C$50,0)),0),0)*IF($T15=\"n/a\",$D15*$Y15,$G15)+IFERROR(IF(AND($V15<=AC$1,$W15>=AC$1),INDEX(Reliability!H$23:H$50,MATCH($T15,Reliability!$C$23:$C$50,0)),0),0)*$H15*$X15*$Y15),$D15)*$R15","v":7.9434917356992081},{"$f":"MIN((IFERROR(IF(AND($V15<=AD$1,$W15>=AD$1),INDEX(Reliability!I$23:I$50,MATCH($S15,Reliability!$C$23:$C$50,0)),0),0)*IF($T15=\"n/a\",$D15*$Y15,$G15)+IFERROR(IF(AND($V15<=AD$1,$W15>=AD$1),INDEX(Reliability!I$23:I$50,MATCH($T15,Reliability!$C$23:$C$50,0)),0),0)*$H15*$X15*$Y15),$D15)*$R15","v":7.2855285415975768},{"$f":"MIN((IFERROR(IF(AND($V15<=AE$1,$W15>=AE$1),INDEX(Reliability!J$23:J$50,MATCH($S15,Reliability!$C$23:$C$50,0)),0),0)*IF($T15=\"n/a\",$D15*$Y15,$G15)+IFERROR(IF(AND($V15<=AE$1,$W15>=AE$1),INDEX(Reliability!J$23:J$50,MATCH($T15,Reliability!$C$23:$C$50,0)),0),0)*$H15*$X15*$Y15),$D15)*$R15","v":6.9707642707987887},{"$f":"MIN((IFERROR(IF(AND($V15<=AF$1,$W15>=AF$1),INDEX(Reliability!K$23:K$50,MATCH($S15,Reliability!$C$23:$C$50,0)),0),0)*IF($T15=\"n/a\",$D15*$Y15,$G15)+IFERROR(IF(AND($V15<=AF$1,$W15>=AF$1),INDEX(Reliability!K$23:K$50,MATCH($T15,Reliability!$C$23:$C$50,0)),0),0)*$H15*$X15*$Y15),$D15)*$R15","v":6.6559999999999997},{"$f":"MIN((IFERROR(IF(AND($V15<=AG$1,$W15>=AG$1),INDEX(Reliability!L$23:L$50,MATCH($S15,Reliability!$C$23:$C$50,0)),0),0)*IF($T15=\"n/a\",$D15*$Y15,$G15)+IFERROR(IF(AND($V15<=AG$1,$W15>=AG$1),INDEX(Reliability!L$23:L$50,MATCH($T15,Reliability!$C$23:$C$50,0)),0),0)*$H15*$X15*$Y15),$D15)*$R15","v":6.1148800000000003},{"$f":"MIN((IFERROR(IF(AND($V15<=AH$1,$W15>=AH$1),INDEX(Reliability!M$23:M$50,MATCH($S15,Reliability!$C$23:$C$50,0)),0),0)*IF($T15=\"n/a\",$D15*$Y15,$G15)+IFERROR(IF(AND($V15<=AH$1,$W15>=AH$1),INDEX(Reliability!M$23:M$50,MATCH($T15,Reliability!$C$23:$C$50,0)),0),0)*$H15*$X15*$Y15),$D15)*$R15","v":5.57376},{"$f":"MIN((IFERROR(IF(AND($V15<=AI$1,$W15>=AI$1),INDEX(Reliability!N$23:N$50,MATCH($S15,Reliability!$C$23:$C$50,0)),0),0)*IF($T15=\"n/a\",$D15*$Y15,$G15)+IFERROR(IF(AND($V15<=AI$1,$W15>=AI$1),INDEX(Reliability!N$23:N$50,MATCH($T15,Reliability!$C$23:$C$50,0)),0),0)*$H15*$X15*$Y15),$D15)*$R15","v":5.0326400000000007},{"$f":"MIN((IFERROR(IF(AND($V15<=AJ$1,$W15>=AJ$1),INDEX(Reliability!O$23:O$50,MATCH($S15,Reliability!$C$23:$C$50,0)),0),0)*IF($T15=\"n/a\",$D15*$Y15,$G15)+IFERROR(IF(AND($V15<=AJ$1,$W15>=AJ$1),INDEX(Reliability!O$23:O$50,MATCH($T15,Reliability!$C$23:$C$50,0)),0),0)*$H15*$X15*$Y15),$D15)*$R15","v":4.4915200000000013},{"$f":"MIN((IFERROR(IF(AND($V15<=AK$1,$W15>=AK$1),INDEX(Reliability!P$23:P$50,MATCH($S15,Reliability!$C$23:$C$50,0)),0),0)*IF($T15=\"n/a\",$D15*$Y15,$G15)+IFERROR(IF(AND($V15<=AK$1,$W15>=AK$1),INDEX(Reliability!P$23:P$50,MATCH($T15,Reliability!$C$23:$C$50,0)),0),0)*$H15*$X15*$Y15),$D15)*$R15","v":3.9504000000000001}]
[null,{"$f":"unique_contracts!B16","v":"SUTTERENERGYCC_TOTAL"},{"$f":"unique_contracts!D16","v":"Online"},{"$f":"unique_contracts!J16","v":6.8},{"$f":"unique_contracts!M16","v":0},{"$f":"unique_contracts!N16","v":0},{"$f":"unique_contracts!P16","v":0},{"$f":"unique_contracts!R16","v":0},{"$f":"unique_contracts!V16","v":0},null,{"$f":"unique_contracts!AM16","v":2021},{"$f":"unique_contracts!AN16","v":1},{"$f":"unique_contracts!AO16","v":1},{"$f":"unique_contracts!AP16","v":2023},{"$f":"unique_contracts!AQ16","v":12},{"$f":"unique_contracts!AR16","v":31},{"$f":"unique_contracts!BP16","v":"CapacityOnly"},1,{"$f":"IFERROR(IF(AND(I16>0,E16=\"NotHybrid\"),_xlfn.CONCAT(MAX(MIN(ROUNDDOWN(I16/D16,0),8),4),INDEX(resources!$G:$G,MATCH(B16,resources!$A:$A,0))),INDEX(resources!$G:$G,MATCH(B16,resources!$A:$A,0))),\"n/a\")","v":"gas_cc"},"n/a","gas_cc",2021,2023,1,1,{"$f":"MIN((IFERROR(IF(AND($V16<=Z$1,$W16>=Z$1),INDEX(Reliability!E$23:E$50,MATCH($S16,Reliability!$C$23:$C$50,0)),0),0)*IF($T16=\"n/a\",$D16*$Y16,$G16)+IFERROR(IF(AND($V16<=Z$1,$W16>=Z$1),INDEX(Reliability!E$23:E$50,MATCH($T16,Reliability!$C$23:$C$50,0)),0),0)*$H16*$X16*$Y16),$D16)*$R16","v":0},{"$f":"MIN((IFERROR(IF(AND($V16<=AA$1,$W16>=AA$1),INDEX(Reliability!F$23:F$50,MATCH($S16,Reliability!$C$23:$C$50,0)),0),0)*IF($T16=\"n/a\",$D16*$Y16,$G16)+IFERROR(IF(AND($V16<=AA$1,$W16>=AA$1),INDEX(Reliability!F$23:F$50,MATCH($T16,Reliability!$C$23:$C$50,0)),0),0)*$H16*$X16*$Y16),$D16)*$R16","v":0},{"$f":"MIN((IFERROR(IF(AND($V16<=AB$1,$W16>=AB$1),INDEX(Reliability!G$23:G$50,MATCH($S16,Reliability!$C$23:$C$50,0)),0),0)*IF($T16=\"n/a\",$D16*$Y16,$G16)+IFERROR(IF(AND($V16<=AB$1,$W16>=AB$1),INDEX(Reliability!G$23:G$50,MATCH($T16,Reliability!$C$23:$C$50,0)),0),0)*$H16*$X16*$Y16),$D16)*$R16","v":0},{"$f":"MIN((IFERROR(IF(AND($V16<=AC$1,$W16>=AC$1),INDEX(Reliability!H$23:H$50,MATCH($S16,Reliability!$C$23:$C$50,0)),0),0)*IF($T16=\"n/a\",$D16*$Y16,$G16)+IFERROR(IF(AND($V16<=AC$1,$W16>=AC$1),INDEX(Reliability!H$23:H$50,MATCH($T16,Reliability!$C$23:$C$50,0)),0),0)*$H16*$X16*$Y16),$D16)*$R16","v":0},{"$f":"MIN((IFERROR(IF(AND($V16<=AD$1,$W16>=AD$1),INDEX(Reliability!I$23:I$50,MATCH($S16,Reliability!$C$23:$C$50,0)),0),0)*IF($T16=\"n/a\",$D16*$Y16,$G16)+IFERROR(IF(AND($V16<=AD$1,$W16>=AD$1),INDEX(Reliability!I$23:I$50,MATCH($T16,Reliability!$C$23:$C$50,0)),0),0)*$H16*$X16*$Y16),$D16)*$R16","v":0},{"$f":"MIN((IFERROR(IF(AND($V16<=AE$1,$W16>=AE$1),INDEX(Reliability!J$23:J$50,MATCH($S16,Reliability!$C$23:$C$50,0)),0),0)*IF($T16=\"n/a\",$D16*$Y16,$G16)+IFERROR(IF(AND($V16<=AE$1,$W16>=AE$1),INDEX(Reliability!J$23:J$50,MATCH($T16,Reliability!$C$23:$C$50,0)),0),0)*$H16*$X16*$Y16),$D16)*$R16","v":0},{"$f":"MIN((IFERROR(IF(AND($V16<=AF$1,$W16>=AF$1),INDEX(Reliability!K$23:K$50,MATCH($S16,Reliability!$C$23:$C$50,0)),0),0)*IF($T16=\"n/a\",$D16*$Y16,$G16)+IFERROR(IF(AND($V16<=AF$1,$W16>=AF$1),INDEX(Reliability!K$23:K$50,MATCH($T16,Reliability!$C$23:$C$50,0)),0),0)*$H16*$X16*$Y16),$D16)*$R16","v":0},{"$f":"MIN((IFERROR(IF(AND($V16<=AG$1,$W16>=AG$1),INDEX(Reliability!L$23:L$50,MATCH($S16,Reliability!$C$23:$C$50,0)),0),0)*IF($T16=\"n/a\",$D16*$Y16,$G16)+IFERROR(IF(AND($V16<=AG$1,$W16>=AG$1),INDEX(Reliability!L$23:L$50,MATCH($T16,Reliability!$C$23:$C$50,0)),0),0)*$H16*$X16*$Y16),$D16)*$R16","v":0},{"$f":"MIN((IFERROR(IF(AND($V16<=AH$1,$W16>=AH$1),INDEX(Reliability!M$23:M$50,MATCH($S16,Reliability!$C$23:$C$50,0)),0),0)*IF($T16=\"n/a\",$D16*$Y16,$G16)+IFERROR(IF(AND($V16<=AH$1,$W16>=AH$1),INDEX(Reliability!M$23:M$50,MATCH($T16,Reliability!$C$23:$C$50,0)),0),0)*$H16*$X16*$Y16),$D16)*$R16","v":0},{"$f":"MIN((IFERROR(IF(AND($V16<=AI$1,$W16>=AI$1),INDEX(Reliability!N$23:N$50,MATCH($S16,Reliability!$C$23:$C$50,0)),0),0)*IF($T16=\"n/a\",$D16*$Y16,$G16)+IFERROR(IF(AND($V16<=AI$1,$W16>=AI$1),INDEX(Reliability!N$23:N$50,MATCH($T16,Reliability!$C$23:$C$50,0)),0),0)*$H16*$X16*$Y16),$D16)*$R16","v":0},{"$f":"MIN((IFERROR(IF(AND($V16<=AJ$1,$W16>=AJ$1),INDEX(Reliability!O$23:O$50,MATCH($S16,Reliability!$C$23:$C$50,0)),0),0)*IF($T16=\"n/a\",$D16*$Y16,$G16)+IFERROR(IF(AND($V16<=AJ$1,$W16>=AJ$1),INDEX(Reliability!O$23:O$50,MATCH($T16,Reliability!$C$23:$C$50,0)),0),0)*$H16*$X16*$Y16),$D16)*$R16","v":0},{"$f":"MIN((IFERROR(IF(AND($V16<=AK$1,$W16>=AK$1),INDEX(Reliability!P$23:P$50,MATCH($S16,Reliability!$C$23:$C$50,0)),0),0)*IF($T16=\"n/a\",$D16*$Y16,$G16)+IFERROR(IF(AND($V16<=AK$1,$W16>=AK$1),INDEX(Reliability!P$23:P$50,MATCH($T16,Reliability!$C$23:$C$50,0)),0),0)*$H16*$X16*$Y16),$D16)*$R16","v":0}]
[null,{"$f":"unique_contracts!B17","v":"SUTTERENERGYCC_TOTAL"},{"$f":"unique_contracts!D17","v":"Online"},{"$f":"unique_contracts!J17","v":0.5},{"$f":"unique_contracts!M17","v":0},{"$f":"unique_contracts!N17","v":0},{"$f":"unique_contracts!P17","v":0},{"$f":"unique_contracts!R17","v":0},{"$f":"unique_contracts!V17","v":0},null,{"$f":"unique_contracts!AM17","v":2022},{"$f":"unique_contracts!AN17","v":1},{"$f":"unique_contracts!AO17","v":1},{"$f":"unique_contracts!AP17","v":2023},{"$f":"unique_contracts!AQ17","v":12},{"$f":"unique_contracts!AR17","v":31},{"$f":"unique_contracts!BP17","v":"CapacityOnly"},1,{"$f":"IFERROR(IF(AND(I17>0,E17=\"NotHybrid\"),_xlfn.CONCAT(MAX(MIN(ROUNDDOWN(I17/D17,0),8),4),INDEX(resources!$G:$G,MATCH(B17,resources!$A:$A,0))),INDEX(resources!$G:$G,MATCH(B17,resources!$A:$A,0))),\"n/a\")","v":"gas_cc"},"n/a","gas_cc",2022,2023,1,1,{"$f":"MIN((IFERROR(IF(AND($V17<=Z$1,$W17>=Z$1),INDEX(Reliability!E$23:E$50,MATCH($S17,Reliability!$C$23:$C$50,0)),0),0)*IF($T17=\"n/a\",$D17*$Y17,$G17)+IFERROR(IF(AND($V17<=Z$1,$W17>=Z$1),INDEX(Reliability!E$23:E$50,MATCH($T17,Reliability!$C$23:$C$50,0)),0),0)*$H17*$X17*$Y17),$D17)*$R17","v":0},{"$f":"MIN((IFERROR(IF(AND($V17<=AA$1,$W17>=AA$1),INDEX(Reliability!F$23:F$50,MATCH($S17,Reliability!$C$23:$C$50,0)),0),0)*IF($T17=\"n/a\",$D17*$Y17,$G17)+IFERROR(IF(AND($V17<=AA$1,$W17>=AA$1),INDEX(Reliability!F$23:F$50,MATCH($T17,Reliability!$C$23:$C$50,0)),0),0)*$H17*$X17*$Y17),$D17)*$R17","v":0},{"$f":"MIN((IFERROR(IF(AND($V17<=AB$1,$W17>=AB$1),INDEX(Reliability!G$23:G$50,MATCH($S17,Reliability!$C$23:$C$50,0)),0),0)*IF($T17=\"n/a\",$D17*$Y17,$G17)+IFERROR(IF(AND($V17<=AB$1,$W17>=AB$1),INDEX(Reliability!G$23:G$50,MATCH($T17,Reliability!$C$23:$C$50,0)),0),0)*$H17*$X17*$Y17),$D17)*$R17","v":0},{"$f":"MIN((IFERROR(IF(AND($V17<=AC$1,$W17>=AC$1),INDEX(Reliability!H$23:H$50,MATCH($S17,Reliability!$C$23:$C$50,0)),0),0)*IF($T17=\"n/a\",$D17*$Y17,$G17)+IFERROR(IF(AND($V17<=AC$1,$W17>=AC$1),INDEX(Reliability!H$23:H$50,MATCH($T17,Reliability!$C$23:$C$50,0)),0),0)*$H17*$X17*$Y17),$D17)*$R17","v":0},{"$f":"MIN((IFERROR(IF(AND($V17<=AD$1,$W17>=AD$1),INDEX(Reliability!I$23:I$50,MATCH($S17,Reliability!$C$23:$C$50,0)),0),0)*IF($T17=\"n/a\",$D17*$Y17,$G17)+IFERROR(IF(AND($V17<=AD$1,$W17>=AD$1),INDEX(Reliability!I$23:I$50,MATCH($T17,Reliability!$C$23:$C$50,0)),0),0)*$H17*$X17*$Y17),$D17)*$R17","v":0},{"$f":"MIN((IFERROR(IF(AND($V17<=AE$1,$W17>=AE$1),INDEX(Reliability!J$23:J$50,MATCH($S17,Reliability!$C$23:$C$50,0)),0),0)*IF($T17=\"n/a\",$D17*$Y17,$G17)+IFERROR(IF(AND($V17<=AE$1,$W17>=AE$1),INDEX(Reliability!J$23:J$50,MATCH($T17,Reliability!$C$23:$C$50,0)),0),0)*$H17*$X17*$Y17),$D17)*$R17","v":0},{"$f":"MIN((IFERROR(IF(AND($V17<=AF$1,$W17>=AF$1),INDEX(Reliability!K$23:K$50,MATCH($S17,Reliability!$C$23:$C$50,0)),0),0)*IF($T17=\"n/a\",$D17*$Y17,$G17)+IFERROR(IF(AND($V17<=AF$1,$W17>=AF$1),INDEX(Reliability!K$23:K$50,MATCH($T17,Reliability!$C$23:$C$50,0)),0),0)*$H17*$X17*$Y17),$D17)*$R17","v":0},{"$f":"MIN((IFERROR(IF(AND($V17<=AG$1,$W17>=AG$1),INDEX(Reliability!L$23:L$50,MATCH($S17,Reliability!$C$23:$C$50,0)),0),0)*IF($T17=\"n/a\",$D17*$Y17,$G17)+IFERROR(IF(AND($V17<=AG$1,$W17>=AG$1),INDEX(Reliability!L$23:L$50,MATCH($T17,Reliability!$C$23:$C$50,0)),0),0)*$H17*$X17*$Y17),$D17)*$R17","v":0},{"$f":"MIN((IFERROR(IF(AND($V17<=AH$1,$W17>=AH$1),INDEX(Reliability!M$23:M$50,MATCH($S17,Reliability!$C$23:$C$50,0)),0),0)*IF($T17=\"n/a\",$D17*$Y17,$G17)+IFERROR(IF(AND($V17<=AH$1,$W17>=AH$1),INDEX(Reliability!M$23:M$50,MATCH($T17,Reliability!$C$23:$C$50,0)),0),0)*$H17*$X17*$Y17),$D17)*$R17","v":0},{"$f":"MIN((IFERROR(IF(AND($V17<=AI$1,$W17>=AI$1),INDEX(Reliability!N$23:N$50,MATCH($S17,Reliability!$C$23:$C$50,0)),0),0)*IF($T17=\"n/a\",$D17*$Y17,$G17)+IFERROR(IF(AND($V17<=AI$1,$W17>=AI$1),INDEX(Reliability!N$23:N$50,MATCH($T17,Reliability!$C$23:$C$50,0)),0),0)*$H17*$X17*$Y17),$D17)*$R17","v":0},{"$f":"MIN((IFERROR(IF(AND($V17<=AJ$1,$W17>=AJ$1),INDEX(Reliability!O$23:O$50,MATCH($S17,Reliability!$C$23:$C$50,0)),0),0)*IF($T17=\"n/a\",$D17*$Y17,$G17)+IFERROR(IF(AND($V17<=AJ$1,$W17>=AJ$1),INDEX(Reliability!O$23:O$50,MATCH($T17,Reliability!$C$23:$C$50,0)),0),0)*$H17*$X17*$Y17),$D17)*$R17","v":0},{"$f":"MIN((IFERROR(IF(AND($V17<=AK$1,$W17>=AK$1),INDEX(Reliability!P$23:P$50,MATCH($S17,Reliability!$C$23:$C$50,0)),0),0)*IF($T17=\"n/a\",$D17*$Y17,$G17)+IFERROR(IF(AND($V17<=AK$1,$W17>=AK$1),INDEX(Reliability!P$23:P$50,MATCH($T17,Reliability!$C$23:$C$50,0)),0),0)*$H17*$X17*$Y17),$D17)*$R17","v":0}]
[null,{"$f":"unique_contracts!B18","v":"_EXISTING_GENERIC_GEOTHERMAL"},{"$f":"unique_contracts!D18","v":"Online"},{"$f":"unique_contracts!J18","v":50},{"$f":"unique_contracts!M18","v":0},{"$f":"unique_contracts!N18","v":0},{"$f":"unique_contracts!P18","v":0},{"$f":"unique_contracts!R18","v":0},{"$f":"unique_contracts!V18","v":0},null,{"$f":"unique_contracts!AM18","v":2017},{"$f":"unique_contracts!AN18","v":1},{"$f":"unique_contracts!AO18","v":1},{"$f":"unique_contracts!AP18","v":2026},{"$f":"unique_contracts!AQ18","v":12},{"$f":"unique_contracts!AR18","v":31},{"$f":"unique_contracts!BP18","v":"EnergyCapacity"},1,{"$f":"IFERROR(IF(AND(I18>0,E18=\"NotHybrid\"),_xlfn.CONCAT(MAX(MIN(ROUNDDOWN(I18/D18,0),8),4),INDEX(resources!$G:$G,MATCH(B18,resources!$A:$A,0))),INDEX(resources!$G:$G,MATCH(B18,resources!$A:$A,0))),\"n/a\")","v":"geothermal"},"n/a","geothermal",2017,2026,1,1,{"$f":"MIN((IFERROR(IF(AND($V18<=Z$1,$W18>=Z$1),INDEX(Reliability!E$23:E$50,MATCH($S18,Reliability!$C$23:$C$50,0)),0),0)*IF($T18=\"n/a\",$D18*$Y18,$G18)+IFERROR(IF(AND($V18<=Z$1,$W18>=Z$1),INDEX(Reliability!E$23:E$50,MATCH($T18,Reliability!$C$23:$C$50,0)),0),0)*$H18*$X18*$Y18),$D18)*$R18","v":43.200182787946275},{"$f":"MIN((IFERROR(IF(AND($V18<=AA$1,$W18>=AA$1),INDEX(Reliability!F$23:F$50,MATCH($S18,Reliability!$C$23:$C$50,0)),0),0)*IF($T18=\"n/a\",$D18*$Y18,$G18)+IFERROR(IF(AND($V18<=AA$1,$W18>=AA$1),INDEX(Reliability!F$23:F$50,MATCH($T18,Reliability!$C$23:$C$50,0)),0),0)*$H18*$X18*$Y18),$D18)*$R18","v":43.913102089656178},{"$f":"MIN((IFERROR(IF(AND($V18<=AB$1,$W18>=AB$1),INDEX(Reliability!G$23:G$50,MATCH($S18,Reliability!$C$23:$C$50,0)),0),0)*IF($T18=\"n/a\",$D18*$Y18,$G18)+IFERROR(IF(AND($V18<=AB$1,$W18>=AB$1),INDEX(Reliability!G$23:G$50,MATCH($T18,Reliability!$C$23:$C$50,0)),0),0)*$H18*$X18*$Y18),$D18)*$R18","v":44.626021391366081},{"$f":"MIN((IFERROR(IF(AND($V18<=AC$1,$W18>=AC$1),INDEX(Reliability!H$23:H$50,MATCH($S18,Reliability!$C$23:$C$50,0)),0),0)*IF($T18=\"n/a\",$D18*$Y18,$G18)+IFERROR(IF(AND($V18<=AC$1,$W18>=AC$1),INDEX(Reliability!H$23:H$50,MATCH($T18,Reliability!$C$23:$C$50,0)),0),0)*$H18*$X18*$Y18),$D18)*$R18","v":0},{"$f":"MIN((IFERROR(IF(AND($V18<=AD$1,$W18>=AD$1),INDEX(Reliability!I$23:I$50,MATCH($S18,Reliability!$C$23:$C$50,0)),0),0)*IF($T18=\"n/a\",$D18*$Y18,$G18)+IFERROR(IF(AND($V18<=AD$1,$W18>=AD$1),INDEX(Reliability!I$23:I$50,MATCH($T18,Reliability!$C$23:$C$50,0)),0),0)*$H18*$X18*$Y18),$D18)*$R18","v":0},{"$f":"MIN((IFERROR(IF(AND($V18<=AE$1,$W18>=AE$1),INDEX(Reliability!J$23:J$50,MATCH($S18,Reliability!$C$23:$C$50,0)),0),0)*IF($T18=\"n/a\",$D18*$Y18,$G18)+IFERROR(IF(AND($V18<=AE$1,$W18>=AE$1),INDEX(Reliability!J$23:J$50,MATCH($T18,Reliability!$C$23:$C$50,0)),0),0)*$H18*$X18*$Y18),$D18)*$R18","v":0},{"$f":"MIN((IFERROR(IF(AND($V18<=AF$1,$W18>=AF$1),INDEX(Reliability!K$23:K$50,MATCH($S18,Reliability!$C$23:$C$50,0)),0),0)*IF($T18=\"n/a\",$D18*$Y18,$G18)+IFERROR(IF(AND($V18<=AF$1,$W18>=AF$1),INDEX(Reliability!K$23:K$50,MATCH($T18,Reliability!$C$23:$C$50,0)),0),0)*$H18*$X18*$Y18),$D18)*$R18","v":0},{"$f":"MIN((IFERROR(IF(AND($V18<=AG$1,$W18>=AG$1),INDEX(Reliability!L$23:L$50,MATCH($S18,Reliability!$C$23:$C$50,0)),0),0)*IF($T18=\"n/a\",$D18*$Y18,$G18)+IFERROR(IF(AND($V18<=AG$1,$W18>=AG$1),INDEX(Reliability!L$23:L$50,MATCH($T18,Reliability!$C$23:$C$50,0)),0),0)*$H18*$X18*$Y18),$D18)*$R18","v":0},{"$f":"MIN((IFERROR(IF(AND($V18<=AH$1,$W18>=AH$1),INDEX(Reliability!M$23:M$50,MATCH($S18,Reliability!$C$23:$C$50,0)),0),0)*IF($T18=\"n/a\",$D18*$Y18,$G18)+IFERROR(IF(AND($V18<=AH$1,$W18>=AH$1),INDEX(Reliability!M$23:M$50,MATCH($T18,Reliability!$C$23:$C$50,0)),0),0)*$H18*$X18*$Y18),$D18)*$R18","v":0},{"$f":"MIN((IFERROR(IF(AND($V18<=AI$1,$W18>=AI$1),INDEX(Reliability!N$23:N$50,MATCH($S18,Reliability!$C$23:$C$50,0)),0),0)*IF($T18=\"n/a\",$D18*$Y18,$G18)+IFERROR(IF(AND($V18<=AI$1,$W18>=AI$1),INDEX(Reliability!N$23:N$50,MATCH($T18,Reliability!$C$23:$C$50,0)),0),0)*$H18*$X18*$Y18),$D18)*$R18","v":0},{"$f":"MIN((IFERROR(IF(AND($V18<=AJ$1,$W18>=AJ$1),INDEX(Reliability!O$23:O$50,MATCH($S18,Reliability!$C$23:$C$50,0)),0),0)*IF($T18=\"n/a\",$D18*$Y18,$G18)+IFERROR(IF(AND($V18<=AJ$1,$W18>=AJ$1),INDEX(Reliability!O$23:O$50,MATCH($T18,Reliability!$C$23:$C$50,0)),0),0)*$H18*$X18*$Y18),$D18)*$R18","v":0},{"$f":"MIN((IFERROR(IF(AND($V18<=AK$1,$W18>=AK$1),INDEX(Reliability!P$23:P$50,MATCH($S18,Reliability!$C$23:$C$50,0)),0),0)*IF($T18=\"n/a\",$D18*$Y18,$G18)+IFERROR(IF(AND($V18<=AK$1,$W18>=AK$1),INDEX(Reliability!P$23:P$50,MATCH($T18,Reliability!$C$23:$C$50,0)),0),0)*$H18*$X18*$Y18),$D18)*$R18","v":0}]
[null,{"$f":"unique_contracts!B19","v":"_EXISTING_GENERIC_SOLAR_FIXED"},{"$f":"unique_contracts!D19","v":"Online"},{"$f":"unique_contracts!J19","v":1},{"$f":"unique_contracts!M19","v":0},{"$f":"unique_contracts!N19","v":0},{"$f":"unique_contracts!P19","v":0},{"$f":"unique_contracts!R19","v":0},{"$f":"unique_contracts!V19","v":0},null,{"$f":"unique_contracts!AM19","v":2018},{"$f":"unique_contracts!AN19","v":4},{"$f":"unique_contracts!AO19","v":20},{"$f":"unique_contracts!AP19","v":2038},{"$f":"unique_contracts!AQ19","v":4},{"$f":"unique_contracts!AR19","v":19},{"$f":"unique_contracts!BP19","v":"EnergyOnly"},0,{"$f":"IFERROR(IF(AND(I19>0,E19=\"NotHybrid\"),_xlfn.CONCAT(MAX(MIN(ROUNDDOWN(I19/D19,0),8),4),INDEX(resources!$G:$G,MATCH(B19,resources!$A:$A,0))),INDEX(resources!$G:$G,MATCH(B19,resources!$A:$A,0))),\"n/a\")","v":"utility_pv"},"n/a","utility_pv",2018,2037,1,1,{"$f":"MIN((IFERROR(IF(AND($V19<=Z$1,$W19>=Z$1),INDEX(Reliability!E$23:E$50,MATCH($S19,Reliability!$C$23:$C$50,0)),0),0)*IF($T19=\"n/a\",$D19*$Y19,$G19)+IFERROR(IF(AND($V19<=Z$1,$W19>=Z$1),INDEX(Reliability!E$23:E$50,MATCH($T19,Reliability!$C$23:$C$50,0)),0),0)*$H19*$X19*$Y19),$D19)*$R19","v":0},{"$f":"MIN((IFERROR(IF(AND($V19<=AA$1,$W19>=AA$1),INDEX(Reliability!F$23:F$50,MATCH($S19,Reliability!$C$23:$C$50,0)),0),0)*IF($T19=\"n/a\",$D19*$Y19,$G19)+IFERROR(IF(AND($V19<=AA$1,$W19>=AA$1),INDEX(Reliability!F$23:F$50,MATCH($T19,Reliability!$C$23:$C$50,0)),0),0)*$H19*$X19*$Y19),$D19)*$R19","v":0},{"$f":"MIN((IFERROR(IF(AND($V19<=AB$1,$W19>=AB$1),INDEX(Reliability!G$23:G$50,MATCH($S19,Reliability!$C$23:$C$50,0)),0),0)*IF($T19=\"n/a\",$D19*$Y19,$G19)+IFERROR(IF(AND($V19<=AB$1,$W19>=AB$1),INDEX(Reliability!G$23:G$50,MATCH($T19,Reliability!$C$23:$C$50,0)),0),0)*$H19*$X19*$Y19),$D19)*$R19","v":0},{"$f":"MIN((IFERROR(IF(AND($V19<=AC$1,$W19>=AC$1),INDEX(Reliability!H$23:H$50,MATCH($S19,Reliability!$C$23:$C$50,0)),0),0)*IF($T19=\"n/a\",$D19*$Y19,$G19)+IFERROR(IF(AND($V19<=AC$1,$W19>=AC$1),INDEX(Reliability!H$23:H$50,MATCH($T19,Reliability!$C$23:$C$50,0)),0),0)*$H19*$X19*$Y19),$D19)*$R19","v":0},{"$f":"MIN((IFERROR(IF(AND($V19<=AD$1,$W19>=AD$1),INDEX(Reliability!I$23:I$50,MATCH($S19,Reliability!$C$23:$C$50,0)),0),0)*IF($T19=\"n/a\",$D19*$Y19,$G19)+IFERROR(IF(AND($V19<=AD$1,$W19>=AD$1),INDEX(Reliability!I$23:I$50,MATCH($T19,Reliability!$C$23:$C$50,0)),0),0)*$H19*$X19*$Y19),$D19)*$R19","v":0},{"$f":"MIN((IFERROR(IF(AND($V19<=AE$1,$W19>=AE$1),INDEX(Reliability!J$23:J$50,MATCH($S19,Reliability!$C$23:$C$50,0)),0),0)*IF($T19=\"n/a\",$D19*$Y19,$G19)+IFERROR(IF(AND($V19<=AE$1,$W19>=AE$1),INDEX(Reliability!J$23:J$50,MATCH($T19,Reliability!$C$23:$C$50,0)),0),0)*$H19*$X19*$Y19),$D19)*$R19","v":0},{"$f":"MIN((IFERROR(IF(AND($V19<=AF$1,$W19>=AF$1),INDEX(Reliability!K$23:K$50,MATCH($S19,Reliability!$C$23:$C$50,0)),0),0)*IF($T19=\"n/a\",$D19*$Y19,$G19)+IFERROR(IF(AND($V19<=AF$1,$W19>=AF$1),INDEX(Reliability!K$23:K$50,MATCH($T19,Reliability!$C$23:$C$50,0)),0),0)*$H19*$X19*$Y19),$D19)*$R19","v":0},{"$f":"MIN((IFERROR(IF(AND($V19<=AG$1,$W19>=AG$1),INDEX(Reliability!L$23:L$50,MATCH($S19,Reliability!$C$23:$C$50,0)),0),0)*IF($T19=\"n/a\",$D19*$Y19,$G19)+IFERROR(IF(AND($V19<=AG$1,$W19>=AG$1),INDEX(Reliability!L$23:L$50,MATCH($T19,Reliability!$C$23:$C$50,0)),0),0)*$H19*$X19*$Y19),$D19)*$R19","v":0},{"$f":"MIN((IFERROR(IF(AND($V19<=AH$1,$W19>=AH$1),INDEX(Reliability!M$23:M$50,MATCH($S19,Reliability!$C$23:$C$50,0)),0),0)*IF($T19=\"n/a\",$D19*$Y19,$G19)+IFERROR(IF(AND($V19<=AH$1,$W19>=AH$1),INDEX(Reliability!M$23:M$50,MATCH($T19,Reliability!$C$23:$C$50,0)),0),0)*$H19*$X19*$Y19),$D19)*$R19","v":0},{"$f":"MIN((IFERROR(IF(AND($V19<=AI$1,$W19>=AI$1),INDEX(Reliability!N$23:N$50,MATCH($S19,Reliability!$C$23:$C$50,0)),0),0)*IF($T19=\"n/a\",$D19*$Y19,$G19)+IFERROR(IF(AND($V19<=AI$1,$W19>=AI$1),INDEX(Reliability!N$23:N$50,MATCH($T19,Reliability!$C$23:$C$50,0)),0),0)*$H19*$X19*$Y19),$D19)*$R19","v":0},{"$f":"MIN((IFERROR(IF(AND($V19<=AJ$1,$W19>=AJ$1),INDEX(Reliability!O$23:O$50,MATCH($S19,Reliability!$C$23:$C$50,0)),0),0)*IF($T19=\"n/a\",$D19*$Y19,$G19)+IFERROR(IF(AND($V19<=AJ$1,$W19>=AJ$1),INDEX(Reliability!O$23:O$50,MATCH($T19,Reliability!$C$23:$C$50,0)),0),0)*$H19*$X19*$Y19),$D19)*$R19","v":0},{"$f":"MIN((IFERROR(IF(AND($V19<=AK$1,$W19>=AK$1),INDEX(Reliability!P$23:P$50,MATCH($S19,Reliability!$C$23:$C$50,0)),0),0)*IF($T19=\"n/a\",$D19*$Y19,$G19)+IFERROR(IF(AND($V19<=AK$1,$W19>=AK$1),INDEX(Reliability!P$23:P$50,MATCH($T19,Reliability!$C$23:$C$50,0)),0),0)*$H19*$X19*$Y19),$D19)*$R19","v":0}]
[null,{"$f":"unique_contracts!B20","v":"_EXISTING_GENERIC_SOLAR_FIXED"},{"$f":"unique_contracts!D20","v":"Online"},{"$f":"unique_contracts!J20","v":1},{"$f":"unique_contracts!M20","v":0},{"$f":"unique_contracts!N20","v":0},{"$f":"unique_contracts!P20","v":0},{"$f":"unique_contracts!R20","v":0},{"$f":"unique_contracts!V20","v":0},null,{"$f":"unique_contracts!AM20","v":2018},{"$f":"unique_contracts!AN20","v":4},{"$f":"unique_contracts!AO20","v":24},{"$f":"unique_contracts!AP20","v":2038},{"$f":"unique_contracts!AQ20","v":4},{"$f":"unique_contracts!AR20","v":23},{"$f":"unique_contracts!BP20","v":"EnergyOnly"},0,{"$f":"IFERROR(IF(AND(I20>0,E20=\"NotHybrid\"),_xlfn.CONCAT(MAX(MIN(ROUNDDOWN(I20/D20,0),8),4),INDEX(resources!$G:$G,MATCH(B20,resources!$A:$A,0))),INDEX(resources!$G:$G,MATCH(B20,resources!$A:$A,0))),\"n/a\")","v":"utility_pv"},"n/a","utility_pv",2018,2037,1,1,{"$f":"MIN((IFERROR(IF(AND($V20<=Z$1,$W20>=Z$1),INDEX(Reliability!E$23:E$50,MATCH($S20,Reliability!$C$23:$C$50,0)),0),0)*IF($T20=\"n/a\",$D20*$Y20,$G20)+IFERROR(IF(AND($V20<=Z$1,$W20>=Z$1),INDEX(Reliability!E$23:E$50,MATCH($T20,Reliability!$C$23:$C$50,0)),0),0)*$H20*$X20*$Y20),$D20)*$R20","v":0},{"$f":"MIN((IFERROR(IF(AND($V20<=AA$1,$W20>=AA$1),INDEX(Reliability!F$23:F$50,MATCH($S20,Reliability!$C$23:$C$50,0)),0),0)*IF($T20=\"n/a\",$D20*$Y20,$G20)+IFERROR(IF(AND($V20<=AA$1,$W20>=AA$1),INDEX(Reliability!F$23:F$50,MATCH($T20,Reliability!$C$23:$C$50,0)),0),0)*$H20*$X20*$Y20),$D20)*$R20","v":0},{"$f":"MIN((IFERROR(IF(AND($V20<=AB$1,$W20>=AB$1),INDEX(Reliability!G$23:G$50,MATCH($S20,Reliability!$C$23:$C$50,0)),0),0)*IF($T20=\"n/a\",$D20*$Y20,$G20)+IFERROR(IF(AND($V20<=AB$1,$W20>=AB$1),INDEX(Reliability!G$23:G$50,MATCH($T20,Reliability!$C$23:$C$50,0)),0),0)*$H20*$X20*$Y20),$D20)*$R20","v":0},{"$f":"MIN((IFERROR(IF(AND($V20<=AC$1,$W20>=AC$1),INDEX(Reliability!H$23:H$50,MATCH($S20,Reliability!$C$23:$C$50,0)),0),0)*IF($T20=\"n/a\",$D20*$Y20,$G20)+IFERROR(IF(AND($V20<=AC$1,$W20>=AC$1),INDEX(Reliability!H$23:H$50,MATCH($T20,Reliability!$C$23:$C$50,0)),0),0)*$H20*$X20*$Y20),$D20)*$R20","v":0},{"$f":"MIN((IFERROR(IF(AND($V20<=AD$1,$W20>=AD$1),INDEX(Reliability!I$23:I$50,MATCH($S20,Reliability!$C$23:$C$50,0)),0),0)*IF($T20=\"n/a\",$D20*$Y20,$G20)+IFERROR(IF(AND($V20<=AD$1,$W20>=AD$1),INDEX(Reliability!I$23:I$50,MATCH($T20,Reliability!$C$23:$C$50,0)),0),0)*$H20*$X20*$Y20),$D20)*$R20","v":0},{"$f":"MIN((IFERROR(IF(AND($V20<=AE$1,$W20>=AE$1),INDEX(Reliability!J$23:J$50,MATCH($S20,Reliability!$C$23:$C$50,0)),0),0)*IF($T20=\"n/a\",$D20*$Y20,$G20)+IFERROR(IF(AND($V20<=AE$1,$W20>=AE$1),INDEX(Reliability!J$23:J$50,MATCH($T20,Reliability!$C$23:$C$50,0)),0),0)*$H20*$X20*$Y20),$D20)*$R20","v":0},{"$f":"MIN((IFERROR(IF(AND($V20<=AF$1,$W20>=AF$1),INDEX(Reliability!K$23:K$50,MATCH($S20,Reliability!$C$23:$C$50,0)),0),0)*IF($T20=\"n/a\",$D20*$Y20,$G20)+IFERROR(IF(AND($V20<=AF$1,$W20>=AF$1),INDEX(Reliability!K$23:K$50,MATCH($T20,Reliability!$C$23:$C$50,0)),0),0)*$H20*$X20*$Y20),$D20)*$R20","v":0},{"$f":"MIN((IFERROR(IF(AND($V20<=AG$1,$W20>=AG$1),INDEX(Reliability!L$23:L$50,MATCH($S20,Reliability!$C$23:$C$50,0)),0),0)*IF($T20=\"n/a\",$D20*$Y20,$G20)+IFERROR(IF(AND($V20<=AG$1,$W20>=AG$1),INDEX(Reliability!L$23:L$50,MATCH($T20,Reliability!$C$23:$C$50,0)),0),0)*$H20*$X20*$Y20),$D20)*$R20","v":0},{"$f":"MIN((IFERROR(IF(AND($V20<=AH$1,$W20>=AH$1),INDEX(Reliability!M$23:M$50,MATCH($S20,Reliability!$C$23:$C$50,0)),0),0)*IF($T20=\"n/a\",$D20*$Y20,$G20)+IFERROR(IF(AND($V20<=AH$1,$W20>=AH$1),INDEX(Reliability!M$23:M$50,MATCH($T20,Reliability!$C$23:$C$50,0)),0),0)*$H20*$X20*$Y20),$D20)*$R20","v":0},{"$f":"MIN((IFERROR(IF(AND($V20<=AI$1,$W20>=AI$1),INDEX(Reliability!N$23:N$50,MATCH($S20,Reliability!$C$23:$C$50,0)),0),0)*IF($T20=\"n/a\",$D20*$Y20,$G20)+IFERROR(IF(AND($V20<=AI$1,$W20>=AI$1),INDEX(Reliability!N$23:N$50,MATCH($T20,Reliability!$C$23:$C$50,0)),0),0)*$H20*$X20*$Y20),$D20)*$R20","v":0},{"$f":"MIN((IFERROR(IF(AND($V20<=AJ$1,$W20>=AJ$1),INDEX(Reliability!O$23:O$50,MATCH($S20,Reliability!$C$23:$C$50,0)),0),0)*IF($T20=\"n/a\",$D20*$Y20,$G20)+IFERROR(IF(AND($V20<=AJ$1,$W20>=AJ$1),INDEX(Reliability!O$23:O$50,MATCH($T20,Reliability!$C$23:$C$50,0)),0),0)*$H20*$X20*$Y20),$D20)*$R20","v":0},{"$f":"MIN((IFERROR(IF(AND($V20<=AK$1,$W20>=AK$1),INDEX(Reliability!P$23:P$50,MATCH($S20,Reliability!$C$23:$C$50,0)),0),0)*IF($T20=\"n/a\",$D20*$Y20,$G20)+IFERROR(IF(AND($V20<=AK$1,$W20>=AK$1),INDEX(Reliability!P$23:P$50,MATCH($T20,Reliability!$C$23:$C$50,0)),0),0)*$H20*$X20*$Y20),$D20)*$R20","v":0}]
[null,{"$f":"unique_contracts!B21","v":"_EXISTING_GENERIC_SOLAR_FIXED"},{"$f":"unique_contracts!D21","v":"Online"},{"$f":"unique_contracts!J21","v":1},{"$f":"unique_contracts!M21","v":0},{"$f":"unique_contracts!N21","v":0},{"$f":"unique_contracts!P21","v":0},{"$f":"unique_contracts!R21","v":0},{"$f":"unique_contracts!V21","v":0},null,{"$f":"unique_contracts!AM21","v":2019},{"$f":"unique_contracts!AN21","v":6},{"$f":"unique_contracts!AO21","v":11},{"$f":"unique_contracts!AP21","v":2039},{"$f":"unique_contracts!AQ21","v":6},{"$f":"unique_contracts!AR21","v":10},{"$f":"unique_contracts!BP21","v":"EnergyOnly"},0,{"$f":"IFERROR(IF(AND(I21>0,E21=\"NotHybrid\"),_xlfn.CONCAT(MAX(MIN(ROUNDDOWN(I21/D21,0),8),4),INDEX(resources!$G:$G,MATCH(B21,resources!$A:$A,0))),INDEX(resources!$G:$G,MATCH(B21,resources!$A:$A,0))),\"n/a\")","v":"utility_pv"},"n/a","utility_pv",2020,2038,1,1,{"$f":"MIN((IFERROR(IF(AND($V21<=Z$1,$W21>=Z$1),INDEX(Reliability!E$23:E$50,MATCH($S21,Reliability!$C$23:$C$50,0)),0),0)*IF($T21=\"n/a\",$D21*$Y21,$G21)+IFERROR(IF(AND($V21<=Z$1,$W21>=Z$1),INDEX(Reliability!E$23:E$50,MATCH($T21,Reliability!$C$23:$C$50,0)),0),0)*$H21*$X21*$Y21),$D21)*$R21","v":0},{"$f":"MIN((IFERROR(IF(AND($V21<=AA$1,$W21>=AA$1),INDEX(Reliability!F$23:F$50,MATCH($S21,Reliability!$C$23:$C$50,0)),0),0)*IF($T21=\"n/a\",$D21*$Y21,$G21)+IFERROR(IF(AND($V21<=AA$1,$W21>=AA$1),INDEX(Reliability!F$23:F$50,MATCH($T21,Reliability!$C$23:$C$50,0)),0),0)*$H21*$X21*$Y21),$D21)*$R21","v":0},{"$f":"MIN((IFERROR(IF(AND($V21<=AB$1,$W21>=AB$1),INDEX(Reliability!G$23:G$50,MATCH($S21,Reliability!$C$23:$C$50,0)),0),0)*IF($T21=\"n/a\",$D21*$Y21,$G21)+IFERROR(IF(AND($V21<=AB$1,$W21>=AB$1),INDEX(Reliability!G$23:G$50,MATCH($T21,Reliability!$C$23:$C$50,0)),0),0)*$H21*$X21*$Y21),$D21)*$R21","v":0},{"$f":"MIN((IFERROR(IF(AND($V21<=AC$1,$W21>=AC$1),INDEX(Reliability!H$23:H$50,MATCH($S21,Reliability!$C$23:$C$50,0)),0),0)*IF($T21=\"n/a\",$D21*$Y21,$G21)+IFERROR(IF(AND($V21<=AC$1,$W21>=AC$1),INDEX(Reliability!H$23:H$50,MATCH($T21,Reliability!$C$23:$C$50,0)),0),0)*$H21*$X21*$Y21),$D21)*$R21","v":0},{"$f":"MIN((IFERROR(IF(AND($V21<=AD$1,$W21>=AD$1),INDEX(Reliability!I$23:I$50,MATCH($S21,Reliability!$C$23:$C$50,0)),0),0)*IF($T21=\"n/a\",$D21*$Y21,$G21)+IFERROR(IF(AND($V21<=AD$1,$W21>=AD$1),INDEX(Reliability!I$23:I$50,MATCH($T21,Reliability!$C$23:$C$50,0)),0),0)*$H21*$X21*$Y21),$D21)*$R21","v":0},{"$f":"MIN((IFERROR(IF(AND($V21<=AE$1,$W21>=AE$1),INDEX(Reliability!J$23:J$50,MATCH($S21,Reliability!$C$23:$C$50,0)),0),0)*IF($T21=\"n/a\",$D21*$Y21,$G21)+IFERROR(IF(AND($V21<=AE$1,$W21>=AE$1),INDEX(Reliability!J$23:J$50,MATCH($T21,Reliability!$C$23:$C$50,0)),0),0)*$H21*$X21*$Y21),$D21)*$R21","v":0},{"$f":"MIN((IFERROR(IF(AND($V21<=AF$1,$W21>=AF$1),INDEX(Reliability!K$23:K$50,MATCH($S21,Reliability!$C$23:$C$50,0)),0),0)*IF($T21=\"n/a\",$D21*$Y21,$G21)+IFERROR(IF(AND($V21<=AF$1,$W21>=AF$1),INDEX(Reliability!K$23:K$50,MATCH($T21,Reliability!$C$23:$C$50,0)),0),0)*$H21*$X21*$Y21),$D21)*$R21","v":0},{"$f":"MIN((IFERROR(IF(AND($V21<=AG$1,$W21>=AG$1),INDEX(Reliability!L$23:L$50,MATCH($S21,Reliability!$C$23:$C$50,0)),0),0)*IF($T21=\"n/a\",$D21*$Y21,$G21)+IFERROR(IF(AND($V21<=AG$1,$W21>=AG$1),INDEX(Reliability!L$23:L$50,MATCH($T21,Reliability!$C$23:$C$50,0)),0),0)*$H21*$X21*$Y21),$D21)*$R21","v":0},{"$f":"MIN((IFERROR(IF(AND($V21<=AH$1,$W21>=AH$1),INDEX(Reliability!M$23:M$50,MATCH($S21,Reliability!$C$23:$C$50,0)),0),0)*IF($T21=\"n/a\",$D21*$Y21,$G21)+IFERROR(IF(AND($V21<=AH$1,$W21>=AH$1),INDEX(Reliability!M$23:M$50,MATCH($T21,Reliability!$C$23:$C$50,0)),0),0)*$H21*$X21*$Y21),$D21)*$R21","v":0},{"$f":"MIN((IFERROR(IF(AND($V21<=AI$1,$W21>=AI$1),INDEX(Reliability!N$23:N$50,MATCH($S21,Reliability!$C$23:$C$50,0)),0),0)*IF($T21=\"n/a\",$D21*$Y21,$G21)+IFERROR(IF(AND($V21<=AI$1,$W21>=AI$1),INDEX(Reliability!N$23:N$50,MATCH($T21,Reliability!$C$23:$C$50,0)),0),0)*$H21*$X21*$Y21),$D21)*$R21","v":0},{"$f":"MIN((IFERROR(IF(AND($V21<=AJ$1,$W21>=AJ$1),INDEX(Reliability!O$23:O$50,MATCH($S21,Reliability!$C$23:$C$50,0)),0),0)*IF($T21=\"n/a\",$D21*$Y21,$G21)+IFERROR(IF(AND($V21<=AJ$1,$W21>=AJ$1),INDEX(Reliability!O$23:O$50,MATCH($T21,Reliability!$C$23:$C$50,0)),0),0)*$H21*$X21*$Y21),$D21)*$R21","v":0},{"$f":"MIN((IFERROR(IF(AND($V21<=AK$1,$W21>=AK$1),INDEX(Reliability!P$23:P$50,MATCH($S21,Reliability!$C$23:$C$50,0)),0),0)*IF($T21=\"n/a\",$D21*$Y21,$G21)+IFERROR(IF(AND($V21<=AK$1,$W21>=AK$1),INDEX(Reliability!P$23:P$50,MATCH($T21,Reliability!$C$23:$C$50,0)),0),0)*$H21*$X21*$Y21),$D21)*$R21","v":0}]
[null,{"$f":"unique_contracts!B22","v":"MSTANG_2_SOLAR"},{"$f":"unique_contracts!D22","v":"Online"},{"$f":"unique_contracts!J22","v":30},{"$f":"unique_contracts!M22","v":0},{"$f":"unique_contracts!N22","v":0},{"$f":"unique_contracts!P22","v":0},{"$f":"unique_contracts!R22","v":0},{"$f":"unique_contracts!V22","v":0},null,{"$f":"unique_contracts!AM22","v":2016},{"$f":"unique_contracts!AN22","v":8},{"$f":"unique_contracts!AO22","v":1},{"$f":"unique_contracts!AP22","v":2036},{"$f":"unique_contracts!AQ22","v":7},{"$f":"unique_contracts!AR22","v":31},{"$f":"unique_contracts!BP22","v":"EnergyOnly"},0,{"$f":"IFERROR(IF(AND(I22>0,E22=\"NotHybrid\"),_xlfn.CONCAT(MAX(MIN(ROUNDDOWN(I22/D22,0),8),4),INDEX(resources!$G:$G,MATCH(B22,resources!$A:$A,0))),INDEX(resources!$G:$G,MATCH(B22,resources!$A:$A,0))),\"n/a\")","v":"utility_pv"},"n/a","utility_pv",2017,2035,1,1,{"$f":"MIN((IFERROR(IF(AND($V22<=Z$1,$W22>=Z$1),INDEX(Reliability!E$23:E$50,MATCH($S22,Reliability!$C$23:$C$50,0)),0),0)*IF($T22=\"n/a\",$D22*$Y22,$G22)+IFERROR(IF(AND($V22<=Z$1,$W22>=Z$1),INDEX(Reliability!E$23:E$50,MATCH($T22,Reliability!$C$23:$C$50,0)),0),0)*$H22*$X22*$Y22),$D22)*$R22","v":0},{"$f":"MIN((IFERROR(IF(AND($V22<=AA$1,$W22>=AA$1),INDEX(Reliability!F$23:F$50,MATCH($S22,Reliability!$C$23:$C$50,0)),0),0)*IF($T22=\"n/a\",$D22*$Y22,$G22)+IFERROR(IF(AND($V22<=AA$1,$W22>=AA$1),INDEX(Reliability!F$23:F$50,MATCH($T22,Reliability!$C$23:$C$50,0)),0),0)*$H22*$X22*$Y22),$D22)*$R22","v":0},{"$f":"MIN((IFERROR(IF(AND($V22<=AB$1,$W22>=AB$1),INDEX(Reliability!G$23:G$50,MATCH($S22,Reliability!$C$23:$C$50,0)),0),0)*IF($T22=\"n/a\",$D22*$Y22,$G22)+IFERROR(IF(AND($V22<=AB$1,$W22>=AB$1),INDEX(Reliability!G$23:G$50,MATCH($T22,Reliability!$C$23:$C$50,0)),0),0)*$H22*$X22*$Y22),$D22)*$R22","v":0},{"$f":"MIN((IFERROR(IF(AND($V22<=AC$1,$W22>=AC$1),INDEX(Reliability!H$23:H$50,MATCH($S22,Reliability!$C$23:$C$50,0)),0),0)*IF($T22=\"n/a\",$D22*$Y22,$G22)+IFERROR(IF(AND($V22<=AC$1,$W22>=AC$1),INDEX(Reliability!H$23:H$50,MATCH($T22,Reliability!$C$23:$C$50,0)),0),0)*$H22*$X22*$Y22),$D22)*$R22","v":0},{"$f":"MIN((IFERROR(IF(AND($V22<=AD$1,$W22>=AD$1),INDEX(Reliability!I$23:I$50,MATCH($S22,Reliability!$C$23:$C$50,0)),0),0)*IF($T22=\"n/a\",$D22*$Y22,$G22)+IFERROR(IF(AND($V22<=AD$1,$W22>=AD$1),INDEX(Reliability!I$23:I$50,MATCH($T22,Reliability!$C$23:$C$50,0)),0),0)*$H22*$X22*$Y22),$D22)*$R22","v":0},{"$f":"MIN((IFERROR(IF(AND($V22<=AE$1,$W22>=AE$1),INDEX(Reliability!J$23:J$50,MATCH($S22,Reliability!$C$23:$C$50,0)),0),0)*IF($T22=\"n/a\",$D22*$Y22,$G22)+IFERROR(IF(AND($V22<=AE$1,$W22>=AE$1),INDEX(Reliability!J$23:J$50,MATCH($T22,Reliability!$C$23:$C$50,0)),0),0)*$H22*$X22*$Y22),$D22)*$R22","v":0},{"$f":"MIN((IFERROR(IF(AND($V22<=AF$1,$W22>=AF$1),INDEX(Reliability!K$23:K$50,MATCH($S22,Reliability!$C$23:$C$50,0)),0),0)*IF($T22=\"n/a\",$D22*$Y22,$G22)+IFERROR(IF(AND($V22<=AF$1,$W22>=AF$1),INDEX(Reliability!K$23:K$50,MATCH($T22,Reliability!$C$23:$C$50,0)),0),0)*$H22*$X22*$Y22),$D22)*$R22","v":0},{"$f":"MIN((IFERROR(IF(AND($V22<=AG$1,$W22>=AG$1),INDEX(Reliability!L$23:L$50,MATCH($S22,Reliability!$C$23:$C$50,0)),0),0)*IF($T22=\"n/a\",$D22*$Y22,$G22)+IFERROR(IF(AND($V22<=AG$1,$W22>=AG$1),INDEX(Reliability!L$23:L$50,MATCH($T22,Reliability!$C$23:$C$50,0)),0),0)*$H22*$X22*$Y22),$D22)*$R22","v":0},{"$f":"MIN((IFERROR(IF(AND($V22<=AH$1,$W22>=AH$1),INDEX(Reliability!M$23:M$50,MATCH($S22,Reliability!$C$23:$C$50,0)),0),0)*IF($T22=\"n/a\",$D22*$Y22,$G22)+IFERROR(IF(AND($V22<=AH$1,$W22>=AH$1),INDEX(Reliability!M$23:M$50,MATCH($T22,Reliability!$C$23:$C$50,0)),0),0)*$H22*$X22*$Y22),$D22)*$R22","v":0},{"$f":"MIN((IFERROR(IF(AND($V22<=AI$1,$W22>=AI$1),INDEX(Reliability!N$23:N$50,MATCH($S22,Reliability!$C$23:$C$50,0)),0),0)*IF($T22=\"n/a\",$D22*$Y22,$G22)+IFERROR(IF(AND($V22<=AI$1,$W22>=AI$1),INDEX(Reliability!N$23:N$50,MATCH($T22,Reliability!$C$23:$C$50,0)),0),0)*$H22*$X22*$Y22),$D22)*$R22","v":0},{"$f":"MIN((IFERROR(IF(AND($V22<=AJ$1,$W22>=AJ$1),INDEX(Reliability!O$23:O$50,MATCH($S22,Reliability!$C$23:$C$50,0)),0),0)*IF($T22=\"n/a\",$D22*$Y22,$G22)+IFERROR(IF(AND($V22<=AJ$1,$W22>=AJ$1),INDEX(Reliability!O$23:O$50,MATCH($T22,Reliability!$C$23:$C$50,0)),0),0)*$H22*$X22*$Y22),$D22)*$R22","v":0},{"$f":"MIN((IFERROR(IF(AND($V22<=AK$1,$W22>=AK$1),INDEX(Reliability!P$23:P$50,MATCH($S22,Reliability!$C$23:$C$50,0)),0),0)*IF($T22=\"n/a\",$D22*$Y22,$G22)+IFERROR(IF(AND($V22<=AK$1,$W22>=AK$1),INDEX(Reliability!P$23:P$50,MATCH($T22,Reliability!$C$23:$C$50,0)),0),0)*$H22*$X22*$Y22),$D22)*$R22","v":0}]
[null,{"$f":"unique_contracts!B23","v":"MSTANG_2_SOLAR3"},{"$f":"unique_contracts!D23","v":"Online"},{"$f":"unique_contracts!J23","v":40},{"$f":"unique_contracts!M23","v":0},{"$f":"unique_contracts!N23","v":0},{"$f":"unique_contracts!P23","v":0},{"$f":"unique_contracts!R23","v":0},{"$f":"unique_contracts!V23","v":0},null,{"$f":"unique_contracts!AM23","v":2016},{"$f":"unique_contracts!AN23","v":7},{"$f":"unique_contracts!AO23","v":12},{"$f":"unique_contracts!AP23","v":2036},{"$f":"unique_contracts!AQ23","v":7},{"$f":"unique_contracts!AR23","v":11},{"$f":"unique_contracts!BP23","v":"EnergyCapacity"},1,{"$f":"IFERROR(IF(AND(I23>0,E23=\"NotHybrid\"),_xlfn.CONCAT(MAX(MIN(ROUNDDOWN(I23/D23,0),8),4),INDEX(resources!$G:$G,MATCH(B23,resources!$A:$A,0))),INDEX(resources!$G:$G,MATCH(B23,resources!$A:$A,0))),\"n/a\")","v":"utility_pv"},"n/a","utility_pv",2017,2035,1,1,{"$f":"MIN((IFERROR(IF(AND($V23<=Z$1,$W23>=Z$1),INDEX(Reliability!E$23:E$50,MATCH($S23,Reliability!$C$23:$C$50,0)),0),0)*IF($T23=\"n/a\",$D23*$Y23,$G23)+IFERROR(IF(AND($V23<=Z$1,$W23>=Z$1),INDEX(Reliability!E$23:E$50,MATCH($T23,Reliability!$C$23:$C$50,0)),0),0)*$H23*$X23*$Y23),$D23)*$R23","v":3.84},{"$f":"MIN((IFERROR(IF(AND($V23<=AA$1,$W23>=AA$1),INDEX(Reliability!F$23:F$50,MATCH($S23,Reliability!$C$23:$C$50,0)),0),0)*IF($T23=\"n/a\",$D23*$Y23,$G23)+IFERROR(IF(AND($V23<=AA$1,$W23>=AA$1),INDEX(Reliability!F$23:F$50,MATCH($T23,Reliability!$C$23:$C$50,0)),0),0)*$H23*$X23*$Y23),$D23)*$R23","v":4.0880257410359313},{"$f":"MIN((IFERROR(IF(AND($V23<=AB$1,$W23>=AB$1),INDEX(Reliability!G$23:G$50,MATCH($S23,Reliability!$C$23:$C$50,0)),0),0)*IF($T23=\"n/a\",$D23*$Y23,$G23)+IFERROR(IF(AND($V23<=AB$1,$W23>=AB$1),INDEX(Reliability!G$23:G$50,MATCH($T23,Reliability!$C$23:$C$50,0)),0),0)*$H23*$X23*$Y23),$D23)*$R23","v":4.3360514820718628},{"$f":"MIN((IFERROR(IF(AND($V23<=AC$1,$W23>=AC$1),INDEX(Reliability!H$23:H$50,MATCH($S23,Reliability!$C$23:$C$50,0)),0),0)*IF($T23=\"n/a\",$D23*$Y23,$G23)+IFERROR(IF(AND($V23<=AC$1,$W23>=AC$1),INDEX(Reliability!H$23:H$50,MATCH($T23,Reliability!$C$23:$C$50,0)),0),0)*$H23*$X23*$Y23),$D23)*$R23","v":4.0672128817214084},{"$f":"MIN((IFERROR(IF(AND($V23<=AD$1,$W23>=AD$1),INDEX(Reliability!I$23:I$50,MATCH($S23,Reliability!$C$23:$C$50,0)),0),0)*IF($T23=\"n/a\",$D23*$Y23,$G23)+IFERROR(IF(AND($V23<=AD$1,$W23>=AD$1),INDEX(Reliability!I$23:I$50,MATCH($T23,Reliability!$C$23:$C$50,0)),0),0)*$H23*$X23*$Y23),$D23)*$R23","v":3.7983742813709531},{"$f":"MIN((IFERROR(IF(AND($V23<=AE$1,$W23>=AE$1),INDEX(Reliability!J$23:J$50,MATCH($S23,Reliability!$C$23:$C$50,0)),0),0)*IF($T23=\"n/a\",$D23*$Y23,$G23)+IFERROR(IF(AND($V23<=AE$1,$W23>=AE$1),INDEX(Reliability!J$23:J$50,MATCH($T23,Reliability!$C$23:$C$50,0)),0),0)*$H23*$X23*$Y23),$D23)*$R23","v":3.0991871406854763},{"$f":"MIN((IFERROR(IF(AND($V23<=AF$1,$W23>=AF$1),INDEX(Reliability!K$23:K$50,MATCH($S23,Reliability!$C$23:$C$50,0)),0),0)*IF($T23=\"n/a\",$D23*$Y23,$G23)+IFERROR(IF(AND($V23<=AF$1,$W23>=AF$1),INDEX(Reliability!K$23:K$50,MATCH($T23,Reliability!$C$23:$C$50,0)),0),0)*$H23*$X23*$Y23),$D23)*$R23","v":2.4},{"$f":"MIN((IFERROR(IF(AND($V23<=AG$1,$W23>=AG$1),INDEX(Reliability!L$23:L$50,MATCH($S23,Reliability!$C$23:$C$50,0)),0),0)*IF($T23=\"n/a\",$D23*$Y23,$G23)+IFERROR(IF(AND($V23<=AG$1,$W23>=AG$1),INDEX(Reliability!L$23:L$50,MATCH($T23,Reliability!$C$23:$C$50,0)),0),0)*$H23*$X23*$Y23),$D23)*$R23","v":2.4319999999999999},{"$f":"MIN((IFERROR(IF(AND($V23<=AH$1,$W23>=AH$1),INDEX(Reliability!M$23:M$50,MATCH($S23,Reliability!$C$23:$C$50,0)),0),0)*IF($T23=\"n/a\",$D23*$Y23,$G23)+IFERROR(IF(AND($V23<=AH$1,$W23>=AH$1),INDEX(Reliability!M$23:M$50,MATCH($T23,Reliability!$C$23:$C$50,0)),0),0)*$H23*$X23*$Y23),$D23)*$R23","v":2.464},{"$f":"MIN((IFERROR(IF(AND($V23<=AI$1,$W23>=AI$1),INDEX(Reliability!N$23:N$50,MATCH($S23,Reliability!$C$23:$C$50,0)),0),0)*IF($T23=\"n/a\",$D23*$Y23,$G23)+IFERROR(IF(AND($V23<=AI$1,$W23>=AI$1),INDEX(Reliability!N$23:N$50,MATCH($T23,Reliability!$C$23:$C$50,0)),0),0)*$H23*$X23*$Y23),$D23)*$R23","v":2.496},{"$f":"MIN((IFERROR(IF(AND($V23<=AJ$1,$W23>=AJ$1),INDEX(Reliability!O$23:O$50,MATCH($S23,Reliability!$C$23:$C$50,0)),0),0)*IF($T23=\"n/a\",$D23*$Y23,$G23)+IFERROR(IF(AND($V23<=AJ$1,$W23>=AJ$1),INDEX(Reliability!O$23:O$50,MATCH($T23,Reliability!$C$23:$C$50,0)),0),0)*$H23*$X23*$Y23),$D23)*$R23","v":2.5280000000000005},{"$f":"MIN((IFERROR(IF(AND($V23<=AK$1,$W23>=AK$1),INDEX(Reliability!P$23:P$50,MATCH($S23,Reliability!$C$23:$C$50,0)),0),0)*IF($T23=\"n/a\",$D23*$Y23,$G23)+IFERROR(IF(AND($V23<=AK$1,$W23>=AK$1),INDEX(Reliability!P$23:P$50,MATCH($T23,Reliability!$C$23:$C$50,0)),0),0)*$H23*$X23*$Y23),$D23)*$R23","v":2.56}]
[null,{"$f":"unique_contracts!B24","v":"_EXISTING_GENERIC_SOLAR_1AXIS"},{"$f":"unique_contracts!D24","v":"Online"},{"$f":"unique_contracts!J24","v":1},{"$f":"unique_contracts!M24","v":0},{"$f":"unique_contracts!N24","v":0},{"$f":"unique_contracts!P24","v":0},{"$f":"unique_contracts!R24","v":0},{"$f":"unique_contracts!V24","v":0},null,{"$f":"unique_contracts!AM24","v":2019},{"$f":"unique_contracts!AN24","v":11},{"$f":"unique_contracts!AO24","v":14},{"$f":"unique_contracts!AP24","v":2039},{"$f":"unique_contracts!AQ24","v":11},{"$f":"unique_contracts!AR24","v":13},{"$f":"unique_contracts!BP24","v":"EnergyOnly"},0,{"$f":"IFERROR(IF(AND(I24>0,E24=\"NotHybrid\"),_xlfn.CONCAT(MAX(MIN(ROUNDDOWN(I24/D24,0),8),4),INDEX(resources!$G:$G,MATCH(B24,resources!$A:$A,0))),INDEX(resources!$G:$G,MATCH(B24,resources!$A:$A,0))),\"n/a\")","v":"utility_pv"},"n/a","utility_pv",2020,2039,1,1,{"$f":"MIN((IFERROR(IF(AND($V24<=Z$1,$W24>=Z$1),INDEX(Reliability!E$23:E$50,MATCH($S24,Reliability!$C$23:$C$50,0)),0),0)*IF($T24=\"n/a\",$D24*$Y24,$G24)+IFERROR(IF(AND($V24<=Z$1,$W24>=Z$1),INDEX(Reliability!E$23:E$50,MATCH($T24,Reliability!$C$23:$C$50,0)),0),0)*$H24*$X24*$Y24),$D24)*$R24","v":0},{"$f":"MIN((IFERROR(IF(AND($V24<=AA$1,$W24>=AA$1),INDEX(Reliability!F$23:F$50,MATCH($S24,Reliability!$C$23:$C$50,0)),0),0)*IF($T24=\"n/a\",$D24*$Y24,$G24)+IFERROR(IF(AND($V24<=AA$1,$W24>=AA$1),INDEX(Reliability!F$23:F$50,MATCH($T24,Reliability!$C$23:$C$50,0)),0),0)*$H24*$X24*$Y24),$D24)*$R24","v":0},{"$f":"MIN((IFERROR(IF(AND($V24<=AB$1,$W24>=AB$1),INDEX(Reliability!G$23:G$50,MATCH($S24,Reliability!$C$23:$C$50,0)),0),0)*IF($T24=\"n/a\",$D24*$Y24,$G24)+IFERROR(IF(AND($V24<=AB$1,$W24>=AB$1),INDEX(Reliability!G$23:G$50,MATCH($T24,Reliability!$C$23:$C$50,0)),0),0)*$H24*$X24*$Y24),$D24)*$R24","v":0},{"$f":"MIN((IFERROR(IF(AND($V24<=AC$1,$W24>=AC$1),INDEX(Reliability!H$23:H$50,MATCH($S24,Reliability!$C$23:$C$50,0)),0),0)*IF($T24=\"n/a\",$D24*$Y24,$G24)+IFERROR(IF(AND($V24<=AC$1,$W24>=AC$1),INDEX(Reliability!H$23:H$50,MATCH($T24,Reliability!$C$23:$C$50,0)),0),0)*$H24*$X24*$Y24),$D24)*$R24","v":0},{"$f":"MIN((IFERROR(IF(AND($V24<=AD$1,$W24>=AD$1),INDEX(Reliability!I$23:I$50,MATCH($S24,Reliability!$C$23:$C$50,0)),0),0)*IF($T24=\"n/a\",$D24*$Y24,$G24)+IFERROR(IF(AND($V24<=AD$1,$W24>=AD$1),INDEX(Reliability!I$23:I$50,MATCH($T24,Reliability!$C$23:$C$50,0)),0),0)*$H24*$X24*$Y24),$D24)*$R24","v":0},{"$f":"MIN((IFERROR(IF(AND($V24<=AE$1,$W24>=AE$1),INDEX(Reliability!J$23:J$50,MATCH($S24,Reliability!$C$23:$C$50,0)),0),0)*IF($T24=\"n/a\",$D24*$Y24,$G24)+IFERROR(IF(AND($V24<=AE$1,$W24>=AE$1),INDEX(Reliability!J$23:J$50,MATCH($T24,Reliability!$C$23:$C$50,0)),0),0)*$H24*$X24*$Y24),$D24)*$R24","v":0},{"$f":"MIN((IFERROR(IF(AND($V24<=AF$1,$W24>=AF$1),INDEX(Reliability!K$23:K$50,MATCH($S24,Reliability!$C$23:$C$50,0)),0),0)*IF($T24=\"n/a\",$D24*$Y24,$G24)+IFERROR(IF(AND($V24<=AF$1,$W24>=AF$1),INDEX(Reliability!K$23:K$50,MATCH($T24,Reliability!$C$23:$C$50,0)),0),0)*$H24*$X24*$Y24),$D24)*$R24","v":0},{"$f":"MIN((IFERROR(IF(AND($V24<=AG$1,$W24>=AG$1),INDEX(Reliability!L$23:L$50,MATCH($S24,Reliability!$C$23:$C$50,0)),0),0)*IF($T24=\"n/a\",$D24*$Y24,$G24)+IFERROR(IF(AND($V24<=AG$1,$W24>=AG$1),INDEX(Reliability!L$23:L$50,MATCH($T24,Reliability!$C$23:$C$50,0)),0),0)*$H24*$X24*$Y24),$D24)*$R24","v":0},{"$f":"MIN((IFERROR(IF(AND($V24<=AH$1,$W24>=AH$1),INDEX(Reliability!M$23:M$50,MATCH($S24,Reliability!$C$23:$C$50,0)),0),0)*IF($T24=\"n/a\",$D24*$Y24,$G24)+IFERROR(IF(AND($V24<=AH$1,$W24>=AH$1),INDEX(Reliability!M$23:M$50,MATCH($T24,Reliability!$C$23:$C$50,0)),0),0)*$H24*$X24*$Y24),$D24)*$R24","v":0},{"$f":"MIN((IFERROR(IF(AND($V24<=AI$1,$W24>=AI$1),INDEX(Reliability!N$23:N$50,MATCH($S24,Reliability!$C$23:$C$50,0)),0),0)*IF($T24=\"n/a\",$D24*$Y24,$G24)+IFERROR(IF(AND($V24<=AI$1,$W24>=AI$1),INDEX(Reliability!N$23:N$50,MATCH($T24,Reliability!$C$23:$C$50,0)),0),0)*$H24*$X24*$Y24),$D24)*$R24","v":0},{"$f":"MIN((IFERROR(IF(AND($V24<=AJ$1,$W24>=AJ$1),INDEX(Reliability!O$23:O$50,MATCH($S24,Reliability!$C$23:$C$50,0)),0),0)*IF($T24=\"n/a\",$D24*$Y24,$G24)+IFERROR(IF(AND($V24<=AJ$1,$W24>=AJ$1),INDEX(Reliability!O$23:O$50,MATCH($T24,Reliability!$C$23:$C$50,0)),0),0)*$H24*$X24*$Y24),$D24)*$R24","v":0},{"$f":"MIN((IFERROR(IF(AND($V24<=AK$1,$W24>=AK$1),INDEX(Reliability!P$23:P$50,MATCH($S24,Reliability!$C$23:$C$50,0)),0),0)*IF($T24=\"n/a\",$D24*$Y24,$G24)+IFERROR(IF(AND($V24<=AK$1,$W24>=AK$1),INDEX(Reliability!P$23:P$50,MATCH($T24,Reliability!$C$23:$C$50,0)),0),0)*$H24*$X24*$Y24),$D24)*$R24","v":0}]
[null,{"$f":"unique_contracts!B25","v":"USWND2_1_WIND3"},{"$f":"unique_contracts!D25","v":"Online"},{"$f":"unique_contracts!J25","v":46},{"$f":"unique_contracts!M25","v":0},{"$f":"unique_contracts!N25","v":0},{"$f":"unique_contracts!P25","v":0},{"$f":"unique_contracts!R25","v":0},{"$f":"unique_contracts!V25","v":0},null,{"$f":"unique_contracts!AM25","v":2014},{"$f":"unique_contracts!AN25","v":11},{"$f":"unique_contracts!AO25","v":13},{"$f":"unique_contracts!AP25","v":2037},{"$f":"unique_contracts!AQ25","v":11},{"$f":"unique_contracts!AR25","v":12},{"$f":"unique_contracts!BP25","v":"EnergyCapacity"},1,{"$f":"IFERROR(IF(AND(I25>0,E25=\"NotHybrid\"),_xlfn.CONCAT(MAX(MIN(ROUNDDOWN(I25/D25,0),8),4),INDEX(resources!$G:$G,MATCH(B25,resources!$A:$A,0))),INDEX(resources!$G:$G,MATCH(B25,resources!$A:$A,0))),\"n/a\")","v":"in_state_wind_north"},"n/a","in_state_wind_north",2015,2037,1,1,{"$f":"MIN((IFERROR(IF(AND($V25<=Z$1,$W25>=Z$1),INDEX(Reliability!E$23:E$50,MATCH($S25,Reliability!$C$23:$C$50,0)),0),0)*IF($T25=\"n/a\",$D25*$Y25,$G25)+IFERROR(IF(AND($V25<=Z$1,$W25>=Z$1),INDEX(Reliability!E$23:E$50,MATCH($T25,Reliability!$C$23:$C$50,0)),0),0)*$H25*$X25*$Y25),$D25)*$R25","v":13.894706091247096},{"$f":"MIN((IFERROR(IF(AND($V25<=AA$1,$W25>=AA$1),INDEX(Reliability!F$23:F$50,MATCH($S25,Reliability!$C$23:$C$50,0)),0),0)*IF($T25=\"n/a\",$D25*$Y25,$G25)+IFERROR(IF(AND($V25<=AA$1,$W25>=AA$1),INDEX(Reliability!F$23:F$50,MATCH($T25,Reliability!$C$23:$C$50,0)),0),0)*$H25*$X25*$Y25),$D25)*$R25","v":13.964539150585146},{"$f":"MIN((IFERROR(IF(AND($V25<=AB$1,$W25>=AB$1),INDEX(Reliability!G$23:G$50,MATCH($S25,Reliability!$C$23:$C$50,0)),0),0)*IF($T25=\"n/a\",$D25*$Y25,$G25)+IFERROR(IF(AND($V25<=AB$1,$W25>=AB$1),INDEX(Reliability!G$23:G$50,MATCH($T25,Reliability!$C$23:$C$50,0)),0),0)*$H25*$X25*$Y25),$D25)*$R25","v":14.034372209923198},{"$f":"MIN((IFERROR(IF(AND($V25<=AC$1,$W25>=AC$1),INDEX(Reliability!H$23:H$50,MATCH($S25,Reliability!$C$23:$C$50,0)),0),0)*IF($T25=\"n/a\",$D25*$Y25,$G25)+IFERROR(IF(AND($V25<=AC$1,$W25>=AC$1),INDEX(Reliability!H$23:H$50,MATCH($T25,Reliability!$C$23:$C$50,0)),0),0)*$H25*$X25*$Y25),$D25)*$R25","v":10.900460031827459},{"$f":"MIN((IFERROR(IF(AND($V25<=AD$1,$W25>=AD$1),INDEX(Reliability!I$23:I$50,MATCH($S25,Reliability!$C$23:$C$50,0)),0),0)*IF($T25=\"n/a\",$D25*$Y25,$G25)+IFERROR(IF(AND($V25<=AD$1,$W25>=AD$1),INDEX(Reliability!I$23:I$50,MATCH($T25,Reliability!$C$23:$C$50,0)),0),0)*$H25*$X25*$Y25),$D25)*$R25","v":7.7665478537317219},{"$f":"MIN((IFERROR(IF(AND($V25<=AE$1,$W25>=AE$1),INDEX(Reliability!J$23:J$50,MATCH($S25,Reliability!$C$23:$C$50,0)),0),0)*IF($T25=\"n/a\",$D25*$Y25,$G25)+IFERROR(IF(AND($V25<=AE$1,$W25>=AE$1),INDEX(Reliability!J$23:J$50,MATCH($T25,Reliability!$C$23:$C$50,0)),0),0)*$H25*$X25*$Y25),$D25)*$R25","v":7.6743532101471112},{"$f":"MIN((IFERROR(IF(AND($V25<=AF$1,$W25>=AF$1),INDEX(Reliability!K$23:K$50,MATCH($S25,Reliability!$C$23:$C$50,0)),0),0)*IF($T25=\"n/a\",$D25*$Y25,$G25)+IFERROR(IF(AND($V25<=AF$1,$W25>=AF$1),INDEX(Reliability!K$23:K$50,MATCH($T25,Reliability!$C$23:$C$50,0)),0),0)*$H25*$X25*$Y25),$D25)*$R25","v":7.5821585665625015},{"$f":"MIN((IFERROR(IF(AND($V25<=AG$1,$W25>=AG$1),INDEX(Reliability!L$23:L$50,MATCH($S25,Reliability!$C$23:$C$50,0)),0),0)*IF($T25=\"n/a\",$D25*$Y25,$G25)+IFERROR(IF(AND($V25<=AG$1,$W25>=AG$1),INDEX(Reliability!L$23:L$50,MATCH($T25,Reliability!$C$23:$C$50,0)),0),0)*$H25*$X25*$Y25),$D25)*$R25","v":6.8843315834452454},{"$f":"MIN((IFERROR(IF(AND($V25<=AH$1,$W25>=AH$1),INDEX(Reliability!M$23:M$50,MATCH($S25,Reliability!$C$23:$C$50,0)),0),0)*IF($T25=\"n/a\",$D25*$Y25,$G25)+IFERROR(IF(AND($V25<=AH$1,$W25>=AH$1),INDEX(Reliability!M$23:M$50,MATCH($T25,Reliability!$C$23:$C$50,0)),0),0)*$H25*$X25*$Y25),$D25)*$R25","v":6.1865046003279884},{"$f":"MIN((IFERROR(IF(AND($V25<=AI$1,$W25>=AI$1),INDEX(Reliability!N$23:N$50,MATCH($S25,Reliability!$C$23:$C$50,0)),0),0)*IF($T25=\"n/a\",$D25*$Y25,$G25)+IFERROR(IF(AND($V25<=AI$1,$W25>=AI$1),INDEX(Reliability!N$23:N$50,MATCH($T25,Reliability!$C$23:$C$50,0)),0),0)*$H25*$X25*$Y25),$D25)*$R25","v":5.4886776172107314},{"$f":"MIN((IFERROR(IF(AND($V25<=AJ$1,$W25>=AJ$1),INDEX(Reliability!O$23:O$50,MATCH($S25,Reliability!$C$23:$C$50,0)),0),0)*IF($T25=\"n/a\",$D25*$Y25,$G25)+IFERROR(IF(AND($V25<=AJ$1,$W25>=AJ$1),INDEX(Reliability!O$23:O$50,MATCH($T25,Reliability!$C$23:$C$50,0)),0),0)*$H25*$X25*$Y25),$D25)*$R25","v":4.7908506340934753},{"$f":"MIN((IFERROR(IF(AND($V25<=AK$1,$W25>=AK$1),INDEX(Reliability!P$23:P$50,MATCH($S25,Reliability!$C$23:$C$50,0)),0),0)*IF($T25=\"n/a\",$D25*$Y25,$G25)+IFERROR(IF(AND($V25<=AK$1,$W25>=AK$1),INDEX(Reliability!P$23:P$50,MATCH($T25,Reliability!$C$23:$C$50,0)),0),0)*$H25*$X25*$Y25),$D25)*$R25","v":4.0930236509762175}]
[null,{"$f":"unique_contracts!B26","v":"_EXISTING_GENERIC_SOLAR_1AXIS"},{"$f":"unique_contracts!D26","v":"Online"},{"$f":"unique_contracts!J26","v":1},{"$f":"unique_contracts!M26","v":0},{"$f":"unique_contracts!N26","v":0},{"$f":"unique_contracts!P26","v":0},{"$f":"unique_contracts!R26","v":0},{"$f":"unique_contracts!V26","v":0},null,{"$f":"unique_contracts!AM26","v":2020},{"$f":"unique_contracts!AN26","v":12},{"$f":"unique_contracts!AO26","v":31},{"$f":"unique_contracts!AP26","v":2040},{"$f":"unique_contracts!AQ26","v":4},{"$f":"unique_contracts!AR26","v":29},{"$f":"unique_contracts!BP26","v":"EnergyOnly"},0,{"$f":"IFERROR(IF(AND(I26>0,E26=\"NotHybrid\"),_xlfn.CONCAT(MAX(MIN(ROUNDDOWN(I26/D26,0),8),4),INDEX(resources!$G:$G,MATCH(B26,resources!$A:$A,0))),INDEX(resources!$G:$G,MATCH(B26,resources!$A:$A,0))),\"n/a\")","v":"utility_pv"},"n/a","utility_pv",2021,2039,1,1,{"$f":"MIN((IFERROR(IF(AND($V26<=Z$1,$W26>=Z$1),INDEX(Reliability!E$23:E$50,MATCH($S26,Reliability!$C$23:$C$50,0)),0),0)*IF($T26=\"n/a\",$D26*$Y26,$G26)+IFERROR(IF(AND($V26<=Z$1,$W26>=Z$1),INDEX(Reliability!E$23:E$50,MATCH($T26,Reliability!$C$23:$C$50,0)),0),0)*$H26*$X26*$Y26),$D26)*$R26","v":0},{"$f":"MIN((IFERROR(IF(AND($V26<=AA$1,$W26>=AA$1),INDEX(Reliability!F$23:F$50,MATCH($S26,Reliability!$C$23:$C$50,0)),0),0)*IF($T26=\"n/a\",$D26*$Y26,$G26)+IFERROR(IF(AND($V26<=AA$1,$W26>=AA$1),INDEX(Reliability!F$23:F$50,MATCH($T26,Reliability!$C$23:$C$50,0)),0),0)*$H26*$X26*$Y26),$D26)*$R26","v":0},{"$f":"MIN((IFERROR(IF(AND($V26<=AB$1,$W26>=AB$1),INDEX(Reliability!G$23:G$50,MATCH($S26,Reliability!$C$23:$C$50,0)),0),0)*IF($T26=\"n/a\",$D26*$Y26,$G26)+IFERROR(IF(AND($V26<=AB$1,$W26>=AB$1),INDEX(Reliability!G$23:G$50,MATCH($T26,Reliability!$C$23:$C$50,0)),0),0)*$H26*$X26*$Y26),$D26)*$R26","v":0},{"$f":"MIN((IFERROR(IF(AND($V26<=AC$1,$W26>=AC$1),INDEX(Reliability!H$23:H$50,MATCH($S26,Reliability!$C$23:$C$50,0)),0),0)*IF($T26=\"n/a\",$D26*$Y26,$G26)+IFERROR(IF(AND($V26<=AC$1,$W26>=AC$1),INDEX(Reliability!H$23:H$50,MATCH($T26,Reliability!$C$23:$C$50,0)),0),0)*$H26*$X26*$Y26),$D26)*$R26","v":0},{"$f":"MIN((IFERROR(IF(AND($V26<=AD$1,$W26>=AD$1),INDEX(Reliability!I$23:I$50,MATCH($S26,Reliability!$C$23:$C$50,0)),0),0)*IF($T26=\"n/a\",$D26*$Y26,$G26)+IFERROR(IF(AND($V26<=AD$1,$W26>=AD$1),INDEX(Reliability!I$23:I$50,MATCH($T26,Reliability!$C$23:$C$50,0)),0),0)*$H26*$X26*$Y26),$D26)*$R26","v":0},{"$f":"MIN((IFERROR(IF(AND($V26<=AE$1,$W26>=AE$1),INDEX(Reliability!J$23:J$50,MATCH($S26,Reliability!$C$23:$C$50,0)),0),0)*IF($T26=\"n/a\",$D26*$Y26,$G26)+IFERROR(IF(AND($V26<=AE$1,$W26>=AE$1),INDEX(Reliability!J$23:J$50,MATCH($T26,Reliability!$C$23:$C$50,0)),0),0)*$H26*$X26*$Y26),$D26)*$R26","v":0},{"$f":"MIN((IFERROR(IF(AND($V26<=AF$1,$W26>=AF$1),INDEX(Reliability!K$23:K$50,MATCH($S26,Reliability!$C$23:$C$50,0)),0),0)*IF($T26=\"n/a\",$D26*$Y26,$G26)+IFERROR(IF(AND($V26<=AF$1,$W26>=AF$1),INDEX(Reliability!K$23:K$50,MATCH($T26,Reliability!$C$23:$C$50,0)),0),0)*$H26*$X26*$Y26),$D26)*$R26","v":0},{"$f":"MIN((IFERROR(IF(AND($V26<=AG$1,$W26>=AG$1),INDEX(Reliability!L$23:L$50,MATCH($S26,Reliability!$C$23:$C$50,0)),0),0)*IF($T26=\"n/a\",$D26*$Y26,$G26)+IFERROR(IF(AND($V26<=AG$1,$W26>=AG$1),INDEX(Reliability!L$23:L$50,MATCH($T26,Reliability!$C$23:$C$50,0)),0),0)*$H26*$X26*$Y26),$D26)*$R26","v":0},{"$f":"MIN((IFERROR(IF(AND($V26<=AH$1,$W26>=AH$1),INDEX(Reliability!M$23:M$50,MATCH($S26,Reliability!$C$23:$C$50,0)),0),0)*IF($T26=\"n/a\",$D26*$Y26,$G26)+IFERROR(IF(AND($V26<=AH$1,$W26>=AH$1),INDEX(Reliability!M$23:M$50,MATCH($T26,Reliability!$C$23:$C$50,0)),0),0)*$H26*$X26*$Y26),$D26)*$R26","v":0},{"$f":"MIN((IFERROR(IF(AND($V26<=AI$1,$W26>=AI$1),INDEX(Reliability!N$23:N$50,MATCH($S26,Reliability!$C$23:$C$50,0)),0),0)*IF($T26=\"n/a\",$D26*$Y26,$G26)+IFERROR(IF(AND($V26<=AI$1,$W26>=AI$1),INDEX(Reliability!N$23:N$50,MATCH($T26,Reliability!$C$23:$C$50,0)),0),0)*$H26*$X26*$Y26),$D26)*$R26","v":0},{"$f":"MIN((IFERROR(IF(AND($V26<=AJ$1,$W26>=AJ$1),INDEX(Reliability!O$23:O$50,MATCH($S26,Reliability!$C$23:$C$50,0)),0),0)*IF($T26=\"n/a\",$D26*$Y26,$G26)+IFERROR(IF(AND($V26<=AJ$1,$W26>=AJ$1),INDEX(Reliability!O$23:O$50,MATCH($T26,Reliability!$C$23:$C$50,0)),0),0)*$H26*$X26*$Y26),$D26)*$R26","v":0},{"$f":"MIN((IFERROR(IF(AND($V26<=AK$1,$W26>=AK$1),INDEX(Reliability!P$23:P$50,MATCH($S26,Reliability!$C$23:$C$50,0)),0),0)*IF($T26=\"n/a\",$D26*$Y26,$G26)+IFERROR(IF(AND($V26<=AK$1,$W26>=AK$1),INDEX(Reliability!P$23:P$50,MATCH($T26,Reliability!$C$23:$C$50,0)),0),0)*$H26*$X26*$Y26),$D26)*$R26","v":0}]
[null,{"$f":"unique_contracts!B27","v":"_EXISTING_GENERIC_SOLAR_1AXIS"},{"$f":"unique_contracts!D27","v":"Online"},{"$f":"unique_contracts!J27","v":1},{"$f":"unique_contracts!M27","v":0},{"$f":"unique_contracts!N27","v":0},{"$f":"unique_contracts!P27","v":0},{"$f":"unique_contracts!R27","v":0},{"$f":"unique_contracts!V27","v":0},null,{"$f":"unique_contracts!AM27","v":2021},{"$f":"unique_contracts!AN27","v":2},{"$f":"unique_contracts!AO27","v":23},{"$f":"unique_contracts!AP27","v":2040},{"$f":"unique_contracts!AQ27","v":12},{"$f":"unique_contracts!AR27","v":17},{"$f":"unique_contracts!BP27","v":"EnergyOnly"},0,{"$f":"IFERROR(IF(AND(I27>0,E27=\"NotHybrid\"),_xlfn.CONCAT(MAX(MIN(ROUNDDOWN(I27/D27,0),8),4),INDEX(resources!$G:$G,MATCH(B27,resources!$A:$A,0))),INDEX(resources!$G:$G,MATCH(B27,resources!$A:$A,0))),\"n/a\")","v":"utility_pv"},"n/a","utility_pv",2021,2040,1,1,{"$f":"MIN((IFERROR(IF(AND($V27<=Z$1,$W27>=Z$1),INDEX(Reliability!E$23:E$50,MATCH($S27,Reliability!$C$23:$C$50,0)),0),0)*IF($T27=\"n/a\",$D27*$Y27,$G27)+IFERROR(IF(AND($V27<=Z$1,$W27>=Z$1),INDEX(Reliability!E$23:E$50,MATCH($T27,Reliability!$C$23:$C$50,0)),0),0)*$H27*$X27*$Y27),$D27)*$R27","v":0},{"$f":"MIN((IFERROR(IF(AND($V27<=AA$1,$W27>=AA$1),INDEX(Reliability!F$23:F$50,MATCH($S27,Reliability!$C$23:$C$50,0)),0),0)*IF($T27=\"n/a\",$D27*$Y27,$G27)+IFERROR(IF(AND($V27<=AA$1,$W27>=AA$1),INDEX(Reliability!F$23:F$50,MATCH($T27,Reliability!$C$23:$C$50,0)),0),0)*$H27*$X27*$Y27),$D27)*$R27","v":0},{"$f":"MIN((IFERROR(IF(AND($V27<=AB$1,$W27>=AB$1),INDEX(Reliability!G$23:G$50,MATCH($S27,Reliability!$C$23:$C$50,0)),0),0)*IF($T27=\"n/a\",$D27*$Y27,$G27)+IFERROR(IF(AND($V27<=AB$1,$W27>=AB$1),INDEX(Reliability!G$23:G$50,MATCH($T27,Reliability!$C$23:$C$50,0)),0),0)*$H27*$X27*$Y27),$D27)*$R27","v":0},{"$f":"MIN((IFERROR(IF(AND($V27<=AC$1,$W27>=AC$1),INDEX(Reliability!H$23:H$50,MATCH($S27,Reliability!$C$23:$C$50,0)),0),0)*IF($T27=\"n/a\",$D27*$Y27,$G27)+IFERROR(IF(AND($V27<=AC$1,$W27>=AC$1),INDEX(Reliability!H$23:H$50,MATCH($T27,Reliability!$C$23:$C$50,0)),0),0)*$H27*$X27*$Y27),$D27)*$R27","v":0},{"$f":"MIN((IFERROR(IF(AND($V27<=AD$1,$W27>=AD$1),INDEX(Reliability!I$23:I$50,MATCH($S27,Reliability!$C$23:$C$50,0)),0),0)*IF($T27=\"n/a\",$D27*$Y27,$G27)+IFERROR(IF(AND($V27<=AD$1,$W27>=AD$1),INDEX(Reliability!I$23:I$50,MATCH($T27,Reliability!$C$23:$C$50,0)),0),0)*$H27*$X27*$Y27),$D27)*$R27","v":0},{"$f":"MIN((IFERROR(IF(AND($V27<=AE$1,$W27>=AE$1),INDEX(Reliability!J$23:J$50,MATCH($S27,Reliability!$C$23:$C$50,0)),0),0)*IF($T27=\"n/a\",$D27*$Y27,$G27)+IFERROR(IF(AND($V27<=AE$1,$W27>=AE$1),INDEX(Reliability!J$23:J$50,MATCH($T27,Reliability!$C$23:$C$50,0)),0),0)*$H27*$X27*$Y27),$D27)*$R27","v":0},{"$f":"MIN((IFERROR(IF(AND($V27<=AF$1,$W27>=AF$1),INDEX(Reliability!K$23:K$50,MATCH($S27,Reliability!$C$23:$C$50,0)),0),0)*IF($T27=\"n/a\",$D27*$Y27,$G27)+IFERROR(IF(AND($V27<=AF$1,$W27>=AF$1),INDEX(Reliability!K$23:K$50,MATCH($T27,Reliability!$C$23:$C$50,0)),0),0)*$H27*$X27*$Y27),$D27)*$R27","v":0},{"$f":"MIN((IFERROR(IF(AND($V27<=AG$1,$W27>=AG$1),INDEX(Reliability!L$23:L$50,MATCH($S27,Reliability!$C$23:$C$50,0)),0),0)*IF($T27=\"n/a\",$D27*$Y27,$G27)+IFERROR(IF(AND($V27<=AG$1,$W27>=AG$1),INDEX(Reliability!L$23:L$50,MATCH($T27,Reliability!$C$23:$C$50,0)),0),0)*$H27*$X27*$Y27),$D27)*$R27","v":0},{"$f":"MIN((IFERROR(IF(AND($V27<=AH$1,$W27>=AH$1),INDEX(Reliability!M$23:M$50,MATCH($S27,Reliability!$C$23:$C$50,0)),0),0)*IF($T27=\"n/a\",$D27*$Y27,$G27)+IFERROR(IF(AND($V27<=AH$1,$W27>=AH$1),INDEX(Reliability!M$23:M$50,MATCH($T27,Reliability!$C$23:$C$50,0)),0),0)*$H27*$X27*$Y27),$D27)*$R27","v":0},{"$f":"MIN((IFERROR(IF(AND($V27<=AI$1,$W27>=AI$1),INDEX(Reliability!N$23:N$50,MATCH($S27,Reliability!$C$23:$C$50,0)),0),0)*IF($T27=\"n/a\",$D27*$Y27,$G27)+IFERROR(IF(AND($V27<=AI$1,$W27>=AI$1),INDEX(Reliability!N$23:N$50,MATCH($T27,Reliability!$C$23:$C$50,0)),0),0)*$H27*$X27*$Y27),$D27)*$R27","v":0},{"$f":"MIN((IFERROR(IF(AND($V27<=AJ$1,$W27>=AJ$1),INDEX(Reliability!O$23:O$50,MATCH($S27,Reliability!$C$23:$C$50,0)),0),0)*IF($T27=\"n/a\",$D27*$Y27,$G27)+IFERROR(IF(AND($V27<=AJ$1,$W27>=AJ$1),INDEX(Reliability!O$23:O$50,MATCH($T27,Reliability!$C$23:$C$50,0)),0),0)*$H27*$X27*$Y27),$D27)*$R27","v":0},{"$f":"MIN((IFERROR(IF(AND($V27<=AK$1,$W27>=AK$1),INDEX(Reliability!P$23:P$50,MATCH($S27,Reliability!$C$23:$C$50,0)),0),0)*IF($T27=\"n/a\",$D27*$Y27,$G27)+IFERROR(IF(AND($V27<=AK$1,$W27>=AK$1),INDEX(Reliability!P$23:P$50,MATCH($T27,Reliability!$C$23:$C$50,0)),0),0)*$H27*$X27*$Y27),$D27)*$R27","v":0}]
[null,{"$f":"unique_contracts!B28","v":"USWND2_1_WIND1"},{"$f":"unique_contracts!D28","v":"Online"},{"$f":"unique_contracts!J28","v":42.96},{"$f":"unique_contracts!M28","v":0},{"$f":"unique_contracts!N28","v":0},{"$f":"unique_contracts!P28","v":0},{"$f":"unique_contracts!R28","v":0},{"$f":"unique_contracts!V28","v":0},null,{"$f":"unique_contracts!AM28","v":2020},{"$f":"unique_contracts!AN28","v":1},{"$f":"unique_contracts!AO28","v":1},{"$f":"unique_contracts!AP28","v":2024},{"$f":"unique_contracts!AQ28","v":12},{"$f":"unique_contracts!AR28","v":31},{"$f":"unique_contracts!BP28","v":"CapacityOnly"},1,{"$f":"IFERROR(IF(AND(I28>0,E28=\"NotHybrid\"),_xlfn.CONCAT(MAX(MIN(ROUNDDOWN(I28/D28,0),8),4),INDEX(resources!$G:$G,MATCH(B28,resources!$A:$A,0))),INDEX(resources!$G:$G,MATCH(B28,resources!$A:$A,0))),\"n/a\")","v":"in_state_wind_north"},"n/a","in_state_wind_north",2020,2024,1,1,{"$f":"MIN((IFERROR(IF(AND($V28<=Z$1,$W28>=Z$1),INDEX(Reliability!E$23:E$50,MATCH($S28,Reliability!$C$23:$C$50,0)),0),0)*IF($T28=\"n/a\",$D28*$Y28,$G28)+IFERROR(IF(AND($V28<=Z$1,$W28>=Z$1),INDEX(Reliability!E$23:E$50,MATCH($T28,Reliability!$C$23:$C$50,0)),0),0)*$H28*$X28*$Y28),$D28)*$R28","v":12.976447253912506},{"$f":"MIN((IFERROR(IF(AND($V28<=AA$1,$W28>=AA$1),INDEX(Reliability!F$23:F$50,MATCH($S28,Reliability!$C$23:$C$50,0)),0),0)*IF($T28=\"n/a\",$D28*$Y28,$G28)+IFERROR(IF(AND($V28<=AA$1,$W28>=AA$1),INDEX(Reliability!F$23:F$50,MATCH($T28,Reliability!$C$23:$C$50,0)),0),0)*$H28*$X28*$Y28),$D28)*$R28","v":0},{"$f":"MIN((IFERROR(IF(AND($V28<=AB$1,$W28>=AB$1),INDEX(Reliability!G$23:G$50,MATCH($S28,Reliability!$C$23:$C$50,0)),0),0)*IF($T28=\"n/a\",$D28*$Y28,$G28)+IFERROR(IF(AND($V28<=AB$1,$W28>=AB$1),INDEX(Reliability!G$23:G$50,MATCH($T28,Reliability!$C$23:$C$50,0)),0),0)*$H28*$X28*$Y28),$D28)*$R28","v":0},{"$f":"MIN((IFERROR(IF(AND($V28<=AC$1,$W28>=AC$1),INDEX(Reliability!H$23:H$50,MATCH($S28,Reliability!$C$23:$C$50,0)),0),0)*IF($T28=\"n/a\",$D28*$Y28,$G28)+IFERROR(IF(AND($V28<=AC$1,$W28>=AC$1),INDEX(Reliability!H$23:H$50,MATCH($T28,Reliability!$C$23:$C$50,0)),0),0)*$H28*$X28*$Y28),$D28)*$R28","v":0},{"$f":"MIN((IFERROR(IF(AND($V28<=AD$1,$W28>=AD$1),INDEX(Reliability!I$23:I$50,MATCH($S28,Reliability!$C$23:$C$50,0)),0),0)*IF($T28=\"n/a\",$D28*$Y28,$G28)+IFERROR(IF(AND($V28<=AD$1,$W28>=AD$1),INDEX(Reliability!I$23:I$50,MATCH($T28,Reliability!$C$23:$C$50,0)),0),0)*$H28*$X28*$Y28),$D28)*$R28","v":0},{"$f":"MIN((IFERROR(IF(AND($V28<=AE$1,$W28>=AE$1),INDEX(Reliability!J$23:J$50,MATCH($S28,Reliability!$C$23:$C$50,0)),0),0)*IF($T28=\"n/a\",$D28*$Y28,$G28)+IFERROR(IF(AND($V28<=AE$1,$W28>=AE$1),INDEX(Reliability!J$23:J$50,MATCH($T28,Reliability!$C$23:$C$50,0)),0),0)*$H28*$X28*$Y28),$D28)*$R28","v":0},{"$f":"MIN((IFERROR(IF(AND($V28<=AF$1,$W28>=AF$1),INDEX(Reliability!K$23:K$50,MATCH($S28,Reliability!$C$23:$C$50,0)),0),0)*IF($T28=\"n/a\",$D28*$Y28,$G28)+IFERROR(IF(AND($V28<=AF$1,$W28>=AF$1),INDEX(Reliability!K$23:K$50,MATCH($T28,Reliability!$C$23:$C$50,0)),0),0)*$H28*$X28*$Y28),$D28)*$R28","v":0},{"$f":"MIN((IFERROR(IF(AND($V28<=AG$1,$W28>=AG$1),INDEX(Reliability!L$23:L$50,MATCH($S28,Reliability!$C$23:$C$50,0)),0),0)*IF($T28=\"n/a\",$D28*$Y28,$G28)+IFERROR(IF(AND($V28<=AG$1,$W28>=AG$1),INDEX(Reliability!L$23:L$50,MATCH($T28,Reliability!$C$23:$C$50,0)),0),0)*$H28*$X28*$Y28),$D28)*$R28","v":0},{"$f":"MIN((IFERROR(IF(AND($V28<=AH$1,$W28>=AH$1),INDEX(Reliability!M$23:M$50,MATCH($S28,Reliability!$C$23:$C$50,0)),0),0)*IF($T28=\"n/a\",$D28*$Y28,$G28)+IFERROR(IF(AND($V28<=AH$1,$W28>=AH$1),INDEX(Reliability!M$23:M$50,MATCH($T28,Reliability!$C$23:$C$50,0)),0),0)*$H28*$X28*$Y28),$D28)*$R28","v":0},{"$f":"MIN((IFERROR(IF(AND($V28<=AI$1,$W28>=AI$1),INDEX(Reliability!N$23:N$50,MATCH($S28,Reliability!$C$23:$C$50,0)),0),0)*IF($T28=\"n/a\",$D28*$Y28,$G28)+IFERROR(IF(AND($V28<=AI$1,$W28>=AI$1),INDEX(Reliability!N$23:N$50,MATCH($T28,Reliability!$C$23:$C$50,0)),0),0)*$H28*$X28*$Y28),$D28)*$R28","v":0},{"$f":"MIN((IFERROR(IF(AND($V28<=AJ$1,$W28>=AJ$1),INDEX(Reliability!O$23:O$50,MATCH($S28,Reliability!$C$23:$C$50,0)),0),0)*IF($T28=\"n/a\",$D28*$Y28,$G28)+IFERROR(IF(AND($V28<=AJ$1,$W28>=AJ$1),INDEX(Reliability!O$23:O$50,MATCH($T28,Reliability!$C$23:$C$50,0)),0),0)*$H28*$X28*$Y28),$D28)*$R28","v":0},{"$f":"MIN((IFERROR(IF(AND($V28<=AK$1,$W28>=AK$1),INDEX(Reliability!P$23:P$50,MATCH($S28,Reliability!$C$23:$C$50,0)),0),0)*IF($T28=\"n/a\",$D28*$Y28,$G28)+IFERROR(IF(AND($V28<=AK$1,$W28>=AK$1),INDEX(Reliability!P$23:P$50,MATCH($T28,Reliability!$C$23:$C$50,0)),0),0)*$H28*$X28*$Y28),$D28)*$R28","v":0}]
[null,{"$f":"unique_contracts!B29","v":"DRACKR_2_SOLAR1"},{"$f":"unique_contracts!D29","v":"Online"},{"$f":"unique_contracts!J29","v":110},{"$f":"unique_contracts!M29","v":0},{"$f":"unique_contracts!N29","v":0},{"$f":"unique_contracts!P29","v":0},{"$f":"unique_contracts!R29","v":0},{"$f":"unique_contracts!V29","v":0},null,{"$f":"unique_contracts!AM29","v":2020},{"$f":"unique_contracts!AN29","v":1},{"$f":"unique_contracts!AO29","v":1},{"$f":"unique_contracts!AP29","v":2024},{"$f":"unique_contracts!AQ29","v":12},{"$f":"unique_contracts!AR29","v":31},{"$f":"unique_contracts!BP29","v":"CapacityOnly"},1,{"$f":"IFERROR(IF(AND(I29>0,E29=\"NotHybrid\"),_xlfn.CONCAT(MAX(MIN(ROUNDDOWN(I29/D29,0),8),4),INDEX(resources!$G:$G,MATCH(B29,resources!$A:$A,0))),INDEX(resources!$G:$G,MATCH(B29,resources!$A:$A,0))),\"n/a\")","v":"utility_pv"},"n/a","utility_pv",2020,2024,1,1,{"$f":"MIN((IFERROR(IF(AND($V29<=Z$1,$W29>=Z$1),INDEX(Reliability!E$23:E$50,MATCH($S29,Reliability!$C$23:$C$50,0)),0),0)*IF($T29=\"n/a\",$D29*$Y29,$G29)+IFERROR(IF(AND($V29<=Z$1,$W29>=Z$1),INDEX(Reliability!E$23:E$50,MATCH($T29,Reliability!$C$23:$C$50,0)),0),0)*$H29*$X29*$Y29),$D29)*$R29","v":10.56},{"$f":"MIN((IFERROR(IF(AND($V29<=AA$1,$W29>=AA$1),INDEX(Reliability!F$23:F$50,MATCH($S29,Reliability!$C$23:$C$50,0)),0),0)*IF($T29=\"n/a\",$D29*$Y29,$G29)+IFERROR(IF(AND($V29<=AA$1,$W29>=AA$1),INDEX(Reliability!F$23:F$50,MATCH($T29,Reliability!$C$23:$C$50,0)),0),0)*$H29*$X29*$Y29),$D29)*$R29","v":0},{"$f":"MIN((IFERROR(IF(AND($V29<=AB$1,$W29>=AB$1),INDEX(Reliability!G$23:G$50,MATCH($S29,Reliability!$C$23:$C$50,0)),0),0)*IF($T29=\"n/a\",$D29*$Y29,$G29)+IFERROR(IF(AND($V29<=AB$1,$W29>=AB$1),INDEX(Reliability!G$23:G$50,MATCH($T29,Reliability!$C$23:$C$50,0)),0),0)*$H29*$X29*$Y29),$D29)*$R29","v":0},{"$f":"MIN((IFERROR(IF(AND($V29<=AC$1,$W29>=AC$1),INDEX(Reliability!H$23:H$50,MATCH($S29,Reliability!$C$23:$C$50,0)),0),0)*IF($T29=\"n/a\",$D29*$Y29,$G29)+IFERROR(IF(AND($V29<=AC$1,$W29>=AC$1),INDEX(Reliability!H$23:H$50,MATCH($T29,Reliability!$C$23:$C$50,0)),0),0)*$H29*$X29*$Y29),$D29)*$R29","v":0},{"$f":"MIN((IFERROR(IF(AND($V29<=AD$1,$W29>=AD$1),INDEX(Reliability!I$23:I$50,MATCH($S29,Reliability!$C$23:$C$50,0)),0),0)*IF($T29=\"n/a\",$D29*$Y29,$G29)+IFERROR(IF(AND($V29<=AD$1,$W29>=AD$1),INDEX(Reliability!I$23:I$50,MATCH($T29,Reliability!$C$23:$C$50,0)),0),0)*$H29*$X29*$Y29),$D29)*$R29","v":0},{"$f":"MIN((IFERROR(IF(AND($V29<=AE$1,$W29>=AE$1),INDEX(Reliability!J$23:J$50,MATCH($S29,Reliability!$C$23:$C$50,0)),0),0)*IF($T29=\"n/a\",$D29*$Y29,$G29)+IFERROR(IF(AND($V29<=AE$1,$W29>=AE$1),INDEX(Reliability!J$23:J$50,MATCH($T29,Reliability!$C$23:$C$50,0)),0),0)*$H29*$X29*$Y29),$D29)*$R29","v":0},{"$f":"MIN((IFERROR(IF(AND($V29<=AF$1,$W29>=AF$1),INDEX(Reliability!K$23:K$50,MATCH($S29,Reliability!$C$23:$C$50,0)),0),0)*IF($T29=\"n/a\",$D29*$Y29,$G29)+IFERROR(IF(AND($V29<=AF$1,$W29>=AF$1),INDEX(Reliability!K$23:K$50,MATCH($T29,Reliability!$C$23:$C$50,0)),0),0)*$H29*$X29*$Y29),$D29)*$R29","v":0},{"$f":"MIN((IFERROR(IF(AND($V29<=AG$1,$W29>=AG$1),INDEX(Reliability!L$23:L$50,MATCH($S29,Reliability!$C$23:$C$50,0)),0),0)*IF($T29=\"n/a\",$D29*$Y29,$G29)+IFERROR(IF(AND($V29<=AG$1,$W29>=AG$1),INDEX(Reliability!L$23:L$50,MATCH($T29,Reliability!$C$23:$C$50,0)),0),0)*$H29*$X29*$Y29),$D29)*$R29","v":0},{"$f":"MIN((IFERROR(IF(AND($V29<=AH$1,$W29>=AH$1),INDEX(Reliability!M$23:M$50,MATCH($S29,Reliability!$C$23:$C$50,0)),0),0)*IF($T29=\"n/a\",$D29*$Y29,$G29)+IFERROR(IF(AND($V29<=AH$1,$W29>=AH$1),INDEX(Reliability!M$23:M$50,MATCH($T29,Reliability!$C$23:$C$50,0)),0),0)*$H29*$X29*$Y29),$D29)*$R29","v":0},{"$f":"MIN((IFERROR(IF(AND($V29<=AI$1,$W29>=AI$1),INDEX(Reliability!N$23:N$50,MATCH($S29,Reliability!$C$23:$C$50,0)),0),0)*IF($T29=\"n/a\",$D29*$Y29,$G29)+IFERROR(IF(AND($V29<=AI$1,$W29>=AI$1),INDEX(Reliability!N$23:N$50,MATCH($T29,Reliability!$C$23:$C$50,0)),0),0)*$H29*$X29*$Y29),$D29)*$R29","v":0},{"$f":"MIN((IFERROR(IF(AND($V29<=AJ$1,$W29>=AJ$1),INDEX(Reliability!O$23:O$50,MATCH($S29,Reliability!$C$23:$C$50,0)),0),0)*IF($T29=\"n/a\",$D29*$Y29,$G29)+IFERROR(IF(AND($V29<=AJ$1,$W29>=AJ$1),INDEX(Reliability!O$23:O$50,MATCH($T29,Reliability!$C$23:$C$50,0)),0),0)*$H29*$X29*$Y29),$D29)*$R29","v":0},{"$f":"MIN((IFERROR(IF(AND($V29<=AK$1,$W29>=AK$1),INDEX(Reliability!P$23:P$50,MATCH($S29,Reliability!$C$23:$C$50,0)),0),0)*IF($T29=\"n/a\",$D29*$Y29,$G29)+IFERROR(IF(AND($V29<=AK$1,$W29>=AK$1),INDEX(Reliability!P$23:P$50,MATCH($T29,Reliability!$C$23:$C$50,0)),0),0)*$H29*$X29*$Y29),$D29)*$R29","v":0}]
[null,{"$f":"unique_contracts!B30","v":"LASSEN_6_UNITS"},{"$f":"unique_contracts!D30","v":"Online"},{"$f":"unique_contracts!J30","v":30},{"$f":"unique_contracts!M30","v":0},{"$f":"unique_contracts!N30","v":0},{"$f":"unique_contracts!P30","v":0},{"$f":"unique_contracts!R30","v":0},{"$f":"unique_contracts!V30","v":0},null,{"$f":"unique_contracts!AM30","v":2020},{"$f":"unique_contracts!AN30","v":1},{"$f":"unique_contracts!AO30","v":1},{"$f":"unique_contracts!AP30","v":2024},{"$f":"unique_contracts!AQ30","v":9},{"$f":"unique_contracts!AR30","v":30},{"$f":"unique_contracts!BP30","v":"CapacityOnly"},1,{"$f":"IFERROR(IF(AND(I30>0,E30=\"NotHybrid\"),_xlfn.CONCAT(MAX(MIN(ROUNDDOWN(I30/D30,0),8),4),INDEX(resources!$G:$G,MATCH(B30,resources!$A:$A,0))),INDEX(resources!$G:$G,MATCH(B30,resources!$A:$A,0))),\"n/a\")","v":"biomass_wood"},"n/a","biomass_wood",2020,2023,1,1,{"$f":"MIN((IFERROR(IF(AND($V30<=Z$1,$W30>=Z$1),INDEX(Reliability!E$23:E$50,MATCH($S30,Reliability!$C$23:$C$50,0)),0),0)*IF($T30=\"n/a\",$D30*$Y30,$G30)+IFERROR(IF(AND($V30<=Z$1,$W30>=Z$1),INDEX(Reliability!E$23:E$50,MATCH($T30,Reliability!$C$23:$C$50,0)),0),0)*$H30*$X30*$Y30),$D30)*$R30","v":0},{"$f":"MIN((IFERROR(IF(AND($V30<=AA$1,$W30>=AA$1),INDEX(Reliability!F$23:F$50,MATCH($S30,Reliability!$C$23:$C$50,0)),0),0)*IF($T30=\"n/a\",$D30*$Y30,$G30)+IFERROR(IF(AND($V30<=AA$1,$W30>=AA$1),INDEX(Reliability!F$23:F$50,MATCH($T30,Reliability!$C$23:$C$50,0)),0),0)*$H30*$X30*$Y30),$D30)*$R30","v":0},{"$f":"MIN((IFERROR(IF(AND($V30<=AB$1,$W30>=AB$1),INDEX(Reliability!G$23:G$50,MATCH($S30,Reliability!$C$23:$C$50,0)),0),0)*IF($T30=\"n/a\",$D30*$Y30,$G30)+IFERROR(IF(AND($V30<=AB$1,$W30>=AB$1),INDEX(Reliability!G$23:G$50,MATCH($T30,Reliability!$C$23:$C$50,0)),0),0)*$H30*$X30*$Y30),$D30)*$R30","v":0},{"$f":"MIN((IFERROR(IF(AND($V30<=AC$1,$W30>=AC$1),INDEX(Reliability!H$23:H$50,MATCH($S30,Reliability!$C$23:$C$50,0)),0),0)*IF($T30=\"n/a\",$D30*$Y30,$G30)+IFERROR(IF(AND($V30<=AC$1,$W30>=AC$1),INDEX(Reliability!H$23:H$50,MATCH($T30,Reliability!$C$23:$C$50,0)),0),0)*$H30*$X30*$Y30),$D30)*$R30","v":0},{"$f":"MIN((IFERROR(IF(AND($V30<=AD$1,$W30>=AD$1),INDEX(Reliability!I$23:I$50,MATCH($S30,Reliability!$C$23:$C$50,0)),0),0)*IF($T30=\"n/a\",$D30*$Y30,$G30)+IFERROR(IF(AND($V30<=AD$1,$W30>=AD$1),INDEX(Reliability!I$23:I$50,MATCH($T30,Reliability!$C$23:$C$50,0)),0),0)*$H30*$X30*$Y30),$D30)*$R30","v":0},{"$f":"MIN((IFERROR(IF(AND($V30<=AE$1,$W30>=AE$1),INDEX(Reliability!J$23:J$50,MATCH($S30,Reliability!$C$23:$C$50,0)),0),0)*IF($T30=\"n/a\",$D30*$Y30,$G30)+IFERROR(IF(AND($V30<=AE$1,$W30>=AE$1),INDEX(Reliability!J$23:J$50,MATCH($T30,Reliability!$C$23:$C$50,0)),0),0)*$H30*$X30*$Y30),$D30)*$R30","v":0},{"$f":"MIN((IFERROR(IF(AND($V30<=AF$1,$W30>=AF$1),INDEX(Reliability!K$23:K$50,MATCH($S30,Reliability!$C$23:$C$50,0)),0),0)*IF($T30=\"n/a\",$D30*$Y30,$G30)+IFERROR(IF(AND($V30<=AF$1,$W30>=AF$1),INDEX(Reliability!K$23:K$50,MATCH($T30,Reliability!$C$23:$C$50,0)),0),0)*$H30*$X30*$Y30),$D30)*$R30","v":0},{"$f":"MIN((IFERROR(IF(AND($V30<=AG$1,$W30>=AG$1),INDEX(Reliability!L$23:L$50,MATCH($S30,Reliability!$C$23:$C$50,0)),0),0)*IF($T30=\"n/a\",$D30*$Y30,$G30)+IFERROR(IF(AND($V30<=AG$1,$W30>=AG$1),INDEX(Reliability!L$23:L$50,MATCH($T30,Reliability!$C$23:$C$50,0)),0),0)*$H30*$X30*$Y30),$D30)*$R30","v":0},{"$f":"MIN((IFERROR(IF(AND($V30<=AH$1,$W30>=AH$1),INDEX(Reliability!M$23:M$50,MATCH($S30,Reliability!$C$23:$C$50,0)),0),0)*IF($T30=\"n/a\",$D30*$Y30,$G30)+IFERROR(IF(AND($V30<=AH$1,$W30>=AH$1),INDEX(Reliability!M$23:M$50,MATCH($T30,Reliability!$C$23:$C$50,0)),0),0)*$H30*$X30*$Y30),$D30)*$R30","v":0},{"$f":"MIN((IFERROR(IF(AND($V30<=AI$1,$W30>=AI$1),INDEX(Reliability!N$23:N$50,MATCH($S30,Reliability!$C$23:$C$50,0)),0),0)*IF($T30=\"n/a\",$D30*$Y30,$G30)+IFERROR(IF(AND($V30<=AI$1,$W30>=AI$1),INDEX(Reliability!N$23:N$50,MATCH($T30,Reliability!$C$23:$C$50,0)),0),0)*$H30*$X30*$Y30),$D30)*$R30","v":0},{"$f":"MIN((IFERROR(IF(AND($V30<=AJ$1,$W30>=AJ$1),INDEX(Reliability!O$23:O$50,MATCH($S30,Reliability!$C$23:$C$50,0)),0),0)*IF($T30=\"n/a\",$D30*$Y30,$G30)+IFERROR(IF(AND($V30<=AJ$1,$W30>=AJ$1),INDEX(Reliability!O$23:O$50,MATCH($T30,Reliability!$C$23:$C$50,0)),0),0)*$H30*$X30*$Y30),$D30)*$R30","v":0},{"$f":"MIN((IFERROR(IF(AND($V30<=AK$1,$W30>=AK$1),INDEX(Reliability!P$23:P$50,MATCH($S30,Reliability!$C$23:$C$50,0)),0),0)*IF($T30=\"n/a\",$D30*$Y30,$G30)+IFERROR(IF(AND($V30<=AK$1,$W30>=AK$1),INDEX(Reliability!P$23:P$50,MATCH($T30,Reliability!$C$23:$C$50,0)),0),0)*$H30*$X30*$Y30),$D30)*$R30","v":0}]
[null,{"$f":"unique_contracts!B31","v":"TERMEX_2_PL1X3"},{"$f":"unique_contracts!D31","v":"Online"},{"$f":"unique_contracts!J31","v":50},{"$f":"unique_contracts!M31","v":0},{"$f":"unique_contracts!N31","v":0},{"$f":"unique_contracts!P31","v":0},{"$f":"unique_contracts!R31","v":0},{"$f":"unique_contracts!V31","v":0},null,{"$f":"unique_contracts!AM31","v":2024},{"$f":"unique_contracts!AN31","v":1},{"$f":"unique_contracts!AO31","v":1},{"$f":"unique_contracts!AP31","v":2025},{"$f":"unique_contracts!AQ31","v":12},{"$f":"unique_contracts!AR31","v":31},{"$f":"unique_contracts!BP31","v":"CapacityOnly"},1,{"$f":"IFERROR(IF(AND(I31>0,E31=\"NotHybrid\"),_xlfn.CONCAT(MAX(MIN(ROUNDDOWN(I31/D31,0),8),4),INDEX(resources!$G:$G,MATCH(B31,resources!$A:$A,0))),INDEX(resources!$G:$G,MATCH(B31,resources!$A:$A,0))),\"n/a\")","v":"gas_cc"},"n/a","gas_cc",2024,2025,1,1,{"$f":"MIN((IFERROR(IF(AND($V31<=Z$1,$W31>=Z$1),INDEX(Reliability!E$23:E$50,MATCH($S31,Reliability!$C$23:$C$50,0)),0),0)*IF($T31=\"n/a\",$D31*$Y31,$G31)+IFERROR(IF(AND($V31<=Z$1,$W31>=Z$1),INDEX(Reliability!E$23:E$50,MATCH($T31,Reliability!$C$23:$C$50,0)),0),0)*$H31*$X31*$Y31),$D31)*$R31","v":42.407378987437767},{"$f":"MIN((IFERROR(IF(AND($V31<=AA$1,$W31>=AA$1),INDEX(Reliability!F$23:F$50,MATCH($S31,Reliability!$C$23:$C$50,0)),0),0)*IF($T31=\"n/a\",$D31*$Y31,$G31)+IFERROR(IF(AND($V31<=AA$1,$W31>=AA$1),INDEX(Reliability!F$23:F$50,MATCH($T31,Reliability!$C$23:$C$50,0)),0),0)*$H31*$X31*$Y31),$D31)*$R31","v":43.131943504980953},{"$f":"MIN((IFERROR(IF(AND($V31<=AB$1,$W31>=AB$1),INDEX(Reliability!G$23:G$50,MATCH($S31,Reliability!$C$23:$C$50,0)),0),0)*IF($T31=\"n/a\",$D31*$Y31,$G31)+IFERROR(IF(AND($V31<=AB$1,$W31>=AB$1),INDEX(Reliability!G$23:G$50,MATCH($T31,Reliability!$C$23:$C$50,0)),0),0)*$H31*$X31*$Y31),$D31)*$R31","v":0},{"$f":"MIN((IFERROR(IF(AND($V31<=AC$1,$W31>=AC$1),INDEX(Reliability!H$23:H$50,MATCH($S31,Reliability!$C$23:$C$50,0)),0),0)*IF($T31=\"n/a\",$D31*$Y31,$G31)+IFERROR(IF(AND($V31<=AC$1,$W31>=AC$1),INDEX(Reliability!H$23:H$50,MATCH($T31,Reliability!$C$23:$C$50,0)),0),0)*$H31*$X31*$Y31),$D31)*$R31","v":0},{"$f":"MIN((IFERROR(IF(AND($V31<=AD$1,$W31>=AD$1),INDEX(Reliability!I$23:I$50,MATCH($S31,Reliability!$C$23:$C$50,0)),0),0)*IF($T31=\"n/a\",$D31*$Y31,$G31)+IFERROR(IF(AND($V31<=AD$1,$W31>=AD$1),INDEX(Reliability!I$23:I$50,MATCH($T31,Reliability!$C$23:$C$50,0)),0),0)*$H31*$X31*$Y31),$D31)*$R31","v":0},{"$f":"MIN((IFERROR(IF(AND($V31<=AE$1,$W31>=AE$1),INDEX(Reliability!J$23:J$50,MATCH($S31,Reliability!$C$23:$C$50,0)),0),0)*IF($T31=\"n/a\",$D31*$Y31,$G31)+IFERROR(IF(AND($V31<=AE$1,$W31>=AE$1),INDEX(Reliability!J$23:J$50,MATCH($T31,Reliability!$C$23:$C$50,0)),0),0)*$H31*$X31*$Y31),$D31)*$R31","v":0},{"$f":"MIN((IFERROR(IF(AND($V31<=AF$1,$W31>=AF$1),INDEX(Reliability!K$23:K$50,MATCH($S31,Reliability!$C$23:$C$50,0)),0),0)*IF($T31=\"n/a\",$D31*$Y31,$G31)+IFERROR(IF(AND($V31<=AF$1,$W31>=AF$1),INDEX(Reliability!K$23:K$50,MATCH($T31,Reliability!$C$23:$C$50,0)),0),0)*$H31*$X31*$Y31),$D31)*$R31","v":0},{"$f":"MIN((IFERROR(IF(AND($V31<=AG$1,$W31>=AG$1),INDEX(Reliability!L$23:L$50,MATCH($S31,Reliability!$C$23:$C$50,0)),0),0)*IF($T31=\"n/a\",$D31*$Y31,$G31)+IFERROR(IF(AND($V31<=AG$1,$W31>=AG$1),INDEX(Reliability!L$23:L$50,MATCH($T31,Reliability!$C$23:$C$50,0)),0),0)*$H31*$X31*$Y31),$D31)*$R31","v":0},{"$f":"MIN((IFERROR(IF(AND($V31<=AH$1,$W31>=AH$1),INDEX(Reliability!M$23:M$50,MATCH($S31,Reliability!$C$23:$C$50,0)),0),0)*IF($T31=\"n/a\",$D31*$Y31,$G31)+IFERROR(IF(AND($V31<=AH$1,$W31>=AH$1),INDEX(Reliability!M$23:M$50,MATCH($T31,Reliability!$C$23:$C$50,0)),0),0)*$H31*$X31*$Y31),$D31)*$R31","v":0},{"$f":"MIN((IFERROR(IF(AND($V31<=AI$1,$W31>=AI$1),INDEX(Reliability!N$23:N$50,MATCH($S31,Reliability!$C$23:$C$50,0)),0),0)*IF($T31=\"n/a\",$D31*$Y31,$G31)+IFERROR(IF(AND($V31<=AI$1,$W31>=AI$1),INDEX(Reliability!N$23:N$50,MATCH($T31,Reliability!$C$23:$C$50,0)),0),0)*$H31*$X31*$Y31),$D31)*$R31","v":0},{"$f":"MIN((IFERROR(IF(AND($V31<=AJ$1,$W31>=AJ$1),INDEX(Reliability!O$23:O$50,MATCH($S31,Reliability!$C$23:$C$50,0)),0),0)*IF($T31=\"n/a\",$D31*$Y31,$G31)+IFERROR(IF(AND($V31<=AJ$1,$W31>=AJ$1),INDEX(Reliability!O$23:O$50,MATCH($T31,Reliability!$C$23:$C$50,0)),0),0)*$H31*$X31*$Y31),$D31)*$R31","v":0},{"$f":"MIN((IFERROR(IF(AND($V31<=AK$1,$W31>=AK$1),INDEX(Reliability!P$23:P$50,MATCH($S31,Reliability!$C$23:$C$50,0)),0),0)*IF($T31=\"n/a\",$D31*$Y31,$G31)+IFERROR(IF(AND($V31<=AK$1,$W31>=AK$1),INDEX(Reliability!P$23:P$50,MATCH($T31,Reliability!$C$23:$C$50,0)),0),0)*$H31*$X31*$Y31),$D31)*$R31","v":0}]
[null,{"$f":"unique_contracts!B32","v":"TERMEX_2_PL1X3"},{"$f":"unique_contracts!D32","v":"Online"},{"$f":"unique_contracts!J32","v":50},{"$f":"unique_contracts!M32","v":0},{"$f":"unique_contracts!N32","v":0},{"$f":"unique_contracts!P32","v":0},{"$f":"unique_contracts!R32","v":0},{"$f":"unique_contracts!V32","v":0},null,{"$f":"unique_contracts!AM32","v":2024},{"$f":"unique_contracts!AN32","v":1},{"$f":"unique_contracts!AO32","v":1},{"$f":"unique_contracts!AP32","v":2025},{"$f":"unique_contracts!AQ32","v":12},{"$f":"unique_contracts!AR32","v":31},{"$f":"unique_contracts!BP32","v":"CapacityOnly"},1,{"$f":"IFERROR(IF(AND(I32>0,E32=\"NotHybrid\"),_xlfn.CONCAT(MAX(MIN(ROUNDDOWN(I32/D32,0),8),4),INDEX(resources!$G:$G,MATCH(B32,resources!$A:$A,0))),INDEX(resources!$G:$G,MATCH(B32,resources!$A:$A,0))),\"n/a\")","v":"gas_cc"},"n/a","gas_cc",2024,2025,1,1,{"$f":"MIN((IFERROR(IF(AND($V32<=Z$1,$W32>=Z$1),INDEX(Reliability!E$23:E$50,MATCH($S32,Reliability!$C$23:$C$50,0)),0),0)*IF($T32=\"n/a\",$D32*$Y32,$G32)+IFERROR(IF(AND($V32<=Z$1,$W32>=Z$1),INDEX(Reliability!E$23:E$50,MATCH($T32,Reliability!$C$23:$C$50,0)),0),0)*$H32*$X32*$Y32),$D32)*$R32","v":42.407378987437767},{"$f":"MIN((IFERROR(IF(AND($V32<=AA$1,$W32>=AA$1),INDEX(Reliability!F$23:F$50,MATCH($S32,Reliability!$C$23:$C$50,0)),0),0)*IF($T32=\"n/a\",$D32*$Y32,$G32)+IFERROR(IF(AND($V32<=AA$1,$W32>=AA$1),INDEX(Reliability!F$23:F$50,MATCH($T32,Reliability!$C$23:$C$50,0)),0),0)*$H32*$X32*$Y32),$D32)*$R32","v":43.131943504980953},{"$f":"MIN((IFERROR(IF(AND($V32<=AB$1,$W32>=AB$1),INDEX(Reliability!G$23:G$50,MATCH($S32,Reliability!$C$23:$C$50,0)),0),0)*IF($T32=\"n/a\",$D32*$Y32,$G32)+IFERROR(IF(AND($V32<=AB$1,$W32>=AB$1),INDEX(Reliability!G$23:G$50,MATCH($T32,Reliability!$C$23:$C$50,0)),0),0)*$H32*$X32*$Y32),$D32)*$R32","v":0},{"$f":"MIN((IFERROR(IF(AND($V32<=AC$1,$W32>=AC$1),INDEX(Reliability!H$23:H$50,MATCH($S32,Reliability!$C$23:$C$50,0)),0),0)*IF($T32=\"n/a\",$D32*$Y32,$G32)+IFERROR(IF(AND($V32<=AC$1,$W32>=AC$1),INDEX(Reliability!H$23:H$50,MATCH($T32,Reliability!$C$23:$C$50,0)),0),0)*$H32*$X32*$Y32),$D32)*$R32","v":0},{"$f":"MIN((IFERROR(IF(AND($V32<=AD$1,$W32>=AD$1),INDEX(Reliability!I$23:I$50,MATCH($S32,Reliability!$C$23:$C$50,0)),0),0)*IF($T32=\"n/a\",$D32*$Y32,$G32)+IFERROR(IF(AND($V32<=AD$1,$W32>=AD$1),INDEX(Reliability!I$23:I$50,MATCH($T32,Reliability!$C$23:$C$50,0)),0),0)*$H32*$X32*$Y32),$D32)*$R32","v":0},{"$f":"MIN((IFERROR(IF(AND($V32<=AE$1,$W32>=AE$1),INDEX(Reliability!J$23:J$50,MATCH($S32,Reliability!$C$23:$C$50,0)),0),0)*IF($T32=\"n/a\",$D32*$Y32,$G32)+IFERROR(IF(AND($V32<=AE$1,$W32>=AE$1),INDEX(Reliability!J$23:J$50,MATCH($T32,Reliability!$C$23:$C$50,0)),0),0)*$H32*$X32*$Y32),$D32)*$R32","v":0},{"$f":"MIN((IFERROR(IF(AND($V32<=AF$1,$W32>=AF$1),INDEX(Reliability!K$23:K$50,MATCH($S32,Reliability!$C$23:$C$50,0)),0),0)*IF($T32=\"n/a\",$D32*$Y32,$G32)+IFERROR(IF(AND($V32<=AF$1,$W32>=AF$1),INDEX(Reliability!K$23:K$50,MATCH($T32,Reliability!$C$23:$C$50,0)),0),0)*$H32*$X32*$Y32),$D32)*$R32","v":0},{"$f":"MIN((IFERROR(IF(AND($V32<=AG$1,$W32>=AG$1),INDEX(Reliability!L$23:L$50,MATCH($S32,Reliability!$C$23:$C$50,0)),0),0)*IF($T32=\"n/a\",$D32*$Y32,$G32)+IFERROR(IF(AND($V32<=AG$1,$W32>=AG$1),INDEX(Reliability!L$23:L$50,MATCH($T32,Reliability!$C$23:$C$50,0)),0),0)*$H32*$X32*$Y32),$D32)*$R32","v":0},{"$f":"MIN((IFERROR(IF(AND($V32<=AH$1,$W32>=AH$1),INDEX(Reliability!M$23:M$50,MATCH($S32,Reliability!$C$23:$C$50,0)),0),0)*IF($T32=\"n/a\",$D32*$Y32,$G32)+IFERROR(IF(AND($V32<=AH$1,$W32>=AH$1),INDEX(Reliability!M$23:M$50,MATCH($T32,Reliability!$C$23:$C$50,0)),0),0)*$H32*$X32*$Y32),$D32)*$R32","v":0},{"$f":"MIN((IFERROR(IF(AND($V32<=AI$1,$W32>=AI$1),INDEX(Reliability!N$23:N$50,MATCH($S32,Reliability!$C$23:$C$50,0)),0),0)*IF($T32=\"n/a\",$D32*$Y32,$G32)+IFERROR(IF(AND($V32<=AI$1,$W32>=AI$1),INDEX(Reliability!N$23:N$50,MATCH($T32,Reliability!$C$23:$C$50,0)),0),0)*$H32*$X32*$Y32),$D32)*$R32","v":0},{"$f":"MIN((IFERROR(IF(AND($V32<=AJ$1,$W32>=AJ$1),INDEX(Reliability!O$23:O$50,MATCH($S32,Reliability!$C$23:$C$50,0)),0),0)*IF($T32=\"n/a\",$D32*$Y32,$G32)+IFERROR(IF(AND($V32<=AJ$1,$W32>=AJ$1),INDEX(Reliability!O$23:O$50,MATCH($T32,Reliability!$C$23:$C$50,0)),0),0)*$H32*$X32*$Y32),$D32)*$R32","v":0},{"$f":"MIN((IFERROR(IF(AND($V32<=AK$1,$W32>=AK$1),INDEX(Reliability!P$23:P$50,MATCH($S32,Reliability!$C$23:$C$50,0)),0),0)*IF($T32=\"n/a\",$D32*$Y32,$G32)+IFERROR(IF(AND($V32<=AK$1,$W32>=AK$1),INDEX(Reliability!P$23:P$50,MATCH($T32,Reliability!$C$23:$C$50,0)),0),0)*$H32*$X32*$Y32),$D32)*$R32","v":0}]
[null,{"$f":"unique_contracts!B33","v":"_EXISTING_GENERIC_COGEN"},{"$f":"unique_contracts!D33","v":"Online"},{"$f":"unique_contracts!J33","v":50},{"$f":"unique_contracts!M33","v":0},{"$f":"unique_contracts!N33","v":0},{"$f":"unique_contracts!P33","v":0},{"$f":"unique_contracts!R33","v":0},{"$f":"unique_contracts!V33","v":0},null,{"$f":"unique_contracts!AM33","v":2023},{"$f":"unique_contracts!AN33","v":1},{"$f":"unique_contracts!AO33","v":1},{"$f":"unique_contracts!AP33","v":2025},{"$f":"unique_contracts!AQ33","v":12},{"$f":"unique_contracts!AR33","v":31},{"$f":"unique_contracts!BP33","v":"CapacityOnly"},1,{"$f":"IFERROR(IF(AND(I33>0,E33=\"NotHybrid\"),_xlfn.CONCAT(MAX(MIN(ROUNDDOWN(I33/D33,0),8),4),INDEX(resources!$G:$G,MATCH(B33,resources!$A:$A,0))),INDEX(resources!$G:$G,MATCH(B33,resources!$A:$A,0))),\"n/a\")","v":"cogen"},"n/a","cogen",2023,2025,1,1,{"$f":"MIN((IFERROR(IF(AND($V33<=Z$1,$W33>=Z$1),INDEX(Reliability!E$23:E$50,MATCH($S33,Reliability!$C$23:$C$50,0)),0),0)*IF($T33=\"n/a\",$D33*$Y33,$G33)+IFERROR(IF(AND($V33<=Z$1,$W33>=Z$1),INDEX(Reliability!E$23:E$50,MATCH($T33,Reliability!$C$23:$C$50,0)),0),0)*$H33*$X33*$Y33),$D33)*$R33","v":44.755297935097573},{"$f":"MIN((IFERROR(IF(AND($V33<=AA$1,$W33>=AA$1),INDEX(Reliability!F$23:F$50,MATCH($S33,Reliability!$C$23:$C$50,0)),0),0)*IF($T33=\"n/a\",$D33*$Y33,$G33)+IFERROR(IF(AND($V33<=AA$1,$W33>=AA$1),INDEX(Reliability!F$23:F$50,MATCH($T33,Reliability!$C$23:$C$50,0)),0),0)*$H33*$X33*$Y33),$D33)*$R33","v":46.040461802020161},{"$f":"MIN((IFERROR(IF(AND($V33<=AB$1,$W33>=AB$1),INDEX(Reliability!G$23:G$50,MATCH($S33,Reliability!$C$23:$C$50,0)),0),0)*IF($T33=\"n/a\",$D33*$Y33,$G33)+IFERROR(IF(AND($V33<=AB$1,$W33>=AB$1),INDEX(Reliability!G$23:G$50,MATCH($T33,Reliability!$C$23:$C$50,0)),0),0)*$H33*$X33*$Y33),$D33)*$R33","v":0},{"$f":"MIN((IFERROR(IF(AND($V33<=AC$1,$W33>=AC$1),INDEX(Reliability!H$23:H$50,MATCH($S33,Reliability!$C$23:$C$50,0)),0),0)*IF($T33=\"n/a\",$D33*$Y33,$G33)+IFERROR(IF(AND($V33<=AC$1,$W33>=AC$1),INDEX(Reliability!H$23:H$50,MATCH($T33,Reliability!$C$23:$C$50,0)),0),0)*$H33*$X33*$Y33),$D33)*$R33","v":0},{"$f":"MIN((IFERROR(IF(AND($V33<=AD$1,$W33>=AD$1),INDEX(Reliability!I$23:I$50,MATCH($S33,Reliability!$C$23:$C$50,0)),0),0)*IF($T33=\"n/a\",$D33*$Y33,$G33)+IFERROR(IF(AND($V33<=AD$1,$W33>=AD$1),INDEX(Reliability!I$23:I$50,MATCH($T33,Reliability!$C$23:$C$50,0)),0),0)*$H33*$X33*$Y33),$D33)*$R33","v":0},{"$f":"MIN((IFERROR(IF(AND($V33<=AE$1,$W33>=AE$1),INDEX(Reliability!J$23:J$50,MATCH($S33,Reliability!$C$23:$C$50,0)),0),0)*IF($T33=\"n/a\",$D33*$Y33,$G33)+IFERROR(IF(AND($V33<=AE$1,$W33>=AE$1),INDEX(Reliability!J$23:J$50,MATCH($T33,Reliability!$C$23:$C$50,0)),0),0)*$H33*$X33*$Y33),$D33)*$R33","v":0},{"$f":"MIN((IFERROR(IF(AND($V33<=AF$1,$W33>=AF$1),INDEX(Reliability!K$23:K$50,MATCH($S33,Reliability!$C$23:$C$50,0)),0),0)*IF($T33=\"n/a\",$D33*$Y33,$G33)+IFERROR(IF(AND($V33<=AF$1,$W33>=AF$1),INDEX(Reliability!K$23:K$50,MATCH($T33,Reliability!$C$23:$C$50,0)),0),0)*$H33*$X33*$Y33),$D33)*$R33","v":0},{"$f":"MIN((IFERROR(IF(AND($V33<=AG$1,$W33>=AG$1),INDEX(Reliability!L$23:L$50,MATCH($S33,Reliability!$C$23:$C$50,0)),0),0)*IF($T33=\"n/a\",$D33*$Y33,$G33)+IFERROR(IF(AND($V33<=AG$1,$W33>=AG$1),INDEX(Reliability!L$23:L$50,MATCH($T33,Reliability!$C$23:$C$50,0)),0),0)*$H33*$X33*$Y33),$D33)*$R33","v":0},{"$f":"MIN((IFERROR(IF(AND($V33<=AH$1,$W33>=AH$1),INDEX(Reliability!M$23:M$50,MATCH($S33,Reliability!$C$23:$C$50,0)),0),0)*IF($T33=\"n/a\",$D33*$Y33,$G33)+IFERROR(IF(AND($V33<=AH$1,$W33>=AH$1),INDEX(Reliability!M$23:M$50,MATCH($T33,Reliability!$C$23:$C$50,0)),0),0)*$H33*$X33*$Y33),$D33)*$R33","v":0},{"$f":"MIN((IFERROR(IF(AND($V33<=AI$1,$W33>=AI$1),INDEX(Reliability!N$23:N$50,MATCH($S33,Reliability!$C$23:$C$50,0)),0),0)*IF($T33=\"n/a\",$D33*$Y33,$G33)+IFERROR(IF(AND($V33<=AI$1,$W33>=AI$1),INDEX(Reliability!N$23:N$50,MATCH($T33,Reliability!$C$23:$C$50,0)),0),0)*$H33*$X33*$Y33),$D33)*$R33","v":0},{"$f":"MIN((IFERROR(IF(AND($V33<=AJ$1,$W33>=AJ$1),INDEX(Reliability!O$23:O$50,MATCH($S33,Reliability!$C$23:$C$50,0)),0),0)*IF($T33=\"n/a\",$D33*$Y33,$G33)+IFERROR(IF(AND($V33<=AJ$1,$W33>=AJ$1),INDEX(Reliability!O$23:O$50,MATCH($T33,Reliability!$C$23:$C$50,0)),0),0)*$H33*$X33*$Y33),$D33)*$R33","v":0},{"$f":"MIN((IFERROR(IF(AND($V33<=AK$1,$W33>=AK$1),INDEX(Reliability!P$23:P$50,MATCH($S33,Reliability!$C$23:$C$50,0)),0),0)*IF($T33=\"n/a\",$D33*$Y33,$G33)+IFERROR(IF(AND($V33<=AK$1,$W33>=AK$1),INDEX(Reliability!P$23:P$50,MATCH($T33,Reliability!$C$23:$C$50,0)),0),0)*$H33*$X33*$Y33),$D33)*$R33","v":0}]
[null,{"$f":"unique_contracts!B34","v":"_EXISTING_GENERIC_BIOMASS/WOOD"},{"$f":"unique_contracts!D34","v":"Online"},{"$f":"unique_contracts!J34","v":22},{"$f":"unique_contracts!M34","v":0},{"$f":"unique_contracts!N34","v":0},{"$f":"unique_contracts!P34","v":0},{"$f":"unique_contracts!R34","v":0},{"$f":"unique_contracts!V34","v":0},null,{"$f":"unique_contracts!AM34","v":2023},{"$f":"unique_contracts!AN34","v":1},{"$f":"unique_contracts!AO34","v":1},{"$f":"unique_contracts!AP34","v":2024},{"$f":"unique_contracts!AQ34","v":12},{"$f":"unique_contracts!AR34","v":31},{"$f":"unique_contracts!BP34","v":"EnergyOnly"},0,{"$f":"IFERROR(IF(AND(I34>0,E34=\"NotHybrid\"),_xlfn.CONCAT(MAX(MIN(ROUNDDOWN(I34/D34,0),8),4),INDEX(resources!$G:$G,MATCH(B34,resources!$A:$A,0))),INDEX(resources!$G:$G,MATCH(B34,resources!$A:$A,0))),\"n/a\")","v":"biomass_wood"},"n/a","biomass_wood",2023,2024,1,1,{"$f":"MIN((IFERROR(IF(AND($V34<=Z$1,$W34>=Z$1),INDEX(Reliability!E$23:E$50,MATCH($S34,Reliability!$C$23:$C$50,0)),0),0)*IF($T34=\"n/a\",$D34*$Y34,$G34)+IFERROR(IF(AND($V34<=Z$1,$W34>=Z$1),INDEX(Reliability!E$23:E$50,MATCH($T34,Reliability!$C$23:$C$50,0)),0),0)*$H34*$X34*$Y34),$D34)*$R34","v":0},{"$f":"MIN((IFERROR(IF(AND($V34<=AA$1,$W34>=AA$1),INDEX(Reliability!F$23:F$50,MATCH($S34,Reliability!$C$23:$C$50,0)),0),0)*IF($T34=\"n/a\",$D34*$Y34,$G34)+IFERROR(IF(AND($V34<=AA$1,$W34>=AA$1),INDEX(Reliability!F$23:F$50,MATCH($T34,Reliability!$C$23:$C$50,0)),0),0)*$H34*$X34*$Y34),$D34)*$R34","v":0},{"$f":"MIN((IFERROR(IF(AND($V34<=AB$1,$W34>=AB$1),INDEX(Reliability!G$23:G$50,MATCH($S34,Reliability!$C$23:$C$50,0)),0),0)*IF($T34=\"n/a\",$D34*$Y34,$G34)+IFERROR(IF(AND($V34<=AB$1,$W34>=AB$1),INDEX(Reliability!G$23:G$50,MATCH($T34,Reliability!$C$23:$C$50,0)),0),0)*$H34*$X34*$Y34),$D34)*$R34","v":0},{"$f":"MIN((IFERROR(IF(AND($V34<=AC$1,$W34>=AC$1),INDEX(Reliability!H$23:H$50,MATCH($S34,Reliability!$C$23:$C$50,0)),0),0)*IF($T34=\"n/a\",$D34*$Y34,$G34)+IFERROR(IF(AND($V34<=AC$1,$W34>=AC$1),INDEX(Reliability!H$23:H$50,MATCH($T34,Reliability!$C$23:$C$50,0)),0),0)*$H34*$X34*$Y34),$D34)*$R34","v":0},{"$f":"MIN((IFERROR(IF(AND($V34<=AD$1,$W34>=AD$1),INDEX(Reliability!I$23:I$50,MATCH($S34,Reliability!$C$23:$C$50,0)),0),0)*IF($T34=\"n/a\",$D34*$Y34,$G34)+IFERROR(IF(AND($V34<=AD$1,$W34>=AD$1),INDEX(Reliability!I$23:I$50,MATCH($T34,Reliability!$C$23:$C$50,0)),0),0)*$H34*$X34*$Y34),$D34)*$R34","v":0},{"$f":"MIN((IFERROR(IF(AND($V34<=AE$1,$W34>=AE$1),INDEX(Reliability!J$23:J$50,MATCH($S34,Reliability!$C$23:$C$50,0)),0),0)*IF($T34=\"n/a\",$D34*$Y34,$G34)+IFERROR(IF(AND($V34<=AE$1,$W34>=AE$1),INDEX(Reliability!J$23:J$50,MATCH($T34,Reliability!$C$23:$C$50,0)),0),0)*$H34*$X34*$Y34),$D34)*$R34","v":0},{"$f":"MIN((IFERROR(IF(AND($V34<=AF$1,$W34>=AF$1),INDEX(Reliability!K$23:K$50,MATCH($S34,Reliability!$C$23:$C$50,0)),0),0)*IF($T34=\"n/a\",$D34*$Y34,$G34)+IFERROR(IF(AND($V34<=AF$1,$W34>=AF$1),INDEX(Reliability!K$23:K$50,MATCH($T34,Reliability!$C$23:$C$50,0)),0),0)*$H34*$X34*$Y34),$D34)*$R34","v":0},{"$f":"MIN((IFERROR(IF(AND($V34<=AG$1,$W34>=AG$1),INDEX(Reliability!L$23:L$50,MATCH($S34,Reliability!$C$23:$C$50,0)),0),0)*IF($T34=\"n/a\",$D34*$Y34,$G34)+IFERROR(IF(AND($V34<=AG$1,$W34>=AG$1),INDEX(Reliability!L$23:L$50,MATCH($T34,Reliability!$C$23:$C$50,0)),0),0)*$H34*$X34*$Y34),$D34)*$R34","v":0},{"$f":"MIN((IFERROR(IF(AND($V34<=AH$1,$W34>=AH$1),INDEX(Reliability!M$23:M$50,MATCH($S34,Reliability!$C$23:$C$50,0)),0),0)*IF($T34=\"n/a\",$D34*$Y34,$G34)+IFERROR(IF(AND($V34<=AH$1,$W34>=AH$1),INDEX(Reliability!M$23:M$50,MATCH($T34,Reliability!$C$23:$C$50,0)),0),0)*$H34*$X34*$Y34),$D34)*$R34","v":0},{"$f":"MIN((IFERROR(IF(AND($V34<=AI$1,$W34>=AI$1),INDEX(Reliability!N$23:N$50,MATCH($S34,Reliability!$C$23:$C$50,0)),0),0)*IF($T34=\"n/a\",$D34*$Y34,$G34)+IFERROR(IF(AND($V34<=AI$1,$W34>=AI$1),INDEX(Reliability!N$23:N$50,MATCH($T34,Reliability!$C$23:$C$50,0)),0),0)*$H34*$X34*$Y34),$D34)*$R34","v":0},{"$f":"MIN((IFERROR(IF(AND($V34<=AJ$1,$W34>=AJ$1),INDEX(Reliability!O$23:O$50,MATCH($S34,Reliability!$C$23:$C$50,0)),0),0)*IF($T34=\"n/a\",$D34*$Y34,$G34)+IFERROR(IF(AND($V34<=AJ$1,$W34>=AJ$1),INDEX(Reliability!O$23:O$50,MATCH($T34,Reliability!$C$23:$C$50,0)),0),0)*$H34*$X34*$Y34),$D34)*$R34","v":0},{"$f":"MIN((IFERROR(IF(AND($V34<=AK$1,$W34>=AK$1),INDEX(Reliability!P$23:P$50,MATCH($S34,Reliability!$C$23:$C$50,0)),0),0)*IF($T34=\"n/a\",$D34*$Y34,$G34)+IFERROR(IF(AND($V34<=AK$1,$W34>=AK$1),INDEX(Reliability!P$23:P$50,MATCH($T34,Reliability!$C$23:$C$50,0)),0),0)*$H34*$X34*$Y34),$D34)*$R34","v":0}]
[null,{"$f":"unique_contracts!B35","v":"_EXISTING_GENERIC_INSTATE_LARGE_HYDRO"},{"$f":"unique_contracts!D35","v":"PlannedExisting"},{"$f":"unique_contracts!J35","v":71.91780821917807},{"$f":"unique_contracts!M35","v":0},{"$f":"unique_contracts!N35","v":0},{"$f":"unique_contracts!P35","v":0},{"$f":"unique_contracts!R35","v":0},{"$f":"unique_contracts!V35","v":0},null,{"$f":"unique_contracts!AM35","v":2020},{"$f":"unique_contracts!AN35","v":7},{"$f":"unique_contracts!AO35","v":1},{"$f":"unique_contracts!AP35","v":2040},{"$f":"unique_contracts!AQ35","v":12},{"$f":"unique_contracts!AR35","v":31},{"$f":"unique_contracts!BP35","v":"EnergyOnly"},0,{"$f":"IFERROR(IF(AND(I35>0,E35=\"NotHybrid\"),_xlfn.CONCAT(MAX(MIN(ROUNDDOWN(I35/D35,0),8),4),INDEX(resources!$G:$G,MATCH(B35,resources!$A:$A,0))),INDEX(resources!$G:$G,MATCH(B35,resources!$A:$A,0))),\"n/a\")","v":"hydro"},"n/a","hydro",2021,2040,1,1,{"$f":"MIN((IFERROR(IF(AND($V35<=Z$1,$W35>=Z$1),INDEX(Reliability!E$23:E$50,MATCH($S35,Reliability!$C$23:$C$50,0)),0),0)*IF($T35=\"n/a\",$D35*$Y35,$G35)+IFERROR(IF(AND($V35<=Z$1,$W35>=Z$1),INDEX(Reliability!E$23:E$50,MATCH($T35,Reliability!$C$23:$C$50,0)),0),0)*$H35*$X35*$Y35),$D35)*$R35","v":0},{"$f":"MIN((IFERROR(IF(AND($V35<=AA$1,$W35>=AA$1),INDEX(Reliability!F$23:F$50,MATCH($S35,Reliability!$C$23:$C$50,0)),0),0)*IF($T35=\"n/a\",$D35*$Y35,$G35)+IFERROR(IF(AND($V35<=AA$1,$W35>=AA$1),INDEX(Reliability!F$23:F$50,MATCH($T35,Reliability!$C$23:$C$50,0)),0),0)*$H35*$X35*$Y35),$D35)*$R35","v":0},{"$f":"MIN((IFERROR(IF(AND($V35<=AB$1,$W35>=AB$1),INDEX(Reliability!G$23:G$50,MATCH($S35,Reliability!$C$23:$C$50,0)),0),0)*IF($T35=\"n/a\",$D35*$Y35,$G35)+IFERROR(IF(AND($V35<=AB$1,$W35>=AB$1),INDEX(Reliability!G$23:G$50,MATCH($T35,Reliability!$C$23:$C$50,0)),0),0)*$H35*$X35*$Y35),$D35)*$R35","v":0},{"$f":"MIN((IFERROR(IF(AND($V35<=AC$1,$W35>=AC$1),INDEX(Reliability!H$23:H$50,MATCH($S35,Reliability!$C$23:$C$50,0)),0),0)*IF($T35=\"n/a\",$D35*$Y35,$G35)+IFERROR(IF(AND($V35<=AC$1,$W35>=AC$1),INDEX(Reliability!H$23:H$50,MATCH($T35,Reliability!$C$23:$C$50,0)),0),0)*$H35*$X35*$Y35),$D35)*$R35","v":0},{"$f":"MIN((IFERROR(IF(AND($V35<=AD$1,$W35>=AD$1),INDEX(Reliability!I$23:I$50,MATCH($S35,Reliability!$C$23:$C$50,0)),0),0)*IF($T35=\"n/a\",$D35*$Y35,$G35)+IFERROR(IF(AND($V35<=AD$1,$W35>=AD$1),INDEX(Reliability!I$23:I$50,MATCH($T35,Reliability!$C$23:$C$50,0)),0),0)*$H35*$X35*$Y35),$D35)*$R35","v":0},{"$f":"MIN((IFERROR(IF(AND($V35<=AE$1,$W35>=AE$1),INDEX(Reliability!J$23:J$50,MATCH($S35,Reliability!$C$23:$C$50,0)),0),0)*IF($T35=\"n/a\",$D35*$Y35,$G35)+IFERROR(IF(AND($V35<=AE$1,$W35>=AE$1),INDEX(Reliability!J$23:J$50,MATCH($T35,Reliability!$C$23:$C$50,0)),0),0)*$H35*$X35*$Y35),$D35)*$R35","v":0},{"$f":"MIN((IFERROR(IF(AND($V35<=AF$1,$W35>=AF$1),INDEX(Reliability!K$23:K$50,MATCH($S35,Reliability!$C$23:$C$50,0)),0),0)*IF($T35=\"n/a\",$D35*$Y35,$G35)+IFERROR(IF(AND($V35<=AF$1,$W35>=AF$1),INDEX(Reliability!K$23:K$50,MATCH($T35,Reliability!$C$23:$C$50,0)),0),0)*$H35*$X35*$Y35),$D35)*$R35","v":0},{"$f":"MIN((IFERROR(IF(AND($V35<=AG$1,$W35>=AG$1),INDEX(Reliability!L$23:L$50,MATCH($S35,Reliability!$C$23:$C$50,0)),0),0)*IF($T35=\"n/a\",$D35*$Y35,$G35)+IFERROR(IF(AND($V35<=AG$1,$W35>=AG$1),INDEX(Reliability!L$23:L$50,MATCH($T35,Reliability!$C$23:$C$50,0)),0),0)*$H35*$X35*$Y35),$D35)*$R35","v":0},{"$f":"MIN((IFERROR(IF(AND($V35<=AH$1,$W35>=AH$1),INDEX(Reliability!M$23:M$50,MATCH($S35,Reliability!$C$23:$C$50,0)),0),0)*IF($T35=\"n/a\",$D35*$Y35,$G35)+IFERROR(IF(AND($V35<=AH$1,$W35>=AH$1),INDEX(Reliability!M$23:M$50,MATCH($T35,Reliability!$C$23:$C$50,0)),0),0)*$H35*$X35*$Y35),$D35)*$R35","v":0},{"$f":"MIN((IFERROR(IF(AND($V35<=AI$1,$W35>=AI$1),INDEX(Reliability!N$23:N$50,MATCH($S35,Reliability!$C$23:$C$50,0)),0),0)*IF($T35=\"n/a\",$D35*$Y35,$G35)+IFERROR(IF(AND($V35<=AI$1,$W35>=AI$1),INDEX(Reliability!N$23:N$50,MATCH($T35,Reliability!$C$23:$C$50,0)),0),0)*$H35*$X35*$Y35),$D35)*$R35","v":0},{"$f":"MIN((IFERROR(IF(AND($V35<=AJ$1,$W35>=AJ$1),INDEX(Reliability!O$23:O$50,MATCH($S35,Reliability!$C$23:$C$50,0)),0),0)*IF($T35=\"n/a\",$D35*$Y35,$G35)+IFERROR(IF(AND($V35<=AJ$1,$W35>=AJ$1),INDEX(Reliability!O$23:O$50,MATCH($T35,Reliability!$C$23:$C$50,0)),0),0)*$H35*$X35*$Y35),$D35)*$R35","v":0},{"$f":"MIN((IFERROR(IF(AND($V35<=AK$1,$W35>=AK$1),INDEX(Reliability!P$23:P$50,MATCH($S35,Reliability!$C$23:$C$50,0)),0),0)*IF($T35=\"n/a\",$D35*$Y35,$G35)+IFERROR(IF(AND($V35<=AK$1,$W35>=AK$1),INDEX(Reliability!P$23:P$50,MATCH($T35,Reliability!$C$23:$C$50,0)),0),0)*$H35*$X35*$Y35),$D35)*$R35","v":0}]
[null,{"$f":"unique_contracts!B36","v":"_EXISTING_GENERIC_NW_HYDRO"},{"$f":"unique_contracts!D36","v":"Online"},{"$f":"unique_contracts!J36","v":28.538812785388128},{"$f":"unique_contracts!M36","v":0},{"$f":"unique_contracts!N36","v":0},{"$f":"unique_contracts!P36","v":0},{"$f":"unique_contracts!R36","v":0},{"$f":"unique_contracts!V36","v":0},null,{"$f":"unique_contracts!AM36","v":2021},{"$f":"unique_contracts!AN36","v":1},{"$f":"unique_contracts!AO36","v":1},{"$f":"unique_contracts!AP36","v":2024},{"$f":"unique_contracts!AQ36","v":12},{"$f":"unique_contracts!AR36","v":31},{"$f":"unique_contracts!BP36","v":"EnergyOnly"},0,{"$f":"IFERROR(IF(AND(I36>0,E36=\"NotHybrid\"),_xlfn.CONCAT(MAX(MIN(ROUNDDOWN(I36/D36,0),8),4),INDEX(resources!$G:$G,MATCH(B36,resources!$A:$A,0))),INDEX(resources!$G:$G,MATCH(B36,resources!$A:$A,0))),\"n/a\")","v":"hydro"},"n/a","hydro",2021,2024,1,1,{"$f":"MIN((IFERROR(IF(AND($V36<=Z$1,$W36>=Z$1),INDEX(Reliability!E$23:E$50,MATCH($S36,Reliability!$C$23:$C$50,0)),0),0)*IF($T36=\"n/a\",$D36*$Y36,$G36)+IFERROR(IF(AND($V36<=Z$1,$W36>=Z$1),INDEX(Reliability!E$23:E$50,MATCH($T36,Reliability!$C$23:$C$50,0)),0),0)*$H36*$X36*$Y36),$D36)*$R36","v":0},{"$f":"MIN((IFERROR(IF(AND($V36<=AA$1,$W36>=AA$1),INDEX(Reliability!F$23:F$50,MATCH($S36,Reliability!$C$23:$C$50,0)),0),0)*IF($T36=\"n/a\",$D36*$Y36,$G36)+IFERROR(IF(AND($V36<=AA$1,$W36>=AA$1),INDEX(Reliability!F$23:F$50,MATCH($T36,Reliability!$C$23:$C$50,0)),0),0)*$H36*$X36*$Y36),$D36)*$R36","v":0},{"$f":"MIN((IFERROR(IF(AND($V36<=AB$1,$W36>=AB$1),INDEX(Reliability!G$23:G$50,MATCH($S36,Reliability!$C$23:$C$50,0)),0),0)*IF($T36=\"n/a\",$D36*$Y36,$G36)+IFERROR(IF(AND($V36<=AB$1,$W36>=AB$1),INDEX(Reliability!G$23:G$50,MATCH($T36,Reliability!$C$23:$C$50,0)),0),0)*$H36*$X36*$Y36),$D36)*$R36","v":0},{"$f":"MIN((IFERROR(IF(AND($V36<=AC$1,$W36>=AC$1),INDEX(Reliability!H$23:H$50,MATCH($S36,Reliability!$C$23:$C$50,0)),0),0)*IF($T36=\"n/a\",$D36*$Y36,$G36)+IFERROR(IF(AND($V36<=AC$1,$W36>=AC$1),INDEX(Reliability!H$23:H$50,MATCH($T36,Reliability!$C$23:$C$50,0)),0),0)*$H36*$X36*$Y36),$D36)*$R36","v":0},{"$f":"MIN((IFERROR(IF(AND($V36<=AD$1,$W36>=AD$1),INDEX(Reliability!I$23:I$50,MATCH($S36,Reliability!$C$23:$C$50,0)),0),0)*IF($T36=\"n/a\",$D36*$Y36,$G36)+IFERROR(IF(AND($V36<=AD$1,$W36>=AD$1),INDEX(Reliability!I$23:I$50,MATCH($T36,Reliability!$C$23:$C$50,0)),0),0)*$H36*$X36*$Y36),$D36)*$R36","v":0},{"$f":"MIN((IFERROR(IF(AND($V36<=AE$1,$W36>=AE$1),INDEX(Reliability!J$23:J$50,MATCH($S36,Reliability!$C$23:$C$50,0)),0),0)*IF($T36=\"n/a\",$D36*$Y36,$G36)+IFERROR(IF(AND($V36<=AE$1,$W36>=AE$1),INDEX(Reliability!J$23:J$50,MATCH($T36,Reliability!$C$23:$C$50,0)),0),0)*$H36*$X36*$Y36),$D36)*$R36","v":0},{"$f":"MIN((IFERROR(IF(AND($V36<=AF$1,$W36>=AF$1),INDEX(Reliability!K$23:K$50,MATCH($S36,Reliability!$C$23:$C$50,0)),0),0)*IF($T36=\"n/a\",$D36*$Y36,$G36)+IFERROR(IF(AND($V36<=AF$1,$W36>=AF$1),INDEX(Reliability!K$23:K$50,MATCH($T36,Reliability!$C$23:$C$50,0)),0),0)*$H36*$X36*$Y36),$D36)*$R36","v":0},{"$f":"MIN((IFERROR(IF(AND($V36<=AG$1,$W36>=AG$1),INDEX(Reliability!L$23:L$50,MATCH($S36,Reliability!$C$23:$C$50,0)),0),0)*IF($T36=\"n/a\",$D36*$Y36,$G36)+IFERROR(IF(AND($V36<=AG$1,$W36>=AG$1),INDEX(Reliability!L$23:L$50,MATCH($T36,Reliability!$C$23:$C$50,0)),0),0)*$H36*$X36*$Y36),$D36)*$R36","v":0},{"$f":"MIN((IFERROR(IF(AND($V36<=AH$1,$W36>=AH$1),INDEX(Reliability!M$23:M$50,MATCH($S36,Reliability!$C$23:$C$50,0)),0),0)*IF($T36=\"n/a\",$D36*$Y36,$G36)+IFERROR(IF(AND($V36<=AH$1,$W36>=AH$1),INDEX(Reliability!M$23:M$50,MATCH($T36,Reliability!$C$23:$C$50,0)),0),0)*$H36*$X36*$Y36),$D36)*$R36","v":0},{"$f":"MIN((IFERROR(IF(AND($V36<=AI$1,$W36>=AI$1),INDEX(Reliability!N$23:N$50,MATCH($S36,Reliability!$C$23:$C$50,0)),0),0)*IF($T36=\"n/a\",$D36*$Y36,$G36)+IFERROR(IF(AND($V36<=AI$1,$W36>=AI$1),INDEX(Reliability!N$23:N$50,MATCH($T36,Reliability!$C$23:$C$50,0)),0),0)*$H36*$X36*$Y36),$D36)*$R36","v":0},{"$f":"MIN((IFERROR(IF(AND($V36<=AJ$1,$W36>=AJ$1),INDEX(Reliability!O$23:O$50,MATCH($S36,Reliability!$C$23:$C$50,0)),0),0)*IF($T36=\"n/a\",$D36*$Y36,$G36)+IFERROR(IF(AND($V36<=AJ$1,$W36>=AJ$1),INDEX(Reliability!O$23:O$50,MATCH($T36,Reliability!$C$23:$C$50,0)),0),0)*$H36*$X36*$Y36),$D36)*$R36","v":0},{"$f":"MIN((IFERROR(IF(AND($V36<=AK$1,$W36>=AK$1),INDEX(Reliability!P$23:P$50,MATCH($S36,Reliability!$C$23:$C$50,0)),0),0)*IF($T36=\"n/a\",$D36*$Y36,$G36)+IFERROR(IF(AND($V36<=AK$1,$W36>=AK$1),INDEX(Reliability!P$23:P$50,MATCH($T36,Reliability!$C$23:$C$50,0)),0),0)*$H36*$X36*$Y36),$D36)*$R36","v":0}]
[null,{"$f":"unique_contracts!B37","v":"_EXISTING_GENERIC_INSTATE_LARGE_HYDRO"},{"$f":"unique_contracts!D37","v":"Online"},{"$f":"unique_contracts!J37","v":146.68949771689498},{"$f":"unique_contracts!M37","v":0},{"$f":"unique_contracts!N37","v":0},{"$f":"unique_contracts!P37","v":0},{"$f":"unique_contracts!R37","v":0},{"$f":"unique_contracts!V37","v":0},null,{"$f":"unique_contracts!AM37","v":2023},{"$f":"unique_contracts!AN37","v":1},{"$f":"unique_contracts!AO37","v":1},{"$f":"unique_contracts!AP37","v":2024},{"$f":"unique_contracts!AQ37","v":12},{"$f":"unique_contracts!AR37","v":31},{"$f":"unique_contracts!BP37","v":"EnergyOnly"},0,{"$f":"IFERROR(IF(AND(I37>0,E37=\"NotHybrid\"),_xlfn.CONCAT(MAX(MIN(ROUNDDOWN(I37/D37,0),8),4),INDEX(resources!$G:$G,MATCH(B37,resources!$A:$A,0))),INDEX(resources!$G:$G,MATCH(B37,resources!$A:$A,0))),\"n/a\")","v":"hydro"},"n/a","hydro",2023,2024,1,1,{"$f":"MIN((IFERROR(IF(AND($V37<=Z$1,$W37>=Z$1),INDEX(Reliability!E$23:E$50,MATCH($S37,Reliability!$C$23:$C$50,0)),0),0)*IF($T37=\"n/a\",$D37*$Y37,$G37)+IFERROR(IF(AND($V37<=Z$1,$W37>=Z$1),INDEX(Reliability!E$23:E$50,MATCH($T37,Reliability!$C$23:$C$50,0)),0),0)*$H37*$X37*$Y37),$D37)*$R37","v":0},{"$f":"MIN((IFERROR(IF(AND($V37<=AA$1,$W37>=AA$1),INDEX(Reliability!F$23:F$50,MATCH($S37,Reliability!$C$23:$C$50,0)),0),0)*IF($T37=\"n/a\",$D37*$Y37,$G37)+IFERROR(IF(AND($V37<=AA$1,$W37>=AA$1),INDEX(Reliability!F$23:F$50,MATCH($T37,Reliability!$C$23:$C$50,0)),0),0)*$H37*$X37*$Y37),$D37)*$R37","v":0},{"$f":"MIN((IFERROR(IF(AND($V37<=AB$1,$W37>=AB$1),INDEX(Reliability!G$23:G$50,MATCH($S37,Reliability!$C$23:$C$50,0)),0),0)*IF($T37=\"n/a\",$D37*$Y37,$G37)+IFERROR(IF(AND($V37<=AB$1,$W37>=AB$1),INDEX(Reliability!G$23:G$50,MATCH($T37,Reliability!$C$23:$C$50,0)),0),0)*$H37*$X37*$Y37),$D37)*$R37","v":0},{"$f":"MIN((IFERROR(IF(AND($V37<=AC$1,$W37>=AC$1),INDEX(Reliability!H$23:H$50,MATCH($S37,Reliability!$C$23:$C$50,0)),0),0)*IF($T37=\"n/a\",$D37*$Y37,$G37)+IFERROR(IF(AND($V37<=AC$1,$W37>=AC$1),INDEX(Reliability!H$23:H$50,MATCH($T37,Reliability!$C$23:$C$50,0)),0),0)*$H37*$X37*$Y37),$D37)*$R37","v":0},{"$f":"MIN((IFERROR(IF(AND($V37<=AD$1,$W37>=AD$1),INDEX(Reliability!I$23:I$50,MATCH($S37,Reliability!$C$23:$C$50,0)),0),0)*IF($T37=\"n/a\",$D37*$Y37,$G37)+IFERROR(IF(AND($V37<=AD$1,$W37>=AD$1),INDEX(Reliability!I$23:I$50,MATCH($T37,Reliability!$C$23:$C$50,0)),0),0)*$H37*$X37*$Y37),$D37)*$R37","v":0},{"$f":"MIN((IFERROR(IF(AND($V37<=AE$1,$W37>=AE$1),INDEX(Reliability!J$23:J$50,MATCH($S37,Reliability!$C$23:$C$50,0)),0),0)*IF($T37=\"n/a\",$D37*$Y37,$G37)+IFERROR(IF(AND($V37<=AE$1,$W37>=AE$1),INDEX(Reliability!J$23:J$50,MATCH($T37,Reliability!$C$23:$C$50,0)),0),0)*$H37*$X37*$Y37),$D37)*$R37","v":0},{"$f":"MIN((IFERROR(IF(AND($V37<=AF$1,$W37>=AF$1),INDEX(Reliability!K$23:K$50,MATCH($S37,Reliability!$C$23:$C$50,0)),0),0)*IF($T37=\"n/a\",$D37*$Y37,$G37)+IFERROR(IF(AND($V37<=AF$1,$W37>=AF$1),INDEX(Reliability!K$23:K$50,MATCH($T37,Reliability!$C$23:$C$50,0)),0),0)*$H37*$X37*$Y37),$D37)*$R37","v":0},{"$f":"MIN((IFERROR(IF(AND($V37<=AG$1,$W37>=AG$1),INDEX(Reliability!L$23:L$50,MATCH($S37,Reliability!$C$23:$C$50,0)),0),0)*IF($T37=\"n/a\",$D37*$Y37,$G37)+IFERROR(IF(AND($V37<=AG$1,$W37>=AG$1),INDEX(Reliability!L$23:L$50,MATCH($T37,Reliability!$C$23:$C$50,0)),0),0)*$H37*$X37*$Y37),$D37)*$R37","v":0},{"$f":"MIN((IFERROR(IF(AND($V37<=AH$1,$W37>=AH$1),INDEX(Reliability!M$23:M$50,MATCH($S37,Reliability!$C$23:$C$50,0)),0),0)*IF($T37=\"n/a\",$D37*$Y37,$G37)+IFERROR(IF(AND($V37<=AH$1,$W37>=AH$1),INDEX(Reliability!M$23:M$50,MATCH($T37,Reliability!$C$23:$C$50,0)),0),0)*$H37*$X37*$Y37),$D37)*$R37","v":0},{"$f":"MIN((IFERROR(IF(AND($V37<=AI$1,$W37>=AI$1),INDEX(Reliability!N$23:N$50,MATCH($S37,Reliability!$C$23:$C$50,0)),0),0)*IF($T37=\"n/a\",$D37*$Y37,$G37)+IFERROR(IF(AND($V37<=AI$1,$W37>=AI$1),INDEX(Reliability!N$23:N$50,MATCH($T37,Reliability!$C$23:$C$50,0)),0),0)*$H37*$X37*$Y37),$D37)*$R37","v":0},{"$f":"MIN((IFERROR(IF(AND($V37<=AJ$1,$W37>=AJ$1),INDEX(Reliability!O$23:O$50,MATCH($S37,Reliability!$C$23:$C$50,0)),0),0)*IF($T37=\"n/a\",$D37*$Y37,$G37)+IFERROR(IF(AND($V37<=AJ$1,$W37>=AJ$1),INDEX(Reliability!O$23:O$50,MATCH($T37,Reliability!$C$23:$C$50,0)),0),0)*$H37*$X37*$Y37),$D37)*$R37","v":0},{"$f":"MIN((IFERROR(IF(AND($V37<=AK$1,$W37>=AK$1),INDEX(Reliability!P$23:P$50,MATCH($S37,Reliability!$C$23:$C$50,0)),0),0)*IF($T37=\"n/a\",$D37*$Y37,$G37)+IFERROR(IF(AND($V37<=AK$1,$W37>=AK$1),INDEX(Reliability!P$23:P$50,MATCH($T37,Reliability!$C$23:$C$50,0)),0),0)*$H37*$X37*$Y37),$D37)*$R37","v":0}]
[null,null,{"$f":"unique_contracts!D38","v":"PlannedNew"},null,null,null,null,null,null,null,{"$f":"unique_contracts!AM38","v":2025},{"$f":"unique_contracts!AN38","v":12},{"$f":"unique_contracts!AO38","v":1},null,null,null,{"$f":"unique_contracts!BP38","v":"EnergyCapacity"},1,null,"n/a",null,2026,null,1,1,{"$f":"MIN((IFERROR(IF(AND($V38<=Z$1,$W38>=Z$1),INDEX(Reliability!E$23:E$50,MATCH($S38,Reliability!$C$23:$C$50,0)),0),0)*IF($T38=\"n/a\",$D38*$Y38,$G38)+IFERROR(IF(AND($V38<=Z$1,$W38>=Z$1),INDEX(Reliability!E$23:E$50,MATCH($T38,Reliability!$C$23:$C$50,0)),0),0)*$H38*$X38*$Y38),$D38)*$R38","v":0},{"$f":"MIN((IFERROR(IF(AND($V38<=AA$1,$W38>=AA$1),INDEX(Reliability!F$23:F$50,MATCH($S38,Reliability!$C$23:$C$50,0)),0),0)*IF($T38=\"n/a\",$D38*$Y38,$G38)+IFERROR(IF(AND($V38<=AA$1,$W38>=AA$1),INDEX(Reliability!F$23:F$50,MATCH($T38,Reliability!$C$23:$C$50,0)),0),0)*$H38*$X38*$Y38),$D38)*$R38","v":0},{"$f":"MIN((IFERROR(IF(AND($V38<=AB$1,$W38>=AB$1),INDEX(Reliability!G$23:G$50,MATCH($S38,Reliability!$C$23:$C$50,0)),0),0)*IF($T38=\"n/a\",$D38*$Y38,$G38)+IFERROR(IF(AND($V38<=AB$1,$W38>=AB$1),INDEX(Reliability!G$23:G$50,MATCH($T38,Reliability!$C$23:$C$50,0)),0),0)*$H38*$X38*$Y38),$D38)*$R38","v":0},{"$f":"MIN((IFERROR(IF(AND($V38<=AC$1,$W38>=AC$1),INDEX(Reliability!H$23:H$50,MATCH($S38,Reliability!$C$23:$C$50,0)),0),0)*IF($T38=\"n/a\",$D38*$Y38,$G38)+IFERROR(IF(AND($V38<=AC$1,$W38>=AC$1),INDEX(Reliability!H$23:H$50,MATCH($T38,Reliability!$C$23:$C$50,0)),0),0)*$H38*$X38*$Y38),$D38)*$R38","v":0},{"$f":"MIN((IFERROR(IF(AND($V38<=AD$1,$W38>=AD$1),INDEX(Reliability!I$23:I$50,MATCH($S38,Reliability!$C$23:$C$50,0)),0),0)*IF($T38=\"n/a\",$D38*$Y38,$G38)+IFERROR(IF(AND($V38<=AD$1,$W38>=AD$1),INDEX(Reliability!I$23:I$50,MATCH($T38,Reliability!$C$23:$C$50,0)),0),0)*$H38*$X38*$Y38),$D38)*$R38","v":0},{"$f":"MIN((IFERROR(IF(AND($V38<=AE$1,$W38>=AE$1),INDEX(Reliability!J$23:J$50,MATCH($S38,Reliability!$C$23:$C$50,0)),0),0)*IF($T38=\"n/a\",$D38*$Y38,$G38)+IFERROR(IF(AND($V38<=AE$1,$W38>=AE$1),INDEX(Reliability!J$23:J$50,MATCH($T38,Reliability!$C$23:$C$50,0)),0),0)*$H38*$X38*$Y38),$D38)*$R38","v":0},{"$f":"MIN((IFERROR(IF(AND($V38<=AF$1,$W38>=AF$1),INDEX(Reliability!K$23:K$50,MATCH($S38,Reliability!$C$23:$C$50,0)),0),0)*IF($T38=\"n/a\",$D38*$Y38,$G38)+IFERROR(IF(AND($V38<=AF$1,$W38>=AF$1),INDEX(Reliability!K$23:K$50,MATCH($T38,Reliability!$C$23:$C$50,0)),0),0)*$H38*$X38*$Y38),$D38)*$R38","v":0},{"$f":"MIN((IFERROR(IF(AND($V38<=AG$1,$W38>=AG$1),INDEX(Reliability!L$23:L$50,MATCH($S38,Reliability!$C$23:$C$50,0)),0),0)*IF($T38=\"n/a\",$D38*$Y38,$G38)+IFERROR(IF(AND($V38<=AG$1,$W38>=AG$1),INDEX(Reliability!L$23:L$50,MATCH($T38,Reliability!$C$23:$C$50,0)),0),0)*$H38*$X38*$Y38),$D38)*$R38","v":0},{"$f":"MIN((IFERROR(IF(AND($V38<=AH$1,$W38>=AH$1),INDEX(Reliability!M$23:M$50,MATCH($S38,Reliability!$C$23:$C$50,0)),0),0)*IF($T38=\"n/a\",$D38*$Y38,$G38)+IFERROR(IF(AND($V38<=AH$1,$W38>=AH$1),INDEX(Reliability!M$23:M$50,MATCH($T38,Reliability!$C$23:$C$50,0)),0),0)*$H38*$X38*$Y38),$D38)*$R38","v":0},{"$f":"MIN((IFERROR(IF(AND($V38<=AI$1,$W38>=AI$1),INDEX(Reliability!N$23:N$50,MATCH($S38,Reliability!$C$23:$C$50,0)),0),0)*IF($T38=\"n/a\",$D38*$Y38,$G38)+IFERROR(IF(AND($V38<=AI$1,$W38>=AI$1),INDEX(Reliability!N$23:N$50,MATCH($T38,Reliability!$C$23:$C$50,0)),0),0)*$H38*$X38*$Y38),$D38)*$R38","v":0},{"$f":"MIN((IFERROR(IF(AND($V38<=AJ$1,$W38>=AJ$1),INDEX(Reliability!O$23:O$50,MATCH($S38,Reliability!$C$23:$C$50,0)),0),0)*IF($T38=\"n/a\",$D38*$Y38,$G38)+IFERROR(IF(AND($V38<=AJ$1,$W38>=AJ$1),INDEX(Reliability!O$23:O$50,MATCH($T38,Reliability!$C$23:$C$50,0)),0),0)*$H38*$X38*$Y38),$D38)*$R38","v":0},{"$f":"MIN((IFERROR(IF(AND($V38<=AK$1,$W38>=AK$1),INDEX(Reliability!P$23:P$50,MATCH($S38,Reliability!$C$23:$C$50,0)),0),0)*IF($T38=\"n/a\",$D38*$Y38,$G38)+IFERROR(IF(AND($V38<=AK$1,$W38>=AK$1),INDEX(Reliability!P$23:P$50,MATCH($T38,Reliability!$C$23:$C$50,0)),0),0)*$H38*$X38*$Y38),$D38)*$R38","v":0}]
[null,{"$f":"unique_contracts!B39","v":"_EXISTING_GENERIC_NW_HYDRO"},{"$f":"unique_contracts!D39","v":"PlannedExisting"},{"$f":"unique_contracts!J39","v":44.375},{"$f":"unique_contracts!M39","v":0},{"$f":"unique_contracts!N39","v":0},{"$f":"unique_contracts!P39","v":0},{"$f":"unique_contracts!R39","v":0},{"$f":"unique_contracts!V39","v":0},null,{"$f":"unique_contracts!AM39","v":2025},{"$f":"unique_contracts!AN39","v":1},{"$f":"unique_contracts!AO39","v":1},{"$f":"unique_contracts!AP39","v":2035},{"$f":"unique_contracts!AQ39","v":12},{"$f":"unique_contracts!AR39","v":31},{"$f":"unique_contracts!BP39","v":"EnergyOnly"},0,{"$f":"IFERROR(IF(AND(I39>0,E39=\"NotHybrid\"),_xlfn.CONCAT(MAX(MIN(ROUNDDOWN(I39/D39,0),8),4),INDEX(resources!$G:$G,MATCH(B39,resources!$A:$A,0))),INDEX(resources!$G:$G,MATCH(B39,resources!$A:$A,0))),\"n/a\")","v":"hydro"},"n/a","hydro",2025,2035,1,1,{"$f":"MIN((IFERROR(IF(AND($V39<=Z$1,$W39>=Z$1),INDEX(Reliability!E$23:E$50,MATCH($S39,Reliability!$C$23:$C$50,0)),0),0)*IF($T39=\"n/a\",$D39*$Y39,$G39)+IFERROR(IF(AND($V39<=Z$1,$W39>=Z$1),INDEX(Reliability!E$23:E$50,MATCH($T39,Reliability!$C$23:$C$50,0)),0),0)*$H39*$X39*$Y39),$D39)*$R39","v":0},{"$f":"MIN((IFERROR(IF(AND($V39<=AA$1,$W39>=AA$1),INDEX(Reliability!F$23:F$50,MATCH($S39,Reliability!$C$23:$C$50,0)),0),0)*IF($T39=\"n/a\",$D39*$Y39,$G39)+IFERROR(IF(AND($V39<=AA$1,$W39>=AA$1),INDEX(Reliability!F$23:F$50,MATCH($T39,Reliability!$C$23:$C$50,0)),0),0)*$H39*$X39*$Y39),$D39)*$R39","v":0},{"$f":"MIN((IFERROR(IF(AND($V39<=AB$1,$W39>=AB$1),INDEX(Reliability!G$23:G$50,MATCH($S39,Reliability!$C$23:$C$50,0)),0),0)*IF($T39=\"n/a\",$D39*$Y39,$G39)+IFERROR(IF(AND($V39<=AB$1,$W39>=AB$1),INDEX(Reliability!G$23:G$50,MATCH($T39,Reliability!$C$23:$C$50,0)),0),0)*$H39*$X39*$Y39),$D39)*$R39","v":0},{"$f":"MIN((IFERROR(IF(AND($V39<=AC$1,$W39>=AC$1),INDEX(Reliability!H$23:H$50,MATCH($S39,Reliability!$C$23:$C$50,0)),0),0)*IF($T39=\"n/a\",$D39*$Y39,$G39)+IFERROR(IF(AND($V39<=AC$1,$W39>=AC$1),INDEX(Reliability!H$23:H$50,MATCH($T39,Reliability!$C$23:$C$50,0)),0),0)*$H39*$X39*$Y39),$D39)*$R39","v":0},{"$f":"MIN((IFERROR(IF(AND($V39<=AD$1,$W39>=AD$1),INDEX(Reliability!I$23:I$50,MATCH($S39,Reliability!$C$23:$C$50,0)),0),0)*IF($T39=\"n/a\",$D39*$Y39,$G39)+IFERROR(IF(AND($V39<=AD$1,$W39>=AD$1),INDEX(Reliability!I$23:I$50,MATCH($T39,Reliability!$C$23:$C$50,0)),0),0)*$H39*$X39*$Y39),$D39)*$R39","v":0},{"$f":"MIN((IFERROR(IF(AND($V39<=AE$1,$W39>=AE$1),INDEX(Reliability!J$23:J$50,MATCH($S39,Reliability!$C$23:$C$50,0)),0),0)*IF($T39=\"n/a\",$D39*$Y39,$G39)+IFERROR(IF(AND($V39<=AE$1,$W39>=AE$1),INDEX(Reliability!J$23:J$50,MATCH($T39,Reliability!$C$23:$C$50,0)),0),0)*$H39*$X39*$Y39),$D39)*$R39","v":0},{"$f":"MIN((IFERROR(IF(AND($V39<=AF$1,$W39>=AF$1),INDEX(Reliability!K$23:K$50,MATCH($S39,Reliability!$C$23:$C$50,0)),0),0)*IF($T39=\"n/a\",$D39*$Y39,$G39)+IFERROR(IF(AND($V39<=AF$1,$W39>=AF$1),INDEX(Reliability!K$23:K$50,MATCH($T39,Reliability!$C$23:$C$50,0)),0),0)*$H39*$X39*$Y39),$D39)*$R39","v":0},{"$f":"MIN((IFERROR(IF(AND($V39<=AG$1,$W39>=AG$1),INDEX(Reliability!L$23:L$50,MATCH($S39,Reliability!$C$23:$C$50,0)),0),0)*IF($T39=\"n/a\",$D39*$Y39,$G39)+IFERROR(IF(AND($V39<=AG$1,$W39>=AG$1),INDEX(Reliability!L$23:L$50,MATCH($T39,Reliability!$C$23:$C$50,0)),0),0)*$H39*$X39*$Y39),$D39)*$R39","v":0},{"$f":"MIN((IFERROR(IF(AND($V39<=AH$1,$W39>=AH$1),INDEX(Reliability!M$23:M$50,MATCH($S39,Reliability!$C$23:$C$50,0)),0),0)*IF($T39=\"n/a\",$D39*$Y39,$G39)+IFERROR(IF(AND($V39<=AH$1,$W39>=AH$1),INDEX(Reliability!M$23:M$50,MATCH($T39,Reliability!$C$23:$C$50,0)),0),0)*$H39*$X39*$Y39),$D39)*$R39","v":0},{"$f":"MIN((IFERROR(IF(AND($V39<=AI$1,$W39>=AI$1),INDEX(Reliability!N$23:N$50,MATCH($S39,Reliability!$C$23:$C$50,0)),0),0)*IF($T39=\"n/a\",$D39*$Y39,$G39)+IFERROR(IF(AND($V39<=AI$1,$W39>=AI$1),INDEX(Reliability!N$23:N$50,MATCH($T39,Reliability!$C$23:$C$50,0)),0),0)*$H39*$X39*$Y39),$D39)*$R39","v":0},{"$f":"MIN((IFERROR(IF(AND($V39<=AJ$1,$W39>=AJ$1),INDEX(Reliability!O$23:O$50,MATCH($S39,Reliability!$C$23:$C$50,0)),0),0)*IF($T39=\"n/a\",$D39*$Y39,$G39)+IFERROR(IF(AND($V39<=AJ$1,$W39>=AJ$1),INDEX(Reliability!O$23:O$50,MATCH($T39,Reliability!$C$23:$C$50,0)),0),0)*$H39*$X39*$Y39),$D39)*$R39","v":0},{"$f":"MIN((IFERROR(IF(AND($V39<=AK$1,$W39>=AK$1),INDEX(Reliability!P$23:P$50,MATCH($S39,Reliability!$C$23:$C$50,0)),0),0)*IF($T39=\"n/a\",$D39*$Y39,$G39)+IFERROR(IF(AND($V39<=AK$1,$W39>=AK$1),INDEX(Reliability!P$23:P$50,MATCH($T39,Reliability!$C$23:$C$50,0)),0),0)*$H39*$X39*$Y39),$D39)*$R39","v":0}]
[null,{"$f":"unique_contracts!B40","v":"_NEW_GENERIC_SOLAR_1AXIS"},{"$f":"unique_contracts!D40","v":"PlannedNew"},{"$f":"unique_contracts!J40","v":40},{"$f":"unique_contracts!M40","v":"NewSolarNewStorage"},{"$f":"unique_contracts!N40","v":"NO"},{"$f":"unique_contracts!P40","v":40},{"$f":"unique_contracts!R40","v":40},{"$f":"unique_contracts!V40","v":160},null,{"$f":"unique_contracts!AM40","v":2027},{"$f":"unique_contracts!AN40","v":1},{"$f":"unique_contracts!AO40","v":1},{"$f":"unique_contracts!AP40","v":2040},{"$f":"unique_contracts!AQ40","v":12},{"$f":"unique_contracts!AR40","v":31},{"$f":"unique_contracts!BP40","v":"EnergyCapacity"},1,{"$f":"IFERROR(IF(AND(I40>0,E40=\"NotHybrid\"),_xlfn.CONCAT(MAX(MIN(ROUNDDOWN(I40/D40,0),8),4),INDEX(resources!$G:$G,MATCH(B40,resources!$A:$A,0))),INDEX(resources!$G:$G,MATCH(B40,resources!$A:$A,0))),\"n/a\")","v":"utility_pv"},"4hr_batteries","hybrid",2027,2040,1,1,{"$f":"MIN((IFERROR(IF(AND($V40<=Z$1,$W40>=Z$1),INDEX(Reliability!E$23:E$50,MATCH($S40,Reliability!$C$23:$C$50,0)),0),0)*IF($T40=\"n/a\",$D40*$Y40,$G40)+IFERROR(IF(AND($V40<=Z$1,$W40>=Z$1),INDEX(Reliability!E$23:E$50,MATCH($T40,Reliability!$C$23:$C$50,0)),0),0)*$H40*$X40*$Y40),$D40)*$R40","v":0},{"$f":"MIN((IFERROR(IF(AND($V40<=AA$1,$W40>=AA$1),INDEX(Reliability!F$23:F$50,MATCH($S40,Reliability!$C$23:$C$50,0)),0),0)*IF($T40=\"n/a\",$D40*$Y40,$G40)+IFERROR(IF(AND($V40<=AA$1,$W40>=AA$1),INDEX(Reliability!F$23:F$50,MATCH($T40,Reliability!$C$23:$C$50,0)),0),0)*$H40*$X40*$Y40),$D40)*$R40","v":0},{"$f":"MIN((IFERROR(IF(AND($V40<=AB$1,$W40>=AB$1),INDEX(Reliability!G$23:G$50,MATCH($S40,Reliability!$C$23:$C$50,0)),0),0)*IF($T40=\"n/a\",$D40*$Y40,$G40)+IFERROR(IF(AND($V40<=AB$1,$W40>=AB$1),INDEX(Reliability!G$23:G$50,MATCH($T40,Reliability!$C$23:$C$50,0)),0),0)*$H40*$X40*$Y40),$D40)*$R40","v":0},{"$f":"MIN((IFERROR(IF(AND($V40<=AC$1,$W40>=AC$1),INDEX(Reliability!H$23:H$50,MATCH($S40,Reliability!$C$23:$C$50,0)),0),0)*IF($T40=\"n/a\",$D40*$Y40,$G40)+IFERROR(IF(AND($V40<=AC$1,$W40>=AC$1),INDEX(Reliability!H$23:H$50,MATCH($T40,Reliability!$C$23:$C$50,0)),0),0)*$H40*$X40*$Y40),$D40)*$R40","v":37.88721288172141},{"$f":"MIN((IFERROR(IF(AND($V40<=AD$1,$W40>=AD$1),INDEX(Reliability!I$23:I$50,MATCH($S40,Reliability!$C$23:$C$50,0)),0),0)*IF($T40=\"n/a\",$D40*$Y40,$G40)+IFERROR(IF(AND($V40<=AD$1,$W40>=AD$1),INDEX(Reliability!I$23:I$50,MATCH($T40,Reliability!$C$23:$C$50,0)),0),0)*$H40*$X40*$Y40),$D40)*$R40","v":34.718374281370956},{"$f":"MIN((IFERROR(IF(AND($V40<=AE$1,$W40>=AE$1),INDEX(Reliability!J$23:J$50,MATCH($S40,Reliability!$C$23:$C$50,0)),0),0)*IF($T40=\"n/a\",$D40*$Y40,$G40)+IFERROR(IF(AND($V40<=AE$1,$W40>=AE$1),INDEX(Reliability!J$23:J$50,MATCH($T40,Reliability!$C$23:$C$50,0)),0),0)*$H40*$X40*$Y40),$D40)*$R40","v":33.459187140685472},{"$f":"MIN((IFERROR(IF(AND($V40<=AF$1,$W40>=AF$1),INDEX(Reliability!K$23:K$50,MATCH($S40,Reliability!$C$23:$C$50,0)),0),0)*IF($T40=\"n/a\",$D40*$Y40,$G40)+IFERROR(IF(AND($V40<=AF$1,$W40>=AF$1),INDEX(Reliability!K$23:K$50,MATCH($T40,Reliability!$C$23:$C$50,0)),0),0)*$H40*$X40*$Y40),$D40)*$R40","v":32.200000000000003},{"$f":"MIN((IFERROR(IF(AND($V40<=AG$1,$W40>=AG$1),INDEX(Reliability!L$23:L$50,MATCH($S40,Reliability!$C$23:$C$50,0)),0),0)*IF($T40=\"n/a\",$D40*$Y40,$G40)+IFERROR(IF(AND($V40<=AG$1,$W40>=AG$1),INDEX(Reliability!L$23:L$50,MATCH($T40,Reliability!$C$23:$C$50,0)),0),0)*$H40*$X40*$Y40),$D40)*$R40","v":29.48},{"$f":"MIN((IFERROR(IF(AND($V40<=AH$1,$W40>=AH$1),INDEX(Reliability!M$23:M$50,MATCH($S40,Reliability!$C$23:$C$50,0)),0),0)*IF($T40=\"n/a\",$D40*$Y40,$G40)+IFERROR(IF(AND($V40<=AH$1,$W40>=AH$1),INDEX(Reliability!M$23:M$50,MATCH($T40,Reliability!$C$23:$C$50,0)),0),0)*$H40*$X40*$Y40),$D40)*$R40","v":26.76},{"$f":"MIN((IFERROR(IF(AND($V40<=AI$1,$W40>=AI$1),INDEX(Reliability!N$23:N$50,MATCH($S40,Reliability!$C$23:$C$50,0)),0),0)*IF($T40=\"n/a\",$D40*$Y40,$G40)+IFERROR(IF(AND($V40<=AI$1,$W40>=AI$1),INDEX(Reliability!N$23:N$50,MATCH($T40,Reliability!$C$23:$C$50,0)),0),0)*$H40*$X40*$Y40),$D40)*$R40","v":24.040000000000003},{"$f":"MIN((IFERROR(IF(AND($V40<=AJ$1,$W40>=AJ$1),INDEX(Reliability!O$23:O$50,MATCH($S40,Reliability!$C$23:$C$50,0)),0),0)*IF($T40=\"n/a\",$D40*$Y40,$G40)+IFERROR(IF(AND($V40<=AJ$1,$W40>=AJ$1),INDEX(Reliability!O$23:O$50,MATCH($T40,Reliability!$C$23:$C$50,0)),0),0)*$H40*$X40*$Y40),$D40)*$R40","v":21.320000000000007},{"$f":"MIN((IFERROR(IF(AND($V40<=AK$1,$W40>=AK$1),INDEX(Reliability!P$23:P$50,MATCH($S40,Reliability!$C$23:$C$50,0)),0),0)*IF($T40=\"n/a\",$D40*$Y40,$G40)+IFERROR(IF(AND($V40<=AK$1,$W40>=AK$1),INDEX(Reliability!P$23:P$50,MATCH($T40,Reliability!$C$23:$C$50,0)),0),0)*$H40*$X40*$Y40),$D40)*$R40","v":18.599999999999998}]
[null,{"$f":"unique_contracts!B41","v":"_NEW_GENERIC_SOLAR_1AXIS"},{"$f":"unique_contracts!D41","v":"PlannedNew"},{"$f":"unique_contracts!J41","v":40},{"$f":"unique_contracts!M41","v":"NewSolarNewStorage"},{"$f":"unique_contracts!N41","v":"NO"},{"$f":"unique_contracts!P41","v":40},{"$f":"unique_contracts!R41","v":40},{"$f":"unique_contracts!V41","v":160},null,{"$f":"unique_contracts!AM41","v":2034},{"$f":"unique_contracts!AN41","v":1},{"$f":"unique_contracts!AO41","v":1},{"$f":"unique_contracts!AP41","v":2040},{"$f":"unique_contracts!AQ41","v":12},{"$f":"unique_contracts!AR41","v":31},{"$f":"unique_contracts!BP41","v":"EnergyCapacity"},1,{"$f":"IFERROR(IF(AND(I41>0,E41=\"NotHybrid\"),_xlfn.CONCAT(MAX(MIN(ROUNDDOWN(I41/D41,0),8),4),INDEX(resources!$G:$G,MATCH(B41,resources!$A:$A,0))),INDEX(resources!$G:$G,MATCH(B41,resources!$A:$A,0))),\"n/a\")","v":"utility_pv"},"4hr_batteries","hybrid",2034,2040,1,1,{"$f":"MIN((IFERROR(IF(AND($V41<=Z$1,$W41>=Z$1),INDEX(Reliability!E$23:E$50,MATCH($S41,Reliability!$C$23:$C$50,0)),0),0)*IF($T41=\"n/a\",$D41*$Y41,$G41)+IFERROR(IF(AND($V41<=Z$1,$W41>=Z$1),INDEX(Reliability!E$23:E$50,MATCH($T41,Reliability!$C$23:$C$50,0)),0),0)*$H41*$X41*$Y41),$D41)*$R41","v":0},{"$f":"MIN((IFERROR(IF(AND($V41<=AA$1,$W41>=AA$1),INDEX(Reliability!F$23:F$50,MATCH($S41,Reliability!$C$23:$C$50,0)),0),0)*IF($T41=\"n/a\",$D41*$Y41,$G41)+IFERROR(IF(AND($V41<=AA$1,$W41>=AA$1),INDEX(Reliability!F$23:F$50,MATCH($T41,Reliability!$C$23:$C$50,0)),0),0)*$H41*$X41*$Y41),$D41)*$R41","v":0},{"$f":"MIN((IFERROR(IF(AND($V41<=AB$1,$W41>=AB$1),INDEX(Reliability!G$23:G$50,MATCH($S41,Reliability!$C$23:$C$50,0)),0),0)*IF($T41=\"n/a\",$D41*$Y41,$G41)+IFERROR(IF(AND($V41<=AB$1,$W41>=AB$1),INDEX(Reliability!G$23:G$50,MATCH($T41,Reliability!$C$23:$C$50,0)),0),0)*$H41*$X41*$Y41),$D41)*$R41","v":0},{"$f":"MIN((IFERROR(IF(AND($V41<=AC$1,$W41>=AC$1),INDEX(Reliability!H$23:H$50,MATCH($S41,Reliability!$C$23:$C$50,0)),0),0)*IF($T41=\"n/a\",$D41*$Y41,$G41)+IFERROR(IF(AND($V41<=AC$1,$W41>=AC$1),INDEX(Reliability!H$23:H$50,MATCH($T41,Reliability!$C$23:$C$50,0)),0),0)*$H41*$X41*$Y41),$D41)*$R41","v":0},{"$f":"MIN((IFERROR(IF(AND($V41<=AD$1,$W41>=AD$1),INDEX(Reliability!I$23:I$50,MATCH($S41,Reliability!$C$23:$C$50,0)),0),0)*IF($T41=\"n/a\",$D41*$Y41,$G41)+IFERROR(IF(AND($V41<=AD$1,$W41>=AD$1),INDEX(Reliability!I$23:I$50,MATCH($T41,Reliability!$C$23:$C$50,0)),0),0)*$H41*$X41*$Y41),$D41)*$R41","v":0},{"$f":"MIN((IFERROR(IF(AND($V41<=AE$1,$W41>=AE$1),INDEX(Reliability!J$23:J$50,MATCH($S41,Reliability!$C$23:$C$50,0)),0),0)*IF($T41=\"n/a\",$D41*$Y41,$G41)+IFERROR(IF(AND($V41<=AE$1,$W41>=AE$1),INDEX(Reliability!J$23:J$50,MATCH($T41,Reliability!$C$23:$C$50,0)),0),0)*$H41*$X41*$Y41),$D41)*$R41","v":0},{"$f":"MIN((IFERROR(IF(AND($V41<=AF$1,$W41>=AF$1),INDEX(Reliability!K$23:K$50,MATCH($S41,Reliability!$C$23:$C$50,0)),0),0)*IF($T41=\"n/a\",$D41*$Y41,$G41)+IFERROR(IF(AND($V41<=AF$1,$W41>=AF$1),INDEX(Reliability!K$23:K$50,MATCH($T41,Reliability!$C$23:$C$50,0)),0),0)*$H41*$X41*$Y41),$D41)*$R41","v":0},{"$f":"MIN((IFERROR(IF(AND($V41<=AG$1,$W41>=AG$1),INDEX(Reliability!L$23:L$50,MATCH($S41,Reliability!$C$23:$C$50,0)),0),0)*IF($T41=\"n/a\",$D41*$Y41,$G41)+IFERROR(IF(AND($V41<=AG$1,$W41>=AG$1),INDEX(Reliability!L$23:L$50,MATCH($T41,Reliability!$C$23:$C$50,0)),0),0)*$H41*$X41*$Y41),$D41)*$R41","v":0},{"$f":"MIN((IFERROR(IF(AND($V41<=AH$1,$W41>=AH$1),INDEX(Reliability!M$23:M$50,MATCH($S41,Reliability!$C$23:$C$50,0)),0),0)*IF($T41=\"n/a\",$D41*$Y41,$G41)+IFERROR(IF(AND($V41<=AH$1,$W41>=AH$1),INDEX(Reliability!M$23:M$50,MATCH($T41,Reliability!$C$23:$C$50,0)),0),0)*$H41*$X41*$Y41),$D41)*$R41","v":0},{"$f":"MIN((IFERROR(IF(AND($V41<=AI$1,$W41>=AI$1),INDEX(Reliability!N$23:N$50,MATCH($S41,Reliability!$C$23:$C$50,0)),0),0)*IF($T41=\"n/a\",$D41*$Y41,$G41)+IFERROR(IF(AND($V41<=AI$1,$W41>=AI$1),INDEX(Reliability!N$23:N$50,MATCH($T41,Reliability!$C$23:$C$50,0)),0),0)*$H41*$X41*$Y41),$D41)*$R41","v":0},{"$f":"MIN((IFERROR(IF(AND($V41<=AJ$1,$W41>=AJ$1),INDEX(Reliability!O$23:O$50,MATCH($S41,Reliability!$C$23:$C$50,0)),0),0)*IF($T41=\"n/a\",$D41*$Y41,$G41)+IFERROR(IF(AND($V41<=AJ$1,$W41>=AJ$1),INDEX(Reliability!O$23:O$50,MATCH($T41,Reliability!$C$23:$C$50,0)),0),0)*$H41*$X41*$Y41),$D41)*$R41","v":21.320000000000007},{"$f":"MIN((IFERROR(IF(AND($V41<=AK$1,$W41>=AK$1),INDEX(Reliability!P$23:P$50,MATCH($S41,Reliability!$C$23:$C$50,0)),0),0)*IF($T41=\"n/a\",$D41*$Y41,$G41)+IFERROR(IF(AND($V41<=AK$1,$W41>=AK$1),INDEX(Reliability!P$23:P$50,MATCH($T41,Reliability!$C$23:$C$50,0)),0),0)*$H41*$X41*$Y41),$D41)*$R41","v":18.599999999999998}]
[null,{"$f":"unique_contracts!B42","v":"_NEW_GENERIC_BATTERY_STORAGE"},{"$f":"unique_contracts!D42","v":"PlannedNew"},{"$f":"unique_contracts!J42","v":30},{"$f":"unique_contracts!M42","v":0},{"$f":"unique_contracts!N42","v":0},{"$f":"unique_contracts!P42","v":0},{"$f":"unique_contracts!R42","v":0},{"$f":"unique_contracts!V42","v":120},null,{"$f":"unique_contracts!AM42","v":2027},{"$f":"unique_contracts!AN42","v":1},{"$f":"unique_contracts!AO42","v":1},{"$f":"unique_contracts!AP42","v":2040},{"$f":"unique_contracts!AQ42","v":12},{"$f":"unique_contracts!AR42","v":31},{"$f":"unique_contracts!BP42","v":"EnergyCapacity"},1,{"$f":"IFERROR(IF(AND(I42>0,E42=\"NotHybrid\"),_xlfn.CONCAT(MAX(MIN(ROUNDDOWN(I42/D42,0),8),4),INDEX(resources!$G:$G,MATCH(B42,resources!$A:$A,0))),INDEX(resources!$G:$G,MATCH(B42,resources!$A:$A,0))),\"n/a\")","v":"hr_batteries"},"n/a","hr_batteries",2027,2040,1,1,{"$f":"MIN((IFERROR(IF(AND($V42<=Z$1,$W42>=Z$1),INDEX(Reliability!E$23:E$50,MATCH($S42,Reliability!$C$23:$C$50,0)),0),0)*IF($T42=\"n/a\",$D42*$Y42,$G42)+IFERROR(IF(AND($V42<=Z$1,$W42>=Z$1),INDEX(Reliability!E$23:E$50,MATCH($T42,Reliability!$C$23:$C$50,0)),0),0)*$H42*$X42*$Y42),$D42)*$R42","v":0},{"$f":"MIN((IFERROR(IF(AND($V42<=AA$1,$W42>=AA$1),INDEX(Reliability!F$23:F$50,MATCH($S42,Reliability!$C$23:$C$50,0)),0),0)*IF($T42=\"n/a\",$D42*$Y42,$G42)+IFERROR(IF(AND($V42<=AA$1,$W42>=AA$1),INDEX(Reliability!F$23:F$50,MATCH($T42,Reliability!$C$23:$C$50,0)),0),0)*$H42*$X42*$Y42),$D42)*$R42","v":0},{"$f":"MIN((IFERROR(IF(AND($V42<=AB$1,$W42>=AB$1),INDEX(Reliability!G$23:G$50,MATCH($S42,Reliability!$C$23:$C$50,0)),0),0)*IF($T42=\"n/a\",$D42*$Y42,$G42)+IFERROR(IF(AND($V42<=AB$1,$W42>=AB$1),INDEX(Reliability!G$23:G$50,MATCH($T42,Reliability!$C$23:$C$50,0)),0),0)*$H42*$X42*$Y42),$D42)*$R42","v":0},{"$f":"MIN((IFERROR(IF(AND($V42<=AC$1,$W42>=AC$1),INDEX(Reliability!H$23:H$50,MATCH($S42,Reliability!$C$23:$C$50,0)),0),0)*IF($T42=\"n/a\",$D42*$Y42,$G42)+IFERROR(IF(AND($V42<=AC$1,$W42>=AC$1),INDEX(Reliability!H$23:H$50,MATCH($T42,Reliability!$C$23:$C$50,0)),0),0)*$H42*$X42*$Y42),$D42)*$R42","v":0},{"$f":"MIN((IFERROR(IF(AND($V42<=AD$1,$W42>=AD$1),INDEX(Reliability!I$23:I$50,MATCH($S42,Reliability!$C$23:$C$50,0)),0),0)*IF($T42=\"n/a\",$D42*$Y42,$G42)+IFERROR(IF(AND($V42<=AD$1,$W42>=AD$1),INDEX(Reliability!I$23:I$50,MATCH($T42,Reliability!$C$23:$C$50,0)),0),0)*$H42*$X42*$Y42),$D42)*$R42","v":0},{"$f":"MIN((IFERROR(IF(AND($V42<=AE$1,$W42>=AE$1),INDEX(Reliability!J$23:J$50,MATCH($S42,Reliability!$C$23:$C$50,0)),0),0)*IF($T42=\"n/a\",$D42*$Y42,$G42)+IFERROR(IF(AND($V42<=AE$1,$W42>=AE$1),INDEX(Reliability!J$23:J$50,MATCH($T42,Reliability!$C$23:$C$50,0)),0),0)*$H42*$X42*$Y42),$D42)*$R42","v":0},{"$f":"MIN((IFERROR(IF(AND($V42<=AF$1,$W42>=AF$1),INDEX(Reliability!K$23:K$50,MATCH($S42,Reliability!$C$23:$C$50,0)),0),0)*IF($T42=\"n/a\",$D42*$Y42,$G42)+IFERROR(IF(AND($V42<=AF$1,$W42>=AF$1),INDEX(Reliability!K$23:K$50,MATCH($T42,Reliability!$C$23:$C$50,0)),0),0)*$H42*$X42*$Y42),$D42)*$R42","v":0},{"$f":"MIN((IFERROR(IF(AND($V42<=AG$1,$W42>=AG$1),INDEX(Reliability!L$23:L$50,MATCH($S42,Reliability!$C$23:$C$50,0)),0),0)*IF($T42=\"n/a\",$D42*$Y42,$G42)+IFERROR(IF(AND($V42<=AG$1,$W42>=AG$1),INDEX(Reliability!L$23:L$50,MATCH($T42,Reliability!$C$23:$C$50,0)),0),0)*$H42*$X42*$Y42),$D42)*$R42","v":0},{"$f":"MIN((IFERROR(IF(AND($V42<=AH$1,$W42>=AH$1),INDEX(Reliability!M$23:M$50,MATCH($S42,Reliability!$C$23:$C$50,0)),0),0)*IF($T42=\"n/a\",$D42*$Y42,$G42)+IFERROR(IF(AND($V42<=AH$1,$W42>=AH$1),INDEX(Reliability!M$23:M$50,MATCH($T42,Reliability!$C$23:$C$50,0)),0),0)*$H42*$X42*$Y42),$D42)*$R42","v":0},{"$f":"MIN((IFERROR(IF(AND($V42<=AI$1,$W42>=AI$1),INDEX(Reliability!N$23:N$50,MATCH($S42,Reliability!$C$23:$C$50,0)),0),0)*IF($T42=\"n/a\",$D42*$Y42,$G42)+IFERROR(IF(AND($V42<=AI$1,$W42>=AI$1),INDEX(Reliability!N$23:N$50,MATCH($T42,Reliability!$C$23:$C$50,0)),0),0)*$H42*$X42*$Y42),$D42)*$R42","v":0},{"$f":"MIN((IFERROR(IF(AND($V42<=AJ$1,$W42>=AJ$1),INDEX(Reliability!O$23:O$50,MATCH($S42,Reliability!$C$23:$C$50,0)),0),0)*IF($T42=\"n/a\",$D42*$Y42,$G42)+IFERROR(IF(AND($V42<=AJ$1,$W42>=AJ$1),INDEX(Reliability!O$23:O$50,MATCH($T42,Reliability!$C$23:$C$50,0)),0),0)*$H42*$X42*$Y42),$D42)*$R42","v":0},{"$f":"MIN((IFERROR(IF(AND($V42<=AK$1,$W42>=AK$1),INDEX(Reliability!P$23:P$50,MATCH($S42,Reliability!$C$23:$C$50,0)),0),0)*IF($T42=\"n/a\",$D42*$Y42,$G42)+IFERROR(IF(AND($V42<=AK$1,$W42>=AK$1),INDEX(Reliability!P$23:P$50,MATCH($T42,Reliability!$C$23:$C$50,0)),0),0)*$H42*$X42*$Y42),$D42)*$R42","v":0}]
[null,{"$f":"unique_contracts!B43","v":"_NEW_GENERIC_BATTERY_STORAGE"},{"$f":"unique_contracts!D43","v":"PlannedNew"},{"$f":"unique_contracts!J43","v":20},{"$f":"unique_contracts!M43","v":0},{"$f":"unique_contracts!N43","v":0},{"$f":"unique_contracts!P43","v":0},{"$f":"unique_contracts!R43","v":0},{"$f":"unique_contracts!V43","v":80},null,{"$f":"unique_contracts!AM43","v":2028},{"$f":"unique_contracts!AN43","v":1},{"$f":"unique_contracts!AO43","v":1},{"$f":"unique_contracts!AP43","v":2040},{"$f":"unique_contracts!AQ43","v":12},{"$f":"unique_contracts!AR43","v":31},{"$f":"unique_contracts!BP43","v":"EnergyCapacity"},1,{"$f":"IFERROR(IF(AND(I43>0,E43=\"NotHybrid\"),_xlfn.CONCAT(MAX(MIN(ROUNDDOWN(I43/D43,0),8),4),INDEX(resources!$G:$G,MATCH(B43,resources!$A:$A,0))),INDEX(resources!$G:$G,MATCH(B43,resources!$A:$A,0))),\"n/a\")","v":"hr_batteries"},"n/a","hr_batteries",2028,2040,1,1,{"$f":"MIN((IFERROR(IF(AND($V43<=Z$1,$W43>=Z$1),INDEX(Reliability!E$23:E$50,MATCH($S43,Reliability!$C$23:$C$50,0)),0),0)*IF($T43=\"n/a\",$D43*$Y43,$G43)+IFERROR(IF(AND($V43<=Z$1,$W43>=Z$1),INDEX(Reliability!E$23:E$50,MATCH($T43,Reliability!$C$23:$C$50,0)),0),0)*$H43*$X43*$Y43),$D43)*$R43","v":0},{"$f":"MIN((IFERROR(IF(AND($V43<=AA$1,$W43>=AA$1),INDEX(Reliability!F$23:F$50,MATCH($S43,Reliability!$C$23:$C$50,0)),0),0)*IF($T43=\"n/a\",$D43*$Y43,$G43)+IFERROR(IF(AND($V43<=AA$1,$W43>=AA$1),INDEX(Reliability!F$23:F$50,MATCH($T43,Reliability!$C$23:$C$50,0)),0),0)*$H43*$X43*$Y43),$D43)*$R43","v":0},{"$f":"MIN((IFERROR(IF(AND($V43<=AB$1,$W43>=AB$1),INDEX(Reliability!G$23:G$50,MATCH($S43,Reliability!$C$23:$C$50,0)),0),0)*IF($T43=\"n/a\",$D43*$Y43,$G43)+IFERROR(IF(AND($V43<=AB$1,$W43>=AB$1),INDEX(Reliability!G$23:G$50,MATCH($T43,Reliability!$C$23:$C$50,0)),0),0)*$H43*$X43*$Y43),$D43)*$R43","v":0},{"$f":"MIN((IFERROR(IF(AND($V43<=AC$1,$W43>=AC$1),INDEX(Reliability!H$23:H$50,MATCH($S43,Reliability!$C$23:$C$50,0)),0),0)*IF($T43=\"n/a\",$D43*$Y43,$G43)+IFERROR(IF(AND($V43<=AC$1,$W43>=AC$1),INDEX(Reliability!H$23:H$50,MATCH($T43,Reliability!$C$23:$C$50,0)),0),0)*$H43*$X43*$Y43),$D43)*$R43","v":0},{"$f":"MIN((IFERROR(IF(AND($V43<=AD$1,$W43>=AD$1),INDEX(Reliability!I$23:I$50,MATCH($S43,Reliability!$C$23:$C$50,0)),0),0)*IF($T43=\"n/a\",$D43*$Y43,$G43)+IFERROR(IF(AND($V43<=AD$1,$W43>=AD$1),INDEX(Reliability!I$23:I$50,MATCH($T43,Reliability!$C$23:$C$50,0)),0),0)*$H43*$X43*$Y43),$D43)*$R43","v":0},{"$f":"MIN((IFERROR(IF(AND($V43<=AE$1,$W43>=AE$1),INDEX(Reliability!J$23:J$50,MATCH($S43,Reliability!$C$23:$C$50,0)),0),0)*IF($T43=\"n/a\",$D43*$Y43,$G43)+IFERROR(IF(AND($V43<=AE$1,$W43>=AE$1),INDEX(Reliability!J$23:J$50,MATCH($T43,Reliability!$C$23:$C$50,0)),0),0)*$H43*$X43*$Y43),$D43)*$R43","v":0},{"$f":"MIN((IFERROR(IF(AND($V43<=AF$1,$W43>=AF$1),INDEX(Reliability!K$23:K$50,MATCH($S43,Reliability!$C$23:$C$50,0)),0),0)*IF($T43=\"n/a\",$D43*$Y43,$G43)+IFERROR(IF(AND($V43<=AF$1,$W43>=AF$1),INDEX(Reliability!K$23:K$50,MATCH($T43,Reliability!$C$23:$C$50,0)),0),0)*$H43*$X43*$Y43),$D43)*$R43","v":0},{"$f":"MIN((IFERROR(IF(AND($V43<=AG$1,$W43>=AG$1),INDEX(Reliability!L$23:L$50,MATCH($S43,Reliability!$C$23:$C$50,0)),0),0)*IF($T43=\"n/a\",$D43*$Y43,$G43)+IFERROR(IF(AND($V43<=AG$1,$W43>=AG$1),INDEX(Reliability!L$23:L$50,MATCH($T43,Reliability!$C$23:$C$50,0)),0),0)*$H43*$X43*$Y43),$D43)*$R43","v":0},{"$f":"MIN((IFERROR(IF(AND($V43<=AH$1,$W43>=AH$1),INDEX(Reliability!M$23:M$50,MATCH($S43,Reliability!$C$23:$C$50,0)),0),0)*IF($T43=\"n/a\",$D43*$Y43,$G43)+IFERROR(IF(AND($V43<=AH$1,$W43>=AH$1),INDEX(Reliability!M$23:M$50,MATCH($T43,Reliability!$C$23:$C$50,0)),0),0)*$H43*$X43*$Y43),$D43)*$R43","v":0},{"$f":"MIN((IFERROR(IF(AND($V43<=AI$1,$W43>=AI$1),INDEX(Reliability!N$23:N$50,MATCH($S43,Reliability!$C$23:$C$50,0)),0),0)*IF($T43=\"n/a\",$D43*$Y43,$G43)+IFERROR(IF(AND($V43<=AI$1,$W43>=AI$1),INDEX(Reliability!N$23:N$50,MATCH($T43,Reliability!$C$23:$C$50,0)),0),0)*$H43*$X43*$Y43),$D43)*$R43","v":0},{"$f":"MIN((IFERROR(IF(AND($V43<=AJ$1,$W43>=AJ$1),INDEX(Reliability!O$23:O$50,MATCH($S43,Reliability!$C$23:$C$50,0)),0),0)*IF($T43=\"n/a\",$D43*$Y43,$G43)+IFERROR(IF(AND($V43<=AJ$1,$W43>=AJ$1),INDEX(Reliability!O$23:O$50,MATCH($T43,Reliability!$C$23:$C$50,0)),0),0)*$H43*$X43*$Y43),$D43)*$R43","v":0},{"$f":"MIN((IFERROR(IF(AND($V43<=AK$1,$W43>=AK$1),INDEX(Reliability!P$23:P$50,MATCH($S43,Reliability!$C$23:$C$50,0)),0),0)*IF($T43=\"n/a\",$D43*$Y43,$G43)+IFERROR(IF(AND($V43<=AK$1,$W43>=AK$1),INDEX(Reliability!P$23:P$50,MATCH($T43,Reliability!$C$23:$C$50,0)),0),0)*$H43*$X43*$Y43),$D43)*$R43","v":0}]
[null,{"$f":"unique_contracts!B44","v":"_EXISTING_GENERIC_SOLAR_1AXIS"},{"$f":"unique_contracts!D44","v":"PlannedExisting"},{"$f":"unique_contracts!J44","v":40.475119863013703},{"$f":"unique_contracts!M44","v":0},{"$f":"unique_contracts!N44","v":0},{"$f":"unique_contracts!P44","v":0},{"$f":"unique_contracts!R44","v":0},{"$f":"unique_contracts!V44","v":0},null,{"$f":"unique_contracts!AM44","v":2022},{"$f":"unique_contracts!AN44","v":1},{"$f":"unique_contracts!AO44","v":1},{"$f":"unique_contracts!AP44","v":2029},{"$f":"unique_contracts!AQ44","v":12},{"$f":"unique_contracts!AR44","v":31},{"$f":"unique_contracts!BP44","v":"EnergyOnly"},0,{"$f":"IFERROR(IF(AND(I44>0,E44=\"NotHybrid\"),_xlfn.CONCAT(MAX(MIN(ROUNDDOWN(I44/D44,0),8),4),INDEX(resources!$G:$G,MATCH(B44,resources!$A:$A,0))),INDEX(resources!$G:$G,MATCH(B44,resources!$A:$A,0))),\"n/a\")","v":"utility_pv"},"n/a","utility_pv",2022,2029,1,1,{"$f":"MIN((IFERROR(IF(AND($V44<=Z$1,$W44>=Z$1),INDEX(Reliability!E$23:E$50,MATCH($S44,Reliability!$C$23:$C$50,0)),0),0)*IF($T44=\"n/a\",$D44*$Y44,$G44)+IFERROR(IF(AND($V44<=Z$1,$W44>=Z$1),INDEX(Reliability!E$23:E$50,MATCH($T44,Reliability!$C$23:$C$50,0)),0),0)*$H44*$X44*$Y44),$D44)*$R44","v":0},{"$f":"MIN((IFERROR(IF(AND($V44<=AA$1,$W44>=AA$1),INDEX(Reliability!F$23:F$50,MATCH($S44,Reliability!$C$23:$C$50,0)),0),0)*IF($T44=\"n/a\",$D44*$Y44,$G44)+IFERROR(IF(AND($V44<=AA$1,$W44>=AA$1),INDEX(Reliability!F$23:F$50,MATCH($T44,Reliability!$C$23:$C$50,0)),0),0)*$H44*$X44*$Y44),$D44)*$R44","v":0},{"$f":"MIN((IFERROR(IF(AND($V44<=AB$1,$W44>=AB$1),INDEX(Reliability!G$23:G$50,MATCH($S44,Reliability!$C$23:$C$50,0)),0),0)*IF($T44=\"n/a\",$D44*$Y44,$G44)+IFERROR(IF(AND($V44<=AB$1,$W44>=AB$1),INDEX(Reliability!G$23:G$50,MATCH($T44,Reliability!$C$23:$C$50,0)),0),0)*$H44*$X44*$Y44),$D44)*$R44","v":0},{"$f":"MIN((IFERROR(IF(AND($V44<=AC$1,$W44>=AC$1),INDEX(Reliability!H$23:H$50,MATCH($S44,Reliability!$C$23:$C$50,0)),0),0)*IF($T44=\"n/a\",$D44*$Y44,$G44)+IFERROR(IF(AND($V44<=AC$1,$W44>=AC$1),INDEX(Reliability!H$23:H$50,MATCH($T44,Reliability!$C$23:$C$50,0)),0),0)*$H44*$X44*$Y44),$D44)*$R44","v":0},{"$f":"MIN((IFERROR(IF(AND($V44<=AD$1,$W44>=AD$1),INDEX(Reliability!I$23:I$50,MATCH($S44,Reliability!$C$23:$C$50,0)),0),0)*IF($T44=\"n/a\",$D44*$Y44,$G44)+IFERROR(IF(AND($V44<=AD$1,$W44>=AD$1),INDEX(Reliability!I$23:I$50,MATCH($T44,Reliability!$C$23:$C$50,0)),0),0)*$H44*$X44*$Y44),$D44)*$R44","v":0},{"$f":"MIN((IFERROR(IF(AND($V44<=AE$1,$W44>=AE$1),INDEX(Reliability!J$23:J$50,MATCH($S44,Reliability!$C$23:$C$50,0)),0),0)*IF($T44=\"n/a\",$D44*$Y44,$G44)+IFERROR(IF(AND($V44<=AE$1,$W44>=AE$1),INDEX(Reliability!J$23:J$50,MATCH($T44,Reliability!$C$23:$C$50,0)),0),0)*$H44*$X44*$Y44),$D44)*$R44","v":0},{"$f":"MIN((IFERROR(IF(AND($V44<=AF$1,$W44>=AF$1),INDEX(Reliability!K$23:K$50,MATCH($S44,Reliability!$C$23:$C$50,0)),0),0)*IF($T44=\"n/a\",$D44*$Y44,$G44)+IFERROR(IF(AND($V44<=AF$1,$W44>=AF$1),INDEX(Reliability!K$23:K$50,MATCH($T44,Reliability!$C$23:$C$50,0)),0),0)*$H44*$X44*$Y44),$D44)*$R44","v":0},{"$f":"MIN((IFERROR(IF(AND($V44<=AG$1,$W44>=AG$1),INDEX(Reliability!L$23:L$50,MATCH($S44,Reliability!$C$23:$C$50,0)),0),0)*IF($T44=\"n/a\",$D44*$Y44,$G44)+IFERROR(IF(AND($V44<=AG$1,$W44>=AG$1),INDEX(Reliability!L$23:L$50,MATCH($T44,Reliability!$C$23:$C$50,0)),0),0)*$H44*$X44*$Y44),$D44)*$R44","v":0},{"$f":"MIN((IFERROR(IF(AND($V44<=AH$1,$W44>=AH$1),INDEX(Reliability!M$23:M$50,MATCH($S44,Reliability!$C$23:$C$50,0)),0),0)*IF($T44=\"n/a\",$D44*$Y44,$G44)+IFERROR(IF(AND($V44<=AH$1,$W44>=AH$1),INDEX(Reliability!M$23:M$50,MATCH($T44,Reliability!$C$23:$C$50,0)),0),0)*$H44*$X44*$Y44),$D44)*$R44","v":0},{"$f":"MIN((IFERROR(IF(AND($V44<=AI$1,$W44>=AI$1),INDEX(Reliability!N$23:N$50,MATCH($S44,Reliability!$C$23:$C$50,0)),0),0)*IF($T44=\"n/a\",$D44*$Y44,$G44)+IFERROR(IF(AND($V44<=AI$1,$W44>=AI$1),INDEX(Reliability!N$23:N$50,MATCH($T44,Reliability!$C$23:$C$50,0)),0),0)*$H44*$X44*$Y44),$D44)*$R44","v":0},{"$f":"MIN((IFERROR(IF(AND($V44<=AJ$1,$W44>=AJ$1),INDEX(Reliability!O$23:O$50,MATCH($S44,Reliability!$C$23:$C$50,0)),0),0)*IF($T44=\"n/a\",$D44*$Y44,$G44)+IFERROR(IF(AND($V44<=AJ$1,$W44>=AJ$1),INDEX(Reliability!O$23:O$50,MATCH($T44,Reliability!$C$23:$C$50,0)),0),0)*$H44*$X44*$Y44),$D44)*$R44","v":0},{"$f":"MIN((IFERROR(IF(AND($V44<=AK$1,$W44>=AK$1),INDEX(Reliability!P$23:P$50,MATCH($S44,Reliability!$C$23:$C$50,0)),0),0)*IF($T44=\"n/a\",$D44*$Y44,$G44)+IFERROR(IF(AND($V44<=AK$1,$W44>=AK$1),INDEX(Reliability!P$23:P$50,MATCH($T44,Reliability!$C$23:$C$50,0)),0),0)*$H44*$X44*$Y44),$D44)*$R44","v":0}]
[null,{"$f":"unique_contracts!B45","v":"_EXISTING_GENERIC_GEOTHERMAL"},{"$f":"unique_contracts!D45","v":"PlannedExisting"},{"$f":"unique_contracts!J45","v":40},{"$f":"unique_contracts!M45","v":0},{"$f":"unique_contracts!N45","v":0},{"$f":"unique_contracts!P45","v":0},{"$f":"unique_contracts!R45","v":0},{"$f":"unique_contracts!V45","v":0},null,{"$f":"unique_contracts!AM45","v":2027},{"$f":"unique_contracts!AN45","v":1},{"$f":"unique_contracts!AO45","v":1},{"$f":"unique_contracts!AP45","v":2036},{"$f":"unique_contracts!AQ45","v":12},{"$f":"unique_contracts!AR45","v":31},{"$f":"unique_contracts!BP45","v":"EnergyCapacity"},1,{"$f":"IFERROR(IF(AND(I45>0,E45=\"NotHybrid\"),_xlfn.CONCAT(MAX(MIN(ROUNDDOWN(I45/D45,0),8),4),INDEX(resources!$G:$G,MATCH(B45,resources!$A:$A,0))),INDEX(resources!$G:$G,MATCH(B45,resources!$A:$A,0))),\"n/a\")","v":"geothermal"},"n/a","geothermal",2027,2036,1,1,{"$f":"MIN((IFERROR(IF(AND($V45<=Z$1,$W45>=Z$1),INDEX(Reliability!E$23:E$50,MATCH($S45,Reliability!$C$23:$C$50,0)),0),0)*IF($T45=\"n/a\",$D45*$Y45,$G45)+IFERROR(IF(AND($V45<=Z$1,$W45>=Z$1),INDEX(Reliability!E$23:E$50,MATCH($T45,Reliability!$C$23:$C$50,0)),0),0)*$H45*$X45*$Y45),$D45)*$R45","v":0},{"$f":"MIN((IFERROR(IF(AND($V45<=AA$1,$W45>=AA$1),INDEX(Reliability!F$23:F$50,MATCH($S45,Reliability!$C$23:$C$50,0)),0),0)*IF($T45=\"n/a\",$D45*$Y45,$G45)+IFERROR(IF(AND($V45<=AA$1,$W45>=AA$1),INDEX(Reliability!F$23:F$50,MATCH($T45,Reliability!$C$23:$C$50,0)),0),0)*$H45*$X45*$Y45),$D45)*$R45","v":0},{"$f":"MIN((IFERROR(IF(AND($V45<=AB$1,$W45>=AB$1),INDEX(Reliability!G$23:G$50,MATCH($S45,Reliability!$C$23:$C$50,0)),0),0)*IF($T45=\"n/a\",$D45*$Y45,$G45)+IFERROR(IF(AND($V45<=AB$1,$W45>=AB$1),INDEX(Reliability!G$23:G$50,MATCH($T45,Reliability!$C$23:$C$50,0)),0),0)*$H45*$X45*$Y45),$D45)*$R45","v":0},{"$f":"MIN((IFERROR(IF(AND($V45<=AC$1,$W45>=AC$1),INDEX(Reliability!H$23:H$50,MATCH($S45,Reliability!$C$23:$C$50,0)),0),0)*IF($T45=\"n/a\",$D45*$Y45,$G45)+IFERROR(IF(AND($V45<=AC$1,$W45>=AC$1),INDEX(Reliability!H$23:H$50,MATCH($T45,Reliability!$C$23:$C$50,0)),0),0)*$H45*$X45*$Y45),$D45)*$R45","v":36.400734403158552},{"$f":"MIN((IFERROR(IF(AND($V45<=AD$1,$W45>=AD$1),INDEX(Reliability!I$23:I$50,MATCH($S45,Reliability!$C$23:$C$50,0)),0),0)*IF($T45=\"n/a\",$D45*$Y45,$G45)+IFERROR(IF(AND($V45<=AD$1,$W45>=AD$1),INDEX(Reliability!I$23:I$50,MATCH($T45,Reliability!$C$23:$C$50,0)),0),0)*$H45*$X45*$Y45),$D45)*$R45","v":37.100651693224236},{"$f":"MIN((IFERROR(IF(AND($V45<=AE$1,$W45>=AE$1),INDEX(Reliability!J$23:J$50,MATCH($S45,Reliability!$C$23:$C$50,0)),0),0)*IF($T45=\"n/a\",$D45*$Y45,$G45)+IFERROR(IF(AND($V45<=AE$1,$W45>=AE$1),INDEX(Reliability!J$23:J$50,MATCH($T45,Reliability!$C$23:$C$50,0)),0),0)*$H45*$X45*$Y45),$D45)*$R45","v":36.912236053555532},{"$f":"MIN((IFERROR(IF(AND($V45<=AF$1,$W45>=AF$1),INDEX(Reliability!K$23:K$50,MATCH($S45,Reliability!$C$23:$C$50,0)),0),0)*IF($T45=\"n/a\",$D45*$Y45,$G45)+IFERROR(IF(AND($V45<=AF$1,$W45>=AF$1),INDEX(Reliability!K$23:K$50,MATCH($T45,Reliability!$C$23:$C$50,0)),0),0)*$H45*$X45*$Y45),$D45)*$R45","v":36.723820413886827},{"$f":"MIN((IFERROR(IF(AND($V45<=AG$1,$W45>=AG$1),INDEX(Reliability!L$23:L$50,MATCH($S45,Reliability!$C$23:$C$50,0)),0),0)*IF($T45=\"n/a\",$D45*$Y45,$G45)+IFERROR(IF(AND($V45<=AG$1,$W45>=AG$1),INDEX(Reliability!L$23:L$50,MATCH($T45,Reliability!$C$23:$C$50,0)),0),0)*$H45*$X45*$Y45),$D45)*$R45","v":37.01538889194444},{"$f":"MIN((IFERROR(IF(AND($V45<=AH$1,$W45>=AH$1),INDEX(Reliability!M$23:M$50,MATCH($S45,Reliability!$C$23:$C$50,0)),0),0)*IF($T45=\"n/a\",$D45*$Y45,$G45)+IFERROR(IF(AND($V45<=AH$1,$W45>=AH$1),INDEX(Reliability!M$23:M$50,MATCH($T45,Reliability!$C$23:$C$50,0)),0),0)*$H45*$X45*$Y45),$D45)*$R45","v":37.306957370002053},{"$f":"MIN((IFERROR(IF(AND($V45<=AI$1,$W45>=AI$1),INDEX(Reliability!N$23:N$50,MATCH($S45,Reliability!$C$23:$C$50,0)),0),0)*IF($T45=\"n/a\",$D45*$Y45,$G45)+IFERROR(IF(AND($V45<=AI$1,$W45>=AI$1),INDEX(Reliability!N$23:N$50,MATCH($T45,Reliability!$C$23:$C$50,0)),0),0)*$H45*$X45*$Y45),$D45)*$R45","v":37.598525848059673},{"$f":"MIN((IFERROR(IF(AND($V45<=AJ$1,$W45>=AJ$1),INDEX(Reliability!O$23:O$50,MATCH($S45,Reliability!$C$23:$C$50,0)),0),0)*IF($T45=\"n/a\",$D45*$Y45,$G45)+IFERROR(IF(AND($V45<=AJ$1,$W45>=AJ$1),INDEX(Reliability!O$23:O$50,MATCH($T45,Reliability!$C$23:$C$50,0)),0),0)*$H45*$X45*$Y45),$D45)*$R45","v":37.890094326117286},{"$f":"MIN((IFERROR(IF(AND($V45<=AK$1,$W45>=AK$1),INDEX(Reliability!P$23:P$50,MATCH($S45,Reliability!$C$23:$C$50,0)),0),0)*IF($T45=\"n/a\",$D45*$Y45,$G45)+IFERROR(IF(AND($V45<=AK$1,$W45>=AK$1),INDEX(Reliability!P$23:P$50,MATCH($T45,Reliability!$C$23:$C$50,0)),0),0)*$H45*$X45*$Y45),$D45)*$R45","v":38.181662804174906}]
[null,{"$f":"unique_contracts!B46","v":"_CREZ_GENERIC_SOLANO_GEOTHERMAL"},{"$f":"unique_contracts!D46","v":"PlannedNew"},{"$f":"unique_contracts!J46","v":30},{"$f":"unique_contracts!M46","v":0},{"$f":"unique_contracts!N46","v":0},{"$f":"unique_contracts!P46","v":0},{"$f":"unique_contracts!R46","v":0},{"$f":"unique_contracts!V46","v":0},null,{"$f":"unique_contracts!AM46","v":2030},{"$f":"unique_contracts!AN46","v":1},{"$f":"unique_contracts!AO46","v":1},{"$f":"unique_contracts!AP46","v":2040},{"$f":"unique_contracts!AQ46","v":12},{"$f":"unique_contracts!AR46","v":31},{"$f":"unique_contracts!BP46","v":"EnergyCapacity"},1,{"$f":"IFERROR(IF(AND(I46>0,E46=\"NotHybrid\"),_xlfn.CONCAT(MAX(MIN(ROUNDDOWN(I46/D46,0),8),4),INDEX(resources!$G:$G,MATCH(B46,resources!$A:$A,0))),INDEX(resources!$G:$G,MATCH(B46,resources!$A:$A,0))),\"n/a\")","v":"geothermal"},"n/a","geothermal",2030,2040,1,1,{"$f":"MIN((IFERROR(IF(AND($V46<=Z$1,$W46>=Z$1),INDEX(Reliability!E$23:E$50,MATCH($S46,Reliability!$C$23:$C$50,0)),0),0)*IF($T46=\"n/a\",$D46*$Y46,$G46)+IFERROR(IF(AND($V46<=Z$1,$W46>=Z$1),INDEX(Reliability!E$23:E$50,MATCH($T46,Reliability!$C$23:$C$50,0)),0),0)*$H46*$X46*$Y46),$D46)*$R46","v":0},{"$f":"MIN((IFERROR(IF(AND($V46<=AA$1,$W46>=AA$1),INDEX(Reliability!F$23:F$50,MATCH($S46,Reliability!$C$23:$C$50,0)),0),0)*IF($T46=\"n/a\",$D46*$Y46,$G46)+IFERROR(IF(AND($V46<=AA$1,$W46>=AA$1),INDEX(Reliability!F$23:F$50,MATCH($T46,Reliability!$C$23:$C$50,0)),0),0)*$H46*$X46*$Y46),$D46)*$R46","v":0},{"$f":"MIN((IFERROR(IF(AND($V46<=AB$1,$W46>=AB$1),INDEX(Reliability!G$23:G$50,MATCH($S46,Reliability!$C$23:$C$50,0)),0),0)*IF($T46=\"n/a\",$D46*$Y46,$G46)+IFERROR(IF(AND($V46<=AB$1,$W46>=AB$1),INDEX(Reliability!G$23:G$50,MATCH($T46,Reliability!$C$23:$C$50,0)),0),0)*$H46*$X46*$Y46),$D46)*$R46","v":0},{"$f":"MIN((IFERROR(IF(AND($V46<=AC$1,$W46>=AC$1),INDEX(Reliability!H$23:H$50,MATCH($S46,Reliability!$C$23:$C$50,0)),0),0)*IF($T46=\"n/a\",$D46*$Y46,$G46)+IFERROR(IF(AND($V46<=AC$1,$W46>=AC$1),INDEX(Reliability!H$23:H$50,MATCH($T46,Reliability!$C$23:$C$50,0)),0),0)*$H46*$X46*$Y46),$D46)*$R46","v":0},{"$f":"MIN((IFERROR(IF(AND($V46<=AD$1,$W46>=AD$1),INDEX(Reliability!I$23:I$50,MATCH($S46,Reliability!$C$23:$C$50,0)),0),0)*IF($T46=\"n/a\",$D46*$Y46,$G46)+IFERROR(IF(AND($V46<=AD$1,$W46>=AD$1),INDEX(Reliability!I$23:I$50,MATCH($T46,Reliability!$C$23:$C$50,0)),0),0)*$H46*$X46*$Y46),$D46)*$R46","v":0},{"$f":"MIN((IFERROR(IF(AND($V46<=AE$1,$W46>=AE$1),INDEX(Reliability!J$23:J$50,MATCH($S46,Reliability!$C$23:$C$50,0)),0),0)*IF($T46=\"n/a\",$D46*$Y46,$G46)+IFERROR(IF(AND($V46<=AE$1,$W46>=AE$1),INDEX(Reliability!J$23:J$50,MATCH($T46,Reliability!$C$23:$C$50,0)),0),0)*$H46*$X46*$Y46),$D46)*$R46","v":0},{"$f":"MIN((IFERROR(IF(AND($V46<=AF$1,$W46>=AF$1),INDEX(Reliability!K$23:K$50,MATCH($S46,Reliability!$C$23:$C$50,0)),0),0)*IF($T46=\"n/a\",$D46*$Y46,$G46)+IFERROR(IF(AND($V46<=AF$1,$W46>=AF$1),INDEX(Reliability!K$23:K$50,MATCH($T46,Reliability!$C$23:$C$50,0)),0),0)*$H46*$X46*$Y46),$D46)*$R46","v":27.54286531041512},{"$f":"MIN((IFERROR(IF(AND($V46<=AG$1,$W46>=AG$1),INDEX(Reliability!L$23:L$50,MATCH($S46,Reliability!$C$23:$C$50,0)),0),0)*IF($T46=\"n/a\",$D46*$Y46,$G46)+IFERROR(IF(AND($V46<=AG$1,$W46>=AG$1),INDEX(Reliability!L$23:L$50,MATCH($T46,Reliability!$C$23:$C$50,0)),0),0)*$H46*$X46*$Y46),$D46)*$R46","v":27.76154166895833},{"$f":"MIN((IFERROR(IF(AND($V46<=AH$1,$W46>=AH$1),INDEX(Reliability!M$23:M$50,MATCH($S46,Reliability!$C$23:$C$50,0)),0),0)*IF($T46=\"n/a\",$D46*$Y46,$G46)+IFERROR(IF(AND($V46<=AH$1,$W46>=AH$1),INDEX(Reliability!M$23:M$50,MATCH($T46,Reliability!$C$23:$C$50,0)),0),0)*$H46*$X46*$Y46),$D46)*$R46","v":27.980218027501543},{"$f":"MIN((IFERROR(IF(AND($V46<=AI$1,$W46>=AI$1),INDEX(Reliability!N$23:N$50,MATCH($S46,Reliability!$C$23:$C$50,0)),0),0)*IF($T46=\"n/a\",$D46*$Y46,$G46)+IFERROR(IF(AND($V46<=AI$1,$W46>=AI$1),INDEX(Reliability!N$23:N$50,MATCH($T46,Reliability!$C$23:$C$50,0)),0),0)*$H46*$X46*$Y46),$D46)*$R46","v":28.198894386044753},{"$f":"MIN((IFERROR(IF(AND($V46<=AJ$1,$W46>=AJ$1),INDEX(Reliability!O$23:O$50,MATCH($S46,Reliability!$C$23:$C$50,0)),0),0)*IF($T46=\"n/a\",$D46*$Y46,$G46)+IFERROR(IF(AND($V46<=AJ$1,$W46>=AJ$1),INDEX(Reliability!O$23:O$50,MATCH($T46,Reliability!$C$23:$C$50,0)),0),0)*$H46*$X46*$Y46),$D46)*$R46","v":28.417570744587966},{"$f":"MIN((IFERROR(IF(AND($V46<=AK$1,$W46>=AK$1),INDEX(Reliability!P$23:P$50,MATCH($S46,Reliability!$C$23:$C$50,0)),0),0)*IF($T46=\"n/a\",$D46*$Y46,$G46)+IFERROR(IF(AND($V46<=AK$1,$W46>=AK$1),INDEX(Reliability!P$23:P$50,MATCH($T46,Reliability!$C$23:$C$50,0)),0),0)*$H46*$X46*$Y46),$D46)*$R46","v":28.636247103131176}]
[null,{"$f":"unique_contracts!B47","v":"_CREZ_GENERIC_SOLANO_GEOTHERMAL"},{"$f":"unique_contracts!D47","v":"PlannedNew"},{"$f":"unique_contracts!J47","v":20},{"$f":"unique_contracts!M47","v":0},{"$f":"unique_contracts!N47","v":0},{"$f":"unique_contracts!P47","v":0},{"$f":"unique_contracts!R47","v":0},{"$f":"unique_contracts!V47","v":0},null,{"$f":"unique_contracts!AM47","v":2032},{"$f":"unique_contracts!AN47","v":1},{"$f":"unique_contracts!AO47","v":1},{"$f":"unique_contracts!AP47","v":2040},{"$f":"unique_contracts!AQ47","v":12},{"$f":"unique_contracts!AR47","v":31},{"$f":"unique_contracts!BP47","v":"EnergyCapacity"},1,{"$f":"IFERROR(IF(AND(I47>0,E47=\"NotHybrid\"),_xlfn.CONCAT(MAX(MIN(ROUNDDOWN(I47/D47,0),8),4),INDEX(resources!$G:$G,MATCH(B47,resources!$A:$A,0))),INDEX(resources!$G:$G,MATCH(B47,resources!$A:$A,0))),\"n/a\")","v":"geothermal"},"n/a","geothermal",2032,2040,1,1,{"$f":"MIN((IFERROR(IF(AND($V47<=Z$1,$W47>=Z$1),INDEX(Reliability!E$23:E$50,MATCH($S47,Reliability!$C$23:$C$50,0)),0),0)*IF($T47=\"n/a\",$D47*$Y47,$G47)+IFERROR(IF(AND($V47<=Z$1,$W47>=Z$1),INDEX(Reliability!E$23:E$50,MATCH($T47,Reliability!$C$23:$C$50,0)),0),0)*$H47*$X47*$Y47),$D47)*$R47","v":0},{"$f":"MIN((IFERROR(IF(AND($V47<=AA$1,$W47>=AA$1),INDEX(Reliability!F$23:F$50,MATCH($S47,Reliability!$C$23:$C$50,0)),0),0)*IF($T47=\"n/a\",$D47*$Y47,$G47)+IFERROR(IF(AND($V47<=AA$1,$W47>=AA$1),INDEX(Reliability!F$23:F$50,MATCH($T47,Reliability!$C$23:$C$50,0)),0),0)*$H47*$X47*$Y47),$D47)*$R47","v":0},{"$f":"MIN((IFERROR(IF(AND($V47<=AB$1,$W47>=AB$1),INDEX(Reliability!G$23:G$50,MATCH($S47,Reliability!$C$23:$C$50,0)),0),0)*IF($T47=\"n/a\",$D47*$Y47,$G47)+IFERROR(IF(AND($V47<=AB$1,$W47>=AB$1),INDEX(Reliability!G$23:G$50,MATCH($T47,Reliability!$C$23:$C$50,0)),0),0)*$H47*$X47*$Y47),$D47)*$R47","v":0},{"$f":"MIN((IFERROR(IF(AND($V47<=AC$1,$W47>=AC$1),INDEX(Reliability!H$23:H$50,MATCH($S47,Reliability!$C$23:$C$50,0)),0),0)*IF($T47=\"n/a\",$D47*$Y47,$G47)+IFERROR(IF(AND($V47<=AC$1,$W47>=AC$1),INDEX(Reliability!H$23:H$50,MATCH($T47,Reliability!$C$23:$C$50,0)),0),0)*$H47*$X47*$Y47),$D47)*$R47","v":0},{"$f":"MIN((IFERROR(IF(AND($V47<=AD$1,$W47>=AD$1),INDEX(Reliability!I$23:I$50,MATCH($S47,Reliability!$C$23:$C$50,0)),0),0)*IF($T47=\"n/a\",$D47*$Y47,$G47)+IFERROR(IF(AND($V47<=AD$1,$W47>=AD$1),INDEX(Reliability!I$23:I$50,MATCH($T47,Reliability!$C$23:$C$50,0)),0),0)*$H47*$X47*$Y47),$D47)*$R47","v":0},{"$f":"MIN((IFERROR(IF(AND($V47<=AE$1,$W47>=AE$1),INDEX(Reliability!J$23:J$50,MATCH($S47,Reliability!$C$23:$C$50,0)),0),0)*IF($T47=\"n/a\",$D47*$Y47,$G47)+IFERROR(IF(AND($V47<=AE$1,$W47>=AE$1),INDEX(Reliability!J$23:J$50,MATCH($T47,Reliability!$C$23:$C$50,0)),0),0)*$H47*$X47*$Y47),$D47)*$R47","v":0},{"$f":"MIN((IFERROR(IF(AND($V47<=AF$1,$W47>=AF$1),INDEX(Reliability!K$23:K$50,MATCH($S47,Reliability!$C$23:$C$50,0)),0),0)*IF($T47=\"n/a\",$D47*$Y47,$G47)+IFERROR(IF(AND($V47<=AF$1,$W47>=AF$1),INDEX(Reliability!K$23:K$50,MATCH($T47,Reliability!$C$23:$C$50,0)),0),0)*$H47*$X47*$Y47),$D47)*$R47","v":0},{"$f":"MIN((IFERROR(IF(AND($V47<=AG$1,$W47>=AG$1),INDEX(Reliability!L$23:L$50,MATCH($S47,Reliability!$C$23:$C$50,0)),0),0)*IF($T47=\"n/a\",$D47*$Y47,$G47)+IFERROR(IF(AND($V47<=AG$1,$W47>=AG$1),INDEX(Reliability!L$23:L$50,MATCH($T47,Reliability!$C$23:$C$50,0)),0),0)*$H47*$X47*$Y47),$D47)*$R47","v":0},{"$f":"MIN((IFERROR(IF(AND($V47<=AH$1,$W47>=AH$1),INDEX(Reliability!M$23:M$50,MATCH($S47,Reliability!$C$23:$C$50,0)),0),0)*IF($T47=\"n/a\",$D47*$Y47,$G47)+IFERROR(IF(AND($V47<=AH$1,$W47>=AH$1),INDEX(Reliability!M$23:M$50,MATCH($T47,Reliability!$C$23:$C$50,0)),0),0)*$H47*$X47*$Y47),$D47)*$R47","v":18.653478685001026},{"$f":"MIN((IFERROR(IF(AND($V47<=AI$1,$W47>=AI$1),INDEX(Reliability!N$23:N$50,MATCH($S47,Reliability!$C$23:$C$50,0)),0),0)*IF($T47=\"n/a\",$D47*$Y47,$G47)+IFERROR(IF(AND($V47<=AI$1,$W47>=AI$1),INDEX(Reliability!N$23:N$50,MATCH($T47,Reliability!$C$23:$C$50,0)),0),0)*$H47*$X47*$Y47),$D47)*$R47","v":18.799262924029836},{"$f":"MIN((IFERROR(IF(AND($V47<=AJ$1,$W47>=AJ$1),INDEX(Reliability!O$23:O$50,MATCH($S47,Reliability!$C$23:$C$50,0)),0),0)*IF($T47=\"n/a\",$D47*$Y47,$G47)+IFERROR(IF(AND($V47<=AJ$1,$W47>=AJ$1),INDEX(Reliability!O$23:O$50,MATCH($T47,Reliability!$C$23:$C$50,0)),0),0)*$H47*$X47*$Y47),$D47)*$R47","v":18.945047163058643},{"$f":"MIN((IFERROR(IF(AND($V47<=AK$1,$W47>=AK$1),INDEX(Reliability!P$23:P$50,MATCH($S47,Reliability!$C$23:$C$50,0)),0),0)*IF($T47=\"n/a\",$D47*$Y47,$G47)+IFERROR(IF(AND($V47<=AK$1,$W47>=AK$1),INDEX(Reliability!P$23:P$50,MATCH($T47,Reliability!$C$23:$C$50,0)),0),0)*$H47*$X47*$Y47),$D47)*$R47","v":19.090831402087453}]
[null,{"$f":"unique_contracts!B48","v":"_CREZ_GENERIC_SOLANO_GEOTHERMAL"},{"$f":"unique_contracts!D48","v":"PlannedNew"},{"$f":"unique_contracts!J48","v":20},{"$f":"unique_contracts!M48","v":0},{"$f":"unique_contracts!N48","v":0},{"$f":"unique_contracts!P48","v":0},{"$f":"unique_contracts!R48","v":0},{"$f":"unique_contracts!V48","v":0},null,{"$f":"unique_contracts!AM48","v":2033},{"$f":"unique_contracts!AN48","v":1},{"$f":"unique_contracts!AO48","v":1},{"$f":"unique_contracts!AP48","v":2040},{"$f":"unique_contracts!AQ48","v":12},{"$f":"unique_contracts!AR48","v":31},{"$f":"unique_contracts!BP48","v":"EnergyCapacity"},1,{"$f":"IFERROR(IF(AND(I48>0,E48=\"NotHybrid\"),_xlfn.CONCAT(MAX(MIN(ROUNDDOWN(I48/D48,0),8),4),INDEX(resources!$G:$G,MATCH(B48,resources!$A:$A,0))),INDEX(resources!$G:$G,MATCH(B48,resources!$A:$A,0))),\"n/a\")","v":"geothermal"},"n/a","geothermal",2033,2040,1,1,{"$f":"MIN((IFERROR(IF(AND($V48<=Z$1,$W48>=Z$1),INDEX(Reliability!E$23:E$50,MATCH($S48,Reliability!$C$23:$C$50,0)),0),0)*IF($T48=\"n/a\",$D48*$Y48,$G48)+IFERROR(IF(AND($V48<=Z$1,$W48>=Z$1),INDEX(Reliability!E$23:E$50,MATCH($T48,Reliability!$C$23:$C$50,0)),0),0)*$H48*$X48*$Y48),$D48)*$R48","v":0},{"$f":"MIN((IFERROR(IF(AND($V48<=AA$1,$W48>=AA$1),INDEX(Reliability!F$23:F$50,MATCH($S48,Reliability!$C$23:$C$50,0)),0),0)*IF($T48=\"n/a\",$D48*$Y48,$G48)+IFERROR(IF(AND($V48<=AA$1,$W48>=AA$1),INDEX(Reliability!F$23:F$50,MATCH($T48,Reliability!$C$23:$C$50,0)),0),0)*$H48*$X48*$Y48),$D48)*$R48","v":0},{"$f":"MIN((IFERROR(IF(AND($V48<=AB$1,$W48>=AB$1),INDEX(Reliability!G$23:G$50,MATCH($S48,Reliability!$C$23:$C$50,0)),0),0)*IF($T48=\"n/a\",$D48*$Y48,$G48)+IFERROR(IF(AND($V48<=AB$1,$W48>=AB$1),INDEX(Reliability!G$23:G$50,MATCH($T48,Reliability!$C$23:$C$50,0)),0),0)*$H48*$X48*$Y48),$D48)*$R48","v":0},{"$f":"MIN((IFERROR(IF(AND($V48<=AC$1,$W48>=AC$1),INDEX(Reliability!H$23:H$50,MATCH($S48,Reliability!$C$23:$C$50,0)),0),0)*IF($T48=\"n/a\",$D48*$Y48,$G48)+IFERROR(IF(AND($V48<=AC$1,$W48>=AC$1),INDEX(Reliability!H$23:H$50,MATCH($T48,Reliability!$C$23:$C$50,0)),0),0)*$H48*$X48*$Y48),$D48)*$R48","v":0},{"$f":"MIN((IFERROR(IF(AND($V48<=AD$1,$W48>=AD$1),INDEX(Reliability!I$23:I$50,MATCH($S48,Reliability!$C$23:$C$50,0)),0),0)*IF($T48=\"n/a\",$D48*$Y48,$G48)+IFERROR(IF(AND($V48<=AD$1,$W48>=AD$1),INDEX(Reliability!I$23:I$50,MATCH($T48,Reliability!$C$23:$C$50,0)),0),0)*$H48*$X48*$Y48),$D48)*$R48","v":0},{"$f":"MIN((IFERROR(IF(AND($V48<=AE$1,$W48>=AE$1),INDEX(Reliability!J$23:J$50,MATCH($S48,Reliability!$C$23:$C$50,0)),0),0)*IF($T48=\"n/a\",$D48*$Y48,$G48)+IFERROR(IF(AND($V48<=AE$1,$W48>=AE$1),INDEX(Reliability!J$23:J$50,MATCH($T48,Reliability!$C$23:$C$50,0)),0),0)*$H48*$X48*$Y48),$D48)*$R48","v":0},{"$f":"MIN((IFERROR(IF(AND($V48<=AF$1,$W48>=AF$1),INDEX(Reliability!K$23:K$50,MATCH($S48,Reliability!$C$23:$C$50,0)),0),0)*IF($T48=\"n/a\",$D48*$Y48,$G48)+IFERROR(IF(AND($V48<=AF$1,$W48>=AF$1),INDEX(Reliability!K$23:K$50,MATCH($T48,Reliability!$C$23:$C$50,0)),0),0)*$H48*$X48*$Y48),$D48)*$R48","v":0},{"$f":"MIN((IFERROR(IF(AND($V48<=AG$1,$W48>=AG$1),INDEX(Reliability!L$23:L$50,MATCH($S48,Reliability!$C$23:$C$50,0)),0),0)*IF($T48=\"n/a\",$D48*$Y48,$G48)+IFERROR(IF(AND($V48<=AG$1,$W48>=AG$1),INDEX(Reliability!L$23:L$50,MATCH($T48,Reliability!$C$23:$C$50,0)),0),0)*$H48*$X48*$Y48),$D48)*$R48","v":0},{"$f":"MIN((IFERROR(IF(AND($V48<=AH$1,$W48>=AH$1),INDEX(Reliability!M$23:M$50,MATCH($S48,Reliability!$C$23:$C$50,0)),0),0)*IF($T48=\"n/a\",$D48*$Y48,$G48)+IFERROR(IF(AND($V48<=AH$1,$W48>=AH$1),INDEX(Reliability!M$23:M$50,MATCH($T48,Reliability!$C$23:$C$50,0)),0),0)*$H48*$X48*$Y48),$D48)*$R48","v":0},{"$f":"MIN((IFERROR(IF(AND($V48<=AI$1,$W48>=AI$1),INDEX(Reliability!N$23:N$50,MATCH($S48,Reliability!$C$23:$C$50,0)),0),0)*IF($T48=\"n/a\",$D48*$Y48,$G48)+IFERROR(IF(AND($V48<=AI$1,$W48>=AI$1),INDEX(Reliability!N$23:N$50,MATCH($T48,Reliability!$C$23:$C$50,0)),0),0)*$H48*$X48*$Y48),$D48)*$R48","v":18.799262924029836},{"$f":"MIN((IFERROR(IF(AND($V48<=AJ$1,$W48>=AJ$1),INDEX(Reliability!O$23:O$50,MATCH($S48,Reliability!$C$23:$C$50,0)),0),0)*IF($T48=\"n/a\",$D48*$Y48,$G48)+IFERROR(IF(AND($V48<=AJ$1,$W48>=AJ$1),INDEX(Reliability!O$23:O$50,MATCH($T48,Reliability!$C$23:$C$50,0)),0),0)*$H48*$X48*$Y48),$D48)*$R48","v":18.945047163058643},{"$f":"MIN((IFERROR(IF(AND($V48<=AK$1,$W48>=AK$1),INDEX(Reliability!P$23:P$50,MATCH($S48,Reliability!$C$23:$C$50,0)),0),0)*IF($T48=\"n/a\",$D48*$Y48,$G48)+IFERROR(IF(AND($V48<=AK$1,$W48>=AK$1),INDEX(Reliability!P$23:P$50,MATCH($T48,Reliability!$C$23:$C$50,0)),0),0)*$H48*$X48*$Y48),$D48)*$R48","v":19.090831402087453}]
[null,{"$f":"unique_contracts!B49","v":"_NEW_GENERIC_DR"},{"$f":"unique_contracts!D49","v":"PlannedNew"},{"$f":"unique_contracts!J49","v":1},{"$f":"unique_contracts!M49","v":0},{"$f":"unique_contracts!N49","v":0},{"$f":"unique_contracts!P49","v":0},{"$f":"unique_contracts!R49","v":0},{"$f":"unique_contracts!V49","v":0},null,{"$f":"unique_contracts!AM49","v":2024},{"$f":"unique_contracts!AN49","v":1},{"$f":"unique_contracts!AO49","v":1},{"$f":"unique_contracts!AP49","v":2040},{"$f":"unique_contracts!AQ49","v":12},{"$f":"unique_contracts!AR49","v":31},{"$f":"unique_contracts!BP49","v":"EnergyCapacity"},1,{"$f":"IFERROR(IF(AND(I49>0,E49=\"NotHybrid\"),_xlfn.CONCAT(MAX(MIN(ROUNDDOWN(I49/D49,0),8),4),INDEX(resources!$G:$G,MATCH(B49,resources!$A:$A,0))),INDEX(resources!$G:$G,MATCH(B49,resources!$A:$A,0))),\"n/a\")","v":"demand_response"},"n/a","demand_response",2024,2040,1,1,{"$f":"MIN((IFERROR(IF(AND($V49<=Z$1,$W49>=Z$1),INDEX(Reliability!E$23:E$50,MATCH($S49,Reliability!$C$23:$C$50,0)),0),0)*IF($T49=\"n/a\",$D49*$Y49,$G49)+IFERROR(IF(AND($V49<=Z$1,$W49>=Z$1),INDEX(Reliability!E$23:E$50,MATCH($T49,Reliability!$C$23:$C$50,0)),0),0)*$H49*$X49*$Y49),$D49)*$R49","v":0.89300000000000002},{"$f":"MIN((IFERROR(IF(AND($V49<=AA$1,$W49>=AA$1),INDEX(Reliability!F$23:F$50,MATCH($S49,Reliability!$C$23:$C$50,0)),0),0)*IF($T49=\"n/a\",$D49*$Y49,$G49)+IFERROR(IF(AND($V49<=AA$1,$W49>=AA$1),INDEX(Reliability!F$23:F$50,MATCH($T49,Reliability!$C$23:$C$50,0)),0),0)*$H49*$X49*$Y49),$D49)*$R49","v":0.9083512608449148},{"$f":"MIN((IFERROR(IF(AND($V49<=AB$1,$W49>=AB$1),INDEX(Reliability!G$23:G$50,MATCH($S49,Reliability!$C$23:$C$50,0)),0),0)*IF($T49=\"n/a\",$D49*$Y49,$G49)+IFERROR(IF(AND($V49<=AB$1,$W49>=AB$1),INDEX(Reliability!G$23:G$50,MATCH($T49,Reliability!$C$23:$C$50,0)),0),0)*$H49*$X49*$Y49),$D49)*$R49","v":0.92370252168982958},{"$f":"MIN((IFERROR(IF(AND($V49<=AC$1,$W49>=AC$1),INDEX(Reliability!H$23:H$50,MATCH($S49,Reliability!$C$23:$C$50,0)),0),0)*IF($T49=\"n/a\",$D49*$Y49,$G49)+IFERROR(IF(AND($V49<=AC$1,$W49>=AC$1),INDEX(Reliability!H$23:H$50,MATCH($T49,Reliability!$C$23:$C$50,0)),0),0)*$H49*$X49*$Y49),$D49)*$R49","v":0.77235126084491479},{"$f":"MIN((IFERROR(IF(AND($V49<=AD$1,$W49>=AD$1),INDEX(Reliability!I$23:I$50,MATCH($S49,Reliability!$C$23:$C$50,0)),0),0)*IF($T49=\"n/a\",$D49*$Y49,$G49)+IFERROR(IF(AND($V49<=AD$1,$W49>=AD$1),INDEX(Reliability!I$23:I$50,MATCH($T49,Reliability!$C$23:$C$50,0)),0),0)*$H49*$X49*$Y49),$D49)*$R49","v":0.621},{"$f":"MIN((IFERROR(IF(AND($V49<=AE$1,$W49>=AE$1),INDEX(Reliability!J$23:J$50,MATCH($S49,Reliability!$C$23:$C$50,0)),0),0)*IF($T49=\"n/a\",$D49*$Y49,$G49)+IFERROR(IF(AND($V49<=AE$1,$W49>=AE$1),INDEX(Reliability!J$23:J$50,MATCH($T49,Reliability!$C$23:$C$50,0)),0),0)*$H49*$X49*$Y49),$D49)*$R49","v":0.60599999999999998},{"$f":"MIN((IFERROR(IF(AND($V49<=AF$1,$W49>=AF$1),INDEX(Reliability!K$23:K$50,MATCH($S49,Reliability!$C$23:$C$50,0)),0),0)*IF($T49=\"n/a\",$D49*$Y49,$G49)+IFERROR(IF(AND($V49<=AF$1,$W49>=AF$1),INDEX(Reliability!K$23:K$50,MATCH($T49,Reliability!$C$23:$C$50,0)),0),0)*$H49*$X49*$Y49),$D49)*$R49","v":0.59099999999999997},{"$f":"MIN((IFERROR(IF(AND($V49<=AG$1,$W49>=AG$1),INDEX(Reliability!L$23:L$50,MATCH($S49,Reliability!$C$23:$C$50,0)),0),0)*IF($T49=\"n/a\",$D49*$Y49,$G49)+IFERROR(IF(AND($V49<=AG$1,$W49>=AG$1),INDEX(Reliability!L$23:L$50,MATCH($T49,Reliability!$C$23:$C$50,0)),0),0)*$H49*$X49*$Y49),$D49)*$R49","v":0.50159999999999993},{"$f":"MIN((IFERROR(IF(AND($V49<=AH$1,$W49>=AH$1),INDEX(Reliability!M$23:M$50,MATCH($S49,Reliability!$C$23:$C$50,0)),0),0)*IF($T49=\"n/a\",$D49*$Y49,$G49)+IFERROR(IF(AND($V49<=AH$1,$W49>=AH$1),INDEX(Reliability!M$23:M$50,MATCH($T49,Reliability!$C$23:$C$50,0)),0),0)*$H49*$X49*$Y49),$D49)*$R49","v":0.41219999999999996},{"$f":"MIN((IFERROR(IF(AND($V49<=AI$1,$W49>=AI$1),INDEX(Reliability!N$23:N$50,MATCH($S49,Reliability!$C$23:$C$50,0)),0),0)*IF($T49=\"n/a\",$D49*$Y49,$G49)+IFERROR(IF(AND($V49<=AI$1,$W49>=AI$1),INDEX(Reliability!N$23:N$50,MATCH($T49,Reliability!$C$23:$C$50,0)),0),0)*$H49*$X49*$Y49),$D49)*$R49","v":0.32279999999999998},{"$f":"MIN((IFERROR(IF(AND($V49<=AJ$1,$W49>=AJ$1),INDEX(Reliability!O$23:O$50,MATCH($S49,Reliability!$C$23:$C$50,0)),0),0)*IF($T49=\"n/a\",$D49*$Y49,$G49)+IFERROR(IF(AND($V49<=AJ$1,$W49>=AJ$1),INDEX(Reliability!O$23:O$50,MATCH($T49,Reliability!$C$23:$C$50,0)),0),0)*$H49*$X49*$Y49),$D49)*$R49","v":0.2334},{"$f":"MIN((IFERROR(IF(AND($V49<=AK$1,$W49>=AK$1),INDEX(Reliability!P$23:P$50,MATCH($S49,Reliability!$C$23:$C$50,0)),0),0)*IF($T49=\"n/a\",$D49*$Y49,$G49)+IFERROR(IF(AND($V49<=AK$1,$W49>=AK$1),INDEX(Reliability!P$23:P$50,MATCH($T49,Reliability!$C$23:$C$50,0)),0),0)*$H49*$X49*$Y49),$D49)*$R49","v":0.14399999999999999}]
[null,{"$f":"unique_contracts!B50","v":"_NEW_GENERIC_DR"},{"$f":"unique_contracts!D50","v":"PlannedNew"},{"$f":"unique_contracts!J50","v":2},{"$f":"unique_contracts!M50","v":0},{"$f":"unique_contracts!N50","v":0},{"$f":"unique_contracts!P50","v":0},{"$f":"unique_contracts!R50","v":0},{"$f":"unique_contracts!V50","v":0},null,{"$f":"unique_contracts!AM50","v":2025},{"$f":"unique_contracts!AN50","v":1},{"$f":"unique_contracts!AO50","v":1},{"$f":"unique_contracts!AP50","v":2040},{"$f":"unique_contracts!AQ50","v":12},{"$f":"unique_contracts!AR50","v":31},{"$f":"unique_contracts!BP50","v":"EnergyCapacity"},1,{"$f":"IFERROR(IF(AND(I50>0,E50=\"NotHybrid\"),_xlfn.CONCAT(MAX(MIN(ROUNDDOWN(I50/D50,0),8),4),INDEX(resources!$G:$G,MATCH(B50,resources!$A:$A,0))),INDEX(resources!$G:$G,MATCH(B50,resources!$A:$A,0))),\"n/a\")","v":"demand_response"},"n/a","demand_response",2025,2040,1,1,{"$f":"MIN((IFERROR(IF(AND($V50<=Z$1,$W50>=Z$1),INDEX(Reliability!E$23:E$50,MATCH($S50,Reliability!$C$23:$C$50,0)),0),0)*IF($T50=\"n/a\",$D50*$Y50,$G50)+IFERROR(IF(AND($V50<=Z$1,$W50>=Z$1),INDEX(Reliability!E$23:E$50,MATCH($T50,Reliability!$C$23:$C$50,0)),0),0)*$H50*$X50*$Y50),$D50)*$R50","v":0},{"$f":"MIN((IFERROR(IF(AND($V50<=AA$1,$W50>=AA$1),INDEX(Reliability!F$23:F$50,MATCH($S50,Reliability!$C$23:$C$50,0)),0),0)*IF($T50=\"n/a\",$D50*$Y50,$G50)+IFERROR(IF(AND($V50<=AA$1,$W50>=AA$1),INDEX(Reliability!F$23:F$50,MATCH($T50,Reliability!$C$23:$C$50,0)),0),0)*$H50*$X50*$Y50),$D50)*$R50","v":1.8167025216898296},{"$f":"MIN((IFERROR(IF(AND($V50<=AB$1,$W50>=AB$1),INDEX(Reliability!G$23:G$50,MATCH($S50,Reliability!$C$23:$C$50,0)),0),0)*IF($T50=\"n/a\",$D50*$Y50,$G50)+IFERROR(IF(AND($V50<=AB$1,$W50>=AB$1),INDEX(Reliability!G$23:G$50,MATCH($T50,Reliability!$C$23:$C$50,0)),0),0)*$H50*$X50*$Y50),$D50)*$R50","v":1.8474050433796592},{"$f":"MIN((IFERROR(IF(AND($V50<=AC$1,$W50>=AC$1),INDEX(Reliability!H$23:H$50,MATCH($S50,Reliability!$C$23:$C$50,0)),0),0)*IF($T50=\"n/a\",$D50*$Y50,$G50)+IFERROR(IF(AND($V50<=AC$1,$W50>=AC$1),INDEX(Reliability!H$23:H$50,MATCH($T50,Reliability!$C$23:$C$50,0)),0),0)*$H50*$X50*$Y50),$D50)*$R50","v":1.5447025216898296},{"$f":"MIN((IFERROR(IF(AND($V50<=AD$1,$W50>=AD$1),INDEX(Reliability!I$23:I$50,MATCH($S50,Reliability!$C$23:$C$50,0)),0),0)*IF($T50=\"n/a\",$D50*$Y50,$G50)+IFERROR(IF(AND($V50<=AD$1,$W50>=AD$1),INDEX(Reliability!I$23:I$50,MATCH($T50,Reliability!$C$23:$C$50,0)),0),0)*$H50*$X50*$Y50),$D50)*$R50","v":1.242},{"$f":"MIN((IFERROR(IF(AND($V50<=AE$1,$W50>=AE$1),INDEX(Reliability!J$23:J$50,MATCH($S50,Reliability!$C$23:$C$50,0)),0),0)*IF($T50=\"n/a\",$D50*$Y50,$G50)+IFERROR(IF(AND($V50<=AE$1,$W50>=AE$1),INDEX(Reliability!J$23:J$50,MATCH($T50,Reliability!$C$23:$C$50,0)),0),0)*$H50*$X50*$Y50),$D50)*$R50","v":1.212},{"$f":"MIN((IFERROR(IF(AND($V50<=AF$1,$W50>=AF$1),INDEX(Reliability!K$23:K$50,MATCH($S50,Reliability!$C$23:$C$50,0)),0),0)*IF($T50=\"n/a\",$D50*$Y50,$G50)+IFERROR(IF(AND($V50<=AF$1,$W50>=AF$1),INDEX(Reliability!K$23:K$50,MATCH($T50,Reliability!$C$23:$C$50,0)),0),0)*$H50*$X50*$Y50),$D50)*$R50","v":1.1819999999999999},{"$f":"MIN((IFERROR(IF(AND($V50<=AG$1,$W50>=AG$1),INDEX(Reliability!L$23:L$50,MATCH($S50,Reliability!$C$23:$C$50,0)),0),0)*IF($T50=\"n/a\",$D50*$Y50,$G50)+IFERROR(IF(AND($V50<=AG$1,$W50>=AG$1),INDEX(Reliability!L$23:L$50,MATCH($T50,Reliability!$C$23:$C$50,0)),0),0)*$H50*$X50*$Y50),$D50)*$R50","v":1.0031999999999999},{"$f":"MIN((IFERROR(IF(AND($V50<=AH$1,$W50>=AH$1),INDEX(Reliability!M$23:M$50,MATCH($S50,Reliability!$C$23:$C$50,0)),0),0)*IF($T50=\"n/a\",$D50*$Y50,$G50)+IFERROR(IF(AND($V50<=AH$1,$W50>=AH$1),INDEX(Reliability!M$23:M$50,MATCH($T50,Reliability!$C$23:$C$50,0)),0),0)*$H50*$X50*$Y50),$D50)*$R50","v":0.82439999999999991},{"$f":"MIN((IFERROR(IF(AND($V50<=AI$1,$W50>=AI$1),INDEX(Reliability!N$23:N$50,MATCH($S50,Reliability!$C$23:$C$50,0)),0),0)*IF($T50=\"n/a\",$D50*$Y50,$G50)+IFERROR(IF(AND($V50<=AI$1,$W50>=AI$1),INDEX(Reliability!N$23:N$50,MATCH($T50,Reliability!$C$23:$C$50,0)),0),0)*$H50*$X50*$Y50),$D50)*$R50","v":0.64559999999999995},{"$f":"MIN((IFERROR(IF(AND($V50<=AJ$1,$W50>=AJ$1),INDEX(Reliability!O$23:O$50,MATCH($S50,Reliability!$C$23:$C$50,0)),0),0)*IF($T50=\"n/a\",$D50*$Y50,$G50)+IFERROR(IF(AND($V50<=AJ$1,$W50>=AJ$1),INDEX(Reliability!O$23:O$50,MATCH($T50,Reliability!$C$23:$C$50,0)),0),0)*$H50*$X50*$Y50),$D50)*$R50","v":0.46679999999999999},{"$f":"MIN((IFERROR(IF(AND($V50<=AK$1,$W50>=AK$1),INDEX(Reliability!P$23:P$50,MATCH($S50,Reliability!$C$23:$C$50,0)),0),0)*IF($T50=\"n/a\",$D50*$Y50,$G50)+IFERROR(IF(AND($V50<=AK$1,$W50>=AK$1),INDEX(Reliability!P$23:P$50,MATCH($T50,Reliability!$C$23:$C$50,0)),0),0)*$H50*$X50*$Y50),$D50)*$R50","v":0.28799999999999998}]
[null,{"$f":"unique_contracts!B51","v":"_NEW_GENERIC_DR"},{"$f":"unique_contracts!D51","v":"PlannedNew"},{"$f":"unique_contracts!J51","v":2},{"$f":"unique_contracts!M51","v":0},{"$f":"unique_contracts!N51","v":0},{"$f":"unique_contracts!P51","v":0},{"$f":"unique_contracts!R51","v":0},{"$f":"unique_contracts!V51","v":0},null,{"$f":"unique_contracts!AM51","v":2026},{"$f":"unique_contracts!AN51","v":1},{"$f":"unique_contracts!AO51","v":1},{"$f":"unique_contracts!AP51","v":2040},{"$f":"unique_contracts!AQ51","v":12},{"$f":"unique_contracts!AR51","v":31},{"$f":"unique_contracts!BP51","v":"EnergyCapacity"},1,{"$f":"IFERROR(IF(AND(I51>0,E51=\"NotHybrid\"),_xlfn.CONCAT(MAX(MIN(ROUNDDOWN(I51/D51,0),8),4),INDEX(resources!$G:$G,MATCH(B51,resources!$A:$A,0))),INDEX(resources!$G:$G,MATCH(B51,resources!$A:$A,0))),\"n/a\")","v":"demand_response"},"n/a","demand_response",2026,2040,1,1,{"$f":"MIN((IFERROR(IF(AND($V51<=Z$1,$W51>=Z$1),INDEX(Reliability!E$23:E$50,MATCH($S51,Reliability!$C$23:$C$50,0)),0),0)*IF($T51=\"n/a\",$D51*$Y51,$G51)+IFERROR(IF(AND($V51<=Z$1,$W51>=Z$1),INDEX(Reliability!E$23:E$50,MATCH($T51,Reliability!$C$23:$C$50,0)),0),0)*$H51*$X51*$Y51),$D51)*$R51","v":0},{"$f":"MIN((IFERROR(IF(AND($V51<=AA$1,$W51>=AA$1),INDEX(Reliability!F$23:F$50,MATCH($S51,Reliability!$C$23:$C$50,0)),0),0)*IF($T51=\"n/a\",$D51*$Y51,$G51)+IFERROR(IF(AND($V51<=AA$1,$W51>=AA$1),INDEX(Reliability!F$23:F$50,MATCH($T51,Reliability!$C$23:$C$50,0)),0),0)*$H51*$X51*$Y51),$D51)*$R51","v":0},{"$f":"MIN((IFERROR(IF(AND($V51<=AB$1,$W51>=AB$1),INDEX(Reliability!G$23:G$50,MATCH($S51,Reliability!$C$23:$C$50,0)),0),0)*IF($T51=\"n/a\",$D51*$Y51,$G51)+IFERROR(IF(AND($V51<=AB$1,$W51>=AB$1),INDEX(Reliability!G$23:G$50,MATCH($T51,Reliability!$C$23:$C$50,0)),0),0)*$H51*$X51*$Y51),$D51)*$R51","v":1.8474050433796592},{"$f":"MIN((IFERROR(IF(AND($V51<=AC$1,$W51>=AC$1),INDEX(Reliability!H$23:H$50,MATCH($S51,Reliability!$C$23:$C$50,0)),0),0)*IF($T51=\"n/a\",$D51*$Y51,$G51)+IFERROR(IF(AND($V51<=AC$1,$W51>=AC$1),INDEX(Reliability!H$23:H$50,MATCH($T51,Reliability!$C$23:$C$50,0)),0),0)*$H51*$X51*$Y51),$D51)*$R51","v":1.5447025216898296},{"$f":"MIN((IFERROR(IF(AND($V51<=AD$1,$W51>=AD$1),INDEX(Reliability!I$23:I$50,MATCH($S51,Reliability!$C$23:$C$50,0)),0),0)*IF($T51=\"n/a\",$D51*$Y51,$G51)+IFERROR(IF(AND($V51<=AD$1,$W51>=AD$1),INDEX(Reliability!I$23:I$50,MATCH($T51,Reliability!$C$23:$C$50,0)),0),0)*$H51*$X51*$Y51),$D51)*$R51","v":1.242},{"$f":"MIN((IFERROR(IF(AND($V51<=AE$1,$W51>=AE$1),INDEX(Reliability!J$23:J$50,MATCH($S51,Reliability!$C$23:$C$50,0)),0),0)*IF($T51=\"n/a\",$D51*$Y51,$G51)+IFERROR(IF(AND($V51<=AE$1,$W51>=AE$1),INDEX(Reliability!J$23:J$50,MATCH($T51,Reliability!$C$23:$C$50,0)),0),0)*$H51*$X51*$Y51),$D51)*$R51","v":1.212},{"$f":"MIN((IFERROR(IF(AND($V51<=AF$1,$W51>=AF$1),INDEX(Reliability!K$23:K$50,MATCH($S51,Reliability!$C$23:$C$50,0)),0),0)*IF($T51=\"n/a\",$D51*$Y51,$G51)+IFERROR(IF(AND($V51<=AF$1,$W51>=AF$1),INDEX(Reliability!K$23:K$50,MATCH($T51,Reliability!$C$23:$C$50,0)),0),0)*$H51*$X51*$Y51),$D51)*$R51","v":1.1819999999999999},{"$f":"MIN((IFERROR(IF(AND($V51<=AG$1,$W51>=AG$1),INDEX(Reliability!L$23:L$50,MATCH($S51,Reliability!$C$23:$C$50,0)),0),0)*IF($T51=\"n/a\",$D51*$Y51,$G51)+IFERROR(IF(AND($V51<=AG$1,$W51>=AG$1),INDEX(Reliability!L$23:L$50,MATCH($T51,Reliability!$C$23:$C$50,0)),0),0)*$H51*$X51*$Y51),$D51)*$R51","v":1.0031999999999999},{"$f":"MIN((IFERROR(IF(AND($V51<=AH$1,$W51>=AH$1),INDEX(Reliability!M$23:M$50,MATCH($S51,Reliability!$C$23:$C$50,0)),0),0)*IF($T51=\"n/a\",$D51*$Y51,$G51)+IFERROR(IF(AND($V51<=AH$1,$W51>=AH$1),INDEX(Reliability!M$23:M$50,MATCH($T51,Reliability!$C$23:$C$50,0)),0),0)*$H51*$X51*$Y51),$D51)*$R51","v":0.82439999999999991},{"$f":"MIN((IFERROR(IF(AND($V51<=AI$1,$W51>=AI$1),INDEX(Reliability!N$23:N$50,MATCH($S51,Reliability!$C$23:$C$50,0)),0),0)*IF($T51=\"n/a\",$D51*$Y51,$G51)+IFERROR(IF(AND($V51<=AI$1,$W51>=AI$1),INDEX(Reliability!N$23:N$50,MATCH($T51,Reliability!$C$23:$C$50,0)),0),0)*$H51*$X51*$Y51),$D51)*$R51","v":0.64559999999999995},{"$f":"MIN((IFERROR(IF(AND($V51<=AJ$1,$W51>=AJ$1),INDEX(Reliability!O$23:O$50,MATCH($S51,Reliability!$C$23:$C$50,0)),0),0)*IF($T51=\"n/a\",$D51*$Y51,$G51)+IFERROR(IF(AND($V51<=AJ$1,$W51>=AJ$1),INDEX(Reliability!O$23:O$50,MATCH($T51,Reliability!$C$23:$C$50,0)),0),0)*$H51*$X51*$Y51),$D51)*$R51","v":0.46679999999999999},{"$f":"MIN((IFERROR(IF(AND($V51<=AK$1,$W51>=AK$1),INDEX(Reliability!P$23:P$50,MATCH($S51,Reliability!$C$23:$C$50,0)),0),0)*IF($T51=\"n/a\",$D51*$Y51,$G51)+IFERROR(IF(AND($V51<=AK$1,$W51>=AK$1),INDEX(Reliability!P$23:P$50,MATCH($T51,Reliability!$C$23:$C$50,0)),0),0)*$H51*$X51*$Y51),$D51)*$R51","v":0.28799999999999998}]
[null,{"$f":"unique_contracts!B52","v":"_NEW_GENERIC_DR"},{"$f":"unique_contracts!D52","v":"PlannedNew"},{"$f":"unique_contracts!J52","v":2},{"$f":"unique_contracts!M52","v":0},{"$f":"unique_contracts!N52","v":0},{"$f":"unique_contracts!P52","v":0},{"$f":"unique_contracts!R52","v":0},{"$f":"unique_contracts!V52","v":0},null,{"$f":"unique_contracts!AM52","v":2027},{"$f":"unique_contracts!AN52","v":1},{"$f":"unique_contracts!AO52","v":1},{"$f":"unique_contracts!AP52","v":2040},{"$f":"unique_contracts!AQ52","v":12},{"$f":"unique_contracts!AR52","v":31},{"$f":"unique_contracts!BP52","v":"EnergyCapacity"},1,{"$f":"IFERROR(IF(AND(I52>0,E52=\"NotHybrid\"),_xlfn.CONCAT(MAX(MIN(ROUNDDOWN(I52/D52,0),8),4),INDEX(resources!$G:$G,MATCH(B52,resources!$A:$A,0))),INDEX(resources!$G:$G,MATCH(B52,resources!$A:$A,0))),\"n/a\")","v":"demand_response"},"n/a","demand_response",2027,2040,1,1,{"$f":"MIN((IFERROR(IF(AND($V52<=Z$1,$W52>=Z$1),INDEX(Reliability!E$23:E$50,MATCH($S52,Reliability!$C$23:$C$50,0)),0),0)*IF($T52=\"n/a\",$D52*$Y52,$G52)+IFERROR(IF(AND($V52<=Z$1,$W52>=Z$1),INDEX(Reliability!E$23:E$50,MATCH($T52,Reliability!$C$23:$C$50,0)),0),0)*$H52*$X52*$Y52),$D52)*$R52","v":0},{"$f":"MIN((IFERROR(IF(AND($V52<=AA$1,$W52>=AA$1),INDEX(Reliability!F$23:F$50,MATCH($S52,Reliability!$C$23:$C$50,0)),0),0)*IF($T52=\"n/a\",$D52*$Y52,$G52)+IFERROR(IF(AND($V52<=AA$1,$W52>=AA$1),INDEX(Reliability!F$23:F$50,MATCH($T52,Reliability!$C$23:$C$50,0)),0),0)*$H52*$X52*$Y52),$D52)*$R52","v":0},{"$f":"MIN((IFERROR(IF(AND($V52<=AB$1,$W52>=AB$1),INDEX(Reliability!G$23:G$50,MATCH($S52,Reliability!$C$23:$C$50,0)),0),0)*IF($T52=\"n/a\",$D52*$Y52,$G52)+IFERROR(IF(AND($V52<=AB$1,$W52>=AB$1),INDEX(Reliability!G$23:G$50,MATCH($T52,Reliability!$C$23:$C$50,0)),0),0)*$H52*$X52*$Y52),$D52)*$R52","v":0},{"$f":"MIN((IFERROR(IF(AND($V52<=AC$1,$W52>=AC$1),INDEX(Reliability!H$23:H$50,MATCH($S52,Reliability!$C$23:$C$50,0)),0),0)*IF($T52=\"n/a\",$D52*$Y52,$G52)+IFERROR(IF(AND($V52<=AC$1,$W52>=AC$1),INDEX(Reliability!H$23:H$50,MATCH($T52,Reliability!$C$23:$C$50,0)),0),0)*$H52*$X52*$Y52),$D52)*$R52","v":1.5447025216898296},{"$f":"MIN((IFERROR(IF(AND($V52<=AD$1,$W52>=AD$1),INDEX(Reliability!I$23:I$50,MATCH($S52,Reliability!$C$23:$C$50,0)),0),0)*IF($T52=\"n/a\",$D52*$Y52,$G52)+IFERROR(IF(AND($V52<=AD$1,$W52>=AD$1),INDEX(Reliability!I$23:I$50,MATCH($T52,Reliability!$C$23:$C$50,0)),0),0)*$H52*$X52*$Y52),$D52)*$R52","v":1.242},{"$f":"MIN((IFERROR(IF(AND($V52<=AE$1,$W52>=AE$1),INDEX(Reliability!J$23:J$50,MATCH($S52,Reliability!$C$23:$C$50,0)),0),0)*IF($T52=\"n/a\",$D52*$Y52,$G52)+IFERROR(IF(AND($V52<=AE$1,$W52>=AE$1),INDEX(Reliability!J$23:J$50,MATCH($T52,Reliability!$C$23:$C$50,0)),0),0)*$H52*$X52*$Y52),$D52)*$R52","v":1.212},{"$f":"MIN((IFERROR(IF(AND($V52<=AF$1,$W52>=AF$1),INDEX(Reliability!K$23:K$50,MATCH($S52,Reliability!$C$23:$C$50,0)),0),0)*IF($T52=\"n/a\",$D52*$Y52,$G52)+IFERROR(IF(AND($V52<=AF$1,$W52>=AF$1),INDEX(Reliability!K$23:K$50,MATCH($T52,Reliability!$C$23:$C$50,0)),0),0)*$H52*$X52*$Y52),$D52)*$R52","v":1.1819999999999999},{"$f":"MIN((IFERROR(IF(AND($V52<=AG$1,$W52>=AG$1),INDEX(Reliability!L$23:L$50,MATCH($S52,Reliability!$C$23:$C$50,0)),0),0)*IF($T52=\"n/a\",$D52*$Y52,$G52)+IFERROR(IF(AND($V52<=AG$1,$W52>=AG$1),INDEX(Reliability!L$23:L$50,MATCH($T52,Reliability!$C$23:$C$50,0)),0),0)*$H52*$X52*$Y52),$D52)*$R52","v":1.0031999999999999},{"$f":"MIN((IFERROR(IF(AND($V52<=AH$1,$W52>=AH$1),INDEX(Reliability!M$23:M$50,MATCH($S52,Reliability!$C$23:$C$50,0)),0),0)*IF($T52=\"n/a\",$D52*$Y52,$G52)+IFERROR(IF(AND($V52<=AH$1,$W52>=AH$1),INDEX(Reliability!M$23:M$50,MATCH($T52,Reliability!$C$23:$C$50,0)),0),0)*$H52*$X52*$Y52),$D52)*$R52","v":0.82439999999999991},{"$f":"MIN((IFERROR(IF(AND($V52<=AI$1,$W52>=AI$1),INDEX(Reliability!N$23:N$50,MATCH($S52,Reliability!$C$23:$C$50,0)),0),0)*IF($T52=\"n/a\",$D52*$Y52,$G52)+IFERROR(IF(AND($V52<=AI$1,$W52>=AI$1),INDEX(Reliability!N$23:N$50,MATCH($T52,Reliability!$C$23:$C$50,0)),0),0)*$H52*$X52*$Y52),$D52)*$R52","v":0.64559999999999995},{"$f":"MIN((IFERROR(IF(AND($V52<=AJ$1,$W52>=AJ$1),INDEX(Reliability!O$23:O$50,MATCH($S52,Reliability!$C$23:$C$50,0)),0),0)*IF($T52=\"n/a\",$D52*$Y52,$G52)+IFERROR(IF(AND($V52<=AJ$1,$W52>=AJ$1),INDEX(Reliability!O$23:O$50,MATCH($T52,Reliability!$C$23:$C$50,0)),0),0)*$H52*$X52*$Y52),$D52)*$R52","v":0.46679999999999999},{"$f":"MIN((IFERROR(IF(AND($V52<=AK$1,$W52>=AK$1),INDEX(Reliability!P$23:P$50,MATCH($S52,Reliability!$C$23:$C$50,0)),0),0)*IF($T52=\"n/a\",$D52*$Y52,$G52)+IFERROR(IF(AND($V52<=AK$1,$W52>=AK$1),INDEX(Reliability!P$23:P$50,MATCH($T52,Reliability!$C$23:$C$50,0)),0),0)*$H52*$X52*$Y52),$D52)*$R52","v":0.28799999999999998}]
[null,{"$f":"unique_contracts!B53","v":"_NEW_GENERIC_DR"},{"$f":"unique_contracts!D53","v":"PlannedNew"},{"$f":"unique_contracts!J53","v":1},{"$f":"unique_contracts!M53","v":0},{"$f":"unique_contracts!N53","v":0},{"$f":"unique_contracts!P53","v":0},{"$f":"unique_contracts!R53","v":0},{"$f":"unique_contracts!V53","v":0},null,{"$f":"unique_contracts!AM53","v":2028},{"$f":"unique_contracts!AN53","v":1},{"$f":"unique_contracts!AO53","v":1},{"$f":"unique_contracts!AP53","v":2040},{"$f":"unique_contracts!AQ53","v":12},{"$f":"unique_contracts!AR53","v":31},{"$f":"unique_contracts!BP53","v":"EnergyCapacity"},1,{"$f":"IFERROR(IF(AND(I53>0,E53=\"NotHybrid\"),_xlfn.CONCAT(MAX(MIN(ROUNDDOWN(I53/D53,0),8),4),INDEX(resources!$G:$G,MATCH(B53,resources!$A:$A,0))),INDEX(resources!$G:$G,MATCH(B53,resources!$A:$A,0))),\"n/a\")","v":"demand_response"},"n/a","demand_response",2028,2040,1,1,{"$f":"MIN((IFERROR(IF(AND($V53<=Z$1,$W53>=Z$1),INDEX(Reliability!E$23:E$50,MATCH($S53,Reliability!$C$23:$C$50,0)),0),0)*IF($T53=\"n/a\",$D53*$Y53,$G53)+IFERROR(IF(AND($V53<=Z$1,$W53>=Z$1),INDEX(Reliability!E$23:E$50,MATCH($T53,Reliability!$C$23:$C$50,0)),0),0)*$H53*$X53*$Y53),$D53)*$R53","v":0},{"$f":"MIN((IFERROR(IF(AND($V53<=AA$1,$W53>=AA$1),INDEX(Reliability!F$23:F$50,MATCH($S53,Reliability!$C$23:$C$50,0)),0),0)*IF($T53=\"n/a\",$D53*$Y53,$G53)+IFERROR(IF(AND($V53<=AA$1,$W53>=AA$1),INDEX(Reliability!F$23:F$50,MATCH($T53,Reliability!$C$23:$C$50,0)),0),0)*$H53*$X53*$Y53),$D53)*$R53","v":0},{"$f":"MIN((IFERROR(IF(AND($V53<=AB$1,$W53>=AB$1),INDEX(Reliability!G$23:G$50,MATCH($S53,Reliability!$C$23:$C$50,0)),0),0)*IF($T53=\"n/a\",$D53*$Y53,$G53)+IFERROR(IF(AND($V53<=AB$1,$W53>=AB$1),INDEX(Reliability!G$23:G$50,MATCH($T53,Reliability!$C$23:$C$50,0)),0),0)*$H53*$X53*$Y53),$D53)*$R53","v":0},{"$f":"MIN((IFERROR(IF(AND($V53<=AC$1,$W53>=AC$1),INDEX(Reliability!H$23:H$50,MATCH($S53,Reliability!$C$23:$C$50,0)),0),0)*IF($T53=\"n/a\",$D53*$Y53,$G53)+IFERROR(IF(AND($V53<=AC$1,$W53>=AC$1),INDEX(Reliability!H$23:H$50,MATCH($T53,Reliability!$C$23:$C$50,0)),0),0)*$H53*$X53*$Y53),$D53)*$R53","v":0},{"$f":"MIN((IFERROR(IF(AND($V53<=AD$1,$W53>=AD$1),INDEX(Reliability!I$23:I$50,MATCH($S53,Reliability!$C$23:$C$50,0)),0),0)*IF($T53=\"n/a\",$D53*$Y53,$G53)+IFERROR(IF(AND($V53<=AD$1,$W53>=AD$1),INDEX(Reliability!I$23:I$50,MATCH($T53,Reliability!$C$23:$C$50,0)),0),0)*$H53*$X53*$Y53),$D53)*$R53","v":0.621},{"$f":"MIN((IFERROR(IF(AND($V53<=AE$1,$W53>=AE$1),INDEX(Reliability!J$23:J$50,MATCH($S53,Reliability!$C$23:$C$50,0)),0),0)*IF($T53=\"n/a\",$D53*$Y53,$G53)+IFERROR(IF(AND($V53<=AE$1,$W53>=AE$1),INDEX(Reliability!J$23:J$50,MATCH($T53,Reliability!$C$23:$C$50,0)),0),0)*$H53*$X53*$Y53),$D53)*$R53","v":0.60599999999999998},{"$f":"MIN((IFERROR(IF(AND($V53<=AF$1,$W53>=AF$1),INDEX(Reliability!K$23:K$50,MATCH($S53,Reliability!$C$23:$C$50,0)),0),0)*IF($T53=\"n/a\",$D53*$Y53,$G53)+IFERROR(IF(AND($V53<=AF$1,$W53>=AF$1),INDEX(Reliability!K$23:K$50,MATCH($T53,Reliability!$C$23:$C$50,0)),0),0)*$H53*$X53*$Y53),$D53)*$R53","v":0.59099999999999997},{"$f":"MIN((IFERROR(IF(AND($V53<=AG$1,$W53>=AG$1),INDEX(Reliability!L$23:L$50,MATCH($S53,Reliability!$C$23:$C$50,0)),0),0)*IF($T53=\"n/a\",$D53*$Y53,$G53)+IFERROR(IF(AND($V53<=AG$1,$W53>=AG$1),INDEX(Reliability!L$23:L$50,MATCH($T53,Reliability!$C$23:$C$50,0)),0),0)*$H53*$X53*$Y53),$D53)*$R53","v":0.50159999999999993},{"$f":"MIN((IFERROR(IF(AND($V53<=AH$1,$W53>=AH$1),INDEX(Reliability!M$23:M$50,MATCH($S53,Reliability!$C$23:$C$50,0)),0),0)*IF($T53=\"n/a\",$D53*$Y53,$G53)+IFERROR(IF(AND($V53<=AH$1,$W53>=AH$1),INDEX(Reliability!M$23:M$50,MATCH($T53,Reliability!$C$23:$C$50,0)),0),0)*$H53*$X53*$Y53),$D53)*$R53","v":0.41219999999999996},{"$f":"MIN((IFERROR(IF(AND($V53<=AI$1,$W53>=AI$1),INDEX(Reliability!N$23:N$50,MATCH($S53,Reliability!$C$23:$C$50,0)),0),0)*IF($T53=\"n/a\",$D53*$Y53,$G53)+IFERROR(IF(AND($V53<=AI$1,$W53>=AI$1),INDEX(Reliability!N$23:N$50,MATCH($T53,Reliability!$C$23:$C$50,0)),0),0)*$H53*$X53*$Y53),$D53)*$R53","v":0.32279999999999998},{"$f":"MIN((IFERROR(IF(AND($V53<=AJ$1,$W53>=AJ$1),INDEX(Reliability!O$23:O$50,MATCH($S53,Reliability!$C$23:$C$50,0)),0),0)*IF($T53=\"n/a\",$D53*$Y53,$G53)+IFERROR(IF(AND($V53<=AJ$1,$W53>=AJ$1),INDEX(Reliability!O$23:O$50,MATCH($T53,Reliability!$C$23:$C$50,0)),0),0)*$H53*$X53*$Y53),$D53)*$R53","v":0.2334},{"$f":"MIN((IFERROR(IF(AND($V53<=AK$1,$W53>=AK$1),INDEX(Reliability!P$23:P$50,MATCH($S53,Reliability!$C$23:$C$50,0)),0),0)*IF($T53=\"n/a\",$D53*$Y53,$G53)+IFERROR(IF(AND($V53<=AK$1,$W53>=AK$1),INDEX(Reliability!P$23:P$50,MATCH($T53,Reliability!$C$23:$C$50,0)),0),0)*$H53*$X53*$Y53),$D53)*$R53","v":0.14399999999999999}]
[null,{"$f":"unique_contracts!B54","v":"_NEW_GENERIC_DR"},{"$f":"unique_contracts!D54","v":"PlannedNew"},{"$f":"unique_contracts!J54","v":1},{"$f":"unique_contracts!M54","v":0},{"$f":"unique_contracts!N54","v":0},{"$f":"unique_contracts!P54","v":0},{"$f":"unique_contracts!R54","v":0},{"$f":"unique_contracts!V54","v":0},null,{"$f":"unique_contracts!AM54","v":2029},{"$f":"unique_contracts!AN54","v":1},{"$f":"unique_contracts!AO54","v":1},{"$f":"unique_contracts!AP54","v":2040},{"$f":"unique_contracts!AQ54","v":12},{"$f":"unique_contracts!AR54","v":31},{"$f":"unique_contracts!BP54","v":"EnergyCapacity"},1,{"$f":"IFERROR(IF(AND(I54>0,E54=\"NotHybrid\"),_xlfn.CONCAT(MAX(MIN(ROUNDDOWN(I54/D54,0),8),4),INDEX(resources!$G:$G,MATCH(B54,resources!$A:$A,0))),INDEX(resources!$G:$G,MATCH(B54,resources!$A:$A,0))),\"n/a\")","v":"demand_response"},"n/a","demand_response",2029,2040,1,1,{"$f":"MIN((IFERROR(IF(AND($V54<=Z$1,$W54>=Z$1),INDEX(Reliability!E$23:E$50,MATCH($S54,Reliability!$C$23:$C$50,0)),0),0)*IF($T54=\"n/a\",$D54*$Y54,$G54)+IFERROR(IF(AND($V54<=Z$1,$W54>=Z$1),INDEX(Reliability!E$23:E$50,MATCH($T54,Reliability!$C$23:$C$50,0)),0),0)*$H54*$X54*$Y54),$D54)*$R54","v":0},{"$f":"MIN((IFERROR(IF(AND($V54<=AA$1,$W54>=AA$1),INDEX(Reliability!F$23:F$50,MATCH($S54,Reliability!$C$23:$C$50,0)),0),0)*IF($T54=\"n/a\",$D54*$Y54,$G54)+IFERROR(IF(AND($V54<=AA$1,$W54>=AA$1),INDEX(Reliability!F$23:F$50,MATCH($T54,Reliability!$C$23:$C$50,0)),0),0)*$H54*$X54*$Y54),$D54)*$R54","v":0},{"$f":"MIN((IFERROR(IF(AND($V54<=AB$1,$W54>=AB$1),INDEX(Reliability!G$23:G$50,MATCH($S54,Reliability!$C$23:$C$50,0)),0),0)*IF($T54=\"n/a\",$D54*$Y54,$G54)+IFERROR(IF(AND($V54<=AB$1,$W54>=AB$1),INDEX(Reliability!G$23:G$50,MATCH($T54,Reliability!$C$23:$C$50,0)),0),0)*$H54*$X54*$Y54),$D54)*$R54","v":0},{"$f":"MIN((IFERROR(IF(AND($V54<=AC$1,$W54>=AC$1),INDEX(Reliability!H$23:H$50,MATCH($S54,Reliability!$C$23:$C$50,0)),0),0)*IF($T54=\"n/a\",$D54*$Y54,$G54)+IFERROR(IF(AND($V54<=AC$1,$W54>=AC$1),INDEX(Reliability!H$23:H$50,MATCH($T54,Reliability!$C$23:$C$50,0)),0),0)*$H54*$X54*$Y54),$D54)*$R54","v":0},{"$f":"MIN((IFERROR(IF(AND($V54<=AD$1,$W54>=AD$1),INDEX(Reliability!I$23:I$50,MATCH($S54,Reliability!$C$23:$C$50,0)),0),0)*IF($T54=\"n/a\",$D54*$Y54,$G54)+IFERROR(IF(AND($V54<=AD$1,$W54>=AD$1),INDEX(Reliability!I$23:I$50,MATCH($T54,Reliability!$C$23:$C$50,0)),0),0)*$H54*$X54*$Y54),$D54)*$R54","v":0},{"$f":"MIN((IFERROR(IF(AND($V54<=AE$1,$W54>=AE$1),INDEX(Reliability!J$23:J$50,MATCH($S54,Reliability!$C$23:$C$50,0)),0),0)*IF($T54=\"n/a\",$D54*$Y54,$G54)+IFERROR(IF(AND($V54<=AE$1,$W54>=AE$1),INDEX(Reliability!J$23:J$50,MATCH($T54,Reliability!$C$23:$C$50,0)),0),0)*$H54*$X54*$Y54),$D54)*$R54","v":0.60599999999999998},{"$f":"MIN((IFERROR(IF(AND($V54<=AF$1,$W54>=AF$1),INDEX(Reliability!K$23:K$50,MATCH($S54,Reliability!$C$23:$C$50,0)),0),0)*IF($T54=\"n/a\",$D54*$Y54,$G54)+IFERROR(IF(AND($V54<=AF$1,$W54>=AF$1),INDEX(Reliability!K$23:K$50,MATCH($T54,Reliability!$C$23:$C$50,0)),0),0)*$H54*$X54*$Y54),$D54)*$R54","v":0.59099999999999997},{"$f":"MIN((IFERROR(IF(AND($V54<=AG$1,$W54>=AG$1),INDEX(Reliability!L$23:L$50,MATCH($S54,Reliability!$C$23:$C$50,0)),0),0)*IF($T54=\"n/a\",$D54*$Y54,$G54)+IFERROR(IF(AND($V54<=AG$1,$W54>=AG$1),INDEX(Reliability!L$23:L$50,MATCH($T54,Reliability!$C$23:$C$50,0)),0),0)*$H54*$X54*$Y54),$D54)*$R54","v":0.50159999999999993},{"$f":"MIN((IFERROR(IF(AND($V54<=AH$1,$W54>=AH$1),INDEX(Reliability!M$23:M$50,MATCH($S54,Reliability!$C$23:$C$50,0)),0),0)*IF($T54=\"n/a\",$D54*$Y54,$G54)+IFERROR(IF(AND($V54<=AH$1,$W54>=AH$1),INDEX(Reliability!M$23:M$50,MATCH($T54,Reliability!$C$23:$C$50,0)),0),0)*$H54*$X54*$Y54),$D54)*$R54","v":0.41219999999999996},{"$f":"MIN((IFERROR(IF(AND($V54<=AI$1,$W54>=AI$1),INDEX(Reliability!N$23:N$50,MATCH($S54,Reliability!$C$23:$C$50,0)),0),0)*IF($T54=\"n/a\",$D54*$Y54,$G54)+IFERROR(IF(AND($V54<=AI$1,$W54>=AI$1),INDEX(Reliability!N$23:N$50,MATCH($T54,Reliability!$C$23:$C$50,0)),0),0)*$H54*$X54*$Y54),$D54)*$R54","v":0.32279999999999998},{"$f":"MIN((IFERROR(IF(AND($V54<=AJ$1,$W54>=AJ$1),INDEX(Reliability!O$23:O$50,MATCH($S54,Reliability!$C$23:$C$50,0)),0),0)*IF($T54=\"n/a\",$D54*$Y54,$G54)+IFERROR(IF(AND($V54<=AJ$1,$W54>=AJ$1),INDEX(Reliability!O$23:O$50,MATCH($T54,Reliability!$C$23:$C$50,0)),0),0)*$H54*$X54*$Y54),$D54)*$R54","v":0.2334},{"$f":"MIN((IFERROR(IF(AND($V54<=AK$1,$W54>=AK$1),INDEX(Reliability!P$23:P$50,MATCH($S54,Reliability!$C$23:$C$50,0)),0),0)*IF($T54=\"n/a\",$D54*$Y54,$G54)+IFERROR(IF(AND($V54<=AK$1,$W54>=AK$1),INDEX(Reliability!P$23:P$50,MATCH($T54,Reliability!$C$23:$C$50,0)),0),0)*$H54*$X54*$Y54),$D54)*$R54","v":0.14399999999999999}]
[null,{"$f":"unique_contracts!B55","v":"_NEW_GENERIC_DR"},{"$f":"unique_contracts!D55","v":"PlannedNew"},{"$f":"unique_contracts!J55","v":1},{"$f":"unique_contracts!M55","v":0},{"$f":"unique_contracts!N55","v":0},{"$f":"unique_contracts!P55","v":0},{"$f":"unique_contracts!R55","v":0},{"$f":"unique_contracts!V55","v":0},null,{"$f":"unique_contracts!AM55","v":2030},{"$f":"unique_contracts!AN55","v":1},{"$f":"unique_contracts!AO55","v":1},{"$f":"unique_contracts!AP55","v":2040},{"$f":"unique_contracts!AQ55","v":12},{"$f":"unique_contracts!AR55","v":31},{"$f":"unique_contracts!BP55","v":"EnergyCapacity"},1,{"$f":"IFERROR(IF(AND(I55>0,E55=\"NotHybrid\"),_xlfn.CONCAT(MAX(MIN(ROUNDDOWN(I55/D55,0),8),4),INDEX(resources!$G:$G,MATCH(B55,resources!$A:$A,0))),INDEX(resources!$G:$G,MATCH(B55,resources!$A:$A,0))),\"n/a\")","v":"demand_response"},"n/a","demand_response",2030,2040,1,1,{"$f":"MIN((IFERROR(IF(AND($V55<=Z$1,$W55>=Z$1),INDEX(Reliability!E$23:E$50,MATCH($S55,Reliability!$C$23:$C$50,0)),0),0)*IF($T55=\"n/a\",$D55*$Y55,$G55)+IFERROR(IF(AND($V55<=Z$1,$W55>=Z$1),INDEX(Reliability!E$23:E$50,MATCH($T55,Reliability!$C$23:$C$50,0)),0),0)*$H55*$X55*$Y55),$D55)*$R55","v":0},{"$f":"MIN((IFERROR(IF(AND($V55<=AA$1,$W55>=AA$1),INDEX(Reliability!F$23:F$50,MATCH($S55,Reliability!$C$23:$C$50,0)),0),0)*IF($T55=\"n/a\",$D55*$Y55,$G55)+IFERROR(IF(AND($V55<=AA$1,$W55>=AA$1),INDEX(Reliability!F$23:F$50,MATCH($T55,Reliability!$C$23:$C$50,0)),0),0)*$H55*$X55*$Y55),$D55)*$R55","v":0},{"$f":"MIN((IFERROR(IF(AND($V55<=AB$1,$W55>=AB$1),INDEX(Reliability!G$23:G$50,MATCH($S55,Reliability!$C$23:$C$50,0)),0),0)*IF($T55=\"n/a\",$D55*$Y55,$G55)+IFERROR(IF(AND($V55<=AB$1,$W55>=AB$1),INDEX(Reliability!G$23:G$50,MATCH($T55,Reliability!$C$23:$C$50,0)),0),0)*$H55*$X55*$Y55),$D55)*$R55","v":0},{"$f":"MIN((IFERROR(IF(AND($V55<=AC$1,$W55>=AC$1),INDEX(Reliability!H$23:H$50,MATCH($S55,Reliability!$C$23:$C$50,0)),0),0)*IF($T55=\"n/a\",$D55*$Y55,$G55)+IFERROR(IF(AND($V55<=AC$1,$W55>=AC$1),INDEX(Reliability!H$23:H$50,MATCH($T55,Reliability!$C$23:$C$50,0)),0),0)*$H55*$X55*$Y55),$D55)*$R55","v":0},{"$f":"MIN((IFERROR(IF(AND($V55<=AD$1,$W55>=AD$1),INDEX(Reliability!I$23:I$50,MATCH($S55,Reliability!$C$23:$C$50,0)),0),0)*IF($T55=\"n/a\",$D55*$Y55,$G55)+IFERROR(IF(AND($V55<=AD$1,$W55>=AD$1),INDEX(Reliability!I$23:I$50,MATCH($T55,Reliability!$C$23:$C$50,0)),0),0)*$H55*$X55*$Y55),$D55)*$R55","v":0},{"$f":"MIN((IFERROR(IF(AND($V55<=AE$1,$W55>=AE$1),INDEX(Reliability!J$23:J$50,MATCH($S55,Reliability!$C$23:$C$50,0)),0),0)*IF($T55=\"n/a\",$D55*$Y55,$G55)+IFERROR(IF(AND($V55<=AE$1,$W55>=AE$1),INDEX(Reliability!J$23:J$50,MATCH($T55,Reliability!$C$23:$C$50,0)),0),0)*$H55*$X55*$Y55),$D55)*$R55","v":0},{"$f":"MIN((IFERROR(IF(AND($V55<=AF$1,$W55>=AF$1),INDEX(Reliability!K$23:K$50,MATCH($S55,Reliability!$C$23:$C$50,0)),0),0)*IF($T55=\"n/a\",$D55*$Y55,$G55)+IFERROR(IF(AND($V55<=AF$1,$W55>=AF$1),INDEX(Reliability!K$23:K$50,MATCH($T55,Reliability!$C$23:$C$50,0)),0),0)*$H55*$X55*$Y55),$D55)*$R55","v":0.59099999999999997},{"$f":"MIN((IFERROR(IF(AND($V55<=AG$1,$W55>=AG$1),INDEX(Reliability!L$23:L$50,MATCH($S55,Reliability!$C$23:$C$50,0)),0),0)*IF($T55=\"n/a\",$D55*$Y55,$G55)+IFERROR(IF(AND($V55<=AG$1,$W55>=AG$1),INDEX(Reliability!L$23:L$50,MATCH($T55,Reliability!$C$23:$C$50,0)),0),0)*$H55*$X55*$Y55),$D55)*$R55","v":0.50159999999999993},{"$f":"MIN((IFERROR(IF(AND($V55<=AH$1,$W55>=AH$1),INDEX(Reliability!M$23:M$50,MATCH($S55,Reliability!$C$23:$C$50,0)),0),0)*IF($T55=\"n/a\",$D55*$Y55,$G55)+IFERROR(IF(AND($V55<=AH$1,$W55>=AH$1),INDEX(Reliability!M$23:M$50,MATCH($T55,Reliability!$C$23:$C$50,0)),0),0)*$H55*$X55*$Y55),$D55)*$R55","v":0.41219999999999996},{"$f":"MIN((IFERROR(IF(AND($V55<=AI$1,$W55>=AI$1),INDEX(Reliability!N$23:N$50,MATCH($S55,Reliability!$C$23:$C$50,0)),0),0)*IF($T55=\"n/a\",$D55*$Y55,$G55)+IFERROR(IF(AND($V55<=AI$1,$W55>=AI$1),INDEX(Reliability!N$23:N$50,MATCH($T55,Reliability!$C$23:$C$50,0)),0),0)*$H55*$X55*$Y55),$D55)*$R55","v":0.32279999999999998},{"$f":"MIN((IFERROR(IF(AND($V55<=AJ$1,$W55>=AJ$1),INDEX(Reliability!O$23:O$50,MATCH($S55,Reliability!$C$23:$C$50,0)),0),0)*IF($T55=\"n/a\",$D55*$Y55,$G55)+IFERROR(IF(AND($V55<=AJ$1,$W55>=AJ$1),INDEX(Reliability!O$23:O$50,MATCH($T55,Reliability!$C$23:$C$50,0)),0),0)*$H55*$X55*$Y55),$D55)*$R55","v":0.2334},{"$f":"MIN((IFERROR(IF(AND($V55<=AK$1,$W55>=AK$1),INDEX(Reliability!P$23:P$50,MATCH($S55,Reliability!$C$23:$C$50,0)),0),0)*IF($T55=\"n/a\",$D55*$Y55,$G55)+IFERROR(IF(AND($V55<=AK$1,$W55>=AK$1),INDEX(Reliability!P$23:P$50,MATCH($T55,Reliability!$C$23:$C$50,0)),0),0)*$H55*$X55*$Y55),$D55)*$R55","v":0.14399999999999999}]
[null,null,{"$f":"unique_contracts!D56","v":"PlannedNew"},null,null,null,null,null,null,null,{"$f":"unique_contracts!AM56","v":2026},{"$f":"unique_contracts!AN56","v":1},{"$f":"unique_contracts!AO56","v":1},null,null,null,{"$f":"unique_contracts!BP56","v":"EnergyCapacity"},{"$f":"IF(AND(J56=\"Sell\",ISNUMBER(SEARCH(\"Capacity\",Q56))),-1,IF(AND(NOT(J56=\"Sell\"),ISNUMBER(SEARCH(\"Capacity\",Q56))),1,0))","v":1},null,{"$f":"IFERROR(IF(NOT(E56=\"NotHybrid\"),_xlfn.CONCAT(MAX(MIN(ROUNDDOWN(I56/H56,0),8),4),\"hr_batteries\"),\"n/a\"),\"n/a\")","v":"n/a"},null,{"$f":"IFERROR(IF(DATE(K56,L56,M56)<=DATE(K56,6,1),K56,K56+1),0)","v":2026},null,{"$f":"IF(OR(T56=\"n/a\",NOT(F56=\"NO\")),100%,IF(ISNUMBER(SEARCH(\"pv\",S56)),MIN(G56/(1*(ROUNDDOWN(I56/H56,0)/4)),H56)/H56,IF(ISNUMBER(SEARCH(\"wind\",S56)),MIN(G56/(2*(ROUNDDOWN(I56/H56,0)/4)),H56)/H56,1)))","v":1},{"$f":"IF(ISNUMBER(SEARCH(\"batteries\",S56)),MIN(ROUNDDOWN(I56/D56,0)/4,1), IF(ISNUMBER(SEARCH(\"batteries\",T56)),MIN(ROUNDDOWN(I56/H56,0)/4,1),1))","v":1}]
[null,{"$f":"unique_contracts!B57","v":"_NEW_GENERIC_BATTERY_STORAGE"},{"$f":"unique_contracts!D57","v":"PlannedNew"},{"$f":"unique_contracts!J57","v":30},{"$f":"unique_contracts!M57","v":0},{"$f":"unique_contracts!N57","v":0},{"$f":"unique_contracts!P57","v":0},{"$f":"unique_contracts!R57","v":0},{"$f":"unique_contracts!V57","v":240},null,{"$f":"unique_contracts!AM57","v":2027},{"$f":"unique_contracts!AN57","v":1},{"$f":"unique_contracts!AO57","v":1},{"$f":"unique_contracts!AP57","v":2040},{"$f":"unique_contracts!AQ57","v":12},{"$f":"unique_contracts!AR57","v":31},{"$f":"unique_contracts!BP57","v":"EnergyCapacity"},1,{"$f":"IFERROR(IF(AND(I57>0,E57=\"NotHybrid\"),_xlfn.CONCAT(MAX(MIN(ROUNDDOWN(I57/D57,0),8),4),INDEX(resources!$G:$G,MATCH(B57,resources!$A:$A,0))),INDEX(resources!$G:$G,MATCH(B57,resources!$A:$A,0))),\"n/a\")","v":"hr_batteries"},"n/a",{"$f":"IF(T57=\"n/a\",S57,\"hybrid\")","v":"hr_batteries"},2027,{"$f":"IFERROR(IF(DATE(N57,O57,P57)>=DATE(N57,10,1),N57,N57-1),0)","v":2040},1,1,{"$f":"MIN((IFERROR(IF(AND($V57<=Z$1,$W57>=Z$1),INDEX(Reliability!E$23:E$50,MATCH($S57,Reliability!$C$23:$C$50,0)),0),0)*IF($T57=\"n/a\",$D57*$Y57,$G57)+IFERROR(IF(AND($V57<=Z$1,$W57>=Z$1),INDEX(Reliability!E$23:E$50,MATCH($T57,Reliability!$C$23:$C$50,0)),0),0)*$H57*$X57*$Y57),$D57)*$R57","v":0},{"$f":"MIN((IFERROR(IF(AND($V57<=AA$1,$W57>=AA$1),INDEX(Reliability!F$23:F$50,MATCH($S57,Reliability!$C$23:$C$50,0)),0),0)*IF($T57=\"n/a\",$D57*$Y57,$G57)+IFERROR(IF(AND($V57<=AA$1,$W57>=AA$1),INDEX(Reliability!F$23:F$50,MATCH($T57,Reliability!$C$23:$C$50,0)),0),0)*$H57*$X57*$Y57),$D57)*$R57","v":0},{"$f":"MIN((IFERROR(IF(AND($V57<=AB$1,$W57>=AB$1),INDEX(Reliability!G$23:G$50,MATCH($S57,Reliability!$C$23:$C$50,0)),0),0)*IF($T57=\"n/a\",$D57*$Y57,$G57)+IFERROR(IF(AND($V57<=AB$1,$W57>=AB$1),INDEX(Reliability!G$23:G$50,MATCH($T57,Reliability!$C$23:$C$50,0)),0),0)*$H57*$X57*$Y57),$D57)*$R57","v":0},{"$f":"MIN((IFERROR(IF(AND($V57<=AC$1,$W57>=AC$1),INDEX(Reliability!H$23:H$50,MATCH($S57,Reliability!$C$23:$C$50,0)),0),0)*IF($T57=\"n/a\",$D57*$Y57,$G57)+IFERROR(IF(AND($V57<=AC$1,$W57>=AC$1),INDEX(Reliability!H$23:H$50,MATCH($T57,Reliability!$C$23:$C$50,0)),0),0)*$H57*$X57*$Y57),$D57)*$R57","v":0},{"$f":"MIN((IFERROR(IF(AND($V57<=AD$1,$W57>=AD$1),INDEX(Reliability!I$23:I$50,MATCH($S57,Reliability!$C$23:$C$50,0)),0),0)*IF($T57=\"n/a\",$D57*$Y57,$G57)+IFERROR(IF(AND($V57<=AD$1,$W57>=AD$1),INDEX(Reliability!I$23:I$50,MATCH($T57,Reliability!$C$23:$C$50,0)),0),0)*$H57*$X57*$Y57),$D57)*$R57","v":0},{"$f":"MIN((IFERROR(IF(AND($V57<=AE$1,$W57>=AE$1),INDEX(Reliability!J$23:J$50,MATCH($S57,Reliability!$C$23:$C$50,0)),0),0)*IF($T57=\"n/a\",$D57*$Y57,$G57)+IFERROR(IF(AND($V57<=AE$1,$W57>=AE$1),INDEX(Reliability!J$23:J$50,MATCH($T57,Reliability!$C$23:$C$50,0)),0),0)*$H57*$X57*$Y57),$D57)*$R57","v":0},{"$f":"MIN((IFERROR(IF(AND($V57<=AF$1,$W57>=AF$1),INDEX(Reliability!K$23:K$50,MATCH($S57,Reliability!$C$23:$C$50,0)),0),0)*IF($T57=\"n/a\",$D57*$Y57,$G57)+IFERROR(IF(AND($V57<=AF$1,$W57>=AF$1),INDEX(Reliability!K$23:K$50,MATCH($T57,Reliability!$C$23:$C$50,0)),0),0)*$H57*$X57*$Y57),$D57)*$R57","v":0},{"$f":"MIN((IFERROR(IF(AND($V57<=AG$1,$W57>=AG$1),INDEX(Reliability!L$23:L$50,MATCH($S57,Reliability!$C$23:$C$50,0)),0),0)*IF($T57=\"n/a\",$D57*$Y57,$G57)+IFERROR(IF(AND($V57<=AG$1,$W57>=AG$1),INDEX(Reliability!L$23:L$50,MATCH($T57,Reliability!$C$23:$C$50,0)),0),0)*$H57*$X57*$Y57),$D57)*$R57","v":0},{"$f":"MIN((IFERROR(IF(AND($V57<=AH$1,$W57>=AH$1),INDEX(Reliability!M$23:M$50,MATCH($S57,Reliability!$C$23:$C$50,0)),0),0)*IF($T57=\"n/a\",$D57*$Y57,$G57)+IFERROR(IF(AND($V57<=AH$1,$W57>=AH$1),INDEX(Reliability!M$23:M$50,MATCH($T57,Reliability!$C$23:$C$50,0)),0),0)*$H57*$X57*$Y57),$D57)*$R57","v":0},{"$f":"MIN((IFERROR(IF(AND($V57<=AI$1,$W57>=AI$1),INDEX(Reliability!N$23:N$50,MATCH($S57,Reliability!$C$23:$C$50,0)),0),0)*IF($T57=\"n/a\",$D57*$Y57,$G57)+IFERROR(IF(AND($V57<=AI$1,$W57>=AI$1),INDEX(Reliability!N$23:N$50,MATCH($T57,Reliability!$C$23:$C$50,0)),0),0)*$H57*$X57*$Y57),$D57)*$R57","v":0},{"$f":"MIN((IFERROR(IF(AND($V57<=AJ$1,$W57>=AJ$1),INDEX(Reliability!O$23:O$50,MATCH($S57,Reliability!$C$23:$C$50,0)),0),0)*IF($T57=\"n/a\",$D57*$Y57,$G57)+IFERROR(IF(AND($V57<=AJ$1,$W57>=AJ$1),INDEX(Reliability!O$23:O$50,MATCH($T57,Reliability!$C$23:$C$50,0)),0),0)*$H57*$X57*$Y57),$D57)*$R57","v":0},{"$f":"MIN((IFERROR(IF(AND($V57<=AK$1,$W57>=AK$1),INDEX(Reliability!P$23:P$50,MATCH($S57,Reliability!$C$23:$C$50,0)),0),0)*IF($T57=\"n/a\",$D57*$Y57,$G57)+IFERROR(IF(AND($V57<=AK$1,$W57>=AK$1),INDEX(Reliability!P$23:P$50,MATCH($T57,Reliability!$C$23:$C$50,0)),0),0)*$H57*$X57*$Y57),$D57)*$R57","v":0}]
[null,{"$f":"unique_contracts!B58","v":"_NEW_GENERIC_WIND"},{"$f":"unique_contracts!D58","v":"PlannedNew"},{"$f":"unique_contracts!J58","v":50},{"$f":"unique_contracts!M58","v":0},{"$f":"unique_contracts!N58","v":0},{"$f":"unique_contracts!P58","v":0},{"$f":"unique_contracts!R58","v":0},{"$f":"unique_contracts!V58","v":0},null,{"$f":"unique_contracts!AM58","v":2028},{"$f":"unique_contracts!AN58","v":1},{"$f":"unique_contracts!AO58","v":1},{"$f":"unique_contracts!AP58","v":2040},{"$f":"unique_contracts!AQ58","v":12},{"$f":"unique_contracts!AR58","v":31},{"$f":"unique_contracts!BP58","v":"EnergyCapacity"},1,{"$f":"IFERROR(IF(AND(I58>0,E58=\"NotHybrid\"),_xlfn.CONCAT(MAX(MIN(ROUNDDOWN(I58/D58,0),8),4),INDEX(resources!$G:$G,MATCH(B58,resources!$A:$A,0))),INDEX(resources!$G:$G,MATCH(B58,resources!$A:$A,0))),\"n/a\")","v":"in_state_wind_south"},"n/a","in_state_wind_south",2028,2040,1,1,{"$f":"MIN((IFERROR(IF(AND($V58<=Z$1,$W58>=Z$1),INDEX(Reliability!E$23:E$50,MATCH($S58,Reliability!$C$23:$C$50,0)),0),0)*IF($T58=\"n/a\",$D58*$Y58,$G58)+IFERROR(IF(AND($V58<=Z$1,$W58>=Z$1),INDEX(Reliability!E$23:E$50,MATCH($T58,Reliability!$C$23:$C$50,0)),0),0)*$H58*$X58*$Y58),$D58)*$R58","v":0},{"$f":"MIN((IFERROR(IF(AND($V58<=AA$1,$W58>=AA$1),INDEX(Reliability!F$23:F$50,MATCH($S58,Reliability!$C$23:$C$50,0)),0),0)*IF($T58=\"n/a\",$D58*$Y58,$G58)+IFERROR(IF(AND($V58<=AA$1,$W58>=AA$1),INDEX(Reliability!F$23:F$50,MATCH($T58,Reliability!$C$23:$C$50,0)),0),0)*$H58*$X58*$Y58),$D58)*$R58","v":0},{"$f":"MIN((IFERROR(IF(AND($V58<=AB$1,$W58>=AB$1),INDEX(Reliability!G$23:G$50,MATCH($S58,Reliability!$C$23:$C$50,0)),0),0)*IF($T58=\"n/a\",$D58*$Y58,$G58)+IFERROR(IF(AND($V58<=AB$1,$W58>=AB$1),INDEX(Reliability!G$23:G$50,MATCH($T58,Reliability!$C$23:$C$50,0)),0),0)*$H58*$X58*$Y58),$D58)*$R58","v":0},{"$f":"MIN((IFERROR(IF(AND($V58<=AC$1,$W58>=AC$1),INDEX(Reliability!H$23:H$50,MATCH($S58,Reliability!$C$23:$C$50,0)),0),0)*IF($T58=\"n/a\",$D58*$Y58,$G58)+IFERROR(IF(AND($V58<=AC$1,$W58>=AC$1),INDEX(Reliability!H$23:H$50,MATCH($T58,Reliability!$C$23:$C$50,0)),0),0)*$H58*$X58*$Y58),$D58)*$R58","v":0},{"$f":"MIN((IFERROR(IF(AND($V58<=AD$1,$W58>=AD$1),INDEX(Reliability!I$23:I$50,MATCH($S58,Reliability!$C$23:$C$50,0)),0),0)*IF($T58=\"n/a\",$D58*$Y58,$G58)+IFERROR(IF(AND($V58<=AD$1,$W58>=AD$1),INDEX(Reliability!I$23:I$50,MATCH($T58,Reliability!$C$23:$C$50,0)),0),0)*$H58*$X58*$Y58),$D58)*$R58","v":4.2209499205063707},{"$f":"MIN((IFERROR(IF(AND($V58<=AE$1,$W58>=AE$1),INDEX(Reliability!J$23:J$50,MATCH($S58,Reliability!$C$23:$C$50,0)),0),0)*IF($T58=\"n/a\",$D58*$Y58,$G58)+IFERROR(IF(AND($V58<=AE$1,$W58>=AE$1),INDEX(Reliability!J$23:J$50,MATCH($T58,Reliability!$C$23:$C$50,0)),0),0)*$H58*$X58*$Y58),$D58)*$R58","v":4.1708441359495172},{"$f":"MIN((IFERROR(IF(AND($V58<=AF$1,$W58>=AF$1),INDEX(Reliability!K$23:K$50,MATCH($S58,Reliability!$C$23:$C$50,0)),0),0)*IF($T58=\"n/a\",$D58*$Y58,$G58)+IFERROR(IF(AND($V58<=AF$1,$W58>=AF$1),INDEX(Reliability!K$23:K$50,MATCH($T58,Reliability!$C$23:$C$50,0)),0),0)*$H58*$X58*$Y58),$D58)*$R58","v":4.1207383513926636},{"$f":"MIN((IFERROR(IF(AND($V58<=AG$1,$W58>=AG$1),INDEX(Reliability!L$23:L$50,MATCH($S58,Reliability!$C$23:$C$50,0)),0),0)*IF($T58=\"n/a\",$D58*$Y58,$G58)+IFERROR(IF(AND($V58<=AG$1,$W58>=AG$1),INDEX(Reliability!L$23:L$50,MATCH($T58,Reliability!$C$23:$C$50,0)),0),0)*$H58*$X58*$Y58),$D58)*$R58","v":3.7414845562202417},{"$f":"MIN((IFERROR(IF(AND($V58<=AH$1,$W58>=AH$1),INDEX(Reliability!M$23:M$50,MATCH($S58,Reliability!$C$23:$C$50,0)),0),0)*IF($T58=\"n/a\",$D58*$Y58,$G58)+IFERROR(IF(AND($V58<=AH$1,$W58>=AH$1),INDEX(Reliability!M$23:M$50,MATCH($T58,Reliability!$C$23:$C$50,0)),0),0)*$H58*$X58*$Y58),$D58)*$R58","v":3.3622307610478201},{"$f":"MIN((IFERROR(IF(AND($V58<=AI$1,$W58>=AI$1),INDEX(Reliability!N$23:N$50,MATCH($S58,Reliability!$C$23:$C$50,0)),0),0)*IF($T58=\"n/a\",$D58*$Y58,$G58)+IFERROR(IF(AND($V58<=AI$1,$W58>=AI$1),INDEX(Reliability!N$23:N$50,MATCH($T58,Reliability!$C$23:$C$50,0)),0),0)*$H58*$X58*$Y58),$D58)*$R58","v":2.9829769658753977},{"$f":"MIN((IFERROR(IF(AND($V58<=AJ$1,$W58>=AJ$1),INDEX(Reliability!O$23:O$50,MATCH($S58,Reliability!$C$23:$C$50,0)),0),0)*IF($T58=\"n/a\",$D58*$Y58,$G58)+IFERROR(IF(AND($V58<=AJ$1,$W58>=AJ$1),INDEX(Reliability!O$23:O$50,MATCH($T58,Reliability!$C$23:$C$50,0)),0),0)*$H58*$X58*$Y58),$D58)*$R58","v":2.6037231707029753},{"$f":"MIN((IFERROR(IF(AND($V58<=AK$1,$W58>=AK$1),INDEX(Reliability!P$23:P$50,MATCH($S58,Reliability!$C$23:$C$50,0)),0),0)*IF($T58=\"n/a\",$D58*$Y58,$G58)+IFERROR(IF(AND($V58<=AK$1,$W58>=AK$1),INDEX(Reliability!P$23:P$50,MATCH($T58,Reliability!$C$23:$C$50,0)),0),0)*$H58*$X58*$Y58),$D58)*$R58","v":2.2244693755305529}]
[null,{"$f":"unique_contracts!B59","v":"_NEW_GENERIC_WIND"},{"$f":"unique_contracts!D59","v":"PlannedNew"},{"$f":"unique_contracts!J59","v":50},{"$f":"unique_contracts!M59","v":0},{"$f":"unique_contracts!N59","v":0},{"$f":"unique_contracts!P59","v":0},{"$f":"unique_contracts!R59","v":0},{"$f":"unique_contracts!V59","v":0},null,{"$f":"unique_contracts!AM59","v":2029},{"$f":"unique_contracts!AN59","v":1},{"$f":"unique_contracts!AO59","v":1},{"$f":"unique_contracts!AP59","v":2040},{"$f":"unique_contracts!AQ59","v":12},{"$f":"unique_contracts!AR59","v":31},{"$f":"unique_contracts!BP59","v":"EnergyCapacity"},1,{"$f":"IFERROR(IF(AND(I59>0,E59=\"NotHybrid\"),_xlfn.CONCAT(MAX(MIN(ROUNDDOWN(I59/D59,0),8),4),INDEX(resources!$G:$G,MATCH(B59,resources!$A:$A,0))),INDEX(resources!$G:$G,MATCH(B59,resources!$A:$A,0))),\"n/a\")","v":"in_state_wind_south"},"n/a","in_state_wind_south",2029,2040,1,1,{"$f":"MIN((IFERROR(IF(AND($V59<=Z$1,$W59>=Z$1),INDEX(Reliability!E$23:E$50,MATCH($S59,Reliability!$C$23:$C$50,0)),0),0)*IF($T59=\"n/a\",$D59*$Y59,$G59)+IFERROR(IF(AND($V59<=Z$1,$W59>=Z$1),INDEX(Reliability!E$23:E$50,MATCH($T59,Reliability!$C$23:$C$50,0)),0),0)*$H59*$X59*$Y59),$D59)*$R59","v":0},{"$f":"MIN((IFERROR(IF(AND($V59<=AA$1,$W59>=AA$1),INDEX(Reliability!F$23:F$50,MATCH($S59,Reliability!$C$23:$C$50,0)),0),0)*IF($T59=\"n/a\",$D59*$Y59,$G59)+IFERROR(IF(AND($V59<=AA$1,$W59>=AA$1),INDEX(Reliability!F$23:F$50,MATCH($T59,Reliability!$C$23:$C$50,0)),0),0)*$H59*$X59*$Y59),$D59)*$R59","v":0},{"$f":"MIN((IFERROR(IF(AND($V59<=AB$1,$W59>=AB$1),INDEX(Reliability!G$23:G$50,MATCH($S59,Reliability!$C$23:$C$50,0)),0),0)*IF($T59=\"n/a\",$D59*$Y59,$G59)+IFERROR(IF(AND($V59<=AB$1,$W59>=AB$1),INDEX(Reliability!G$23:G$50,MATCH($T59,Reliability!$C$23:$C$50,0)),0),0)*$H59*$X59*$Y59),$D59)*$R59","v":0},{"$f":"MIN((IFERROR(IF(AND($V59<=AC$1,$W59>=AC$1),INDEX(Reliability!H$23:H$50,MATCH($S59,Reliability!$C$23:$C$50,0)),0),0)*IF($T59=\"n/a\",$D59*$Y59,$G59)+IFERROR(IF(AND($V59<=AC$1,$W59>=AC$1),INDEX(Reliability!H$23:H$50,MATCH($T59,Reliability!$C$23:$C$50,0)),0),0)*$H59*$X59*$Y59),$D59)*$R59","v":0},{"$f":"MIN((IFERROR(IF(AND($V59<=AD$1,$W59>=AD$1),INDEX(Reliability!I$23:I$50,MATCH($S59,Reliability!$C$23:$C$50,0)),0),0)*IF($T59=\"n/a\",$D59*$Y59,$G59)+IFERROR(IF(AND($V59<=AD$1,$W59>=AD$1),INDEX(Reliability!I$23:I$50,MATCH($T59,Reliability!$C$23:$C$50,0)),0),0)*$H59*$X59*$Y59),$D59)*$R59","v":0},{"$f":"MIN((IFERROR(IF(AND($V59<=AE$1,$W59>=AE$1),INDEX(Reliability!J$23:J$50,MATCH($S59,Reliability!$C$23:$C$50,0)),0),0)*IF($T59=\"n/a\",$D59*$Y59,$G59)+IFERROR(IF(AND($V59<=AE$1,$W59>=AE$1),INDEX(Reliability!J$23:J$50,MATCH($T59,Reliability!$C$23:$C$50,0)),0),0)*$H59*$X59*$Y59),$D59)*$R59","v":4.1708441359495172},{"$f":"MIN((IFERROR(IF(AND($V59<=AF$1,$W59>=AF$1),INDEX(Reliability!K$23:K$50,MATCH($S59,Reliability!$C$23:$C$50,0)),0),0)*IF($T59=\"n/a\",$D59*$Y59,$G59)+IFERROR(IF(AND($V59<=AF$1,$W59>=AF$1),INDEX(Reliability!K$23:K$50,MATCH($T59,Reliability!$C$23:$C$50,0)),0),0)*$H59*$X59*$Y59),$D59)*$R59","v":4.1207383513926636},{"$f":"MIN((IFERROR(IF(AND($V59<=AG$1,$W59>=AG$1),INDEX(Reliability!L$23:L$50,MATCH($S59,Reliability!$C$23:$C$50,0)),0),0)*IF($T59=\"n/a\",$D59*$Y59,$G59)+IFERROR(IF(AND($V59<=AG$1,$W59>=AG$1),INDEX(Reliability!L$23:L$50,MATCH($T59,Reliability!$C$23:$C$50,0)),0),0)*$H59*$X59*$Y59),$D59)*$R59","v":3.7414845562202417},{"$f":"MIN((IFERROR(IF(AND($V59<=AH$1,$W59>=AH$1),INDEX(Reliability!M$23:M$50,MATCH($S59,Reliability!$C$23:$C$50,0)),0),0)*IF($T59=\"n/a\",$D59*$Y59,$G59)+IFERROR(IF(AND($V59<=AH$1,$W59>=AH$1),INDEX(Reliability!M$23:M$50,MATCH($T59,Reliability!$C$23:$C$50,0)),0),0)*$H59*$X59*$Y59),$D59)*$R59","v":3.3622307610478201},{"$f":"MIN((IFERROR(IF(AND($V59<=AI$1,$W59>=AI$1),INDEX(Reliability!N$23:N$50,MATCH($S59,Reliability!$C$23:$C$50,0)),0),0)*IF($T59=\"n/a\",$D59*$Y59,$G59)+IFERROR(IF(AND($V59<=AI$1,$W59>=AI$1),INDEX(Reliability!N$23:N$50,MATCH($T59,Reliability!$C$23:$C$50,0)),0),0)*$H59*$X59*$Y59),$D59)*$R59","v":2.9829769658753977},{"$f":"MIN((IFERROR(IF(AND($V59<=AJ$1,$W59>=AJ$1),INDEX(Reliability!O$23:O$50,MATCH($S59,Reliability!$C$23:$C$50,0)),0),0)*IF($T59=\"n/a\",$D59*$Y59,$G59)+IFERROR(IF(AND($V59<=AJ$1,$W59>=AJ$1),INDEX(Reliability!O$23:O$50,MATCH($T59,Reliability!$C$23:$C$50,0)),0),0)*$H59*$X59*$Y59),$D59)*$R59","v":2.6037231707029753},{"$f":"MIN((IFERROR(IF(AND($V59<=AK$1,$W59>=AK$1),INDEX(Reliability!P$23:P$50,MATCH($S59,Reliability!$C$23:$C$50,0)),0),0)*IF($T59=\"n/a\",$D59*$Y59,$G59)+IFERROR(IF(AND($V59<=AK$1,$W59>=AK$1),INDEX(Reliability!P$23:P$50,MATCH($T59,Reliability!$C$23:$C$50,0)),0),0)*$H59*$X59*$Y59),$D59)*$R59","v":2.2244693755305529}]
[null,{"$f":"unique_contracts!B60","v":"_NEW_GENERIC_WIND"},{"$f":"unique_contracts!D60","v":"PlannedNew"},{"$f":"unique_contracts!J60","v":50},{"$f":"unique_contracts!M60","v":0},{"$f":"unique_contracts!N60","v":0},{"$f":"unique_contracts!P60","v":0},{"$f":"unique_contracts!R60","v":0},{"$f":"unique_contracts!V60","v":0},null,{"$f":"unique_contracts!AM60","v":2030},{"$f":"unique_contracts!AN60","v":1},{"$f":"unique_contracts!AO60","v":1},{"$f":"unique_contracts!AP60","v":2040},{"$f":"unique_contracts!AQ60","v":12},{"$f":"unique_contracts!AR60","v":31},{"$f":"unique_contracts!BP60","v":"EnergyCapacity"},1,{"$f":"IFERROR(IF(AND(I60>0,E60=\"NotHybrid\"),_xlfn.CONCAT(MAX(MIN(ROUNDDOWN(I60/D60,0),8),4),INDEX(resources!$G:$G,MATCH(B60,resources!$A:$A,0))),INDEX(resources!$G:$G,MATCH(B60,resources!$A:$A,0))),\"n/a\")","v":"in_state_wind_south"},"n/a","in_state_wind_south",2030,2040,1,1,{"$f":"MIN((IFERROR(IF(AND($V60<=Z$1,$W60>=Z$1),INDEX(Reliability!E$23:E$50,MATCH($S60,Reliability!$C$23:$C$50,0)),0),0)*IF($T60=\"n/a\",$D60*$Y60,$G60)+IFERROR(IF(AND($V60<=Z$1,$W60>=Z$1),INDEX(Reliability!E$23:E$50,MATCH($T60,Reliability!$C$23:$C$50,0)),0),0)*$H60*$X60*$Y60),$D60)*$R60","v":0},{"$f":"MIN((IFERROR(IF(AND($V60<=AA$1,$W60>=AA$1),INDEX(Reliability!F$23:F$50,MATCH($S60,Reliability!$C$23:$C$50,0)),0),0)*IF($T60=\"n/a\",$D60*$Y60,$G60)+IFERROR(IF(AND($V60<=AA$1,$W60>=AA$1),INDEX(Reliability!F$23:F$50,MATCH($T60,Reliability!$C$23:$C$50,0)),0),0)*$H60*$X60*$Y60),$D60)*$R60","v":0},{"$f":"MIN((IFERROR(IF(AND($V60<=AB$1,$W60>=AB$1),INDEX(Reliability!G$23:G$50,MATCH($S60,Reliability!$C$23:$C$50,0)),0),0)*IF($T60=\"n/a\",$D60*$Y60,$G60)+IFERROR(IF(AND($V60<=AB$1,$W60>=AB$1),INDEX(Reliability!G$23:G$50,MATCH($T60,Reliability!$C$23:$C$50,0)),0),0)*$H60*$X60*$Y60),$D60)*$R60","v":0},{"$f":"MIN((IFERROR(IF(AND($V60<=AC$1,$W60>=AC$1),INDEX(Reliability!H$23:H$50,MATCH($S60,Reliability!$C$23:$C$50,0)),0),0)*IF($T60=\"n/a\",$D60*$Y60,$G60)+IFERROR(IF(AND($V60<=AC$1,$W60>=AC$1),INDEX(Reliability!H$23:H$50,MATCH($T60,Reliability!$C$23:$C$50,0)),0),0)*$H60*$X60*$Y60),$D60)*$R60","v":0},{"$f":"MIN((IFERROR(IF(AND($V60<=AD$1,$W60>=AD$1),INDEX(Reliability!I$23:I$50,MATCH($S60,Reliability!$C$23:$C$50,0)),0),0)*IF($T60=\"n/a\",$D60*$Y60,$G60)+IFERROR(IF(AND($V60<=AD$1,$W60>=AD$1),INDEX(Reliability!I$23:I$50,MATCH($T60,Reliability!$C$23:$C$50,0)),0),0)*$H60*$X60*$Y60),$D60)*$R60","v":0},{"$f":"MIN((IFERROR(IF(AND($V60<=AE$1,$W60>=AE$1),INDEX(Reliability!J$23:J$50,MATCH($S60,Reliability!$C$23:$C$50,0)),0),0)*IF($T60=\"n/a\",$D60*$Y60,$G60)+IFERROR(IF(AND($V60<=AE$1,$W60>=AE$1),INDEX(Reliability!J$23:J$50,MATCH($T60,Reliability!$C$23:$C$50,0)),0),0)*$H60*$X60*$Y60),$D60)*$R60","v":0},{"$f":"MIN((IFERROR(IF(AND($V60<=AF$1,$W60>=AF$1),INDEX(Reliability!K$23:K$50,MATCH($S60,Reliability!$C$23:$C$50,0)),0),0)*IF($T60=\"n/a\",$D60*$Y60,$G60)+IFERROR(IF(AND($V60<=AF$1,$W60>=AF$1),INDEX(Reliability!K$23:K$50,MATCH($T60,Reliability!$C$23:$C$50,0)),0),0)*$H60*$X60*$Y60),$D60)*$R60","v":4.1207383513926636},{"$f":"MIN((IFERROR(IF(AND($V60<=AG$1,$W60>=AG$1),INDEX(Reliability!L$23:L$50,MATCH($S60,Reliability!$C$23:$C$50,0)),0),0)*IF($T60=\"n/a\",$D60*$Y60,$G60)+IFERROR(IF(AND($V60<=AG$1,$W60>=AG$1),INDEX(Reliability!L$23:L$50,MATCH($T60,Reliability!$C$23:$C$50,0)),0),0)*$H60*$X60*$Y60),$D60)*$R60","v":3.7414845562202417},{"$f":"MIN((IFERROR(IF(AND($V60<=AH$1,$W60>=AH$1),INDEX(Reliability!M$23:M$50,MATCH($S60,Reliability!$C$23:$C$50,0)),0),0)*IF($T60=\"n/a\",$D60*$Y60,$G60)+IFERROR(IF(AND($V60<=AH$1,$W60>=AH$1),INDEX(Reliability!M$23:M$50,MATCH($T60,Reliability!$C$23:$C$50,0)),0),0)*$H60*$X60*$Y60),$D60)*$R60","v":3.3622307610478201},{"$f":"MIN((IFERROR(IF(AND($V60<=AI$1,$W60>=AI$1),INDEX(Reliability!N$23:N$50,MATCH($S60,Reliability!$C$23:$C$50,0)),0),0)*IF($T60=\"n/a\",$D60*$Y60,$G60)+IFERROR(IF(AND($V60<=AI$1,$W60>=AI$1),INDEX(Reliability!N$23:N$50,MATCH($T60,Reliability!$C$23:$C$50,0)),0),0)*$H60*$X60*$Y60),$D60)*$R60","v":2.9829769658753977},{"$f":"MIN((IFERROR(IF(AND($V60<=AJ$1,$W60>=AJ$1),INDEX(Reliability!O$23:O$50,MATCH($S60,Reliability!$C$23:$C$50,0)),0),0)*IF($T60=\"n/a\",$D60*$Y60,$G60)+IFERROR(IF(AND($V60<=AJ$1,$W60>=AJ$1),INDEX(Reliability!O$23:O$50,MATCH($T60,Reliability!$C$23:$C$50,0)),0),0)*$H60*$X60*$Y60),$D60)*$R60","v":2.6037231707029753},{"$f":"MIN((IFERROR(IF(AND($V60<=AK$1,$W60>=AK$1),INDEX(Reliability!P$23:P$50,MATCH($S60,Reliability!$C$23:$C$50,0)),0),0)*IF($T60=\"n/a\",$D60*$Y60,$G60)+IFERROR(IF(AND($V60<=AK$1,$W60>=AK$1),INDEX(Reliability!P$23:P$50,MATCH($T60,Reliability!$C$23:$C$50,0)),0),0)*$H60*$X60*$Y60),$D60)*$R60","v":2.2244693755305529}]
[null,{"$f":"unique_contracts!B61","v":"_NEW_GENERIC_BATTERY_STORAGE"},{"$f":"unique_contracts!D61","v":"PlannedNew"},{"$f":"unique_contracts!J61","v":55},{"$f":"unique_contracts!M61","v":0},{"$f":"unique_contracts!N61","v":0},{"$f":"unique_contracts!P61","v":0},{"$f":"unique_contracts!R61","v":0},{"$f":"unique_contracts!V61","v":220},null,{"$f":"unique_contracts!AM61","v":2024},{"$f":"unique_contracts!AN61","v":6},{"$f":"unique_contracts!AO61","v":1},{"$f":"unique_contracts!AP61","v":2034},{"$f":"unique_contracts!AQ61","v":5},{"$f":"unique_contracts!AR61","v":31},{"$f":"unique_contracts!BP61","v":"CapacityOnly"},1,{"$f":"IFERROR(IF(AND(I61>0,E61=\"NotHybrid\"),_xlfn.CONCAT(MAX(MIN(ROUNDDOWN(I61/D61,0),8),4),INDEX(resources!$G:$G,MATCH(B61,resources!$A:$A,0))),INDEX(resources!$G:$G,MATCH(B61,resources!$A:$A,0))),\"n/a\")","v":"hr_batteries"},"n/a","hr_batteries",2024,2033,1,1,{"$f":"MIN((IFERROR(IF(AND($V61<=Z$1,$W61>=Z$1),INDEX(Reliability!E$23:E$50,MATCH($S61,Reliability!$C$23:$C$50,0)),0),0)*IF($T61=\"n/a\",$D61*$Y61,$G61)+IFERROR(IF(AND($V61<=Z$1,$W61>=Z$1),INDEX(Reliability!E$23:E$50,MATCH($T61,Reliability!$C$23:$C$50,0)),0),0)*$H61*$X61*$Y61),$D61)*$R61","v":0},{"$f":"MIN((IFERROR(IF(AND($V61<=AA$1,$W61>=AA$1),INDEX(Reliability!F$23:F$50,MATCH($S61,Reliability!$C$23:$C$50,0)),0),0)*IF($T61=\"n/a\",$D61*$Y61,$G61)+IFERROR(IF(AND($V61<=AA$1,$W61>=AA$1),INDEX(Reliability!F$23:F$50,MATCH($T61,Reliability!$C$23:$C$50,0)),0),0)*$H61*$X61*$Y61),$D61)*$R61","v":0},{"$f":"MIN((IFERROR(IF(AND($V61<=AB$1,$W61>=AB$1),INDEX(Reliability!G$23:G$50,MATCH($S61,Reliability!$C$23:$C$50,0)),0),0)*IF($T61=\"n/a\",$D61*$Y61,$G61)+IFERROR(IF(AND($V61<=AB$1,$W61>=AB$1),INDEX(Reliability!G$23:G$50,MATCH($T61,Reliability!$C$23:$C$50,0)),0),0)*$H61*$X61*$Y61),$D61)*$R61","v":0},{"$f":"MIN((IFERROR(IF(AND($V61<=AC$1,$W61>=AC$1),INDEX(Reliability!H$23:H$50,MATCH($S61,Reliability!$C$23:$C$50,0)),0),0)*IF($T61=\"n/a\",$D61*$Y61,$G61)+IFERROR(IF(AND($V61<=AC$1,$W61>=AC$1),INDEX(Reliability!H$23:H$50,MATCH($T61,Reliability!$C$23:$C$50,0)),0),0)*$H61*$X61*$Y61),$D61)*$R61","v":0},{"$f":"MIN((IFERROR(IF(AND($V61<=AD$1,$W61>=AD$1),INDEX(Reliability!I$23:I$50,MATCH($S61,Reliability!$C$23:$C$50,0)),0),0)*IF($T61=\"n/a\",$D61*$Y61,$G61)+IFERROR(IF(AND($V61<=AD$1,$W61>=AD$1),INDEX(Reliability!I$23:I$50,MATCH($T61,Reliability!$C$23:$C$50,0)),0),0)*$H61*$X61*$Y61),$D61)*$R61","v":0},{"$f":"MIN((IFERROR(IF(AND($V61<=AE$1,$W61>=AE$1),INDEX(Reliability!J$23:J$50,MATCH($S61,Reliability!$C$23:$C$50,0)),0),0)*IF($T61=\"n/a\",$D61*$Y61,$G61)+IFERROR(IF(AND($V61<=AE$1,$W61>=AE$1),INDEX(Reliability!J$23:J$50,MATCH($T61,Reliability!$C$23:$C$50,0)),0),0)*$H61*$X61*$Y61),$D61)*$R61","v":0},{"$f":"MIN((IFERROR(IF(AND($V61<=AF$1,$W61>=AF$1),INDEX(Reliability!K$23:K$50,MATCH($S61,Reliability!$C$23:$C$50,0)),0),0)*IF($T61=\"n/a\",$D61*$Y61,$G61)+IFERROR(IF(AND($V61<=AF$1,$W61>=AF$1),INDEX(Reliability!K$23:K$50,MATCH($T61,Reliability!$C$23:$C$50,0)),0),0)*$H61*$X61*$Y61),$D61)*$R61","v":0},{"$f":"MIN((IFERROR(IF(AND($V61<=AG$1,$W61>=AG$1),INDEX(Reliability!L$23:L$50,MATCH($S61,Reliability!$C$23:$C$50,0)),0),0)*IF($T61=\"n/a\",$D61*$Y61,$G61)+IFERROR(IF(AND($V61<=AG$1,$W61>=AG$1),INDEX(Reliability!L$23:L$50,MATCH($T61,Reliability!$C$23:$C$50,0)),0),0)*$H61*$X61*$Y61),$D61)*$R61","v":0},{"$f":"MIN((IFERROR(IF(AND($V61<=AH$1,$W61>=AH$1),INDEX(Reliability!M$23:M$50,MATCH($S61,Reliability!$C$23:$C$50,0)),0),0)*IF($T61=\"n/a\",$D61*$Y61,$G61)+IFERROR(IF(AND($V61<=AH$1,$W61>=AH$1),INDEX(Reliability!M$23:M$50,MATCH($T61,Reliability!$C$23:$C$50,0)),0),0)*$H61*$X61*$Y61),$D61)*$R61","v":0},{"$f":"MIN((IFERROR(IF(AND($V61<=AI$1,$W61>=AI$1),INDEX(Reliability!N$23:N$50,MATCH($S61,Reliability!$C$23:$C$50,0)),0),0)*IF($T61=\"n/a\",$D61*$Y61,$G61)+IFERROR(IF(AND($V61<=AI$1,$W61>=AI$1),INDEX(Reliability!N$23:N$50,MATCH($T61,Reliability!$C$23:$C$50,0)),0),0)*$H61*$X61*$Y61),$D61)*$R61","v":0},{"$f":"MIN((IFERROR(IF(AND($V61<=AJ$1,$W61>=AJ$1),INDEX(Reliability!O$23:O$50,MATCH($S61,Reliability!$C$23:$C$50,0)),0),0)*IF($T61=\"n/a\",$D61*$Y61,$G61)+IFERROR(IF(AND($V61<=AJ$1,$W61>=AJ$1),INDEX(Reliability!O$23:O$50,MATCH($T61,Reliability!$C$23:$C$50,0)),0),0)*$H61*$X61*$Y61),$D61)*$R61","v":0},{"$f":"MIN((IFERROR(IF(AND($V61<=AK$1,$W61>=AK$1),INDEX(Reliability!P$23:P$50,MATCH($S61,Reliability!$C$23:$C$50,0)),0),0)*IF($T61=\"n/a\",$D61*$Y61,$G61)+IFERROR(IF(AND($V61<=AK$1,$W61>=AK$1),INDEX(Reliability!P$23:P$50,MATCH($T61,Reliability!$C$23:$C$50,0)),0),0)*$H61*$X61*$Y61),$D61)*$R61","v":0}]
[null,{"$f":"unique_contracts!B62","v":"_EXISTING_GENERIC_COMBINED_CYCLE"},{"$f":"unique_contracts!D62","v":"PlannedExisting"},{"$f":"unique_contracts!J62","v":57.34},{"$f":"unique_contracts!M62","v":0},{"$f":"unique_contracts!N62","v":0},{"$f":"unique_contracts!P62","v":0},{"$f":"unique_contracts!R62","v":0},{"$f":"unique_contracts!V62","v":0},null,{"$f":"unique_contracts!AM62","v":2024},{"$f":"unique_contracts!AN62","v":1},{"$f":"unique_contracts!AO62","v":1},{"$f":"unique_contracts!AP62","v":2024},{"$f":"unique_contracts!AQ62","v":12},{"$f":"unique_contracts!AR62","v":31},{"$f":"unique_contracts!BP62","v":"CapacityOnly"},1,{"$f":"IFERROR(IF(AND(I62>0,E62=\"NotHybrid\"),_xlfn.CONCAT(MAX(MIN(ROUNDDOWN(I62/D62,0),8),4),INDEX(resources!$G:$G,MATCH(B62,resources!$A:$A,0))),INDEX(resources!$G:$G,MATCH(B62,resources!$A:$A,0))),\"n/a\")","v":"gas_cc"},"n/a","gas_cc",2024,2024,1,1,{"$f":"MIN((IFERROR(IF(AND($V62<=Z$1,$W62>=Z$1),INDEX(Reliability!E$23:E$50,MATCH($S62,Reliability!$C$23:$C$50,0)),0),0)*IF($T62=\"n/a\",$D62*$Y62,$G62)+IFERROR(IF(AND($V62<=Z$1,$W62>=Z$1),INDEX(Reliability!E$23:E$50,MATCH($T62,Reliability!$C$23:$C$50,0)),0),0)*$H62*$X62*$Y62),$D62)*$R62","v":48.63278222279363},{"$f":"MIN((IFERROR(IF(AND($V62<=AA$1,$W62>=AA$1),INDEX(Reliability!F$23:F$50,MATCH($S62,Reliability!$C$23:$C$50,0)),0),0)*IF($T62=\"n/a\",$D62*$Y62,$G62)+IFERROR(IF(AND($V62<=AA$1,$W62>=AA$1),INDEX(Reliability!F$23:F$50,MATCH($T62,Reliability!$C$23:$C$50,0)),0),0)*$H62*$X62*$Y62),$D62)*$R62","v":0},{"$f":"MIN((IFERROR(IF(AND($V62<=AB$1,$W62>=AB$1),INDEX(Reliability!G$23:G$50,MATCH($S62,Reliability!$C$23:$C$50,0)),0),0)*IF($T62=\"n/a\",$D62*$Y62,$G62)+IFERROR(IF(AND($V62<=AB$1,$W62>=AB$1),INDEX(Reliability!G$23:G$50,MATCH($T62,Reliability!$C$23:$C$50,0)),0),0)*$H62*$X62*$Y62),$D62)*$R62","v":0},{"$f":"MIN((IFERROR(IF(AND($V62<=AC$1,$W62>=AC$1),INDEX(Reliability!H$23:H$50,MATCH($S62,Reliability!$C$23:$C$50,0)),0),0)*IF($T62=\"n/a\",$D62*$Y62,$G62)+IFERROR(IF(AND($V62<=AC$1,$W62>=AC$1),INDEX(Reliability!H$23:H$50,MATCH($T62,Reliability!$C$23:$C$50,0)),0),0)*$H62*$X62*$Y62),$D62)*$R62","v":0},{"$f":"MIN((IFERROR(IF(AND($V62<=AD$1,$W62>=AD$1),INDEX(Reliability!I$23:I$50,MATCH($S62,Reliability!$C$23:$C$50,0)),0),0)*IF($T62=\"n/a\",$D62*$Y62,$G62)+IFERROR(IF(AND($V62<=AD$1,$W62>=AD$1),INDEX(Reliability!I$23:I$50,MATCH($T62,Reliability!$C$23:$C$50,0)),0),0)*$H62*$X62*$Y62),$D62)*$R62","v":0},{"$f":"MIN((IFERROR(IF(AND($V62<=AE$1,$W62>=AE$1),INDEX(Reliability!J$23:J$50,MATCH($S62,Reliability!$C$23:$C$50,0)),0),0)*IF($T62=\"n/a\",$D62*$Y62,$G62)+IFERROR(IF(AND($V62<=AE$1,$W62>=AE$1),INDEX(Reliability!J$23:J$50,MATCH($T62,Reliability!$C$23:$C$50,0)),0),0)*$H62*$X62*$Y62),$D62)*$R62","v":0},{"$f":"MIN((IFERROR(IF(AND($V62<=AF$1,$W62>=AF$1),INDEX(Reliability!K$23:K$50,MATCH($S62,Reliability!$C$23:$C$50,0)),0),0)*IF($T62=\"n/a\",$D62*$Y62,$G62)+IFERROR(IF(AND($V62<=AF$1,$W62>=AF$1),INDEX(Reliability!K$23:K$50,MATCH($T62,Reliability!$C$23:$C$50,0)),0),0)*$H62*$X62*$Y62),$D62)*$R62","v":0},{"$f":"MIN((IFERROR(IF(AND($V62<=AG$1,$W62>=AG$1),INDEX(Reliability!L$23:L$50,MATCH($S62,Reliability!$C$23:$C$50,0)),0),0)*IF($T62=\"n/a\",$D62*$Y62,$G62)+IFERROR(IF(AND($V62<=AG$1,$W62>=AG$1),INDEX(Reliability!L$23:L$50,MATCH($T62,Reliability!$C$23:$C$50,0)),0),0)*$H62*$X62*$Y62),$D62)*$R62","v":0},{"$f":"MIN((IFERROR(IF(AND($V62<=AH$1,$W62>=AH$1),INDEX(Reliability!M$23:M$50,MATCH($S62,Reliability!$C$23:$C$50,0)),0),0)*IF($T62=\"n/a\",$D62*$Y62,$G62)+IFERROR(IF(AND($V62<=AH$1,$W62>=AH$1),INDEX(Reliability!M$23:M$50,MATCH($T62,Reliability!$C$23:$C$50,0)),0),0)*$H62*$X62*$Y62),$D62)*$R62","v":0},{"$f":"MIN((IFERROR(IF(AND($V62<=AI$1,$W62>=AI$1),INDEX(Reliability!N$23:N$50,MATCH($S62,Reliability!$C$23:$C$50,0)),0),0)*IF($T62=\"n/a\",$D62*$Y62,$G62)+IFERROR(IF(AND($V62<=AI$1,$W62>=AI$1),INDEX(Reliability!N$23:N$50,MATCH($T62,Reliability!$C$23:$C$50,0)),0),0)*$H62*$X62*$Y62),$D62)*$R62","v":0},{"$f":"MIN((IFERROR(IF(AND($V62<=AJ$1,$W62>=AJ$1),INDEX(Reliability!O$23:O$50,MATCH($S62,Reliability!$C$23:$C$50,0)),0),0)*IF($T62=\"n/a\",$D62*$Y62,$G62)+IFERROR(IF(AND($V62<=AJ$1,$W62>=AJ$1),INDEX(Reliability!O$23:O$50,MATCH($T62,Reliability!$C$23:$C$50,0)),0),0)*$H62*$X62*$Y62),$D62)*$R62","v":0},{"$f":"MIN((IFERROR(IF(AND($V62<=AK$1,$W62>=AK$1),INDEX(Reliability!P$23:P$50,MATCH($S62,Reliability!$C$23:$C$50,0)),0),0)*IF($T62=\"n/a\",$D62*$Y62,$G62)+IFERROR(IF(AND($V62<=AK$1,$W62>=AK$1),INDEX(Reliability!P$23:P$50,MATCH($T62,Reliability!$C$23:$C$50,0)),0),0)*$H62*$X62*$Y62),$D62)*$R62","v":0}]
[null,{"$f":"unique_contracts!B63","v":"_EXISTING_GENERIC_COMBINED_CYCLE"},{"$f":"unique_contracts!D63","v":"PlannedExisting"},{"$f":"unique_contracts!J63","v":41.11},{"$f":"unique_contracts!M63","v":0},{"$f":"unique_contracts!N63","v":0},{"$f":"unique_contracts!P63","v":0},{"$f":"unique_contracts!R63","v":0},{"$f":"unique_contracts!V63","v":0},null,{"$f":"unique_contracts!AM63","v":2025},{"$f":"unique_contracts!AN63","v":1},{"$f":"unique_contracts!AO63","v":1},{"$f":"unique_contracts!AP63","v":2025},{"$f":"unique_contracts!AQ63","v":12},{"$f":"unique_contracts!AR63","v":31},{"$f":"unique_contracts!BP63","v":"CapacityOnly"},1,{"$f":"IFERROR(IF(AND(I63>0,E63=\"NotHybrid\"),_xlfn.CONCAT(MAX(MIN(ROUNDDOWN(I63/D63,0),8),4),INDEX(resources!$G:$G,MATCH(B63,resources!$A:$A,0))),INDEX(resources!$G:$G,MATCH(B63,resources!$A:$A,0))),\"n/a\")","v":"gas_cc"},"n/a","gas_cc",2025,2025,1,1,{"$f":"MIN((IFERROR(IF(AND($V63<=Z$1,$W63>=Z$1),INDEX(Reliability!E$23:E$50,MATCH($S63,Reliability!$C$23:$C$50,0)),0),0)*IF($T63=\"n/a\",$D63*$Y63,$G63)+IFERROR(IF(AND($V63<=Z$1,$W63>=Z$1),INDEX(Reliability!E$23:E$50,MATCH($T63,Reliability!$C$23:$C$50,0)),0),0)*$H63*$X63*$Y63),$D63)*$R63","v":0},{"$f":"MIN((IFERROR(IF(AND($V63<=AA$1,$W63>=AA$1),INDEX(Reliability!F$23:F$50,MATCH($S63,Reliability!$C$23:$C$50,0)),0),0)*IF($T63=\"n/a\",$D63*$Y63,$G63)+IFERROR(IF(AND($V63<=AA$1,$W63>=AA$1),INDEX(Reliability!F$23:F$50,MATCH($T63,Reliability!$C$23:$C$50,0)),0),0)*$H63*$X63*$Y63),$D63)*$R63","v":35.46308394979534},{"$f":"MIN((IFERROR(IF(AND($V63<=AB$1,$W63>=AB$1),INDEX(Reliability!G$23:G$50,MATCH($S63,Reliability!$C$23:$C$50,0)),0),0)*IF($T63=\"n/a\",$D63*$Y63,$G63)+IFERROR(IF(AND($V63<=AB$1,$W63>=AB$1),INDEX(Reliability!G$23:G$50,MATCH($T63,Reliability!$C$23:$C$50,0)),0),0)*$H63*$X63*$Y63),$D63)*$R63","v":0},{"$f":"MIN((IFERROR(IF(AND($V63<=AC$1,$W63>=AC$1),INDEX(Reliability!H$23:H$50,MATCH($S63,Reliability!$C$23:$C$50,0)),0),0)*IF($T63=\"n/a\",$D63*$Y63,$G63)+IFERROR(IF(AND($V63<=AC$1,$W63>=AC$1),INDEX(Reliability!H$23:H$50,MATCH($T63,Reliability!$C$23:$C$50,0)),0),0)*$H63*$X63*$Y63),$D63)*$R63","v":0},{"$f":"MIN((IFERROR(IF(AND($V63<=AD$1,$W63>=AD$1),INDEX(Reliability!I$23:I$50,MATCH($S63,Reliability!$C$23:$C$50,0)),0),0)*IF($T63=\"n/a\",$D63*$Y63,$G63)+IFERROR(IF(AND($V63<=AD$1,$W63>=AD$1),INDEX(Reliability!I$23:I$50,MATCH($T63,Reliability!$C$23:$C$50,0)),0),0)*$H63*$X63*$Y63),$D63)*$R63","v":0},{"$f":"MIN((IFERROR(IF(AND($V63<=AE$1,$W63>=AE$1),INDEX(Reliability!J$23:J$50,MATCH($S63,Reliability!$C$23:$C$50,0)),0),0)*IF($T63=\"n/a\",$D63*$Y63,$G63)+IFERROR(IF(AND($V63<=AE$1,$W63>=AE$1),INDEX(Reliability!J$23:J$50,MATCH($T63,Reliability!$C$23:$C$50,0)),0),0)*$H63*$X63*$Y63),$D63)*$R63","v":0},{"$f":"MIN((IFERROR(IF(AND($V63<=AF$1,$W63>=AF$1),INDEX(Reliability!K$23:K$50,MATCH($S63,Reliability!$C$23:$C$50,0)),0),0)*IF($T63=\"n/a\",$D63*$Y63,$G63)+IFERROR(IF(AND($V63<=AF$1,$W63>=AF$1),INDEX(Reliability!K$23:K$50,MATCH($T63,Reliability!$C$23:$C$50,0)),0),0)*$H63*$X63*$Y63),$D63)*$R63","v":0},{"$f":"MIN((IFERROR(IF(AND($V63<=AG$1,$W63>=AG$1),INDEX(Reliability!L$23:L$50,MATCH($S63,Reliability!$C$23:$C$50,0)),0),0)*IF($T63=\"n/a\",$D63*$Y63,$G63)+IFERROR(IF(AND($V63<=AG$1,$W63>=AG$1),INDEX(Reliability!L$23:L$50,MATCH($T63,Reliability!$C$23:$C$50,0)),0),0)*$H63*$X63*$Y63),$D63)*$R63","v":0},{"$f":"MIN((IFERROR(IF(AND($V63<=AH$1,$W63>=AH$1),INDEX(Reliability!M$23:M$50,MATCH($S63,Reliability!$C$23:$C$50,0)),0),0)*IF($T63=\"n/a\",$D63*$Y63,$G63)+IFERROR(IF(AND($V63<=AH$1,$W63>=AH$1),INDEX(Reliability!M$23:M$50,MATCH($T63,Reliability!$C$23:$C$50,0)),0),0)*$H63*$X63*$Y63),$D63)*$R63","v":0},{"$f":"MIN((IFERROR(IF(AND($V63<=AI$1,$W63>=AI$1),INDEX(Reliability!N$23:N$50,MATCH($S63,Reliability!$C$23:$C$50,0)),0),0)*IF($T63=\"n/a\",$D63*$Y63,$G63)+IFERROR(IF(AND($V63<=AI$1,$W63>=AI$1),INDEX(Reliability!N$23:N$50,MATCH($T63,Reliability!$C$23:$C$50,0)),0),0)*$H63*$X63*$Y63),$D63)*$R63","v":0},{"$f":"MIN((IFERROR(IF(AND($V63<=AJ$1,$W63>=AJ$1),INDEX(Reliability!O$23:O$50,MATCH($S63,Reliability!$C$23:$C$50,0)),0),0)*IF($T63=\"n/a\",$D63*$Y63,$G63)+IFERROR(IF(AND($V63<=AJ$1,$W63>=AJ$1),INDEX(Reliability!O$23:O$50,MATCH($T63,Reliability!$C$23:$C$50,0)),0),0)*$H63*$X63*$Y63),$D63)*$R63","v":0},{"$f":"MIN((IFERROR(IF(AND($V63<=AK$1,$W63>=AK$1),INDEX(Reliability!P$23:P$50,MATCH($S63,Reliability!$C$23:$C$50,0)),0),0)*IF($T63=\"n/a\",$D63*$Y63,$G63)+IFERROR(IF(AND($V63<=AK$1,$W63>=AK$1),INDEX(Reliability!P$23:P$50,MATCH($T63,Reliability!$C$23:$C$50,0)),0),0)*$H63*$X63*$Y63),$D63)*$R63","v":0}]
[null,{"$f":"unique_contracts!B64","v":"_EXISTING_GENERIC_COMBINED_CYCLE"},{"$f":"unique_contracts!D64","v":"PlannedExisting"},{"$f":"unique_contracts!J64","v":149.76},{"$f":"unique_contracts!M64","v":0},{"$f":"unique_contracts!N64","v":0},{"$f":"unique_contracts!P64","v":0},{"$f":"unique_contracts!R64","v":0},{"$f":"unique_contracts!V64","v":0},null,{"$f":"unique_contracts!AM64","v":2026},{"$f":"unique_contracts!AN64","v":1},{"$f":"unique_contracts!AO64","v":1},{"$f":"unique_contracts!AP64","v":2026},{"$f":"unique_contracts!AQ64","v":12},{"$f":"unique_contracts!AR64","v":31},{"$f":"unique_contracts!BP64","v":"CapacityOnly"},1,{"$f":"IFERROR(IF(AND(I64>0,E64=\"NotHybrid\"),_xlfn.CONCAT(MAX(MIN(ROUNDDOWN(I64/D64,0),8),4),INDEX(resources!$G:$G,MATCH(B64,resources!$A:$A,0))),INDEX(resources!$G:$G,MATCH(B64,resources!$A:$A,0))),\"n/a\")","v":"gas_cc"},"n/a","gas_cc",2026,2026,1,1,{"$f":"MIN((IFERROR(IF(AND($V64<=Z$1,$W64>=Z$1),INDEX(Reliability!E$23:E$50,MATCH($S64,Reliability!$C$23:$C$50,0)),0),0)*IF($T64=\"n/a\",$D64*$Y64,$G64)+IFERROR(IF(AND($V64<=Z$1,$W64>=Z$1),INDEX(Reliability!E$23:E$50,MATCH($T64,Reliability!$C$23:$C$50,0)),0),0)*$H64*$X64*$Y64),$D64)*$R64","v":0},{"$f":"MIN((IFERROR(IF(AND($V64<=AA$1,$W64>=AA$1),INDEX(Reliability!F$23:F$50,MATCH($S64,Reliability!$C$23:$C$50,0)),0),0)*IF($T64=\"n/a\",$D64*$Y64,$G64)+IFERROR(IF(AND($V64<=AA$1,$W64>=AA$1),INDEX(Reliability!F$23:F$50,MATCH($T64,Reliability!$C$23:$C$50,0)),0),0)*$H64*$X64*$Y64),$D64)*$R64","v":0},{"$f":"MIN((IFERROR(IF(AND($V64<=AB$1,$W64>=AB$1),INDEX(Reliability!G$23:G$50,MATCH($S64,Reliability!$C$23:$C$50,0)),0),0)*IF($T64=\"n/a\",$D64*$Y64,$G64)+IFERROR(IF(AND($V64<=AB$1,$W64>=AB$1),INDEX(Reliability!G$23:G$50,MATCH($T64,Reliability!$C$23:$C$50,0)),0),0)*$H64*$X64*$Y64),$D64)*$R64","v":131.35901282906428},{"$f":"MIN((IFERROR(IF(AND($V64<=AC$1,$W64>=AC$1),INDEX(Reliability!H$23:H$50,MATCH($S64,Reliability!$C$23:$C$50,0)),0),0)*IF($T64=\"n/a\",$D64*$Y64,$G64)+IFERROR(IF(AND($V64<=AC$1,$W64>=AC$1),INDEX(Reliability!H$23:H$50,MATCH($T64,Reliability!$C$23:$C$50,0)),0),0)*$H64*$X64*$Y64),$D64)*$R64","v":0},{"$f":"MIN((IFERROR(IF(AND($V64<=AD$1,$W64>=AD$1),INDEX(Reliability!I$23:I$50,MATCH($S64,Reliability!$C$23:$C$50,0)),0),0)*IF($T64=\"n/a\",$D64*$Y64,$G64)+IFERROR(IF(AND($V64<=AD$1,$W64>=AD$1),INDEX(Reliability!I$23:I$50,MATCH($T64,Reliability!$C$23:$C$50,0)),0),0)*$H64*$X64*$Y64),$D64)*$R64","v":0},{"$f":"MIN((IFERROR(IF(AND($V64<=AE$1,$W64>=AE$1),INDEX(Reliability!J$23:J$50,MATCH($S64,Reliability!$C$23:$C$50,0)),0),0)*IF($T64=\"n/a\",$D64*$Y64,$G64)+IFERROR(IF(AND($V64<=AE$1,$W64>=AE$1),INDEX(Reliability!J$23:J$50,MATCH($T64,Reliability!$C$23:$C$50,0)),0),0)*$H64*$X64*$Y64),$D64)*$R64","v":0},{"$f":"MIN((IFERROR(IF(AND($V64<=AF$1,$W64>=AF$1),INDEX(Reliability!K$23:K$50,MATCH($S64,Reliability!$C$23:$C$50,0)),0),0)*IF($T64=\"n/a\",$D64*$Y64,$G64)+IFERROR(IF(AND($V64<=AF$1,$W64>=AF$1),INDEX(Reliability!K$23:K$50,MATCH($T64,Reliability!$C$23:$C$50,0)),0),0)*$H64*$X64*$Y64),$D64)*$R64","v":0},{"$f":"MIN((IFERROR(IF(AND($V64<=AG$1,$W64>=AG$1),INDEX(Reliability!L$23:L$50,MATCH($S64,Reliability!$C$23:$C$50,0)),0),0)*IF($T64=\"n/a\",$D64*$Y64,$G64)+IFERROR(IF(AND($V64<=AG$1,$W64>=AG$1),INDEX(Reliability!L$23:L$50,MATCH($T64,Reliability!$C$23:$C$50,0)),0),0)*$H64*$X64*$Y64),$D64)*$R64","v":0},{"$f":"MIN((IFERROR(IF(AND($V64<=AH$1,$W64>=AH$1),INDEX(Reliability!M$23:M$50,MATCH($S64,Reliability!$C$23:$C$50,0)),0),0)*IF($T64=\"n/a\",$D64*$Y64,$G64)+IFERROR(IF(AND($V64<=AH$1,$W64>=AH$1),INDEX(Reliability!M$23:M$50,MATCH($T64,Reliability!$C$23:$C$50,0)),0),0)*$H64*$X64*$Y64),$D64)*$R64","v":0},{"$f":"MIN((IFERROR(IF(AND($V64<=AI$1,$W64>=AI$1),INDEX(Reliability!N$23:N$50,MATCH($S64,Reliability!$C$23:$C$50,0)),0),0)*IF($T64=\"n/a\",$D64*$Y64,$G64)+IFERROR(IF(AND($V64<=AI$1,$W64>=AI$1),INDEX(Reliability!N$23:N$50,MATCH($T64,Reliability!$C$23:$C$50,0)),0),0)*$H64*$X64*$Y64),$D64)*$R64","v":0},{"$f":"MIN((IFERROR(IF(AND($V64<=AJ$1,$W64>=AJ$1),INDEX(Reliability!O$23:O$50,MATCH($S64,Reliability!$C$23:$C$50,0)),0),0)*IF($T64=\"n/a\",$D64*$Y64,$G64)+IFERROR(IF(AND($V64<=AJ$1,$W64>=AJ$1),INDEX(Reliability!O$23:O$50,MATCH($T64,Reliability!$C$23:$C$50,0)),0),0)*$H64*$X64*$Y64),$D64)*$R64","v":0},{"$f":"MIN((IFERROR(IF(AND($V64<=AK$1,$W64>=AK$1),INDEX(Reliability!P$23:P$50,MATCH($S64,Reliability!$C$23:$C$50,0)),0),0)*IF($T64=\"n/a\",$D64*$Y64,$G64)+IFERROR(IF(AND($V64<=AK$1,$W64>=AK$1),INDEX(Reliability!P$23:P$50,MATCH($T64,Reliability!$C$23:$C$50,0)),0),0)*$H64*$X64*$Y64),$D64)*$R64","v":0}]
[null,{"$f":"unique_contracts!B65","v":"_EXISTING_GENERIC_COMBINED_CYCLE"},{"$f":"unique_contracts!D65","v":"PlannedExisting"},{"$f":"unique_contracts!J65","v":84.5},{"$f":"unique_contracts!M65","v":0},{"$f":"unique_contracts!N65","v":0},{"$f":"unique_contracts!P65","v":0},{"$f":"unique_contracts!R65","v":0},{"$f":"unique_contracts!V65","v":0},null,{"$f":"unique_contracts!AM65","v":2027},{"$f":"unique_contracts!AN65","v":1},{"$f":"unique_contracts!AO65","v":1},{"$f":"unique_contracts!AP65","v":2027},{"$f":"unique_contracts!AQ65","v":12},{"$f":"unique_contracts!AR65","v":31},{"$f":"unique_contracts!BP65","v":"CapacityOnly"},1,{"$f":"IFERROR(IF(AND(I65>0,E65=\"NotHybrid\"),_xlfn.CONCAT(MAX(MIN(ROUNDDOWN(I65/D65,0),8),4),INDEX(resources!$G:$G,MATCH(B65,resources!$A:$A,0))),INDEX(resources!$G:$G,MATCH(B65,resources!$A:$A,0))),\"n/a\")","v":"gas_cc"},"n/a","gas_cc",2027,2027,1,1,{"$f":"MIN((IFERROR(IF(AND($V65<=Z$1,$W65>=Z$1),INDEX(Reliability!E$23:E$50,MATCH($S65,Reliability!$C$23:$C$50,0)),0),0)*IF($T65=\"n/a\",$D65*$Y65,$G65)+IFERROR(IF(AND($V65<=Z$1,$W65>=Z$1),INDEX(Reliability!E$23:E$50,MATCH($T65,Reliability!$C$23:$C$50,0)),0),0)*$H65*$X65*$Y65),$D65)*$R65","v":0},{"$f":"MIN((IFERROR(IF(AND($V65<=AA$1,$W65>=AA$1),INDEX(Reliability!F$23:F$50,MATCH($S65,Reliability!$C$23:$C$50,0)),0),0)*IF($T65=\"n/a\",$D65*$Y65,$G65)+IFERROR(IF(AND($V65<=AA$1,$W65>=AA$1),INDEX(Reliability!F$23:F$50,MATCH($T65,Reliability!$C$23:$C$50,0)),0),0)*$H65*$X65*$Y65),$D65)*$R65","v":0},{"$f":"MIN((IFERROR(IF(AND($V65<=AB$1,$W65>=AB$1),INDEX(Reliability!G$23:G$50,MATCH($S65,Reliability!$C$23:$C$50,0)),0),0)*IF($T65=\"n/a\",$D65*$Y65,$G65)+IFERROR(IF(AND($V65<=AB$1,$W65>=AB$1),INDEX(Reliability!G$23:G$50,MATCH($T65,Reliability!$C$23:$C$50,0)),0),0)*$H65*$X65*$Y65),$D65)*$R65","v":0},{"$f":"MIN((IFERROR(IF(AND($V65<=AC$1,$W65>=AC$1),INDEX(Reliability!H$23:H$50,MATCH($S65,Reliability!$C$23:$C$50,0)),0),0)*IF($T65=\"n/a\",$D65*$Y65,$G65)+IFERROR(IF(AND($V65<=AC$1,$W65>=AC$1),INDEX(Reliability!H$23:H$50,MATCH($T65,Reliability!$C$23:$C$50,0)),0),0)*$H65*$X65*$Y65),$D65)*$R65","v":73.868156697419451},{"$f":"MIN((IFERROR(IF(AND($V65<=AD$1,$W65>=AD$1),INDEX(Reliability!I$23:I$50,MATCH($S65,Reliability!$C$23:$C$50,0)),0),0)*IF($T65=\"n/a\",$D65*$Y65,$G65)+IFERROR(IF(AND($V65<=AD$1,$W65>=AD$1),INDEX(Reliability!I$23:I$50,MATCH($T65,Reliability!$C$23:$C$50,0)),0),0)*$H65*$X65*$Y65),$D65)*$R65","v":0},{"$f":"MIN((IFERROR(IF(AND($V65<=AE$1,$W65>=AE$1),INDEX(Reliability!J$23:J$50,MATCH($S65,Reliability!$C$23:$C$50,0)),0),0)*IF($T65=\"n/a\",$D65*$Y65,$G65)+IFERROR(IF(AND($V65<=AE$1,$W65>=AE$1),INDEX(Reliability!J$23:J$50,MATCH($T65,Reliability!$C$23:$C$50,0)),0),0)*$H65*$X65*$Y65),$D65)*$R65","v":0},{"$f":"MIN((IFERROR(IF(AND($V65<=AF$1,$W65>=AF$1),INDEX(Reliability!K$23:K$50,MATCH($S65,Reliability!$C$23:$C$50,0)),0),0)*IF($T65=\"n/a\",$D65*$Y65,$G65)+IFERROR(IF(AND($V65<=AF$1,$W65>=AF$1),INDEX(Reliability!K$23:K$50,MATCH($T65,Reliability!$C$23:$C$50,0)),0),0)*$H65*$X65*$Y65),$D65)*$R65","v":0},{"$f":"MIN((IFERROR(IF(AND($V65<=AG$1,$W65>=AG$1),INDEX(Reliability!L$23:L$50,MATCH($S65,Reliability!$C$23:$C$50,0)),0),0)*IF($T65=\"n/a\",$D65*$Y65,$G65)+IFERROR(IF(AND($V65<=AG$1,$W65>=AG$1),INDEX(Reliability!L$23:L$50,MATCH($T65,Reliability!$C$23:$C$50,0)),0),0)*$H65*$X65*$Y65),$D65)*$R65","v":0},{"$f":"MIN((IFERROR(IF(AND($V65<=AH$1,$W65>=AH$1),INDEX(Reliability!M$23:M$50,MATCH($S65,Reliability!$C$23:$C$50,0)),0),0)*IF($T65=\"n/a\",$D65*$Y65,$G65)+IFERROR(IF(AND($V65<=AH$1,$W65>=AH$1),INDEX(Reliability!M$23:M$50,MATCH($T65,Reliability!$C$23:$C$50,0)),0),0)*$H65*$X65*$Y65),$D65)*$R65","v":0},{"$f":"MIN((IFERROR(IF(AND($V65<=AI$1,$W65>=AI$1),INDEX(Reliability!N$23:N$50,MATCH($S65,Reliability!$C$23:$C$50,0)),0),0)*IF($T65=\"n/a\",$D65*$Y65,$G65)+IFERROR(IF(AND($V65<=AI$1,$W65>=AI$1),INDEX(Reliability!N$23:N$50,MATCH($T65,Reliability!$C$23:$C$50,0)),0),0)*$H65*$X65*$Y65),$D65)*$R65","v":0},{"$f":"MIN((IFERROR(IF(AND($V65<=AJ$1,$W65>=AJ$1),INDEX(Reliability!O$23:O$50,MATCH($S65,Reliability!$C$23:$C$50,0)),0),0)*IF($T65=\"n/a\",$D65*$Y65,$G65)+IFERROR(IF(AND($V65<=AJ$1,$W65>=AJ$1),INDEX(Reliability!O$23:O$50,MATCH($T65,Reliability!$C$23:$C$50,0)),0),0)*$H65*$X65*$Y65),$D65)*$R65","v":0},{"$f":"MIN((IFERROR(IF(AND($V65<=AK$1,$W65>=AK$1),INDEX(Reliability!P$23:P$50,MATCH($S65,Reliability!$C$23:$C$50,0)),0),0)*IF($T65=\"n/a\",$D65*$Y65,$G65)+IFERROR(IF(AND($V65<=AK$1,$W65>=AK$1),INDEX(Reliability!P$23:P$50,MATCH($T65,Reliability!$C$23:$C$50,0)),0),0)*$H65*$X65*$Y65),$D65)*$R65","v":0}]
[null,{"$f":"unique_contracts!B66","v":"_EXISTING_GENERIC_COMBINED_CYCLE"},{"$f":"unique_contracts!D66","v":"PlannedExisting"},{"$f":"unique_contracts!J66","v":77.2},{"$f":"unique_contracts!M66","v":0},{"$f":"unique_contracts!N66","v":0},{"$f":"unique_contracts!P66","v":0},{"$f":"unique_contracts!R66","v":0},{"$f":"unique_contracts!V66","v":0},null,{"$f":"unique_contracts!AM66","v":2028},{"$f":"unique_contracts!AN66","v":1},{"$f":"unique_contracts!AO66","v":1},{"$f":"unique_contracts!AP66","v":2028},{"$f":"unique_contracts!AQ66","v":12},{"$f":"unique_contracts!AR66","v":31},{"$f":"unique_contracts!BP66","v":"CapacityOnly"},1,{"$f":"IFERROR(IF(AND(I66>0,E66=\"NotHybrid\"),_xlfn.CONCAT(MAX(MIN(ROUNDDOWN(I66/D66,0),8),4),INDEX(resources!$G:$G,MATCH(B66,resources!$A:$A,0))),INDEX(resources!$G:$G,MATCH(B66,resources!$A:$A,0))),\"n/a\")","v":"gas_cc"},"n/a","gas_cc",2028,2028,1,1,{"$f":"MIN((IFERROR(IF(AND($V66<=Z$1,$W66>=Z$1),INDEX(Reliability!E$23:E$50,MATCH($S66,Reliability!$C$23:$C$50,0)),0),0)*IF($T66=\"n/a\",$D66*$Y66,$G66)+IFERROR(IF(AND($V66<=Z$1,$W66>=Z$1),INDEX(Reliability!E$23:E$50,MATCH($T66,Reliability!$C$23:$C$50,0)),0),0)*$H66*$X66*$Y66),$D66)*$R66","v":0},{"$f":"MIN((IFERROR(IF(AND($V66<=AA$1,$W66>=AA$1),INDEX(Reliability!F$23:F$50,MATCH($S66,Reliability!$C$23:$C$50,0)),0),0)*IF($T66=\"n/a\",$D66*$Y66,$G66)+IFERROR(IF(AND($V66<=AA$1,$W66>=AA$1),INDEX(Reliability!F$23:F$50,MATCH($T66,Reliability!$C$23:$C$50,0)),0),0)*$H66*$X66*$Y66),$D66)*$R66","v":0},{"$f":"MIN((IFERROR(IF(AND($V66<=AB$1,$W66>=AB$1),INDEX(Reliability!G$23:G$50,MATCH($S66,Reliability!$C$23:$C$50,0)),0),0)*IF($T66=\"n/a\",$D66*$Y66,$G66)+IFERROR(IF(AND($V66<=AB$1,$W66>=AB$1),INDEX(Reliability!G$23:G$50,MATCH($T66,Reliability!$C$23:$C$50,0)),0),0)*$H66*$X66*$Y66),$D66)*$R66","v":0},{"$f":"MIN((IFERROR(IF(AND($V66<=AC$1,$W66>=AC$1),INDEX(Reliability!H$23:H$50,MATCH($S66,Reliability!$C$23:$C$50,0)),0),0)*IF($T66=\"n/a\",$D66*$Y66,$G66)+IFERROR(IF(AND($V66<=AC$1,$W66>=AC$1),INDEX(Reliability!H$23:H$50,MATCH($T66,Reliability!$C$23:$C$50,0)),0),0)*$H66*$X66*$Y66),$D66)*$R66","v":0},{"$f":"MIN((IFERROR(IF(AND($V66<=AD$1,$W66>=AD$1),INDEX(Reliability!I$23:I$50,MATCH($S66,Reliability!$C$23:$C$50,0)),0),0)*IF($T66=\"n/a\",$D66*$Y66,$G66)+IFERROR(IF(AND($V66<=AD$1,$W66>=AD$1),INDEX(Reliability!I$23:I$50,MATCH($T66,Reliability!$C$23:$C$50,0)),0),0)*$H66*$X66*$Y66),$D66)*$R66","v":67.258846217738281},{"$f":"MIN((IFERROR(IF(AND($V66<=AE$1,$W66>=AE$1),INDEX(Reliability!J$23:J$50,MATCH($S66,Reliability!$C$23:$C$50,0)),0),0)*IF($T66=\"n/a\",$D66*$Y66,$G66)+IFERROR(IF(AND($V66<=AE$1,$W66>=AE$1),INDEX(Reliability!J$23:J$50,MATCH($T66,Reliability!$C$23:$C$50,0)),0),0)*$H66*$X66*$Y66),$D66)*$R66","v":0},{"$f":"MIN((IFERROR(IF(AND($V66<=AF$1,$W66>=AF$1),INDEX(Reliability!K$23:K$50,MATCH($S66,Reliability!$C$23:$C$50,0)),0),0)*IF($T66=\"n/a\",$D66*$Y66,$G66)+IFERROR(IF(AND($V66<=AF$1,$W66>=AF$1),INDEX(Reliability!K$23:K$50,MATCH($T66,Reliability!$C$23:$C$50,0)),0),0)*$H66*$X66*$Y66),$D66)*$R66","v":0},{"$f":"MIN((IFERROR(IF(AND($V66<=AG$1,$W66>=AG$1),INDEX(Reliability!L$23:L$50,MATCH($S66,Reliability!$C$23:$C$50,0)),0),0)*IF($T66=\"n/a\",$D66*$Y66,$G66)+IFERROR(IF(AND($V66<=AG$1,$W66>=AG$1),INDEX(Reliability!L$23:L$50,MATCH($T66,Reliability!$C$23:$C$50,0)),0),0)*$H66*$X66*$Y66),$D66)*$R66","v":0},{"$f":"MIN((IFERROR(IF(AND($V66<=AH$1,$W66>=AH$1),INDEX(Reliability!M$23:M$50,MATCH($S66,Reliability!$C$23:$C$50,0)),0),0)*IF($T66=\"n/a\",$D66*$Y66,$G66)+IFERROR(IF(AND($V66<=AH$1,$W66>=AH$1),INDEX(Reliability!M$23:M$50,MATCH($T66,Reliability!$C$23:$C$50,0)),0),0)*$H66*$X66*$Y66),$D66)*$R66","v":0},{"$f":"MIN((IFERROR(IF(AND($V66<=AI$1,$W66>=AI$1),INDEX(Reliability!N$23:N$50,MATCH($S66,Reliability!$C$23:$C$50,0)),0),0)*IF($T66=\"n/a\",$D66*$Y66,$G66)+IFERROR(IF(AND($V66<=AI$1,$W66>=AI$1),INDEX(Reliability!N$23:N$50,MATCH($T66,Reliability!$C$23:$C$50,0)),0),0)*$H66*$X66*$Y66),$D66)*$R66","v":0},{"$f":"MIN((IFERROR(IF(AND($V66<=AJ$1,$W66>=AJ$1),INDEX(Reliability!O$23:O$50,MATCH($S66,Reliability!$C$23:$C$50,0)),0),0)*IF($T66=\"n/a\",$D66*$Y66,$G66)+IFERROR(IF(AND($V66<=AJ$1,$W66>=AJ$1),INDEX(Reliability!O$23:O$50,MATCH($T66,Reliability!$C$23:$C$50,0)),0),0)*$H66*$X66*$Y66),$D66)*$R66","v":0},{"$f":"MIN((IFERROR(IF(AND($V66<=AK$1,$W66>=AK$1),INDEX(Reliability!P$23:P$50,MATCH($S66,Reliability!$C$23:$C$50,0)),0),0)*IF($T66=\"n/a\",$D66*$Y66,$G66)+IFERROR(IF(AND($V66<=AK$1,$W66>=AK$1),INDEX(Reliability!P$23:P$50,MATCH($T66,Reliability!$C$23:$C$50,0)),0),0)*$H66*$X66*$Y66),$D66)*$R66","v":0}]
[null,{"$f":"unique_contracts!B67","v":"_EXISTING_GENERIC_COMBINED_CYCLE"},{"$f":"unique_contracts!D67","v":"PlannedExisting"},{"$f":"unique_contracts!J67","v":90.34},{"$f":"unique_contracts!M67","v":0},{"$f":"unique_contracts!N67","v":0},{"$f":"unique_contracts!P67","v":0},{"$f":"unique_contracts!R67","v":0},{"$f":"unique_contracts!V67","v":0},null,{"$f":"unique_contracts!AM67","v":2029},{"$f":"unique_contracts!AN67","v":1},{"$f":"unique_contracts!AO67","v":1},{"$f":"unique_contracts!AP67","v":2029},{"$f":"unique_contracts!AQ67","v":12},{"$f":"unique_contracts!AR67","v":31},{"$f":"unique_contracts!BP67","v":"CapacityOnly"},1,{"$f":"IFERROR(IF(AND(I67>0,E67=\"NotHybrid\"),_xlfn.CONCAT(MAX(MIN(ROUNDDOWN(I67/D67,0),8),4),INDEX(resources!$G:$G,MATCH(B67,resources!$A:$A,0))),INDEX(resources!$G:$G,MATCH(B67,resources!$A:$A,0))),\"n/a\")","v":"gas_cc"},"n/a","gas_cc",2029,2029,1,1,{"$f":"MIN((IFERROR(IF(AND($V67<=Z$1,$W67>=Z$1),INDEX(Reliability!E$23:E$50,MATCH($S67,Reliability!$C$23:$C$50,0)),0),0)*IF($T67=\"n/a\",$D67*$Y67,$G67)+IFERROR(IF(AND($V67<=Z$1,$W67>=Z$1),INDEX(Reliability!E$23:E$50,MATCH($T67,Reliability!$C$23:$C$50,0)),0),0)*$H67*$X67*$Y67),$D67)*$R67","v":0},{"$f":"MIN((IFERROR(IF(AND($V67<=AA$1,$W67>=AA$1),INDEX(Reliability!F$23:F$50,MATCH($S67,Reliability!$C$23:$C$50,0)),0),0)*IF($T67=\"n/a\",$D67*$Y67,$G67)+IFERROR(IF(AND($V67<=AA$1,$W67>=AA$1),INDEX(Reliability!F$23:F$50,MATCH($T67,Reliability!$C$23:$C$50,0)),0),0)*$H67*$X67*$Y67),$D67)*$R67","v":0},{"$f":"MIN((IFERROR(IF(AND($V67<=AB$1,$W67>=AB$1),INDEX(Reliability!G$23:G$50,MATCH($S67,Reliability!$C$23:$C$50,0)),0),0)*IF($T67=\"n/a\",$D67*$Y67,$G67)+IFERROR(IF(AND($V67<=AB$1,$W67>=AB$1),INDEX(Reliability!G$23:G$50,MATCH($T67,Reliability!$C$23:$C$50,0)),0),0)*$H67*$X67*$Y67),$D67)*$R67","v":0},{"$f":"MIN((IFERROR(IF(AND($V67<=AC$1,$W67>=AC$1),INDEX(Reliability!H$23:H$50,MATCH($S67,Reliability!$C$23:$C$50,0)),0),0)*IF($T67=\"n/a\",$D67*$Y67,$G67)+IFERROR(IF(AND($V67<=AC$1,$W67>=AC$1),INDEX(Reliability!H$23:H$50,MATCH($T67,Reliability!$C$23:$C$50,0)),0),0)*$H67*$X67*$Y67),$D67)*$R67","v":0},{"$f":"MIN((IFERROR(IF(AND($V67<=AD$1,$W67>=AD$1),INDEX(Reliability!I$23:I$50,MATCH($S67,Reliability!$C$23:$C$50,0)),0),0)*IF($T67=\"n/a\",$D67*$Y67,$G67)+IFERROR(IF(AND($V67<=AD$1,$W67>=AD$1),INDEX(Reliability!I$23:I$50,MATCH($T67,Reliability!$C$23:$C$50,0)),0),0)*$H67*$X67*$Y67),$D67)*$R67","v":0},{"$f":"MIN((IFERROR(IF(AND($V67<=AE$1,$W67>=AE$1),INDEX(Reliability!J$23:J$50,MATCH($S67,Reliability!$C$23:$C$50,0)),0),0)*IF($T67=\"n/a\",$D67*$Y67,$G67)+IFERROR(IF(AND($V67<=AE$1,$W67>=AE$1),INDEX(Reliability!J$23:J$50,MATCH($T67,Reliability!$C$23:$C$50,0)),0),0)*$H67*$X67*$Y67),$D67)*$R67","v":77.772958242734262},{"$f":"MIN((IFERROR(IF(AND($V67<=AF$1,$W67>=AF$1),INDEX(Reliability!K$23:K$50,MATCH($S67,Reliability!$C$23:$C$50,0)),0),0)*IF($T67=\"n/a\",$D67*$Y67,$G67)+IFERROR(IF(AND($V67<=AF$1,$W67>=AF$1),INDEX(Reliability!K$23:K$50,MATCH($T67,Reliability!$C$23:$C$50,0)),0),0)*$H67*$X67*$Y67),$D67)*$R67","v":0},{"$f":"MIN((IFERROR(IF(AND($V67<=AG$1,$W67>=AG$1),INDEX(Reliability!L$23:L$50,MATCH($S67,Reliability!$C$23:$C$50,0)),0),0)*IF($T67=\"n/a\",$D67*$Y67,$G67)+IFERROR(IF(AND($V67<=AG$1,$W67>=AG$1),INDEX(Reliability!L$23:L$50,MATCH($T67,Reliability!$C$23:$C$50,0)),0),0)*$H67*$X67*$Y67),$D67)*$R67","v":0},{"$f":"MIN((IFERROR(IF(AND($V67<=AH$1,$W67>=AH$1),INDEX(Reliability!M$23:M$50,MATCH($S67,Reliability!$C$23:$C$50,0)),0),0)*IF($T67=\"n/a\",$D67*$Y67,$G67)+IFERROR(IF(AND($V67<=AH$1,$W67>=AH$1),INDEX(Reliability!M$23:M$50,MATCH($T67,Reliability!$C$23:$C$50,0)),0),0)*$H67*$X67*$Y67),$D67)*$R67","v":0},{"$f":"MIN((IFERROR(IF(AND($V67<=AI$1,$W67>=AI$1),INDEX(Reliability!N$23:N$50,MATCH($S67,Reliability!$C$23:$C$50,0)),0),0)*IF($T67=\"n/a\",$D67*$Y67,$G67)+IFERROR(IF(AND($V67<=AI$1,$W67>=AI$1),INDEX(Reliability!N$23:N$50,MATCH($T67,Reliability!$C$23:$C$50,0)),0),0)*$H67*$X67*$Y67),$D67)*$R67","v":0},{"$f":"MIN((IFERROR(IF(AND($V67<=AJ$1,$W67>=AJ$1),INDEX(Reliability!O$23:O$50,MATCH($S67,Reliability!$C$23:$C$50,0)),0),0)*IF($T67=\"n/a\",$D67*$Y67,$G67)+IFERROR(IF(AND($V67<=AJ$1,$W67>=AJ$1),INDEX(Reliability!O$23:O$50,MATCH($T67,Reliability!$C$23:$C$50,0)),0),0)*$H67*$X67*$Y67),$D67)*$R67","v":0},{"$f":"MIN((IFERROR(IF(AND($V67<=AK$1,$W67>=AK$1),INDEX(Reliability!P$23:P$50,MATCH($S67,Reliability!$C$23:$C$50,0)),0),0)*IF($T67=\"n/a\",$D67*$Y67,$G67)+IFERROR(IF(AND($V67<=AK$1,$W67>=AK$1),INDEX(Reliability!P$23:P$50,MATCH($T67,Reliability!$C$23:$C$50,0)),0),0)*$H67*$X67*$Y67),$D67)*$R67","v":0}]
[null,{"$f":"unique_contracts!B68","v":"_EXISTING_GENERIC_COMBINED_CYCLE"},{"$f":"unique_contracts!D68","v":"PlannedExisting"},{"$f":"unique_contracts!J68","v":32.44},{"$f":"unique_contracts!M68","v":0},{"$f":"unique_contracts!N68","v":0},{"$f":"unique_contracts!P68","v":0},{"$f":"unique_contracts!R68","v":0},{"$f":"unique_contracts!V68","v":0},null,{"$f":"unique_contracts!AM68","v":2030},{"$f":"unique_contracts!AN68","v":1},{"$f":"unique_contracts!AO68","v":1},{"$f":"unique_contracts!AP68","v":2030},{"$f":"unique_contracts!AQ68","v":12},{"$f":"unique_contracts!AR68","v":31},{"$f":"unique_contracts!BP68","v":"CapacityOnly"},1,{"$f":"IFERROR(IF(AND(I68>0,E68=\"NotHybrid\"),_xlfn.CONCAT(MAX(MIN(ROUNDDOWN(I68/D68,0),8),4),INDEX(resources!$G:$G,MATCH(B68,resources!$A:$A,0))),INDEX(resources!$G:$G,MATCH(B68,resources!$A:$A,0))),\"n/a\")","v":"gas_cc"},"n/a","gas_cc",2030,2030,1,1,{"$f":"MIN((IFERROR(IF(AND($V68<=Z$1,$W68>=Z$1),INDEX(Reliability!E$23:E$50,MATCH($S68,Reliability!$C$23:$C$50,0)),0),0)*IF($T68=\"n/a\",$D68*$Y68,$G68)+IFERROR(IF(AND($V68<=Z$1,$W68>=Z$1),INDEX(Reliability!E$23:E$50,MATCH($T68,Reliability!$C$23:$C$50,0)),0),0)*$H68*$X68*$Y68),$D68)*$R68","v":0},{"$f":"MIN((IFERROR(IF(AND($V68<=AA$1,$W68>=AA$1),INDEX(Reliability!F$23:F$50,MATCH($S68,Reliability!$C$23:$C$50,0)),0),0)*IF($T68=\"n/a\",$D68*$Y68,$G68)+IFERROR(IF(AND($V68<=AA$1,$W68>=AA$1),INDEX(Reliability!F$23:F$50,MATCH($T68,Reliability!$C$23:$C$50,0)),0),0)*$H68*$X68*$Y68),$D68)*$R68","v":0},{"$f":"MIN((IFERROR(IF(AND($V68<=AB$1,$W68>=AB$1),INDEX(Reliability!G$23:G$50,MATCH($S68,Reliability!$C$23:$C$50,0)),0),0)*IF($T68=\"n/a\",$D68*$Y68,$G68)+IFERROR(IF(AND($V68<=AB$1,$W68>=AB$1),INDEX(Reliability!G$23:G$50,MATCH($T68,Reliability!$C$23:$C$50,0)),0),0)*$H68*$X68*$Y68),$D68)*$R68","v":0},{"$f":"MIN((IFERROR(IF(AND($V68<=AC$1,$W68>=AC$1),INDEX(Reliability!H$23:H$50,MATCH($S68,Reliability!$C$23:$C$50,0)),0),0)*IF($T68=\"n/a\",$D68*$Y68,$G68)+IFERROR(IF(AND($V68<=AC$1,$W68>=AC$1),INDEX(Reliability!H$23:H$50,MATCH($T68,Reliability!$C$23:$C$50,0)),0),0)*$H68*$X68*$Y68),$D68)*$R68","v":0},{"$f":"MIN((IFERROR(IF(AND($V68<=AD$1,$W68>=AD$1),INDEX(Reliability!I$23:I$50,MATCH($S68,Reliability!$C$23:$C$50,0)),0),0)*IF($T68=\"n/a\",$D68*$Y68,$G68)+IFERROR(IF(AND($V68<=AD$1,$W68>=AD$1),INDEX(Reliability!I$23:I$50,MATCH($T68,Reliability!$C$23:$C$50,0)),0),0)*$H68*$X68*$Y68),$D68)*$R68","v":0},{"$f":"MIN((IFERROR(IF(AND($V68<=AE$1,$W68>=AE$1),INDEX(Reliability!J$23:J$50,MATCH($S68,Reliability!$C$23:$C$50,0)),0),0)*IF($T68=\"n/a\",$D68*$Y68,$G68)+IFERROR(IF(AND($V68<=AE$1,$W68>=AE$1),INDEX(Reliability!J$23:J$50,MATCH($T68,Reliability!$C$23:$C$50,0)),0),0)*$H68*$X68*$Y68),$D68)*$R68","v":0},{"$f":"MIN((IFERROR(IF(AND($V68<=AF$1,$W68>=AF$1),INDEX(Reliability!K$23:K$50,MATCH($S68,Reliability!$C$23:$C$50,0)),0),0)*IF($T68=\"n/a\",$D68*$Y68,$G68)+IFERROR(IF(AND($V68<=AF$1,$W68>=AF$1),INDEX(Reliability!K$23:K$50,MATCH($T68,Reliability!$C$23:$C$50,0)),0),0)*$H68*$X68*$Y68),$D68)*$R68","v":27.591999910144857},{"$f":"MIN((IFERROR(IF(AND($V68<=AG$1,$W68>=AG$1),INDEX(Reliability!L$23:L$50,MATCH($S68,Reliability!$C$23:$C$50,0)),0),0)*IF($T68=\"n/a\",$D68*$Y68,$G68)+IFERROR(IF(AND($V68<=AG$1,$W68>=AG$1),INDEX(Reliability!L$23:L$50,MATCH($T68,Reliability!$C$23:$C$50,0)),0),0)*$H68*$X68*$Y68),$D68)*$R68","v":0},{"$f":"MIN((IFERROR(IF(AND($V68<=AH$1,$W68>=AH$1),INDEX(Reliability!M$23:M$50,MATCH($S68,Reliability!$C$23:$C$50,0)),0),0)*IF($T68=\"n/a\",$D68*$Y68,$G68)+IFERROR(IF(AND($V68<=AH$1,$W68>=AH$1),INDEX(Reliability!M$23:M$50,MATCH($T68,Reliability!$C$23:$C$50,0)),0),0)*$H68*$X68*$Y68),$D68)*$R68","v":0},{"$f":"MIN((IFERROR(IF(AND($V68<=AI$1,$W68>=AI$1),INDEX(Reliability!N$23:N$50,MATCH($S68,Reliability!$C$23:$C$50,0)),0),0)*IF($T68=\"n/a\",$D68*$Y68,$G68)+IFERROR(IF(AND($V68<=AI$1,$W68>=AI$1),INDEX(Reliability!N$23:N$50,MATCH($T68,Reliability!$C$23:$C$50,0)),0),0)*$H68*$X68*$Y68),$D68)*$R68","v":0},{"$f":"MIN((IFERROR(IF(AND($V68<=AJ$1,$W68>=AJ$1),INDEX(Reliability!O$23:O$50,MATCH($S68,Reliability!$C$23:$C$50,0)),0),0)*IF($T68=\"n/a\",$D68*$Y68,$G68)+IFERROR(IF(AND($V68<=AJ$1,$W68>=AJ$1),INDEX(Reliability!O$23:O$50,MATCH($T68,Reliability!$C$23:$C$50,0)),0),0)*$H68*$X68*$Y68),$D68)*$R68","v":0},{"$f":"MIN((IFERROR(IF(AND($V68<=AK$1,$W68>=AK$1),INDEX(Reliability!P$23:P$50,MATCH($S68,Reliability!$C$23:$C$50,0)),0),0)*IF($T68=\"n/a\",$D68*$Y68,$G68)+IFERROR(IF(AND($V68<=AK$1,$W68>=AK$1),INDEX(Reliability!P$23:P$50,MATCH($T68,Reliability!$C$23:$C$50,0)),0),0)*$H68*$X68*$Y68),$D68)*$R68","v":0}]
[null,{"$f":"unique_contracts!B69","v":"_EXISTING_GENERIC_COMBINED_CYCLE"},{"$f":"unique_contracts!D69","v":"PlannedExisting"},{"$f":"unique_contracts!J69","v":63.19},{"$f":"unique_contracts!M69","v":0},{"$f":"unique_contracts!N69","v":0},{"$f":"unique_contracts!P69","v":0},{"$f":"unique_contracts!R69","v":0},{"$f":"unique_contracts!V69","v":0},null,{"$f":"unique_contracts!AM69","v":2031},{"$f":"unique_contracts!AN69","v":1},{"$f":"unique_contracts!AO69","v":1},{"$f":"unique_contracts!AP69","v":2031},{"$f":"unique_contracts!AQ69","v":12},{"$f":"unique_contracts!AR69","v":31},{"$f":"unique_contracts!BP69","v":"CapacityOnly"},1,{"$f":"IFERROR(IF(AND(I69>0,E69=\"NotHybrid\"),_xlfn.CONCAT(MAX(MIN(ROUNDDOWN(I69/D69,0),8),4),INDEX(resources!$G:$G,MATCH(B69,resources!$A:$A,0))),INDEX(resources!$G:$G,MATCH(B69,resources!$A:$A,0))),\"n/a\")","v":"gas_cc"},"n/a","gas_cc",2031,2031,1,1,{"$f":"MIN((IFERROR(IF(AND($V69<=Z$1,$W69>=Z$1),INDEX(Reliability!E$23:E$50,MATCH($S69,Reliability!$C$23:$C$50,0)),0),0)*IF($T69=\"n/a\",$D69*$Y69,$G69)+IFERROR(IF(AND($V69<=Z$1,$W69>=Z$1),INDEX(Reliability!E$23:E$50,MATCH($T69,Reliability!$C$23:$C$50,0)),0),0)*$H69*$X69*$Y69),$D69)*$R69","v":0},{"$f":"MIN((IFERROR(IF(AND($V69<=AA$1,$W69>=AA$1),INDEX(Reliability!F$23:F$50,MATCH($S69,Reliability!$C$23:$C$50,0)),0),0)*IF($T69=\"n/a\",$D69*$Y69,$G69)+IFERROR(IF(AND($V69<=AA$1,$W69>=AA$1),INDEX(Reliability!F$23:F$50,MATCH($T69,Reliability!$C$23:$C$50,0)),0),0)*$H69*$X69*$Y69),$D69)*$R69","v":0},{"$f":"MIN((IFERROR(IF(AND($V69<=AB$1,$W69>=AB$1),INDEX(Reliability!G$23:G$50,MATCH($S69,Reliability!$C$23:$C$50,0)),0),0)*IF($T69=\"n/a\",$D69*$Y69,$G69)+IFERROR(IF(AND($V69<=AB$1,$W69>=AB$1),INDEX(Reliability!G$23:G$50,MATCH($T69,Reliability!$C$23:$C$50,0)),0),0)*$H69*$X69*$Y69),$D69)*$R69","v":0},{"$f":"MIN((IFERROR(IF(AND($V69<=AC$1,$W69>=AC$1),INDEX(Reliability!H$23:H$50,MATCH($S69,Reliability!$C$23:$C$50,0)),0),0)*IF($T69=\"n/a\",$D69*$Y69,$G69)+IFERROR(IF(AND($V69<=AC$1,$W69>=AC$1),INDEX(Reliability!H$23:H$50,MATCH($T69,Reliability!$C$23:$C$50,0)),0),0)*$H69*$X69*$Y69),$D69)*$R69","v":0},{"$f":"MIN((IFERROR(IF(AND($V69<=AD$1,$W69>=AD$1),INDEX(Reliability!I$23:I$50,MATCH($S69,Reliability!$C$23:$C$50,0)),0),0)*IF($T69=\"n/a\",$D69*$Y69,$G69)+IFERROR(IF(AND($V69<=AD$1,$W69>=AD$1),INDEX(Reliability!I$23:I$50,MATCH($T69,Reliability!$C$23:$C$50,0)),0),0)*$H69*$X69*$Y69),$D69)*$R69","v":0},{"$f":"MIN((IFERROR(IF(AND($V69<=AE$1,$W69>=AE$1),INDEX(Reliability!J$23:J$50,MATCH($S69,Reliability!$C$23:$C$50,0)),0),0)*IF($T69=\"n/a\",$D69*$Y69,$G69)+IFERROR(IF(AND($V69<=AE$1,$W69>=AE$1),INDEX(Reliability!J$23:J$50,MATCH($T69,Reliability!$C$23:$C$50,0)),0),0)*$H69*$X69*$Y69),$D69)*$R69","v":0},{"$f":"MIN((IFERROR(IF(AND($V69<=AF$1,$W69>=AF$1),INDEX(Reliability!K$23:K$50,MATCH($S69,Reliability!$C$23:$C$50,0)),0),0)*IF($T69=\"n/a\",$D69*$Y69,$G69)+IFERROR(IF(AND($V69<=AF$1,$W69>=AF$1),INDEX(Reliability!K$23:K$50,MATCH($T69,Reliability!$C$23:$C$50,0)),0),0)*$H69*$X69*$Y69),$D69)*$R69","v":0},{"$f":"MIN((IFERROR(IF(AND($V69<=AG$1,$W69>=AG$1),INDEX(Reliability!L$23:L$50,MATCH($S69,Reliability!$C$23:$C$50,0)),0),0)*IF($T69=\"n/a\",$D69*$Y69,$G69)+IFERROR(IF(AND($V69<=AG$1,$W69>=AG$1),INDEX(Reliability!L$23:L$50,MATCH($T69,Reliability!$C$23:$C$50,0)),0),0)*$H69*$X69*$Y69),$D69)*$R69","v":54.531941553922785},{"$f":"MIN((IFERROR(IF(AND($V69<=AH$1,$W69>=AH$1),INDEX(Reliability!M$23:M$50,MATCH($S69,Reliability!$C$23:$C$50,0)),0),0)*IF($T69=\"n/a\",$D69*$Y69,$G69)+IFERROR(IF(AND($V69<=AH$1,$W69>=AH$1),INDEX(Reliability!M$23:M$50,MATCH($T69,Reliability!$C$23:$C$50,0)),0),0)*$H69*$X69*$Y69),$D69)*$R69","v":0},{"$f":"MIN((IFERROR(IF(AND($V69<=AI$1,$W69>=AI$1),INDEX(Reliability!N$23:N$50,MATCH($S69,Reliability!$C$23:$C$50,0)),0),0)*IF($T69=\"n/a\",$D69*$Y69,$G69)+IFERROR(IF(AND($V69<=AI$1,$W69>=AI$1),INDEX(Reliability!N$23:N$50,MATCH($T69,Reliability!$C$23:$C$50,0)),0),0)*$H69*$X69*$Y69),$D69)*$R69","v":0},{"$f":"MIN((IFERROR(IF(AND($V69<=AJ$1,$W69>=AJ$1),INDEX(Reliability!O$23:O$50,MATCH($S69,Reliability!$C$23:$C$50,0)),0),0)*IF($T69=\"n/a\",$D69*$Y69,$G69)+IFERROR(IF(AND($V69<=AJ$1,$W69>=AJ$1),INDEX(Reliability!O$23:O$50,MATCH($T69,Reliability!$C$23:$C$50,0)),0),0)*$H69*$X69*$Y69),$D69)*$R69","v":0},{"$f":"MIN((IFERROR(IF(AND($V69<=AK$1,$W69>=AK$1),INDEX(Reliability!P$23:P$50,MATCH($S69,Reliability!$C$23:$C$50,0)),0),0)*IF($T69=\"n/a\",$D69*$Y69,$G69)+IFERROR(IF(AND($V69<=AK$1,$W69>=AK$1),INDEX(Reliability!P$23:P$50,MATCH($T69,Reliability!$C$23:$C$50,0)),0),0)*$H69*$X69*$Y69),$D69)*$R69","v":0}]
[null,{"$f":"unique_contracts!B70","v":"_EXISTING_GENERIC_COMBINED_CYCLE"},{"$f":"unique_contracts!D70","v":"PlannedExisting"},{"$f":"unique_contracts!J70","v":73.459999999999994},{"$f":"unique_contracts!M70","v":0},{"$f":"unique_contracts!N70","v":0},{"$f":"unique_contracts!P70","v":0},{"$f":"unique_contracts!R70","v":0},{"$f":"unique_contracts!V70","v":0},null,{"$f":"unique_contracts!AM70","v":2032},{"$f":"unique_contracts!AN70","v":1},{"$f":"unique_contracts!AO70","v":1},{"$f":"unique_contracts!AP70","v":2032},{"$f":"unique_contracts!AQ70","v":12},{"$f":"unique_contracts!AR70","v":31},{"$f":"unique_contracts!BP70","v":"CapacityOnly"},1,{"$f":"IFERROR(IF(AND(I70>0,E70=\"NotHybrid\"),_xlfn.CONCAT(MAX(MIN(ROUNDDOWN(I70/D70,0),8),4),INDEX(resources!$G:$G,MATCH(B70,resources!$A:$A,0))),INDEX(resources!$G:$G,MATCH(B70,resources!$A:$A,0))),\"n/a\")","v":"gas_cc"},"n/a","gas_cc",2032,2032,1,1,{"$f":"MIN((IFERROR(IF(AND($V70<=Z$1,$W70>=Z$1),INDEX(Reliability!E$23:E$50,MATCH($S70,Reliability!$C$23:$C$50,0)),0),0)*IF($T70=\"n/a\",$D70*$Y70,$G70)+IFERROR(IF(AND($V70<=Z$1,$W70>=Z$1),INDEX(Reliability!E$23:E$50,MATCH($T70,Reliability!$C$23:$C$50,0)),0),0)*$H70*$X70*$Y70),$D70)*$R70","v":0},{"$f":"MIN((IFERROR(IF(AND($V70<=AA$1,$W70>=AA$1),INDEX(Reliability!F$23:F$50,MATCH($S70,Reliability!$C$23:$C$50,0)),0),0)*IF($T70=\"n/a\",$D70*$Y70,$G70)+IFERROR(IF(AND($V70<=AA$1,$W70>=AA$1),INDEX(Reliability!F$23:F$50,MATCH($T70,Reliability!$C$23:$C$50,0)),0),0)*$H70*$X70*$Y70),$D70)*$R70","v":0},{"$f":"MIN((IFERROR(IF(AND($V70<=AB$1,$W70>=AB$1),INDEX(Reliability!G$23:G$50,MATCH($S70,Reliability!$C$23:$C$50,0)),0),0)*IF($T70=\"n/a\",$D70*$Y70,$G70)+IFERROR(IF(AND($V70<=AB$1,$W70>=AB$1),INDEX(Reliability!G$23:G$50,MATCH($T70,Reliability!$C$23:$C$50,0)),0),0)*$H70*$X70*$Y70),$D70)*$R70","v":0},{"$f":"MIN((IFERROR(IF(AND($V70<=AC$1,$W70>=AC$1),INDEX(Reliability!H$23:H$50,MATCH($S70,Reliability!$C$23:$C$50,0)),0),0)*IF($T70=\"n/a\",$D70*$Y70,$G70)+IFERROR(IF(AND($V70<=AC$1,$W70>=AC$1),INDEX(Reliability!H$23:H$50,MATCH($T70,Reliability!$C$23:$C$50,0)),0),0)*$H70*$X70*$Y70),$D70)*$R70","v":0},{"$f":"MIN((IFERROR(IF(AND($V70<=AD$1,$W70>=AD$1),INDEX(Reliability!I$23:I$50,MATCH($S70,Reliability!$C$23:$C$50,0)),0),0)*IF($T70=\"n/a\",$D70*$Y70,$G70)+IFERROR(IF(AND($V70<=AD$1,$W70>=AD$1),INDEX(Reliability!I$23:I$50,MATCH($T70,Reliability!$C$23:$C$50,0)),0),0)*$H70*$X70*$Y70),$D70)*$R70","v":0},{"$f":"MIN((IFERROR(IF(AND($V70<=AE$1,$W70>=AE$1),INDEX(Reliability!J$23:J$50,MATCH($S70,Reliability!$C$23:$C$50,0)),0),0)*IF($T70=\"n/a\",$D70*$Y70,$G70)+IFERROR(IF(AND($V70<=AE$1,$W70>=AE$1),INDEX(Reliability!J$23:J$50,MATCH($T70,Reliability!$C$23:$C$50,0)),0),0)*$H70*$X70*$Y70),$D70)*$R70","v":0},{"$f":"MIN((IFERROR(IF(AND($V70<=AF$1,$W70>=AF$1),INDEX(Reliability!K$23:K$50,MATCH($S70,Reliability!$C$23:$C$50,0)),0),0)*IF($T70=\"n/a\",$D70*$Y70,$G70)+IFERROR(IF(AND($V70<=AF$1,$W70>=AF$1),INDEX(Reliability!K$23:K$50,MATCH($T70,Reliability!$C$23:$C$50,0)),0),0)*$H70*$X70*$Y70),$D70)*$R70","v":0},{"$f":"MIN((IFERROR(IF(AND($V70<=AG$1,$W70>=AG$1),INDEX(Reliability!L$23:L$50,MATCH($S70,Reliability!$C$23:$C$50,0)),0),0)*IF($T70=\"n/a\",$D70*$Y70,$G70)+IFERROR(IF(AND($V70<=AG$1,$W70>=AG$1),INDEX(Reliability!L$23:L$50,MATCH($T70,Reliability!$C$23:$C$50,0)),0),0)*$H70*$X70*$Y70),$D70)*$R70","v":0},{"$f":"MIN((IFERROR(IF(AND($V70<=AH$1,$W70>=AH$1),INDEX(Reliability!M$23:M$50,MATCH($S70,Reliability!$C$23:$C$50,0)),0),0)*IF($T70=\"n/a\",$D70*$Y70,$G70)+IFERROR(IF(AND($V70<=AH$1,$W70>=AH$1),INDEX(Reliability!M$23:M$50,MATCH($T70,Reliability!$C$23:$C$50,0)),0),0)*$H70*$X70*$Y70),$D70)*$R70","v":64.307808224301951},{"$f":"MIN((IFERROR(IF(AND($V70<=AI$1,$W70>=AI$1),INDEX(Reliability!N$23:N$50,MATCH($S70,Reliability!$C$23:$C$50,0)),0),0)*IF($T70=\"n/a\",$D70*$Y70,$G70)+IFERROR(IF(AND($V70<=AI$1,$W70>=AI$1),INDEX(Reliability!N$23:N$50,MATCH($T70,Reliability!$C$23:$C$50,0)),0),0)*$H70*$X70*$Y70),$D70)*$R70","v":0},{"$f":"MIN((IFERROR(IF(AND($V70<=AJ$1,$W70>=AJ$1),INDEX(Reliability!O$23:O$50,MATCH($S70,Reliability!$C$23:$C$50,0)),0),0)*IF($T70=\"n/a\",$D70*$Y70,$G70)+IFERROR(IF(AND($V70<=AJ$1,$W70>=AJ$1),INDEX(Reliability!O$23:O$50,MATCH($T70,Reliability!$C$23:$C$50,0)),0),0)*$H70*$X70*$Y70),$D70)*$R70","v":0},{"$f":"MIN((IFERROR(IF(AND($V70<=AK$1,$W70>=AK$1),INDEX(Reliability!P$23:P$50,MATCH($S70,Reliability!$C$23:$C$50,0)),0),0)*IF($T70=\"n/a\",$D70*$Y70,$G70)+IFERROR(IF(AND($V70<=AK$1,$W70>=AK$1),INDEX(Reliability!P$23:P$50,MATCH($T70,Reliability!$C$23:$C$50,0)),0),0)*$H70*$X70*$Y70),$D70)*$R70","v":0}]
[null,{"$f":"unique_contracts!B71","v":"_EXISTING_GENERIC_COMBINED_CYCLE"},{"$f":"unique_contracts!D71","v":"PlannedExisting"},{"$f":"unique_contracts!J71","v":55.8},{"$f":"unique_contracts!M71","v":0},{"$f":"unique_contracts!N71","v":0},{"$f":"unique_contracts!P71","v":0},{"$f":"unique_contracts!R71","v":0},{"$f":"unique_contracts!V71","v":0},null,{"$f":"unique_contracts!AM71","v":2033},{"$f":"unique_contracts!AN71","v":1},{"$f":"unique_contracts!AO71","v":1},{"$f":"unique_contracts!AP71","v":2033},{"$f":"unique_contracts!AQ71","v":12},{"$f":"unique_contracts!AR71","v":31},{"$f":"unique_contracts!BP71","v":"CapacityOnly"},1,{"$f":"IFERROR(IF(AND(I71>0,E71=\"NotHybrid\"),_xlfn.CONCAT(MAX(MIN(ROUNDDOWN(I71/D71,0),8),4),INDEX(resources!$G:$G,MATCH(B71,resources!$A:$A,0))),INDEX(resources!$G:$G,MATCH(B71,resources!$A:$A,0))),\"n/a\")","v":"gas_cc"},"n/a","gas_cc",2033,2033,1,1,{"$f":"MIN((IFERROR(IF(AND($V71<=Z$1,$W71>=Z$1),INDEX(Reliability!E$23:E$50,MATCH($S71,Reliability!$C$23:$C$50,0)),0),0)*IF($T71=\"n/a\",$D71*$Y71,$G71)+IFERROR(IF(AND($V71<=Z$1,$W71>=Z$1),INDEX(Reliability!E$23:E$50,MATCH($T71,Reliability!$C$23:$C$50,0)),0),0)*$H71*$X71*$Y71),$D71)*$R71","v":0},{"$f":"MIN((IFERROR(IF(AND($V71<=AA$1,$W71>=AA$1),INDEX(Reliability!F$23:F$50,MATCH($S71,Reliability!$C$23:$C$50,0)),0),0)*IF($T71=\"n/a\",$D71*$Y71,$G71)+IFERROR(IF(AND($V71<=AA$1,$W71>=AA$1),INDEX(Reliability!F$23:F$50,MATCH($T71,Reliability!$C$23:$C$50,0)),0),0)*$H71*$X71*$Y71),$D71)*$R71","v":0},{"$f":"MIN((IFERROR(IF(AND($V71<=AB$1,$W71>=AB$1),INDEX(Reliability!G$23:G$50,MATCH($S71,Reliability!$C$23:$C$50,0)),0),0)*IF($T71=\"n/a\",$D71*$Y71,$G71)+IFERROR(IF(AND($V71<=AB$1,$W71>=AB$1),INDEX(Reliability!G$23:G$50,MATCH($T71,Reliability!$C$23:$C$50,0)),0),0)*$H71*$X71*$Y71),$D71)*$R71","v":0},{"$f":"MIN((IFERROR(IF(AND($V71<=AC$1,$W71>=AC$1),INDEX(Reliability!H$23:H$50,MATCH($S71,Reliability!$C$23:$C$50,0)),0),0)*IF($T71=\"n/a\",$D71*$Y71,$G71)+IFERROR(IF(AND($V71<=AC$1,$W71>=AC$1),INDEX(Reliability!H$23:H$50,MATCH($T71,Reliability!$C$23:$C$50,0)),0),0)*$H71*$X71*$Y71),$D71)*$R71","v":0},{"$f":"MIN((IFERROR(IF(AND($V71<=AD$1,$W71>=AD$1),INDEX(Reliability!I$23:I$50,MATCH($S71,Reliability!$C$23:$C$50,0)),0),0)*IF($T71=\"n/a\",$D71*$Y71,$G71)+IFERROR(IF(AND($V71<=AD$1,$W71>=AD$1),INDEX(Reliability!I$23:I$50,MATCH($T71,Reliability!$C$23:$C$50,0)),0),0)*$H71*$X71*$Y71),$D71)*$R71","v":0},{"$f":"MIN((IFERROR(IF(AND($V71<=AE$1,$W71>=AE$1),INDEX(Reliability!J$23:J$50,MATCH($S71,Reliability!$C$23:$C$50,0)),0),0)*IF($T71=\"n/a\",$D71*$Y71,$G71)+IFERROR(IF(AND($V71<=AE$1,$W71>=AE$1),INDEX(Reliability!J$23:J$50,MATCH($T71,Reliability!$C$23:$C$50,0)),0),0)*$H71*$X71*$Y71),$D71)*$R71","v":0},{"$f":"MIN((IFERROR(IF(AND($V71<=AF$1,$W71>=AF$1),INDEX(Reliability!K$23:K$50,MATCH($S71,Reliability!$C$23:$C$50,0)),0),0)*IF($T71=\"n/a\",$D71*$Y71,$G71)+IFERROR(IF(AND($V71<=AF$1,$W71>=AF$1),INDEX(Reliability!K$23:K$50,MATCH($T71,Reliability!$C$23:$C$50,0)),0),0)*$H71*$X71*$Y71),$D71)*$R71","v":0},{"$f":"MIN((IFERROR(IF(AND($V71<=AG$1,$W71>=AG$1),INDEX(Reliability!L$23:L$50,MATCH($S71,Reliability!$C$23:$C$50,0)),0),0)*IF($T71=\"n/a\",$D71*$Y71,$G71)+IFERROR(IF(AND($V71<=AG$1,$W71>=AG$1),INDEX(Reliability!L$23:L$50,MATCH($T71,Reliability!$C$23:$C$50,0)),0),0)*$H71*$X71*$Y71),$D71)*$R71","v":0},{"$f":"MIN((IFERROR(IF(AND($V71<=AH$1,$W71>=AH$1),INDEX(Reliability!M$23:M$50,MATCH($S71,Reliability!$C$23:$C$50,0)),0),0)*IF($T71=\"n/a\",$D71*$Y71,$G71)+IFERROR(IF(AND($V71<=AH$1,$W71>=AH$1),INDEX(Reliability!M$23:M$50,MATCH($T71,Reliability!$C$23:$C$50,0)),0),0)*$H71*$X71*$Y71),$D71)*$R71","v":0},{"$f":"MIN((IFERROR(IF(AND($V71<=AI$1,$W71>=AI$1),INDEX(Reliability!N$23:N$50,MATCH($S71,Reliability!$C$23:$C$50,0)),0),0)*IF($T71=\"n/a\",$D71*$Y71,$G71)+IFERROR(IF(AND($V71<=AI$1,$W71>=AI$1),INDEX(Reliability!N$23:N$50,MATCH($T71,Reliability!$C$23:$C$50,0)),0),0)*$H71*$X71*$Y71),$D71)*$R71","v":49.541552246580309},{"$f":"MIN((IFERROR(IF(AND($V71<=AJ$1,$W71>=AJ$1),INDEX(Reliability!O$23:O$50,MATCH($S71,Reliability!$C$23:$C$50,0)),0),0)*IF($T71=\"n/a\",$D71*$Y71,$G71)+IFERROR(IF(AND($V71<=AJ$1,$W71>=AJ$1),INDEX(Reliability!O$23:O$50,MATCH($T71,Reliability!$C$23:$C$50,0)),0),0)*$H71*$X71*$Y71),$D71)*$R71","v":0},{"$f":"MIN((IFERROR(IF(AND($V71<=AK$1,$W71>=AK$1),INDEX(Reliability!P$23:P$50,MATCH($S71,Reliability!$C$23:$C$50,0)),0),0)*IF($T71=\"n/a\",$D71*$Y71,$G71)+IFERROR(IF(AND($V71<=AK$1,$W71>=AK$1),INDEX(Reliability!P$23:P$50,MATCH($T71,Reliability!$C$23:$C$50,0)),0),0)*$H71*$X71*$Y71),$D71)*$R71","v":0}]
[null,{"$f":"unique_contracts!B72","v":"_EXISTING_GENERIC_COMBINED_CYCLE"},{"$f":"unique_contracts!D72","v":"PlannedExisting"},{"$f":"unique_contracts!J72","v":78.2},{"$f":"unique_contracts!M72","v":0},{"$f":"unique_contracts!N72","v":0},{"$f":"unique_contracts!P72","v":0},{"$f":"unique_contracts!R72","v":0},{"$f":"unique_contracts!V72","v":0},null,{"$f":"unique_contracts!AM72","v":2034},{"$f":"unique_contracts!AN72","v":1},{"$f":"unique_contracts!AO72","v":1},{"$f":"unique_contracts!AP72","v":2034},{"$f":"unique_contracts!AQ72","v":12},{"$f":"unique_contracts!AR72","v":31},{"$f":"unique_contracts!BP72","v":"CapacityOnly"},1,{"$f":"IFERROR(IF(AND(I72>0,E72=\"NotHybrid\"),_xlfn.CONCAT(MAX(MIN(ROUNDDOWN(I72/D72,0),8),4),INDEX(resources!$G:$G,MATCH(B72,resources!$A:$A,0))),INDEX(resources!$G:$G,MATCH(B72,resources!$A:$A,0))),\"n/a\")","v":"gas_cc"},"n/a","gas_cc",2034,2034,1,1,{"$f":"MIN((IFERROR(IF(AND($V72<=Z$1,$W72>=Z$1),INDEX(Reliability!E$23:E$50,MATCH($S72,Reliability!$C$23:$C$50,0)),0),0)*IF($T72=\"n/a\",$D72*$Y72,$G72)+IFERROR(IF(AND($V72<=Z$1,$W72>=Z$1),INDEX(Reliability!E$23:E$50,MATCH($T72,Reliability!$C$23:$C$50,0)),0),0)*$H72*$X72*$Y72),$D72)*$R72","v":0},{"$f":"MIN((IFERROR(IF(AND($V72<=AA$1,$W72>=AA$1),INDEX(Reliability!F$23:F$50,MATCH($S72,Reliability!$C$23:$C$50,0)),0),0)*IF($T72=\"n/a\",$D72*$Y72,$G72)+IFERROR(IF(AND($V72<=AA$1,$W72>=AA$1),INDEX(Reliability!F$23:F$50,MATCH($T72,Reliability!$C$23:$C$50,0)),0),0)*$H72*$X72*$Y72),$D72)*$R72","v":0},{"$f":"MIN((IFERROR(IF(AND($V72<=AB$1,$W72>=AB$1),INDEX(Reliability!G$23:G$50,MATCH($S72,Reliability!$C$23:$C$50,0)),0),0)*IF($T72=\"n/a\",$D72*$Y72,$G72)+IFERROR(IF(AND($V72<=AB$1,$W72>=AB$1),INDEX(Reliability!G$23:G$50,MATCH($T72,Reliability!$C$23:$C$50,0)),0),0)*$H72*$X72*$Y72),$D72)*$R72","v":0},{"$f":"MIN((IFERROR(IF(AND($V72<=AC$1,$W72>=AC$1),INDEX(Reliability!H$23:H$50,MATCH($S72,Reliability!$C$23:$C$50,0)),0),0)*IF($T72=\"n/a\",$D72*$Y72,$G72)+IFERROR(IF(AND($V72<=AC$1,$W72>=AC$1),INDEX(Reliability!H$23:H$50,MATCH($T72,Reliability!$C$23:$C$50,0)),0),0)*$H72*$X72*$Y72),$D72)*$R72","v":0},{"$f":"MIN((IFERROR(IF(AND($V72<=AD$1,$W72>=AD$1),INDEX(Reliability!I$23:I$50,MATCH($S72,Reliability!$C$23:$C$50,0)),0),0)*IF($T72=\"n/a\",$D72*$Y72,$G72)+IFERROR(IF(AND($V72<=AD$1,$W72>=AD$1),INDEX(Reliability!I$23:I$50,MATCH($T72,Reliability!$C$23:$C$50,0)),0),0)*$H72*$X72*$Y72),$D72)*$R72","v":0},{"$f":"MIN((IFERROR(IF(AND($V72<=AE$1,$W72>=AE$1),INDEX(Reliability!J$23:J$50,MATCH($S72,Reliability!$C$23:$C$50,0)),0),0)*IF($T72=\"n/a\",$D72*$Y72,$G72)+IFERROR(IF(AND($V72<=AE$1,$W72>=AE$1),INDEX(Reliability!J$23:J$50,MATCH($T72,Reliability!$C$23:$C$50,0)),0),0)*$H72*$X72*$Y72),$D72)*$R72","v":0},{"$f":"MIN((IFERROR(IF(AND($V72<=AF$1,$W72>=AF$1),INDEX(Reliability!K$23:K$50,MATCH($S72,Reliability!$C$23:$C$50,0)),0),0)*IF($T72=\"n/a\",$D72*$Y72,$G72)+IFERROR(IF(AND($V72<=AF$1,$W72>=AF$1),INDEX(Reliability!K$23:K$50,MATCH($T72,Reliability!$C$23:$C$50,0)),0),0)*$H72*$X72*$Y72),$D72)*$R72","v":0},{"$f":"MIN((IFERROR(IF(AND($V72<=AG$1,$W72>=AG$1),INDEX(Reliability!L$23:L$50,MATCH($S72,Reliability!$C$23:$C$50,0)),0),0)*IF($T72=\"n/a\",$D72*$Y72,$G72)+IFERROR(IF(AND($V72<=AG$1,$W72>=AG$1),INDEX(Reliability!L$23:L$50,MATCH($T72,Reliability!$C$23:$C$50,0)),0),0)*$H72*$X72*$Y72),$D72)*$R72","v":0},{"$f":"MIN((IFERROR(IF(AND($V72<=AH$1,$W72>=AH$1),INDEX(Reliability!M$23:M$50,MATCH($S72,Reliability!$C$23:$C$50,0)),0),0)*IF($T72=\"n/a\",$D72*$Y72,$G72)+IFERROR(IF(AND($V72<=AH$1,$W72>=AH$1),INDEX(Reliability!M$23:M$50,MATCH($T72,Reliability!$C$23:$C$50,0)),0),0)*$H72*$X72*$Y72),$D72)*$R72","v":0},{"$f":"MIN((IFERROR(IF(AND($V72<=AI$1,$W72>=AI$1),INDEX(Reliability!N$23:N$50,MATCH($S72,Reliability!$C$23:$C$50,0)),0),0)*IF($T72=\"n/a\",$D72*$Y72,$G72)+IFERROR(IF(AND($V72<=AI$1,$W72>=AI$1),INDEX(Reliability!N$23:N$50,MATCH($T72,Reliability!$C$23:$C$50,0)),0),0)*$H72*$X72*$Y72),$D72)*$R72","v":0},{"$f":"MIN((IFERROR(IF(AND($V72<=AJ$1,$W72>=AJ$1),INDEX(Reliability!O$23:O$50,MATCH($S72,Reliability!$C$23:$C$50,0)),0),0)*IF($T72=\"n/a\",$D72*$Y72,$G72)+IFERROR(IF(AND($V72<=AJ$1,$W72>=AJ$1),INDEX(Reliability!O$23:O$50,MATCH($T72,Reliability!$C$23:$C$50,0)),0),0)*$H72*$X72*$Y72),$D72)*$R72","v":70.401137060729326},{"$f":"MIN((IFERROR(IF(AND($V72<=AK$1,$W72>=AK$1),INDEX(Reliability!P$23:P$50,MATCH($S72,Reliability!$C$23:$C$50,0)),0),0)*IF($T72=\"n/a\",$D72*$Y72,$G72)+IFERROR(IF(AND($V72<=AK$1,$W72>=AK$1),INDEX(Reliability!P$23:P$50,MATCH($T72,Reliability!$C$23:$C$50,0)),0),0)*$H72*$X72*$Y72),$D72)*$R72","v":0}]
[null,{"$f":"unique_contracts!B73","v":"_EXISTING_GENERIC_COMBINED_CYCLE"},{"$f":"unique_contracts!D73","v":"PlannedExisting"},{"$f":"unique_contracts!J73","v":127.96},{"$f":"unique_contracts!M73","v":0},{"$f":"unique_contracts!N73","v":0},{"$f":"unique_contracts!P73","v":0},{"$f":"unique_contracts!R73","v":0},{"$f":"unique_contracts!V73","v":0},null,{"$f":"unique_contracts!AM73","v":2035},{"$f":"unique_contracts!AN73","v":1},{"$f":"unique_contracts!AO73","v":1},{"$f":"unique_contracts!AP73","v":2035},{"$f":"unique_contracts!AQ73","v":12},{"$f":"unique_contracts!AR73","v":31},{"$f":"unique_contracts!BP73","v":"CapacityOnly"},1,{"$f":"IFERROR(IF(AND(I73>0,E73=\"NotHybrid\"),_xlfn.CONCAT(MAX(MIN(ROUNDDOWN(I73/D73,0),8),4),INDEX(resources!$G:$G,MATCH(B73,resources!$A:$A,0))),INDEX(resources!$G:$G,MATCH(B73,resources!$A:$A,0))),\"n/a\")","v":"gas_cc"},"n/a","gas_cc",2035,2035,1,1,{"$f":"MIN((IFERROR(IF(AND($V73<=Z$1,$W73>=Z$1),INDEX(Reliability!E$23:E$50,MATCH($S73,Reliability!$C$23:$C$50,0)),0),0)*IF($T73=\"n/a\",$D73*$Y73,$G73)+IFERROR(IF(AND($V73<=Z$1,$W73>=Z$1),INDEX(Reliability!E$23:E$50,MATCH($T73,Reliability!$C$23:$C$50,0)),0),0)*$H73*$X73*$Y73),$D73)*$R73","v":0},{"$f":"MIN((IFERROR(IF(AND($V73<=AA$1,$W73>=AA$1),INDEX(Reliability!F$23:F$50,MATCH($S73,Reliability!$C$23:$C$50,0)),0),0)*IF($T73=\"n/a\",$D73*$Y73,$G73)+IFERROR(IF(AND($V73<=AA$1,$W73>=AA$1),INDEX(Reliability!F$23:F$50,MATCH($T73,Reliability!$C$23:$C$50,0)),0),0)*$H73*$X73*$Y73),$D73)*$R73","v":0},{"$f":"MIN((IFERROR(IF(AND($V73<=AB$1,$W73>=AB$1),INDEX(Reliability!G$23:G$50,MATCH($S73,Reliability!$C$23:$C$50,0)),0),0)*IF($T73=\"n/a\",$D73*$Y73,$G73)+IFERROR(IF(AND($V73<=AB$1,$W73>=AB$1),INDEX(Reliability!G$23:G$50,MATCH($T73,Reliability!$C$23:$C$50,0)),0),0)*$H73*$X73*$Y73),$D73)*$R73","v":0},{"$f":"MIN((IFERROR(IF(AND($V73<=AC$1,$W73>=AC$1),INDEX(Reliability!H$23:H$50,MATCH($S73,Reliability!$C$23:$C$50,0)),0),0)*IF($T73=\"n/a\",$D73*$Y73,$G73)+IFERROR(IF(AND($V73<=AC$1,$W73>=AC$1),INDEX(Reliability!H$23:H$50,MATCH($T73,Reliability!$C$23:$C$50,0)),0),0)*$H73*$X73*$Y73),$D73)*$R73","v":0},{"$f":"MIN((IFERROR(IF(AND($V73<=AD$1,$W73>=AD$1),INDEX(Reliability!I$23:I$50,MATCH($S73,Reliability!$C$23:$C$50,0)),0),0)*IF($T73=\"n/a\",$D73*$Y73,$G73)+IFERROR(IF(AND($V73<=AD$1,$W73>=AD$1),INDEX(Reliability!I$23:I$50,MATCH($T73,Reliability!$C$23:$C$50,0)),0),0)*$H73*$X73*$Y73),$D73)*$R73","v":0},{"$f":"MIN((IFERROR(IF(AND($V73<=AE$1,$W73>=AE$1),INDEX(Reliability!J$23:J$50,MATCH($S73,Reliability!$C$23:$C$50,0)),0),0)*IF($T73=\"n/a\",$D73*$Y73,$G73)+IFERROR(IF(AND($V73<=AE$1,$W73>=AE$1),INDEX(Reliability!J$23:J$50,MATCH($T73,Reliability!$C$23:$C$50,0)),0),0)*$H73*$X73*$Y73),$D73)*$R73","v":0},{"$f":"MIN((IFERROR(IF(AND($V73<=AF$1,$W73>=AF$1),INDEX(Reliability!K$23:K$50,MATCH($S73,Reliability!$C$23:$C$50,0)),0),0)*IF($T73=\"n/a\",$D73*$Y73,$G73)+IFERROR(IF(AND($V73<=AF$1,$W73>=AF$1),INDEX(Reliability!K$23:K$50,MATCH($T73,Reliability!$C$23:$C$50,0)),0),0)*$H73*$X73*$Y73),$D73)*$R73","v":0},{"$f":"MIN((IFERROR(IF(AND($V73<=AG$1,$W73>=AG$1),INDEX(Reliability!L$23:L$50,MATCH($S73,Reliability!$C$23:$C$50,0)),0),0)*IF($T73=\"n/a\",$D73*$Y73,$G73)+IFERROR(IF(AND($V73<=AG$1,$W73>=AG$1),INDEX(Reliability!L$23:L$50,MATCH($T73,Reliability!$C$23:$C$50,0)),0),0)*$H73*$X73*$Y73),$D73)*$R73","v":0},{"$f":"MIN((IFERROR(IF(AND($V73<=AH$1,$W73>=AH$1),INDEX(Reliability!M$23:M$50,MATCH($S73,Reliability!$C$23:$C$50,0)),0),0)*IF($T73=\"n/a\",$D73*$Y73,$G73)+IFERROR(IF(AND($V73<=AH$1,$W73>=AH$1),INDEX(Reliability!M$23:M$50,MATCH($T73,Reliability!$C$23:$C$50,0)),0),0)*$H73*$X73*$Y73),$D73)*$R73","v":0},{"$f":"MIN((IFERROR(IF(AND($V73<=AI$1,$W73>=AI$1),INDEX(Reliability!N$23:N$50,MATCH($S73,Reliability!$C$23:$C$50,0)),0),0)*IF($T73=\"n/a\",$D73*$Y73,$G73)+IFERROR(IF(AND($V73<=AI$1,$W73>=AI$1),INDEX(Reliability!N$23:N$50,MATCH($T73,Reliability!$C$23:$C$50,0)),0),0)*$H73*$X73*$Y73),$D73)*$R73","v":0},{"$f":"MIN((IFERROR(IF(AND($V73<=AJ$1,$W73>=AJ$1),INDEX(Reliability!O$23:O$50,MATCH($S73,Reliability!$C$23:$C$50,0)),0),0)*IF($T73=\"n/a\",$D73*$Y73,$G73)+IFERROR(IF(AND($V73<=AJ$1,$W73>=AJ$1),INDEX(Reliability!O$23:O$50,MATCH($T73,Reliability!$C$23:$C$50,0)),0),0)*$H73*$X73*$Y73),$D73)*$R73","v":0},{"$f":"MIN((IFERROR(IF(AND($V73<=AK$1,$W73>=AK$1),INDEX(Reliability!P$23:P$50,MATCH($S73,Reliability!$C$23:$C$50,0)),0),0)*IF($T73=\"n/a\",$D73*$Y73,$G73)+IFERROR(IF(AND($V73<=AK$1,$W73>=AK$1),INDEX(Reliability!P$23:P$50,MATCH($T73,Reliability!$C$23:$C$50,0)),0),0)*$H73*$X73*$Y73),$D73)*$R73","v":116.78898344868047}]
[null,{"$f":"unique_contracts!B74","v":"_EXISTING_GENERIC_DR"},{"$f":"unique_contracts!D74","v":"PlannedExisting"},{"$f":"unique_contracts!J74","v":5.927500000000002},{"$f":"unique_contracts!M74","v":0},{"$f":"unique_contracts!N74","v":0},{"$f":"unique_contracts!P74","v":0},{"$f":"unique_contracts!R74","v":0},{"$f":"unique_contracts!V74","v":0},null,{"$f":"unique_contracts!AM74","v":2023},{"$f":"unique_contracts!AN74","v":1},{"$f":"unique_contracts!AO74","v":1},{"$f":"unique_contracts!AP74","v":2035},{"$f":"unique_contracts!AQ74","v":12},{"$f":"unique_contracts!AR74","v":31},{"$f":"unique_contracts!BP74","v":"CapacityOnly"},1,{"$f":"IFERROR(IF(AND(I74>0,E74=\"NotHybrid\"),_xlfn.CONCAT(MAX(MIN(ROUNDDOWN(I74/D74,0),8),4),INDEX(resources!$G:$G,MATCH(B74,resources!$A:$A,0))),INDEX(resources!$G:$G,MATCH(B74,resources!$A:$A,0))),\"n/a\")","v":"demand_response"},"n/a","demand_response",2023,2035,1,1,{"$f":"MIN((IFERROR(IF(AND($V74<=Z$1,$W74>=Z$1),INDEX(Reliability!E$23:E$50,MATCH($S74,Reliability!$C$23:$C$50,0)),0),0)*IF($T74=\"n/a\",$D74*$Y74,$G74)+IFERROR(IF(AND($V74<=Z$1,$W74>=Z$1),INDEX(Reliability!E$23:E$50,MATCH($T74,Reliability!$C$23:$C$50,0)),0),0)*$H74*$X74*$Y74),$D74)*$R74","v":5.2932575000000019},{"$f":"MIN((IFERROR(IF(AND($V74<=AA$1,$W74>=AA$1),INDEX(Reliability!F$23:F$50,MATCH($S74,Reliability!$C$23:$C$50,0)),0),0)*IF($T74=\"n/a\",$D74*$Y74,$G74)+IFERROR(IF(AND($V74<=AA$1,$W74>=AA$1),INDEX(Reliability!F$23:F$50,MATCH($T74,Reliability!$C$23:$C$50,0)),0),0)*$H74*$X74*$Y74),$D74)*$R74","v":5.3842520986582345},{"$f":"MIN((IFERROR(IF(AND($V74<=AB$1,$W74>=AB$1),INDEX(Reliability!G$23:G$50,MATCH($S74,Reliability!$C$23:$C$50,0)),0),0)*IF($T74=\"n/a\",$D74*$Y74,$G74)+IFERROR(IF(AND($V74<=AB$1,$W74>=AB$1),INDEX(Reliability!G$23:G$50,MATCH($T74,Reliability!$C$23:$C$50,0)),0),0)*$H74*$X74*$Y74),$D74)*$R74","v":5.4752466973164671},{"$f":"MIN((IFERROR(IF(AND($V74<=AC$1,$W74>=AC$1),INDEX(Reliability!H$23:H$50,MATCH($S74,Reliability!$C$23:$C$50,0)),0),0)*IF($T74=\"n/a\",$D74*$Y74,$G74)+IFERROR(IF(AND($V74<=AC$1,$W74>=AC$1),INDEX(Reliability!H$23:H$50,MATCH($T74,Reliability!$C$23:$C$50,0)),0),0)*$H74*$X74*$Y74),$D74)*$R74","v":4.5781120986582335},{"$f":"MIN((IFERROR(IF(AND($V74<=AD$1,$W74>=AD$1),INDEX(Reliability!I$23:I$50,MATCH($S74,Reliability!$C$23:$C$50,0)),0),0)*IF($T74=\"n/a\",$D74*$Y74,$G74)+IFERROR(IF(AND($V74<=AD$1,$W74>=AD$1),INDEX(Reliability!I$23:I$50,MATCH($T74,Reliability!$C$23:$C$50,0)),0),0)*$H74*$X74*$Y74),$D74)*$R74","v":3.6809775000000013},{"$f":"MIN((IFERROR(IF(AND($V74<=AE$1,$W74>=AE$1),INDEX(Reliability!J$23:J$50,MATCH($S74,Reliability!$C$23:$C$50,0)),0),0)*IF($T74=\"n/a\",$D74*$Y74,$G74)+IFERROR(IF(AND($V74<=AE$1,$W74>=AE$1),INDEX(Reliability!J$23:J$50,MATCH($T74,Reliability!$C$23:$C$50,0)),0),0)*$H74*$X74*$Y74),$D74)*$R74","v":3.5920650000000012},{"$f":"MIN((IFERROR(IF(AND($V74<=AF$1,$W74>=AF$1),INDEX(Reliability!K$23:K$50,MATCH($S74,Reliability!$C$23:$C$50,0)),0),0)*IF($T74=\"n/a\",$D74*$Y74,$G74)+IFERROR(IF(AND($V74<=AF$1,$W74>=AF$1),INDEX(Reliability!K$23:K$50,MATCH($T74,Reliability!$C$23:$C$50,0)),0),0)*$H74*$X74*$Y74),$D74)*$R74","v":3.503152500000001},{"$f":"MIN((IFERROR(IF(AND($V74<=AG$1,$W74>=AG$1),INDEX(Reliability!L$23:L$50,MATCH($S74,Reliability!$C$23:$C$50,0)),0),0)*IF($T74=\"n/a\",$D74*$Y74,$G74)+IFERROR(IF(AND($V74<=AG$1,$W74>=AG$1),INDEX(Reliability!L$23:L$50,MATCH($T74,Reliability!$C$23:$C$50,0)),0),0)*$H74*$X74*$Y74),$D74)*$R74","v":2.9732340000000006},{"$f":"MIN((IFERROR(IF(AND($V74<=AH$1,$W74>=AH$1),INDEX(Reliability!M$23:M$50,MATCH($S74,Reliability!$C$23:$C$50,0)),0),0)*IF($T74=\"n/a\",$D74*$Y74,$G74)+IFERROR(IF(AND($V74<=AH$1,$W74>=AH$1),INDEX(Reliability!M$23:M$50,MATCH($T74,Reliability!$C$23:$C$50,0)),0),0)*$H74*$X74*$Y74),$D74)*$R74","v":2.4433155000000006},{"$f":"MIN((IFERROR(IF(AND($V74<=AI$1,$W74>=AI$1),INDEX(Reliability!N$23:N$50,MATCH($S74,Reliability!$C$23:$C$50,0)),0),0)*IF($T74=\"n/a\",$D74*$Y74,$G74)+IFERROR(IF(AND($V74<=AI$1,$W74>=AI$1),INDEX(Reliability!N$23:N$50,MATCH($T74,Reliability!$C$23:$C$50,0)),0),0)*$H74*$X74*$Y74),$D74)*$R74","v":1.9133970000000005},{"$f":"MIN((IFERROR(IF(AND($V74<=AJ$1,$W74>=AJ$1),INDEX(Reliability!O$23:O$50,MATCH($S74,Reliability!$C$23:$C$50,0)),0),0)*IF($T74=\"n/a\",$D74*$Y74,$G74)+IFERROR(IF(AND($V74<=AJ$1,$W74>=AJ$1),INDEX(Reliability!O$23:O$50,MATCH($T74,Reliability!$C$23:$C$50,0)),0),0)*$H74*$X74*$Y74),$D74)*$R74","v":1.3834785000000005},{"$f":"MIN((IFERROR(IF(AND($V74<=AK$1,$W74>=AK$1),INDEX(Reliability!P$23:P$50,MATCH($S74,Reliability!$C$23:$C$50,0)),0),0)*IF($T74=\"n/a\",$D74*$Y74,$G74)+IFERROR(IF(AND($V74<=AK$1,$W74>=AK$1),INDEX(Reliability!P$23:P$50,MATCH($T74,Reliability!$C$23:$C$50,0)),0),0)*$H74*$X74*$Y74),$D74)*$R74","v":0.85356000000000021}]
[null,{"$f":"unique_contracts!B75","v":"_EXISTING_GENERIC_COMBINED_CYCLE"},{"$f":"unique_contracts!D75","v":"PlannedExisting"},{"$f":"unique_contracts!J75","v":19.401729506881608},{"$f":"unique_contracts!M75","v":0},{"$f":"unique_contracts!N75","v":0},{"$f":"unique_contracts!P75","v":0},{"$f":"unique_contracts!R75","v":0},{"$f":"unique_contracts!V75","v":0},null,{"$f":"unique_contracts!AM75","v":2024},{"$f":"unique_contracts!AN75","v":1},{"$f":"unique_contracts!AO75","v":1},{"$f":"unique_contracts!AP75","v":2024},{"$f":"unique_contracts!AQ75","v":12},{"$f":"unique_contracts!AR75","v":31},{"$f":"unique_contracts!BP75","v":"CapacityOnly"},1,{"$f":"IFERROR(IF(AND(I75>0,E75=\"NotHybrid\"),_xlfn.CONCAT(MAX(MIN(ROUNDDOWN(I75/D75,0),8),4),INDEX(resources!$G:$G,MATCH(B75,resources!$A:$A,0))),INDEX(resources!$G:$G,MATCH(B75,resources!$A:$A,0))),\"n/a\")","v":"gas_cc"},"n/a","gas_cc",2024,2024,1,1,{"$f":"MIN((IFERROR(IF(AND($V75<=Z$1,$W75>=Z$1),INDEX(Reliability!E$23:E$50,MATCH($S75,Reliability!$C$23:$C$50,0)),0),0)*IF($T75=\"n/a\",$D75*$Y75,$G75)+IFERROR(IF(AND($V75<=Z$1,$W75>=Z$1),INDEX(Reliability!E$23:E$50,MATCH($T75,Reliability!$C$23:$C$50,0)),0),0)*$H75*$X75*$Y75),$D75)*$R75","v":16.455529924201649},{"$f":"MIN((IFERROR(IF(AND($V75<=AA$1,$W75>=AA$1),INDEX(Reliability!F$23:F$50,MATCH($S75,Reliability!$C$23:$C$50,0)),0),0)*IF($T75=\"n/a\",$D75*$Y75,$G75)+IFERROR(IF(AND($V75<=AA$1,$W75>=AA$1),INDEX(Reliability!F$23:F$50,MATCH($T75,Reliability!$C$23:$C$50,0)),0),0)*$H75*$X75*$Y75),$D75)*$R75","v":0},{"$f":"MIN((IFERROR(IF(AND($V75<=AB$1,$W75>=AB$1),INDEX(Reliability!G$23:G$50,MATCH($S75,Reliability!$C$23:$C$50,0)),0),0)*IF($T75=\"n/a\",$D75*$Y75,$G75)+IFERROR(IF(AND($V75<=AB$1,$W75>=AB$1),INDEX(Reliability!G$23:G$50,MATCH($T75,Reliability!$C$23:$C$50,0)),0),0)*$H75*$X75*$Y75),$D75)*$R75","v":0},{"$f":"MIN((IFERROR(IF(AND($V75<=AC$1,$W75>=AC$1),INDEX(Reliability!H$23:H$50,MATCH($S75,Reliability!$C$23:$C$50,0)),0),0)*IF($T75=\"n/a\",$D75*$Y75,$G75)+IFERROR(IF(AND($V75<=AC$1,$W75>=AC$1),INDEX(Reliability!H$23:H$50,MATCH($T75,Reliability!$C$23:$C$50,0)),0),0)*$H75*$X75*$Y75),$D75)*$R75","v":0},{"$f":"MIN((IFERROR(IF(AND($V75<=AD$1,$W75>=AD$1),INDEX(Reliability!I$23:I$50,MATCH($S75,Reliability!$C$23:$C$50,0)),0),0)*IF($T75=\"n/a\",$D75*$Y75,$G75)+IFERROR(IF(AND($V75<=AD$1,$W75>=AD$1),INDEX(Reliability!I$23:I$50,MATCH($T75,Reliability!$C$23:$C$50,0)),0),0)*$H75*$X75*$Y75),$D75)*$R75","v":0},{"$f":"MIN((IFERROR(IF(AND($V75<=AE$1,$W75>=AE$1),INDEX(Reliability!J$23:J$50,MATCH($S75,Reliability!$C$23:$C$50,0)),0),0)*IF($T75=\"n/a\",$D75*$Y75,$G75)+IFERROR(IF(AND($V75<=AE$1,$W75>=AE$1),INDEX(Reliability!J$23:J$50,MATCH($T75,Reliability!$C$23:$C$50,0)),0),0)*$H75*$X75*$Y75),$D75)*$R75","v":0},{"$f":"MIN((IFERROR(IF(AND($V75<=AF$1,$W75>=AF$1),INDEX(Reliability!K$23:K$50,MATCH($S75,Reliability!$C$23:$C$50,0)),0),0)*IF($T75=\"n/a\",$D75*$Y75,$G75)+IFERROR(IF(AND($V75<=AF$1,$W75>=AF$1),INDEX(Reliability!K$23:K$50,MATCH($T75,Reliability!$C$23:$C$50,0)),0),0)*$H75*$X75*$Y75),$D75)*$R75","v":0},{"$f":"MIN((IFERROR(IF(AND($V75<=AG$1,$W75>=AG$1),INDEX(Reliability!L$23:L$50,MATCH($S75,Reliability!$C$23:$C$50,0)),0),0)*IF($T75=\"n/a\",$D75*$Y75,$G75)+IFERROR(IF(AND($V75<=AG$1,$W75>=AG$1),INDEX(Reliability!L$23:L$50,MATCH($T75,Reliability!$C$23:$C$50,0)),0),0)*$H75*$X75*$Y75),$D75)*$R75","v":0},{"$f":"MIN((IFERROR(IF(AND($V75<=AH$1,$W75>=AH$1),INDEX(Reliability!M$23:M$50,MATCH($S75,Reliability!$C$23:$C$50,0)),0),0)*IF($T75=\"n/a\",$D75*$Y75,$G75)+IFERROR(IF(AND($V75<=AH$1,$W75>=AH$1),INDEX(Reliability!M$23:M$50,MATCH($T75,Reliability!$C$23:$C$50,0)),0),0)*$H75*$X75*$Y75),$D75)*$R75","v":0},{"$f":"MIN((IFERROR(IF(AND($V75<=AI$1,$W75>=AI$1),INDEX(Reliability!N$23:N$50,MATCH($S75,Reliability!$C$23:$C$50,0)),0),0)*IF($T75=\"n/a\",$D75*$Y75,$G75)+IFERROR(IF(AND($V75<=AI$1,$W75>=AI$1),INDEX(Reliability!N$23:N$50,MATCH($T75,Reliability!$C$23:$C$50,0)),0),0)*$H75*$X75*$Y75),$D75)*$R75","v":0},{"$f":"MIN((IFERROR(IF(AND($V75<=AJ$1,$W75>=AJ$1),INDEX(Reliability!O$23:O$50,MATCH($S75,Reliability!$C$23:$C$50,0)),0),0)*IF($T75=\"n/a\",$D75*$Y75,$G75)+IFERROR(IF(AND($V75<=AJ$1,$W75>=AJ$1),INDEX(Reliability!O$23:O$50,MATCH($T75,Reliability!$C$23:$C$50,0)),0),0)*$H75*$X75*$Y75),$D75)*$R75","v":0},{"$f":"MIN((IFERROR(IF(AND($V75<=AK$1,$W75>=AK$1),INDEX(Reliability!P$23:P$50,MATCH($S75,Reliability!$C$23:$C$50,0)),0),0)*IF($T75=\"n/a\",$D75*$Y75,$G75)+IFERROR(IF(AND($V75<=AK$1,$W75>=AK$1),INDEX(Reliability!P$23:P$50,MATCH($T75,Reliability!$C$23:$C$50,0)),0),0)*$H75*$X75*$Y75),$D75)*$R75","v":0}]
[null,{"$f":"unique_contracts!B76","v":"_EXISTING_GENERIC_COMBINED_CYCLE"},{"$f":"unique_contracts!D76","v":"PlannedExisting"},{"$f":"unique_contracts!J76","v":70.354231607559242},{"$f":"unique_contracts!M76","v":0},{"$f":"unique_contracts!N76","v":0},{"$f":"unique_contracts!P76","v":0},{"$f":"unique_contracts!R76","v":0},{"$f":"unique_contracts!V76","v":0},null,{"$f":"unique_contracts!AM76","v":2025},{"$f":"unique_contracts!AN76","v":1},{"$f":"unique_contracts!AO76","v":1},{"$f":"unique_contracts!AP76","v":2025},{"$f":"unique_contracts!AQ76","v":12},{"$f":"unique_contracts!AR76","v":31},{"$f":"unique_contracts!BP76","v":"CapacityOnly"},1,{"$f":"IFERROR(IF(AND(I76>0,E76=\"NotHybrid\"),_xlfn.CONCAT(MAX(MIN(ROUNDDOWN(I76/D76,0),8),4),INDEX(resources!$G:$G,MATCH(B76,resources!$A:$A,0))),INDEX(resources!$G:$G,MATCH(B76,resources!$A:$A,0))),\"n/a\")","v":"gas_cc"},"n/a","gas_cc",2025,2025,1,1,{"$f":"MIN((IFERROR(IF(AND($V76<=Z$1,$W76>=Z$1),INDEX(Reliability!E$23:E$50,MATCH($S76,Reliability!$C$23:$C$50,0)),0),0)*IF($T76=\"n/a\",$D76*$Y76,$G76)+IFERROR(IF(AND($V76<=Z$1,$W76>=Z$1),INDEX(Reliability!E$23:E$50,MATCH($T76,Reliability!$C$23:$C$50,0)),0),0)*$H76*$X76*$Y76),$D76)*$R76","v":0},{"$f":"MIN((IFERROR(IF(AND($V76<=AA$1,$W76>=AA$1),INDEX(Reliability!F$23:F$50,MATCH($S76,Reliability!$C$23:$C$50,0)),0),0)*IF($T76=\"n/a\",$D76*$Y76,$G76)+IFERROR(IF(AND($V76<=AA$1,$W76>=AA$1),INDEX(Reliability!F$23:F$50,MATCH($T76,Reliability!$C$23:$C$50,0)),0),0)*$H76*$X76*$Y76),$D76)*$R76","v":60.690294860671813},{"$f":"MIN((IFERROR(IF(AND($V76<=AB$1,$W76>=AB$1),INDEX(Reliability!G$23:G$50,MATCH($S76,Reliability!$C$23:$C$50,0)),0),0)*IF($T76=\"n/a\",$D76*$Y76,$G76)+IFERROR(IF(AND($V76<=AB$1,$W76>=AB$1),INDEX(Reliability!G$23:G$50,MATCH($T76,Reliability!$C$23:$C$50,0)),0),0)*$H76*$X76*$Y76),$D76)*$R76","v":0},{"$f":"MIN((IFERROR(IF(AND($V76<=AC$1,$W76>=AC$1),INDEX(Reliability!H$23:H$50,MATCH($S76,Reliability!$C$23:$C$50,0)),0),0)*IF($T76=\"n/a\",$D76*$Y76,$G76)+IFERROR(IF(AND($V76<=AC$1,$W76>=AC$1),INDEX(Reliability!H$23:H$50,MATCH($T76,Reliability!$C$23:$C$50,0)),0),0)*$H76*$X76*$Y76),$D76)*$R76","v":0},{"$f":"MIN((IFERROR(IF(AND($V76<=AD$1,$W76>=AD$1),INDEX(Reliability!I$23:I$50,MATCH($S76,Reliability!$C$23:$C$50,0)),0),0)*IF($T76=\"n/a\",$D76*$Y76,$G76)+IFERROR(IF(AND($V76<=AD$1,$W76>=AD$1),INDEX(Reliability!I$23:I$50,MATCH($T76,Reliability!$C$23:$C$50,0)),0),0)*$H76*$X76*$Y76),$D76)*$R76","v":0},{"$f":"MIN((IFERROR(IF(AND($V76<=AE$1,$W76>=AE$1),INDEX(Reliability!J$23:J$50,MATCH($S76,Reliability!$C$23:$C$50,0)),0),0)*IF($T76=\"n/a\",$D76*$Y76,$G76)+IFERROR(IF(AND($V76<=AE$1,$W76>=AE$1),INDEX(Reliability!J$23:J$50,MATCH($T76,Reliability!$C$23:$C$50,0)),0),0)*$H76*$X76*$Y76),$D76)*$R76","v":0},{"$f":"MIN((IFERROR(IF(AND($V76<=AF$1,$W76>=AF$1),INDEX(Reliability!K$23:K$50,MATCH($S76,Reliability!$C$23:$C$50,0)),0),0)*IF($T76=\"n/a\",$D76*$Y76,$G76)+IFERROR(IF(AND($V76<=AF$1,$W76>=AF$1),INDEX(Reliability!K$23:K$50,MATCH($T76,Reliability!$C$23:$C$50,0)),0),0)*$H76*$X76*$Y76),$D76)*$R76","v":0},{"$f":"MIN((IFERROR(IF(AND($V76<=AG$1,$W76>=AG$1),INDEX(Reliability!L$23:L$50,MATCH($S76,Reliability!$C$23:$C$50,0)),0),0)*IF($T76=\"n/a\",$D76*$Y76,$G76)+IFERROR(IF(AND($V76<=AG$1,$W76>=AG$1),INDEX(Reliability!L$23:L$50,MATCH($T76,Reliability!$C$23:$C$50,0)),0),0)*$H76*$X76*$Y76),$D76)*$R76","v":0},{"$f":"MIN((IFERROR(IF(AND($V76<=AH$1,$W76>=AH$1),INDEX(Reliability!M$23:M$50,MATCH($S76,Reliability!$C$23:$C$50,0)),0),0)*IF($T76=\"n/a\",$D76*$Y76,$G76)+IFERROR(IF(AND($V76<=AH$1,$W76>=AH$1),INDEX(Reliability!M$23:M$50,MATCH($T76,Reliability!$C$23:$C$50,0)),0),0)*$H76*$X76*$Y76),$D76)*$R76","v":0},{"$f":"MIN((IFERROR(IF(AND($V76<=AI$1,$W76>=AI$1),INDEX(Reliability!N$23:N$50,MATCH($S76,Reliability!$C$23:$C$50,0)),0),0)*IF($T76=\"n/a\",$D76*$Y76,$G76)+IFERROR(IF(AND($V76<=AI$1,$W76>=AI$1),INDEX(Reliability!N$23:N$50,MATCH($T76,Reliability!$C$23:$C$50,0)),0),0)*$H76*$X76*$Y76),$D76)*$R76","v":0},{"$f":"MIN((IFERROR(IF(AND($V76<=AJ$1,$W76>=AJ$1),INDEX(Reliability!O$23:O$50,MATCH($S76,Reliability!$C$23:$C$50,0)),0),0)*IF($T76=\"n/a\",$D76*$Y76,$G76)+IFERROR(IF(AND($V76<=AJ$1,$W76>=AJ$1),INDEX(Reliability!O$23:O$50,MATCH($T76,Reliability!$C$23:$C$50,0)),0),0)*$H76*$X76*$Y76),$D76)*$R76","v":0},{"$f":"MIN((IFERROR(IF(AND($V76<=AK$1,$W76>=AK$1),INDEX(Reliability!P$23:P$50,MATCH($S76,Reliability!$C$23:$C$50,0)),0),0)*IF($T76=\"n/a\",$D76*$Y76,$G76)+IFERROR(IF(AND($V76<=AK$1,$W76>=AK$1),INDEX(Reliability!P$23:P$50,MATCH($T76,Reliability!$C$23:$C$50,0)),0),0)*$H76*$X76*$Y76),$D76)*$R76","v":0}]
[null,{"$f":"unique_contracts!B77","v":"_EXISTING_GENERIC_COMBINED_CYCLE"},{"$f":"unique_contracts!D77","v":"PlannedExisting"},{"$f":"unique_contracts!J77","v":77.336210844164711},{"$f":"unique_contracts!M77","v":0},{"$f":"unique_contracts!N77","v":0},{"$f":"unique_contracts!P77","v":0},{"$f":"unique_contracts!R77","v":0},{"$f":"unique_contracts!V77","v":0},null,{"$f":"unique_contracts!AM77","v":2026},{"$f":"unique_contracts!AN77","v":1},{"$f":"unique_contracts!AO77","v":1},{"$f":"unique_contracts!AP77","v":2026},{"$f":"unique_contracts!AQ77","v":12},{"$f":"unique_contracts!AR77","v":31},{"$f":"unique_contracts!BP77","v":"CapacityOnly"},1,{"$f":"IFERROR(IF(AND(I77>0,E77=\"NotHybrid\"),_xlfn.CONCAT(MAX(MIN(ROUNDDOWN(I77/D77,0),8),4),INDEX(resources!$G:$G,MATCH(B77,resources!$A:$A,0))),INDEX(resources!$G:$G,MATCH(B77,resources!$A:$A,0))),\"n/a\")","v":"gas_cc"},"n/a","gas_cc",2026,2026,1,1,{"$f":"MIN((IFERROR(IF(AND($V77<=Z$1,$W77>=Z$1),INDEX(Reliability!E$23:E$50,MATCH($S77,Reliability!$C$23:$C$50,0)),0),0)*IF($T77=\"n/a\",$D77*$Y77,$G77)+IFERROR(IF(AND($V77<=Z$1,$W77>=Z$1),INDEX(Reliability!E$23:E$50,MATCH($T77,Reliability!$C$23:$C$50,0)),0),0)*$H77*$X77*$Y77),$D77)*$R77","v":0},{"$f":"MIN((IFERROR(IF(AND($V77<=AA$1,$W77>=AA$1),INDEX(Reliability!F$23:F$50,MATCH($S77,Reliability!$C$23:$C$50,0)),0),0)*IF($T77=\"n/a\",$D77*$Y77,$G77)+IFERROR(IF(AND($V77<=AA$1,$W77>=AA$1),INDEX(Reliability!F$23:F$50,MATCH($T77,Reliability!$C$23:$C$50,0)),0),0)*$H77*$X77*$Y77),$D77)*$R77","v":0},{"$f":"MIN((IFERROR(IF(AND($V77<=AB$1,$W77>=AB$1),INDEX(Reliability!G$23:G$50,MATCH($S77,Reliability!$C$23:$C$50,0)),0),0)*IF($T77=\"n/a\",$D77*$Y77,$G77)+IFERROR(IF(AND($V77<=AB$1,$W77>=AB$1),INDEX(Reliability!G$23:G$50,MATCH($T77,Reliability!$C$23:$C$50,0)),0),0)*$H77*$X77*$Y77),$D77)*$R77","v":67.833923026374563},{"$f":"MIN((IFERROR(IF(AND($V77<=AC$1,$W77>=AC$1),INDEX(Reliability!H$23:H$50,MATCH($S77,Reliability!$C$23:$C$50,0)),0),0)*IF($T77=\"n/a\",$D77*$Y77,$G77)+IFERROR(IF(AND($V77<=AC$1,$W77>=AC$1),INDEX(Reliability!H$23:H$50,MATCH($T77,Reliability!$C$23:$C$50,0)),0),0)*$H77*$X77*$Y77),$D77)*$R77","v":0},{"$f":"MIN((IFERROR(IF(AND($V77<=AD$1,$W77>=AD$1),INDEX(Reliability!I$23:I$50,MATCH($S77,Reliability!$C$23:$C$50,0)),0),0)*IF($T77=\"n/a\",$D77*$Y77,$G77)+IFERROR(IF(AND($V77<=AD$1,$W77>=AD$1),INDEX(Reliability!I$23:I$50,MATCH($T77,Reliability!$C$23:$C$50,0)),0),0)*$H77*$X77*$Y77),$D77)*$R77","v":0},{"$f":"MIN((IFERROR(IF(AND($V77<=AE$1,$W77>=AE$1),INDEX(Reliability!J$23:J$50,MATCH($S77,Reliability!$C$23:$C$50,0)),0),0)*IF($T77=\"n/a\",$D77*$Y77,$G77)+IFERROR(IF(AND($V77<=AE$1,$W77>=AE$1),INDEX(Reliability!J$23:J$50,MATCH($T77,Reliability!$C$23:$C$50,0)),0),0)*$H77*$X77*$Y77),$D77)*$R77","v":0},{"$f":"MIN((IFERROR(IF(AND($V77<=AF$1,$W77>=AF$1),INDEX(Reliability!K$23:K$50,MATCH($S77,Reliability!$C$23:$C$50,0)),0),0)*IF($T77=\"n/a\",$D77*$Y77,$G77)+IFERROR(IF(AND($V77<=AF$1,$W77>=AF$1),INDEX(Reliability!K$23:K$50,MATCH($T77,Reliability!$C$23:$C$50,0)),0),0)*$H77*$X77*$Y77),$D77)*$R77","v":0},{"$f":"MIN((IFERROR(IF(AND($V77<=AG$1,$W77>=AG$1),INDEX(Reliability!L$23:L$50,MATCH($S77,Reliability!$C$23:$C$50,0)),0),0)*IF($T77=\"n/a\",$D77*$Y77,$G77)+IFERROR(IF(AND($V77<=AG$1,$W77>=AG$1),INDEX(Reliability!L$23:L$50,MATCH($T77,Reliability!$C$23:$C$50,0)),0),0)*$H77*$X77*$Y77),$D77)*$R77","v":0},{"$f":"MIN((IFERROR(IF(AND($V77<=AH$1,$W77>=AH$1),INDEX(Reliability!M$23:M$50,MATCH($S77,Reliability!$C$23:$C$50,0)),0),0)*IF($T77=\"n/a\",$D77*$Y77,$G77)+IFERROR(IF(AND($V77<=AH$1,$W77>=AH$1),INDEX(Reliability!M$23:M$50,MATCH($T77,Reliability!$C$23:$C$50,0)),0),0)*$H77*$X77*$Y77),$D77)*$R77","v":0},{"$f":"MIN((IFERROR(IF(AND($V77<=AI$1,$W77>=AI$1),INDEX(Reliability!N$23:N$50,MATCH($S77,Reliability!$C$23:$C$50,0)),0),0)*IF($T77=\"n/a\",$D77*$Y77,$G77)+IFERROR(IF(AND($V77<=AI$1,$W77>=AI$1),INDEX(Reliability!N$23:N$50,MATCH($T77,Reliability!$C$23:$C$50,0)),0),0)*$H77*$X77*$Y77),$D77)*$R77","v":0},{"$f":"MIN((IFERROR(IF(AND($V77<=AJ$1,$W77>=AJ$1),INDEX(Reliability!O$23:O$50,MATCH($S77,Reliability!$C$23:$C$50,0)),0),0)*IF($T77=\"n/a\",$D77*$Y77,$G77)+IFERROR(IF(AND($V77<=AJ$1,$W77>=AJ$1),INDEX(Reliability!O$23:O$50,MATCH($T77,Reliability!$C$23:$C$50,0)),0),0)*$H77*$X77*$Y77),$D77)*$R77","v":0},{"$f":"MIN((IFERROR(IF(AND($V77<=AK$1,$W77>=AK$1),INDEX(Reliability!P$23:P$50,MATCH($S77,Reliability!$C$23:$C$50,0)),0),0)*IF($T77=\"n/a\",$D77*$Y77,$G77)+IFERROR(IF(AND($V77<=AK$1,$W77>=AK$1),INDEX(Reliability!P$23:P$50,MATCH($T77,Reliability!$C$23:$C$50,0)),0),0)*$H77*$X77*$Y77),$D77)*$R77","v":0}]
[null,{"$f":"unique_contracts!B78","v":"_EXISTING_GENERIC_COMBINED_CYCLE"},{"$f":"unique_contracts!D78","v":"PlannedExisting"},{"$f":"unique_contracts!J78","v":116.26454409260077},{"$f":"unique_contracts!M78","v":0},{"$f":"unique_contracts!N78","v":0},{"$f":"unique_contracts!P78","v":0},{"$f":"unique_contracts!R78","v":0},{"$f":"unique_contracts!V78","v":0},null,{"$f":"unique_contracts!AM78","v":2027},{"$f":"unique_contracts!AN78","v":1},{"$f":"unique_contracts!AO78","v":1},{"$f":"unique_contracts!AP78","v":2027},{"$f":"unique_contracts!AQ78","v":12},{"$f":"unique_contracts!AR78","v":31},{"$f":"unique_contracts!BP78","v":"CapacityOnly"},1,{"$f":"IFERROR(IF(AND(I78>0,E78=\"NotHybrid\"),_xlfn.CONCAT(MAX(MIN(ROUNDDOWN(I78/D78,0),8),4),INDEX(resources!$G:$G,MATCH(B78,resources!$A:$A,0))),INDEX(resources!$G:$G,MATCH(B78,resources!$A:$A,0))),\"n/a\")","v":"gas_cc"},"n/a","gas_cc",2027,2027,1,1,{"$f":"MIN((IFERROR(IF(AND($V78<=Z$1,$W78>=Z$1),INDEX(Reliability!E$23:E$50,MATCH($S78,Reliability!$C$23:$C$50,0)),0),0)*IF($T78=\"n/a\",$D78*$Y78,$G78)+IFERROR(IF(AND($V78<=Z$1,$W78>=Z$1),INDEX(Reliability!E$23:E$50,MATCH($T78,Reliability!$C$23:$C$50,0)),0),0)*$H78*$X78*$Y78),$D78)*$R78","v":0},{"$f":"MIN((IFERROR(IF(AND($V78<=AA$1,$W78>=AA$1),INDEX(Reliability!F$23:F$50,MATCH($S78,Reliability!$C$23:$C$50,0)),0),0)*IF($T78=\"n/a\",$D78*$Y78,$G78)+IFERROR(IF(AND($V78<=AA$1,$W78>=AA$1),INDEX(Reliability!F$23:F$50,MATCH($T78,Reliability!$C$23:$C$50,0)),0),0)*$H78*$X78*$Y78),$D78)*$R78","v":0},{"$f":"MIN((IFERROR(IF(AND($V78<=AB$1,$W78>=AB$1),INDEX(Reliability!G$23:G$50,MATCH($S78,Reliability!$C$23:$C$50,0)),0),0)*IF($T78=\"n/a\",$D78*$Y78,$G78)+IFERROR(IF(AND($V78<=AB$1,$W78>=AB$1),INDEX(Reliability!G$23:G$50,MATCH($T78,Reliability!$C$23:$C$50,0)),0),0)*$H78*$X78*$Y78),$D78)*$R78","v":0},{"$f":"MIN((IFERROR(IF(AND($V78<=AC$1,$W78>=AC$1),INDEX(Reliability!H$23:H$50,MATCH($S78,Reliability!$C$23:$C$50,0)),0),0)*IF($T78=\"n/a\",$D78*$Y78,$G78)+IFERROR(IF(AND($V78<=AC$1,$W78>=AC$1),INDEX(Reliability!H$23:H$50,MATCH($T78,Reliability!$C$23:$C$50,0)),0),0)*$H78*$X78*$Y78),$D78)*$R78","v":101.6360658152221},{"$f":"MIN((IFERROR(IF(AND($V78<=AD$1,$W78>=AD$1),INDEX(Reliability!I$23:I$50,MATCH($S78,Reliability!$C$23:$C$50,0)),0),0)*IF($T78=\"n/a\",$D78*$Y78,$G78)+IFERROR(IF(AND($V78<=AD$1,$W78>=AD$1),INDEX(Reliability!I$23:I$50,MATCH($T78,Reliability!$C$23:$C$50,0)),0),0)*$H78*$X78*$Y78),$D78)*$R78","v":0},{"$f":"MIN((IFERROR(IF(AND($V78<=AE$1,$W78>=AE$1),INDEX(Reliability!J$23:J$50,MATCH($S78,Reliability!$C$23:$C$50,0)),0),0)*IF($T78=\"n/a\",$D78*$Y78,$G78)+IFERROR(IF(AND($V78<=AE$1,$W78>=AE$1),INDEX(Reliability!J$23:J$50,MATCH($T78,Reliability!$C$23:$C$50,0)),0),0)*$H78*$X78*$Y78),$D78)*$R78","v":0},{"$f":"MIN((IFERROR(IF(AND($V78<=AF$1,$W78>=AF$1),INDEX(Reliability!K$23:K$50,MATCH($S78,Reliability!$C$23:$C$50,0)),0),0)*IF($T78=\"n/a\",$D78*$Y78,$G78)+IFERROR(IF(AND($V78<=AF$1,$W78>=AF$1),INDEX(Reliability!K$23:K$50,MATCH($T78,Reliability!$C$23:$C$50,0)),0),0)*$H78*$X78*$Y78),$D78)*$R78","v":0},{"$f":"MIN((IFERROR(IF(AND($V78<=AG$1,$W78>=AG$1),INDEX(Reliability!L$23:L$50,MATCH($S78,Reliability!$C$23:$C$50,0)),0),0)*IF($T78=\"n/a\",$D78*$Y78,$G78)+IFERROR(IF(AND($V78<=AG$1,$W78>=AG$1),INDEX(Reliability!L$23:L$50,MATCH($T78,Reliability!$C$23:$C$50,0)),0),0)*$H78*$X78*$Y78),$D78)*$R78","v":0},{"$f":"MIN((IFERROR(IF(AND($V78<=AH$1,$W78>=AH$1),INDEX(Reliability!M$23:M$50,MATCH($S78,Reliability!$C$23:$C$50,0)),0),0)*IF($T78=\"n/a\",$D78*$Y78,$G78)+IFERROR(IF(AND($V78<=AH$1,$W78>=AH$1),INDEX(Reliability!M$23:M$50,MATCH($T78,Reliability!$C$23:$C$50,0)),0),0)*$H78*$X78*$Y78),$D78)*$R78","v":0},{"$f":"MIN((IFERROR(IF(AND($V78<=AI$1,$W78>=AI$1),INDEX(Reliability!N$23:N$50,MATCH($S78,Reliability!$C$23:$C$50,0)),0),0)*IF($T78=\"n/a\",$D78*$Y78,$G78)+IFERROR(IF(AND($V78<=AI$1,$W78>=AI$1),INDEX(Reliability!N$23:N$50,MATCH($T78,Reliability!$C$23:$C$50,0)),0),0)*$H78*$X78*$Y78),$D78)*$R78","v":0},{"$f":"MIN((IFERROR(IF(AND($V78<=AJ$1,$W78>=AJ$1),INDEX(Reliability!O$23:O$50,MATCH($S78,Reliability!$C$23:$C$50,0)),0),0)*IF($T78=\"n/a\",$D78*$Y78,$G78)+IFERROR(IF(AND($V78<=AJ$1,$W78>=AJ$1),INDEX(Reliability!O$23:O$50,MATCH($T78,Reliability!$C$23:$C$50,0)),0),0)*$H78*$X78*$Y78),$D78)*$R78","v":0},{"$f":"MIN((IFERROR(IF(AND($V78<=AK$1,$W78>=AK$1),INDEX(Reliability!P$23:P$50,MATCH($S78,Reliability!$C$23:$C$50,0)),0),0)*IF($T78=\"n/a\",$D78*$Y78,$G78)+IFERROR(IF(AND($V78<=AK$1,$W78>=AK$1),INDEX(Reliability!P$23:P$50,MATCH($T78,Reliability!$C$23:$C$50,0)),0),0)*$H78*$X78*$Y78),$D78)*$R78","v":0}]
[null,{"$f":"unique_contracts!B79","v":"_EXISTING_GENERIC_COMBINED_CYCLE"},{"$f":"unique_contracts!D79","v":"PlannedExisting"},{"$f":"unique_contracts!J79","v":124.28504766165376},{"$f":"unique_contracts!M79","v":0},{"$f":"unique_contracts!N79","v":0},{"$f":"unique_contracts!P79","v":0},{"$f":"unique_contracts!R79","v":0},{"$f":"unique_contracts!V79","v":0},null,{"$f":"unique_contracts!AM79","v":2028},{"$f":"unique_contracts!AN79","v":1},{"$f":"unique_contracts!AO79","v":1},{"$f":"unique_contracts!AP79","v":2028},{"$f":"unique_contracts!AQ79","v":12},{"$f":"unique_contracts!AR79","v":31},{"$f":"unique_contracts!BP79","v":"CapacityOnly"},1,{"$f":"IFERROR(IF(AND(I79>0,E79=\"NotHybrid\"),_xlfn.CONCAT(MAX(MIN(ROUNDDOWN(I79/D79,0),8),4),INDEX(resources!$G:$G,MATCH(B79,resources!$A:$A,0))),INDEX(resources!$G:$G,MATCH(B79,resources!$A:$A,0))),\"n/a\")","v":"gas_cc"},"n/a","gas_cc",2028,2028,1,1,{"$f":"MIN((IFERROR(IF(AND($V79<=Z$1,$W79>=Z$1),INDEX(Reliability!E$23:E$50,MATCH($S79,Reliability!$C$23:$C$50,0)),0),0)*IF($T79=\"n/a\",$D79*$Y79,$G79)+IFERROR(IF(AND($V79<=Z$1,$W79>=Z$1),INDEX(Reliability!E$23:E$50,MATCH($T79,Reliability!$C$23:$C$50,0)),0),0)*$H79*$X79*$Y79),$D79)*$R79","v":0},{"$f":"MIN((IFERROR(IF(AND($V79<=AA$1,$W79>=AA$1),INDEX(Reliability!F$23:F$50,MATCH($S79,Reliability!$C$23:$C$50,0)),0),0)*IF($T79=\"n/a\",$D79*$Y79,$G79)+IFERROR(IF(AND($V79<=AA$1,$W79>=AA$1),INDEX(Reliability!F$23:F$50,MATCH($T79,Reliability!$C$23:$C$50,0)),0),0)*$H79*$X79*$Y79),$D79)*$R79","v":0},{"$f":"MIN((IFERROR(IF(AND($V79<=AB$1,$W79>=AB$1),INDEX(Reliability!G$23:G$50,MATCH($S79,Reliability!$C$23:$C$50,0)),0),0)*IF($T79=\"n/a\",$D79*$Y79,$G79)+IFERROR(IF(AND($V79<=AB$1,$W79>=AB$1),INDEX(Reliability!G$23:G$50,MATCH($T79,Reliability!$C$23:$C$50,0)),0),0)*$H79*$X79*$Y79),$D79)*$R79","v":0},{"$f":"MIN((IFERROR(IF(AND($V79<=AC$1,$W79>=AC$1),INDEX(Reliability!H$23:H$50,MATCH($S79,Reliability!$C$23:$C$50,0)),0),0)*IF($T79=\"n/a\",$D79*$Y79,$G79)+IFERROR(IF(AND($V79<=AC$1,$W79>=AC$1),INDEX(Reliability!H$23:H$50,MATCH($T79,Reliability!$C$23:$C$50,0)),0),0)*$H79*$X79*$Y79),$D79)*$R79","v":0},{"$f":"MIN((IFERROR(IF(AND($V79<=AD$1,$W79>=AD$1),INDEX(Reliability!I$23:I$50,MATCH($S79,Reliability!$C$23:$C$50,0)),0),0)*IF($T79=\"n/a\",$D79*$Y79,$G79)+IFERROR(IF(AND($V79<=AD$1,$W79>=AD$1),INDEX(Reliability!I$23:I$50,MATCH($T79,Reliability!$C$23:$C$50,0)),0),0)*$H79*$X79*$Y79),$D79)*$R79","v":108.2806853347078},{"$f":"MIN((IFERROR(IF(AND($V79<=AE$1,$W79>=AE$1),INDEX(Reliability!J$23:J$50,MATCH($S79,Reliability!$C$23:$C$50,0)),0),0)*IF($T79=\"n/a\",$D79*$Y79,$G79)+IFERROR(IF(AND($V79<=AE$1,$W79>=AE$1),INDEX(Reliability!J$23:J$50,MATCH($T79,Reliability!$C$23:$C$50,0)),0),0)*$H79*$X79*$Y79),$D79)*$R79","v":0},{"$f":"MIN((IFERROR(IF(AND($V79<=AF$1,$W79>=AF$1),INDEX(Reliability!K$23:K$50,MATCH($S79,Reliability!$C$23:$C$50,0)),0),0)*IF($T79=\"n/a\",$D79*$Y79,$G79)+IFERROR(IF(AND($V79<=AF$1,$W79>=AF$1),INDEX(Reliability!K$23:K$50,MATCH($T79,Reliability!$C$23:$C$50,0)),0),0)*$H79*$X79*$Y79),$D79)*$R79","v":0},{"$f":"MIN((IFERROR(IF(AND($V79<=AG$1,$W79>=AG$1),INDEX(Reliability!L$23:L$50,MATCH($S79,Reliability!$C$23:$C$50,0)),0),0)*IF($T79=\"n/a\",$D79*$Y79,$G79)+IFERROR(IF(AND($V79<=AG$1,$W79>=AG$1),INDEX(Reliability!L$23:L$50,MATCH($T79,Reliability!$C$23:$C$50,0)),0),0)*$H79*$X79*$Y79),$D79)*$R79","v":0},{"$f":"MIN((IFERROR(IF(AND($V79<=AH$1,$W79>=AH$1),INDEX(Reliability!M$23:M$50,MATCH($S79,Reliability!$C$23:$C$50,0)),0),0)*IF($T79=\"n/a\",$D79*$Y79,$G79)+IFERROR(IF(AND($V79<=AH$1,$W79>=AH$1),INDEX(Reliability!M$23:M$50,MATCH($T79,Reliability!$C$23:$C$50,0)),0),0)*$H79*$X79*$Y79),$D79)*$R79","v":0},{"$f":"MIN((IFERROR(IF(AND($V79<=AI$1,$W79>=AI$1),INDEX(Reliability!N$23:N$50,MATCH($S79,Reliability!$C$23:$C$50,0)),0),0)*IF($T79=\"n/a\",$D79*$Y79,$G79)+IFERROR(IF(AND($V79<=AI$1,$W79>=AI$1),INDEX(Reliability!N$23:N$50,MATCH($T79,Reliability!$C$23:$C$50,0)),0),0)*$H79*$X79*$Y79),$D79)*$R79","v":0},{"$f":"MIN((IFERROR(IF(AND($V79<=AJ$1,$W79>=AJ$1),INDEX(Reliability!O$23:O$50,MATCH($S79,Reliability!$C$23:$C$50,0)),0),0)*IF($T79=\"n/a\",$D79*$Y79,$G79)+IFERROR(IF(AND($V79<=AJ$1,$W79>=AJ$1),INDEX(Reliability!O$23:O$50,MATCH($T79,Reliability!$C$23:$C$50,0)),0),0)*$H79*$X79*$Y79),$D79)*$R79","v":0},{"$f":"MIN((IFERROR(IF(AND($V79<=AK$1,$W79>=AK$1),INDEX(Reliability!P$23:P$50,MATCH($S79,Reliability!$C$23:$C$50,0)),0),0)*IF($T79=\"n/a\",$D79*$Y79,$G79)+IFERROR(IF(AND($V79<=AK$1,$W79>=AK$1),INDEX(Reliability!P$23:P$50,MATCH($T79,Reliability!$C$23:$C$50,0)),0),0)*$H79*$X79*$Y79),$D79)*$R79","v":0}]
[null,{"$f":"unique_contracts!B80","v":"_EXISTING_GENERIC_COMBINED_CYCLE"},{"$f":"unique_contracts!D80","v":"PlannedExisting"},{"$f":"unique_contracts!J80","v":115.5128679038514},{"$f":"unique_contracts!M80","v":0},{"$f":"unique_contracts!N80","v":0},{"$f":"unique_contracts!P80","v":0},{"$f":"unique_contracts!R80","v":0},{"$f":"unique_contracts!V80","v":0},null,{"$f":"unique_contracts!AM80","v":2029},{"$f":"unique_contracts!AN80","v":1},{"$f":"unique_contracts!AO80","v":1},{"$f":"unique_contracts!AP80","v":2029},{"$f":"unique_contracts!AQ80","v":12},{"$f":"unique_contracts!AR80","v":31},{"$f":"unique_contracts!BP80","v":"CapacityOnly"},1,{"$f":"IFERROR(IF(AND(I80>0,E80=\"NotHybrid\"),_xlfn.CONCAT(MAX(MIN(ROUNDDOWN(I80/D80,0),8),4),INDEX(resources!$G:$G,MATCH(B80,resources!$A:$A,0))),INDEX(resources!$G:$G,MATCH(B80,resources!$A:$A,0))),\"n/a\")","v":"gas_cc"},"n/a","gas_cc",2029,2029,1,1,{"$f":"MIN((IFERROR(IF(AND($V80<=Z$1,$W80>=Z$1),INDEX(Reliability!E$23:E$50,MATCH($S80,Reliability!$C$23:$C$50,0)),0),0)*IF($T80=\"n/a\",$D80*$Y80,$G80)+IFERROR(IF(AND($V80<=Z$1,$W80>=Z$1),INDEX(Reliability!E$23:E$50,MATCH($T80,Reliability!$C$23:$C$50,0)),0),0)*$H80*$X80*$Y80),$D80)*$R80","v":0},{"$f":"MIN((IFERROR(IF(AND($V80<=AA$1,$W80>=AA$1),INDEX(Reliability!F$23:F$50,MATCH($S80,Reliability!$C$23:$C$50,0)),0),0)*IF($T80=\"n/a\",$D80*$Y80,$G80)+IFERROR(IF(AND($V80<=AA$1,$W80>=AA$1),INDEX(Reliability!F$23:F$50,MATCH($T80,Reliability!$C$23:$C$50,0)),0),0)*$H80*$X80*$Y80),$D80)*$R80","v":0},{"$f":"MIN((IFERROR(IF(AND($V80<=AB$1,$W80>=AB$1),INDEX(Reliability!G$23:G$50,MATCH($S80,Reliability!$C$23:$C$50,0)),0),0)*IF($T80=\"n/a\",$D80*$Y80,$G80)+IFERROR(IF(AND($V80<=AB$1,$W80>=AB$1),INDEX(Reliability!G$23:G$50,MATCH($T80,Reliability!$C$23:$C$50,0)),0),0)*$H80*$X80*$Y80),$D80)*$R80","v":0},{"$f":"MIN((IFERROR(IF(AND($V80<=AC$1,$W80>=AC$1),INDEX(Reliability!H$23:H$50,MATCH($S80,Reliability!$C$23:$C$50,0)),0),0)*IF($T80=\"n/a\",$D80*$Y80,$G80)+IFERROR(IF(AND($V80<=AC$1,$W80>=AC$1),INDEX(Reliability!H$23:H$50,MATCH($T80,Reliability!$C$23:$C$50,0)),0),0)*$H80*$X80*$Y80),$D80)*$R80","v":0},{"$f":"MIN((IFERROR(IF(AND($V80<=AD$1,$W80>=AD$1),INDEX(Reliability!I$23:I$50,MATCH($S80,Reliability!$C$23:$C$50,0)),0),0)*IF($T80=\"n/a\",$D80*$Y80,$G80)+IFERROR(IF(AND($V80<=AD$1,$W80>=AD$1),INDEX(Reliability!I$23:I$50,MATCH($T80,Reliability!$C$23:$C$50,0)),0),0)*$H80*$X80*$Y80),$D80)*$R80","v":0},{"$f":"MIN((IFERROR(IF(AND($V80<=AE$1,$W80>=AE$1),INDEX(Reliability!J$23:J$50,MATCH($S80,Reliability!$C$23:$C$50,0)),0),0)*IF($T80=\"n/a\",$D80*$Y80,$G80)+IFERROR(IF(AND($V80<=AE$1,$W80>=AE$1),INDEX(Reliability!J$23:J$50,MATCH($T80,Reliability!$C$23:$C$50,0)),0),0)*$H80*$X80*$Y80),$D80)*$R80","v":99.444071861685998},{"$f":"MIN((IFERROR(IF(AND($V80<=AF$1,$W80>=AF$1),INDEX(Reliability!K$23:K$50,MATCH($S80,Reliability!$C$23:$C$50,0)),0),0)*IF($T80=\"n/a\",$D80*$Y80,$G80)+IFERROR(IF(AND($V80<=AF$1,$W80>=AF$1),INDEX(Reliability!K$23:K$50,MATCH($T80,Reliability!$C$23:$C$50,0)),0),0)*$H80*$X80*$Y80),$D80)*$R80","v":0},{"$f":"MIN((IFERROR(IF(AND($V80<=AG$1,$W80>=AG$1),INDEX(Reliability!L$23:L$50,MATCH($S80,Reliability!$C$23:$C$50,0)),0),0)*IF($T80=\"n/a\",$D80*$Y80,$G80)+IFERROR(IF(AND($V80<=AG$1,$W80>=AG$1),INDEX(Reliability!L$23:L$50,MATCH($T80,Reliability!$C$23:$C$50,0)),0),0)*$H80*$X80*$Y80),$D80)*$R80","v":0},{"$f":"MIN((IFERROR(IF(AND($V80<=AH$1,$W80>=AH$1),INDEX(Reliability!M$23:M$50,MATCH($S80,Reliability!$C$23:$C$50,0)),0),0)*IF($T80=\"n/a\",$D80*$Y80,$G80)+IFERROR(IF(AND($V80<=AH$1,$W80>=AH$1),INDEX(Reliability!M$23:M$50,MATCH($T80,Reliability!$C$23:$C$50,0)),0),0)*$H80*$X80*$Y80),$D80)*$R80","v":0},{"$f":"MIN((IFERROR(IF(AND($V80<=AI$1,$W80>=AI$1),INDEX(Reliability!N$23:N$50,MATCH($S80,Reliability!$C$23:$C$50,0)),0),0)*IF($T80=\"n/a\",$D80*$Y80,$G80)+IFERROR(IF(AND($V80<=AI$1,$W80>=AI$1),INDEX(Reliability!N$23:N$50,MATCH($T80,Reliability!$C$23:$C$50,0)),0),0)*$H80*$X80*$Y80),$D80)*$R80","v":0},{"$f":"MIN((IFERROR(IF(AND($V80<=AJ$1,$W80>=AJ$1),INDEX(Reliability!O$23:O$50,MATCH($S80,Reliability!$C$23:$C$50,0)),0),0)*IF($T80=\"n/a\",$D80*$Y80,$G80)+IFERROR(IF(AND($V80<=AJ$1,$W80>=AJ$1),INDEX(Reliability!O$23:O$50,MATCH($T80,Reliability!$C$23:$C$50,0)),0),0)*$H80*$X80*$Y80),$D80)*$R80","v":0},{"$f":"MIN((IFERROR(IF(AND($V80<=AK$1,$W80>=AK$1),INDEX(Reliability!P$23:P$50,MATCH($S80,Reliability!$C$23:$C$50,0)),0),0)*IF($T80=\"n/a\",$D80*$Y80,$G80)+IFERROR(IF(AND($V80<=AK$1,$W80>=AK$1),INDEX(Reliability!P$23:P$50,MATCH($T80,Reliability!$C$23:$C$50,0)),0),0)*$H80*$X80*$Y80),$D80)*$R80","v":0}]
[null,{"$f":"unique_contracts!B81","v":"_EXISTING_GENERIC_COMBINED_CYCLE"},{"$f":"unique_contracts!D81","v":"PlannedExisting"},{"$f":"unique_contracts!J81","v":149.55323597360928},{"$f":"unique_contracts!M81","v":0},{"$f":"unique_contracts!N81","v":0},{"$f":"unique_contracts!P81","v":0},{"$f":"unique_contracts!R81","v":0},{"$f":"unique_contracts!V81","v":0},null,{"$f":"unique_contracts!AM81","v":2030},{"$f":"unique_contracts!AN81","v":1},{"$f":"unique_contracts!AO81","v":1},{"$f":"unique_contracts!AP81","v":2030},{"$f":"unique_contracts!AQ81","v":12},{"$f":"unique_contracts!AR81","v":31},{"$f":"unique_contracts!BP81","v":"CapacityOnly"},1,{"$f":"IFERROR(IF(AND(I81>0,E81=\"NotHybrid\"),_xlfn.CONCAT(MAX(MIN(ROUNDDOWN(I81/D81,0),8),4),INDEX(resources!$G:$G,MATCH(B81,resources!$A:$A,0))),INDEX(resources!$G:$G,MATCH(B81,resources!$A:$A,0))),\"n/a\")","v":"gas_cc"},"n/a","gas_cc",2030,2030,1,1,{"$f":"MIN((IFERROR(IF(AND($V81<=Z$1,$W81>=Z$1),INDEX(Reliability!E$23:E$50,MATCH($S81,Reliability!$C$23:$C$50,0)),0),0)*IF($T81=\"n/a\",$D81*$Y81,$G81)+IFERROR(IF(AND($V81<=Z$1,$W81>=Z$1),INDEX(Reliability!E$23:E$50,MATCH($T81,Reliability!$C$23:$C$50,0)),0),0)*$H81*$X81*$Y81),$D81)*$R81","v":0},{"$f":"MIN((IFERROR(IF(AND($V81<=AA$1,$W81>=AA$1),INDEX(Reliability!F$23:F$50,MATCH($S81,Reliability!$C$23:$C$50,0)),0),0)*IF($T81=\"n/a\",$D81*$Y81,$G81)+IFERROR(IF(AND($V81<=AA$1,$W81>=AA$1),INDEX(Reliability!F$23:F$50,MATCH($T81,Reliability!$C$23:$C$50,0)),0),0)*$H81*$X81*$Y81),$D81)*$R81","v":0},{"$f":"MIN((IFERROR(IF(AND($V81<=AB$1,$W81>=AB$1),INDEX(Reliability!G$23:G$50,MATCH($S81,Reliability!$C$23:$C$50,0)),0),0)*IF($T81=\"n/a\",$D81*$Y81,$G81)+IFERROR(IF(AND($V81<=AB$1,$W81>=AB$1),INDEX(Reliability!G$23:G$50,MATCH($T81,Reliability!$C$23:$C$50,0)),0),0)*$H81*$X81*$Y81),$D81)*$R81","v":0},{"$f":"MIN((IFERROR(IF(AND($V81<=AC$1,$W81>=AC$1),INDEX(Reliability!H$23:H$50,MATCH($S81,Reliability!$C$23:$C$50,0)),0),0)*IF($T81=\"n/a\",$D81*$Y81,$G81)+IFERROR(IF(AND($V81<=AC$1,$W81>=AC$1),INDEX(Reliability!H$23:H$50,MATCH($T81,Reliability!$C$23:$C$50,0)),0),0)*$H81*$X81*$Y81),$D81)*$R81","v":0},{"$f":"MIN((IFERROR(IF(AND($V81<=AD$1,$W81>=AD$1),INDEX(Reliability!I$23:I$50,MATCH($S81,Reliability!$C$23:$C$50,0)),0),0)*IF($T81=\"n/a\",$D81*$Y81,$G81)+IFERROR(IF(AND($V81<=AD$1,$W81>=AD$1),INDEX(Reliability!I$23:I$50,MATCH($T81,Reliability!$C$23:$C$50,0)),0),0)*$H81*$X81*$Y81),$D81)*$R81","v":0},{"$f":"MIN((IFERROR(IF(AND($V81<=AE$1,$W81>=AE$1),INDEX(Reliability!J$23:J$50,MATCH($S81,Reliability!$C$23:$C$50,0)),0),0)*IF($T81=\"n/a\",$D81*$Y81,$G81)+IFERROR(IF(AND($V81<=AE$1,$W81>=AE$1),INDEX(Reliability!J$23:J$50,MATCH($T81,Reliability!$C$23:$C$50,0)),0),0)*$H81*$X81*$Y81),$D81)*$R81","v":0},{"$f":"MIN((IFERROR(IF(AND($V81<=AF$1,$W81>=AF$1),INDEX(Reliability!K$23:K$50,MATCH($S81,Reliability!$C$23:$C$50,0)),0),0)*IF($T81=\"n/a\",$D81*$Y81,$G81)+IFERROR(IF(AND($V81<=AF$1,$W81>=AF$1),INDEX(Reliability!K$23:K$50,MATCH($T81,Reliability!$C$23:$C$50,0)),0),0)*$H81*$X81*$Y81),$D81)*$R81","v":127.20323284666154},{"$f":"MIN((IFERROR(IF(AND($V81<=AG$1,$W81>=AG$1),INDEX(Reliability!L$23:L$50,MATCH($S81,Reliability!$C$23:$C$50,0)),0),0)*IF($T81=\"n/a\",$D81*$Y81,$G81)+IFERROR(IF(AND($V81<=AG$1,$W81>=AG$1),INDEX(Reliability!L$23:L$50,MATCH($T81,Reliability!$C$23:$C$50,0)),0),0)*$H81*$X81*$Y81),$D81)*$R81","v":0},{"$f":"MIN((IFERROR(IF(AND($V81<=AH$1,$W81>=AH$1),INDEX(Reliability!M$23:M$50,MATCH($S81,Reliability!$C$23:$C$50,0)),0),0)*IF($T81=\"n/a\",$D81*$Y81,$G81)+IFERROR(IF(AND($V81<=AH$1,$W81>=AH$1),INDEX(Reliability!M$23:M$50,MATCH($T81,Reliability!$C$23:$C$50,0)),0),0)*$H81*$X81*$Y81),$D81)*$R81","v":0},{"$f":"MIN((IFERROR(IF(AND($V81<=AI$1,$W81>=AI$1),INDEX(Reliability!N$23:N$50,MATCH($S81,Reliability!$C$23:$C$50,0)),0),0)*IF($T81=\"n/a\",$D81*$Y81,$G81)+IFERROR(IF(AND($V81<=AI$1,$W81>=AI$1),INDEX(Reliability!N$23:N$50,MATCH($T81,Reliability!$C$23:$C$50,0)),0),0)*$H81*$X81*$Y81),$D81)*$R81","v":0},{"$f":"MIN((IFERROR(IF(AND($V81<=AJ$1,$W81>=AJ$1),INDEX(Reliability!O$23:O$50,MATCH($S81,Reliability!$C$23:$C$50,0)),0),0)*IF($T81=\"n/a\",$D81*$Y81,$G81)+IFERROR(IF(AND($V81<=AJ$1,$W81>=AJ$1),INDEX(Reliability!O$23:O$50,MATCH($T81,Reliability!$C$23:$C$50,0)),0),0)*$H81*$X81*$Y81),$D81)*$R81","v":0},{"$f":"MIN((IFERROR(IF(AND($V81<=AK$1,$W81>=AK$1),INDEX(Reliability!P$23:P$50,MATCH($S81,Reliability!$C$23:$C$50,0)),0),0)*IF($T81=\"n/a\",$D81*$Y81,$G81)+IFERROR(IF(AND($V81<=AK$1,$W81>=AK$1),INDEX(Reliability!P$23:P$50,MATCH($T81,Reliability!$C$23:$C$50,0)),0),0)*$H81*$X81*$Y81),$D81)*$R81","v":0}]
[null,{"$f":"unique_contracts!B82","v":"_EXISTING_GENERIC_COMBINED_CYCLE"},{"$f":"unique_contracts!D82","v":"PlannedExisting"},{"$f":"unique_contracts!J82","v":184.00272953624858},{"$f":"unique_contracts!M82","v":0},{"$f":"unique_contracts!N82","v":0},{"$f":"unique_contracts!P82","v":0},{"$f":"unique_contracts!R82","v":0},{"$f":"unique_contracts!V82","v":0},null,{"$f":"unique_contracts!AM82","v":2031},{"$f":"unique_contracts!AN82","v":1},{"$f":"unique_contracts!AO82","v":1},{"$f":"unique_contracts!AP82","v":2031},{"$f":"unique_contracts!AQ82","v":12},{"$f":"unique_contracts!AR82","v":31},{"$f":"unique_contracts!BP82","v":"CapacityOnly"},1,{"$f":"IFERROR(IF(AND(I82>0,E82=\"NotHybrid\"),_xlfn.CONCAT(MAX(MIN(ROUNDDOWN(I82/D82,0),8),4),INDEX(resources!$G:$G,MATCH(B82,resources!$A:$A,0))),INDEX(resources!$G:$G,MATCH(B82,resources!$A:$A,0))),\"n/a\")","v":"gas_cc"},"n/a","gas_cc",2031,2031,1,1,{"$f":"MIN((IFERROR(IF(AND($V82<=Z$1,$W82>=Z$1),INDEX(Reliability!E$23:E$50,MATCH($S82,Reliability!$C$23:$C$50,0)),0),0)*IF($T82=\"n/a\",$D82*$Y82,$G82)+IFERROR(IF(AND($V82<=Z$1,$W82>=Z$1),INDEX(Reliability!E$23:E$50,MATCH($T82,Reliability!$C$23:$C$50,0)),0),0)*$H82*$X82*$Y82),$D82)*$R82","v":0},{"$f":"MIN((IFERROR(IF(AND($V82<=AA$1,$W82>=AA$1),INDEX(Reliability!F$23:F$50,MATCH($S82,Reliability!$C$23:$C$50,0)),0),0)*IF($T82=\"n/a\",$D82*$Y82,$G82)+IFERROR(IF(AND($V82<=AA$1,$W82>=AA$1),INDEX(Reliability!F$23:F$50,MATCH($T82,Reliability!$C$23:$C$50,0)),0),0)*$H82*$X82*$Y82),$D82)*$R82","v":0},{"$f":"MIN((IFERROR(IF(AND($V82<=AB$1,$W82>=AB$1),INDEX(Reliability!G$23:G$50,MATCH($S82,Reliability!$C$23:$C$50,0)),0),0)*IF($T82=\"n/a\",$D82*$Y82,$G82)+IFERROR(IF(AND($V82<=AB$1,$W82>=AB$1),INDEX(Reliability!G$23:G$50,MATCH($T82,Reliability!$C$23:$C$50,0)),0),0)*$H82*$X82*$Y82),$D82)*$R82","v":0},{"$f":"MIN((IFERROR(IF(AND($V82<=AC$1,$W82>=AC$1),INDEX(Reliability!H$23:H$50,MATCH($S82,Reliability!$C$23:$C$50,0)),0),0)*IF($T82=\"n/a\",$D82*$Y82,$G82)+IFERROR(IF(AND($V82<=AC$1,$W82>=AC$1),INDEX(Reliability!H$23:H$50,MATCH($T82,Reliability!$C$23:$C$50,0)),0),0)*$H82*$X82*$Y82),$D82)*$R82","v":0},{"$f":"MIN((IFERROR(IF(AND($V82<=AD$1,$W82>=AD$1),INDEX(Reliability!I$23:I$50,MATCH($S82,Reliability!$C$23:$C$50,0)),0),0)*IF($T82=\"n/a\",$D82*$Y82,$G82)+IFERROR(IF(AND($V82<=AD$1,$W82>=AD$1),INDEX(Reliability!I$23:I$50,MATCH($T82,Reliability!$C$23:$C$50,0)),0),0)*$H82*$X82*$Y82),$D82)*$R82","v":0},{"$f":"MIN((IFERROR(IF(AND($V82<=AE$1,$W82>=AE$1),INDEX(Reliability!J$23:J$50,MATCH($S82,Reliability!$C$23:$C$50,0)),0),0)*IF($T82=\"n/a\",$D82*$Y82,$G82)+IFERROR(IF(AND($V82<=AE$1,$W82>=AE$1),INDEX(Reliability!J$23:J$50,MATCH($T82,Reliability!$C$23:$C$50,0)),0),0)*$H82*$X82*$Y82),$D82)*$R82","v":0},{"$f":"MIN((IFERROR(IF(AND($V82<=AF$1,$W82>=AF$1),INDEX(Reliability!K$23:K$50,MATCH($S82,Reliability!$C$23:$C$50,0)),0),0)*IF($T82=\"n/a\",$D82*$Y82,$G82)+IFERROR(IF(AND($V82<=AF$1,$W82>=AF$1),INDEX(Reliability!K$23:K$50,MATCH($T82,Reliability!$C$23:$C$50,0)),0),0)*$H82*$X82*$Y82),$D82)*$R82","v":0},{"$f":"MIN((IFERROR(IF(AND($V82<=AG$1,$W82>=AG$1),INDEX(Reliability!L$23:L$50,MATCH($S82,Reliability!$C$23:$C$50,0)),0),0)*IF($T82=\"n/a\",$D82*$Y82,$G82)+IFERROR(IF(AND($V82<=AG$1,$W82>=AG$1),INDEX(Reliability!L$23:L$50,MATCH($T82,Reliability!$C$23:$C$50,0)),0),0)*$H82*$X82*$Y82),$D82)*$R82","v":158.79136086141747},{"$f":"MIN((IFERROR(IF(AND($V82<=AH$1,$W82>=AH$1),INDEX(Reliability!M$23:M$50,MATCH($S82,Reliability!$C$23:$C$50,0)),0),0)*IF($T82=\"n/a\",$D82*$Y82,$G82)+IFERROR(IF(AND($V82<=AH$1,$W82>=AH$1),INDEX(Reliability!M$23:M$50,MATCH($T82,Reliability!$C$23:$C$50,0)),0),0)*$H82*$X82*$Y82),$D82)*$R82","v":0},{"$f":"MIN((IFERROR(IF(AND($V82<=AI$1,$W82>=AI$1),INDEX(Reliability!N$23:N$50,MATCH($S82,Reliability!$C$23:$C$50,0)),0),0)*IF($T82=\"n/a\",$D82*$Y82,$G82)+IFERROR(IF(AND($V82<=AI$1,$W82>=AI$1),INDEX(Reliability!N$23:N$50,MATCH($T82,Reliability!$C$23:$C$50,0)),0),0)*$H82*$X82*$Y82),$D82)*$R82","v":0},{"$f":"MIN((IFERROR(IF(AND($V82<=AJ$1,$W82>=AJ$1),INDEX(Reliability!O$23:O$50,MATCH($S82,Reliability!$C$23:$C$50,0)),0),0)*IF($T82=\"n/a\",$D82*$Y82,$G82)+IFERROR(IF(AND($V82<=AJ$1,$W82>=AJ$1),INDEX(Reliability!O$23:O$50,MATCH($T82,Reliability!$C$23:$C$50,0)),0),0)*$H82*$X82*$Y82),$D82)*$R82","v":0},{"$f":"MIN((IFERROR(IF(AND($V82<=AK$1,$W82>=AK$1),INDEX(Reliability!P$23:P$50,MATCH($S82,Reliability!$C$23:$C$50,0)),0),0)*IF($T82=\"n/a\",$D82*$Y82,$G82)+IFERROR(IF(AND($V82<=AK$1,$W82>=AK$1),INDEX(Reliability!P$23:P$50,MATCH($T82,Reliability!$C$23:$C$50,0)),0),0)*$H82*$X82*$Y82),$D82)*$R82","v":0}]
[null,{"$f":"unique_contracts!B83","v":"_EXISTING_GENERIC_COMBINED_CYCLE"},{"$f":"unique_contracts!D83","v":"PlannedExisting"},{"$f":"unique_contracts!J83","v":149.64474417216758},{"$f":"unique_contracts!M83","v":0},{"$f":"unique_contracts!N83","v":0},{"$f":"unique_contracts!P83","v":0},{"$f":"unique_contracts!R83","v":0},{"$f":"unique_contracts!V83","v":0},null,{"$f":"unique_contracts!AM83","v":2032},{"$f":"unique_contracts!AN83","v":1},{"$f":"unique_contracts!AO83","v":1},{"$f":"unique_contracts!AP83","v":2032},{"$f":"unique_contracts!AQ83","v":12},{"$f":"unique_contracts!AR83","v":31},{"$f":"unique_contracts!BP83","v":"CapacityOnly"},1,{"$f":"IFERROR(IF(AND(I83>0,E83=\"NotHybrid\"),_xlfn.CONCAT(MAX(MIN(ROUNDDOWN(I83/D83,0),8),4),INDEX(resources!$G:$G,MATCH(B83,resources!$A:$A,0))),INDEX(resources!$G:$G,MATCH(B83,resources!$A:$A,0))),\"n/a\")","v":"gas_cc"},"n/a","gas_cc",2032,2032,1,1,{"$f":"MIN((IFERROR(IF(AND($V83<=Z$1,$W83>=Z$1),INDEX(Reliability!E$23:E$50,MATCH($S83,Reliability!$C$23:$C$50,0)),0),0)*IF($T83=\"n/a\",$D83*$Y83,$G83)+IFERROR(IF(AND($V83<=Z$1,$W83>=Z$1),INDEX(Reliability!E$23:E$50,MATCH($T83,Reliability!$C$23:$C$50,0)),0),0)*$H83*$X83*$Y83),$D83)*$R83","v":0},{"$f":"MIN((IFERROR(IF(AND($V83<=AA$1,$W83>=AA$1),INDEX(Reliability!F$23:F$50,MATCH($S83,Reliability!$C$23:$C$50,0)),0),0)*IF($T83=\"n/a\",$D83*$Y83,$G83)+IFERROR(IF(AND($V83<=AA$1,$W83>=AA$1),INDEX(Reliability!F$23:F$50,MATCH($T83,Reliability!$C$23:$C$50,0)),0),0)*$H83*$X83*$Y83),$D83)*$R83","v":0},{"$f":"MIN((IFERROR(IF(AND($V83<=AB$1,$W83>=AB$1),INDEX(Reliability!G$23:G$50,MATCH($S83,Reliability!$C$23:$C$50,0)),0),0)*IF($T83=\"n/a\",$D83*$Y83,$G83)+IFERROR(IF(AND($V83<=AB$1,$W83>=AB$1),INDEX(Reliability!G$23:G$50,MATCH($T83,Reliability!$C$23:$C$50,0)),0),0)*$H83*$X83*$Y83),$D83)*$R83","v":0},{"$f":"MIN((IFERROR(IF(AND($V83<=AC$1,$W83>=AC$1),INDEX(Reliability!H$23:H$50,MATCH($S83,Reliability!$C$23:$C$50,0)),0),0)*IF($T83=\"n/a\",$D83*$Y83,$G83)+IFERROR(IF(AND($V83<=AC$1,$W83>=AC$1),INDEX(Reliability!H$23:H$50,MATCH($T83,Reliability!$C$23:$C$50,0)),0),0)*$H83*$X83*$Y83),$D83)*$R83","v":0},{"$f":"MIN((IFERROR(IF(AND($V83<=AD$1,$W83>=AD$1),INDEX(Reliability!I$23:I$50,MATCH($S83,Reliability!$C$23:$C$50,0)),0),0)*IF($T83=\"n/a\",$D83*$Y83,$G83)+IFERROR(IF(AND($V83<=AD$1,$W83>=AD$1),INDEX(Reliability!I$23:I$50,MATCH($T83,Reliability!$C$23:$C$50,0)),0),0)*$H83*$X83*$Y83),$D83)*$R83","v":0},{"$f":"MIN((IFERROR(IF(AND($V83<=AE$1,$W83>=AE$1),INDEX(Reliability!J$23:J$50,MATCH($S83,Reliability!$C$23:$C$50,0)),0),0)*IF($T83=\"n/a\",$D83*$Y83,$G83)+IFERROR(IF(AND($V83<=AE$1,$W83>=AE$1),INDEX(Reliability!J$23:J$50,MATCH($T83,Reliability!$C$23:$C$50,0)),0),0)*$H83*$X83*$Y83),$D83)*$R83","v":0},{"$f":"MIN((IFERROR(IF(AND($V83<=AF$1,$W83>=AF$1),INDEX(Reliability!K$23:K$50,MATCH($S83,Reliability!$C$23:$C$50,0)),0),0)*IF($T83=\"n/a\",$D83*$Y83,$G83)+IFERROR(IF(AND($V83<=AF$1,$W83>=AF$1),INDEX(Reliability!K$23:K$50,MATCH($T83,Reliability!$C$23:$C$50,0)),0),0)*$H83*$X83*$Y83),$D83)*$R83","v":0},{"$f":"MIN((IFERROR(IF(AND($V83<=AG$1,$W83>=AG$1),INDEX(Reliability!L$23:L$50,MATCH($S83,Reliability!$C$23:$C$50,0)),0),0)*IF($T83=\"n/a\",$D83*$Y83,$G83)+IFERROR(IF(AND($V83<=AG$1,$W83>=AG$1),INDEX(Reliability!L$23:L$50,MATCH($T83,Reliability!$C$23:$C$50,0)),0),0)*$H83*$X83*$Y83),$D83)*$R83","v":0},{"$f":"MIN((IFERROR(IF(AND($V83<=AH$1,$W83>=AH$1),INDEX(Reliability!M$23:M$50,MATCH($S83,Reliability!$C$23:$C$50,0)),0),0)*IF($T83=\"n/a\",$D83*$Y83,$G83)+IFERROR(IF(AND($V83<=AH$1,$W83>=AH$1),INDEX(Reliability!M$23:M$50,MATCH($T83,Reliability!$C$23:$C$50,0)),0),0)*$H83*$X83*$Y83),$D83)*$R83","v":131.0008917778176},{"$f":"MIN((IFERROR(IF(AND($V83<=AI$1,$W83>=AI$1),INDEX(Reliability!N$23:N$50,MATCH($S83,Reliability!$C$23:$C$50,0)),0),0)*IF($T83=\"n/a\",$D83*$Y83,$G83)+IFERROR(IF(AND($V83<=AI$1,$W83>=AI$1),INDEX(Reliability!N$23:N$50,MATCH($T83,Reliability!$C$23:$C$50,0)),0),0)*$H83*$X83*$Y83),$D83)*$R83","v":0},{"$f":"MIN((IFERROR(IF(AND($V83<=AJ$1,$W83>=AJ$1),INDEX(Reliability!O$23:O$50,MATCH($S83,Reliability!$C$23:$C$50,0)),0),0)*IF($T83=\"n/a\",$D83*$Y83,$G83)+IFERROR(IF(AND($V83<=AJ$1,$W83>=AJ$1),INDEX(Reliability!O$23:O$50,MATCH($T83,Reliability!$C$23:$C$50,0)),0),0)*$H83*$X83*$Y83),$D83)*$R83","v":0},{"$f":"MIN((IFERROR(IF(AND($V83<=AK$1,$W83>=AK$1),INDEX(Reliability!P$23:P$50,MATCH($S83,Reliability!$C$23:$C$50,0)),0),0)*IF($T83=\"n/a\",$D83*$Y83,$G83)+IFERROR(IF(AND($V83<=AK$1,$W83>=AK$1),INDEX(Reliability!P$23:P$50,MATCH($T83,Reliability!$C$23:$C$50,0)),0),0)*$H83*$X83*$Y83),$D83)*$R83","v":0}]
[null,{"$f":"unique_contracts!B84","v":"_EXISTING_GENERIC_COMBINED_CYCLE"},{"$f":"unique_contracts!D84","v":"PlannedExisting"},{"$f":"unique_contracts!J84","v":143.66081763425439},{"$f":"unique_contracts!M84","v":0},{"$f":"unique_contracts!N84","v":0},{"$f":"unique_contracts!P84","v":0},{"$f":"unique_contracts!R84","v":0},{"$f":"unique_contracts!V84","v":0},null,{"$f":"unique_contracts!AM84","v":2033},{"$f":"unique_contracts!AN84","v":1},{"$f":"unique_contracts!AO84","v":1},{"$f":"unique_contracts!AP84","v":2033},{"$f":"unique_contracts!AQ84","v":12},{"$f":"unique_contracts!AR84","v":31},{"$f":"unique_contracts!BP84","v":"CapacityOnly"},1,{"$f":"IFERROR(IF(AND(I84>0,E84=\"NotHybrid\"),_xlfn.CONCAT(MAX(MIN(ROUNDDOWN(I84/D84,0),8),4),INDEX(resources!$G:$G,MATCH(B84,resources!$A:$A,0))),INDEX(resources!$G:$G,MATCH(B84,resources!$A:$A,0))),\"n/a\")","v":"gas_cc"},"n/a","gas_cc",2033,2033,1,1,{"$f":"MIN((IFERROR(IF(AND($V84<=Z$1,$W84>=Z$1),INDEX(Reliability!E$23:E$50,MATCH($S84,Reliability!$C$23:$C$50,0)),0),0)*IF($T84=\"n/a\",$D84*$Y84,$G84)+IFERROR(IF(AND($V84<=Z$1,$W84>=Z$1),INDEX(Reliability!E$23:E$50,MATCH($T84,Reliability!$C$23:$C$50,0)),0),0)*$H84*$X84*$Y84),$D84)*$R84","v":0},{"$f":"MIN((IFERROR(IF(AND($V84<=AA$1,$W84>=AA$1),INDEX(Reliability!F$23:F$50,MATCH($S84,Reliability!$C$23:$C$50,0)),0),0)*IF($T84=\"n/a\",$D84*$Y84,$G84)+IFERROR(IF(AND($V84<=AA$1,$W84>=AA$1),INDEX(Reliability!F$23:F$50,MATCH($T84,Reliability!$C$23:$C$50,0)),0),0)*$H84*$X84*$Y84),$D84)*$R84","v":0},{"$f":"MIN((IFERROR(IF(AND($V84<=AB$1,$W84>=AB$1),INDEX(Reliability!G$23:G$50,MATCH($S84,Reliability!$C$23:$C$50,0)),0),0)*IF($T84=\"n/a\",$D84*$Y84,$G84)+IFERROR(IF(AND($V84<=AB$1,$W84>=AB$1),INDEX(Reliability!G$23:G$50,MATCH($T84,Reliability!$C$23:$C$50,0)),0),0)*$H84*$X84*$Y84),$D84)*$R84","v":0},{"$f":"MIN((IFERROR(IF(AND($V84<=AC$1,$W84>=AC$1),INDEX(Reliability!H$23:H$50,MATCH($S84,Reliability!$C$23:$C$50,0)),0),0)*IF($T84=\"n/a\",$D84*$Y84,$G84)+IFERROR(IF(AND($V84<=AC$1,$W84>=AC$1),INDEX(Reliability!H$23:H$50,MATCH($T84,Reliability!$C$23:$C$50,0)),0),0)*$H84*$X84*$Y84),$D84)*$R84","v":0},{"$f":"MIN((IFERROR(IF(AND($V84<=AD$1,$W84>=AD$1),INDEX(Reliability!I$23:I$50,MATCH($S84,Reliability!$C$23:$C$50,0)),0),0)*IF($T84=\"n/a\",$D84*$Y84,$G84)+IFERROR(IF(AND($V84<=AD$1,$W84>=AD$1),INDEX(Reliability!I$23:I$50,MATCH($T84,Reliability!$C$23:$C$50,0)),0),0)*$H84*$X84*$Y84),$D84)*$R84","v":0},{"$f":"MIN((IFERROR(IF(AND($V84<=AE$1,$W84>=AE$1),INDEX(Reliability!J$23:J$50,MATCH($S84,Reliability!$C$23:$C$50,0)),0),0)*IF($T84=\"n/a\",$D84*$Y84,$G84)+IFERROR(IF(AND($V84<=AE$1,$W84>=AE$1),INDEX(Reliability!J$23:J$50,MATCH($T84,Reliability!$C$23:$C$50,0)),0),0)*$H84*$X84*$Y84),$D84)*$R84","v":0},{"$f":"MIN((IFERROR(IF(AND($V84<=AF$1,$W84>=AF$1),INDEX(Reliability!K$23:K$50,MATCH($S84,Reliability!$C$23:$C$50,0)),0),0)*IF($T84=\"n/a\",$D84*$Y84,$G84)+IFERROR(IF(AND($V84<=AF$1,$W84>=AF$1),INDEX(Reliability!K$23:K$50,MATCH($T84,Reliability!$C$23:$C$50,0)),0),0)*$H84*$X84*$Y84),$D84)*$R84","v":0},{"$f":"MIN((IFERROR(IF(AND($V84<=AG$1,$W84>=AG$1),INDEX(Reliability!L$23:L$50,MATCH($S84,Reliability!$C$23:$C$50,0)),0),0)*IF($T84=\"n/a\",$D84*$Y84,$G84)+IFERROR(IF(AND($V84<=AG$1,$W84>=AG$1),INDEX(Reliability!L$23:L$50,MATCH($T84,Reliability!$C$23:$C$50,0)),0),0)*$H84*$X84*$Y84),$D84)*$R84","v":0},{"$f":"MIN((IFERROR(IF(AND($V84<=AH$1,$W84>=AH$1),INDEX(Reliability!M$23:M$50,MATCH($S84,Reliability!$C$23:$C$50,0)),0),0)*IF($T84=\"n/a\",$D84*$Y84,$G84)+IFERROR(IF(AND($V84<=AH$1,$W84>=AH$1),INDEX(Reliability!M$23:M$50,MATCH($T84,Reliability!$C$23:$C$50,0)),0),0)*$H84*$X84*$Y84),$D84)*$R84","v":0},{"$f":"MIN((IFERROR(IF(AND($V84<=AI$1,$W84>=AI$1),INDEX(Reliability!N$23:N$50,MATCH($S84,Reliability!$C$23:$C$50,0)),0),0)*IF($T84=\"n/a\",$D84*$Y84,$G84)+IFERROR(IF(AND($V84<=AI$1,$W84>=AI$1),INDEX(Reliability!N$23:N$50,MATCH($T84,Reliability!$C$23:$C$50,0)),0),0)*$H84*$X84*$Y84),$D84)*$R84","v":127.54802692856379},{"$f":"MIN((IFERROR(IF(AND($V84<=AJ$1,$W84>=AJ$1),INDEX(Reliability!O$23:O$50,MATCH($S84,Reliability!$C$23:$C$50,0)),0),0)*IF($T84=\"n/a\",$D84*$Y84,$G84)+IFERROR(IF(AND($V84<=AJ$1,$W84>=AJ$1),INDEX(Reliability!O$23:O$50,MATCH($T84,Reliability!$C$23:$C$50,0)),0),0)*$H84*$X84*$Y84),$D84)*$R84","v":0},{"$f":"MIN((IFERROR(IF(AND($V84<=AK$1,$W84>=AK$1),INDEX(Reliability!P$23:P$50,MATCH($S84,Reliability!$C$23:$C$50,0)),0),0)*IF($T84=\"n/a\",$D84*$Y84,$G84)+IFERROR(IF(AND($V84<=AK$1,$W84>=AK$1),INDEX(Reliability!P$23:P$50,MATCH($T84,Reliability!$C$23:$C$50,0)),0),0)*$H84*$X84*$Y84),$D84)*$R84","v":0}]
[null,{"$f":"unique_contracts!B85","v":"_EXISTING_GENERIC_COMBINED_CYCLE"},{"$f":"unique_contracts!D85","v":"PlannedExisting"},{"$f":"unique_contracts!J85","v":97.814437596937907},{"$f":"unique_contracts!M85","v":0},{"$f":"unique_contracts!N85","v":0},{"$f":"unique_contracts!P85","v":0},{"$f":"unique_contracts!R85","v":0},{"$f":"unique_contracts!V85","v":0},null,{"$f":"unique_contracts!AM85","v":2034},{"$f":"unique_contracts!AN85","v":1},{"$f":"unique_contracts!AO85","v":1},{"$f":"unique_contracts!AP85","v":2034},{"$f":"unique_contracts!AQ85","v":12},{"$f":"unique_contracts!AR85","v":31},{"$f":"unique_contracts!BP85","v":"CapacityOnly"},1,{"$f":"IFERROR(IF(AND(I85>0,E85=\"NotHybrid\"),_xlfn.CONCAT(MAX(MIN(ROUNDDOWN(I85/D85,0),8),4),INDEX(resources!$G:$G,MATCH(B85,resources!$A:$A,0))),INDEX(resources!$G:$G,MATCH(B85,resources!$A:$A,0))),\"n/a\")","v":"gas_cc"},"n/a","gas_cc",2034,2034,1,1,{"$f":"MIN((IFERROR(IF(AND($V85<=Z$1,$W85>=Z$1),INDEX(Reliability!E$23:E$50,MATCH($S85,Reliability!$C$23:$C$50,0)),0),0)*IF($T85=\"n/a\",$D85*$Y85,$G85)+IFERROR(IF(AND($V85<=Z$1,$W85>=Z$1),INDEX(Reliability!E$23:E$50,MATCH($T85,Reliability!$C$23:$C$50,0)),0),0)*$H85*$X85*$Y85),$D85)*$R85","v":0},{"$f":"MIN((IFERROR(IF(AND($V85<=AA$1,$W85>=AA$1),INDEX(Reliability!F$23:F$50,MATCH($S85,Reliability!$C$23:$C$50,0)),0),0)*IF($T85=\"n/a\",$D85*$Y85,$G85)+IFERROR(IF(AND($V85<=AA$1,$W85>=AA$1),INDEX(Reliability!F$23:F$50,MATCH($T85,Reliability!$C$23:$C$50,0)),0),0)*$H85*$X85*$Y85),$D85)*$R85","v":0},{"$f":"MIN((IFERROR(IF(AND($V85<=AB$1,$W85>=AB$1),INDEX(Reliability!G$23:G$50,MATCH($S85,Reliability!$C$23:$C$50,0)),0),0)*IF($T85=\"n/a\",$D85*$Y85,$G85)+IFERROR(IF(AND($V85<=AB$1,$W85>=AB$1),INDEX(Reliability!G$23:G$50,MATCH($T85,Reliability!$C$23:$C$50,0)),0),0)*$H85*$X85*$Y85),$D85)*$R85","v":0},{"$f":"MIN((IFERROR(IF(AND($V85<=AC$1,$W85>=AC$1),INDEX(Reliability!H$23:H$50,MATCH($S85,Reliability!$C$23:$C$50,0)),0),0)*IF($T85=\"n/a\",$D85*$Y85,$G85)+IFERROR(IF(AND($V85<=AC$1,$W85>=AC$1),INDEX(Reliability!H$23:H$50,MATCH($T85,Reliability!$C$23:$C$50,0)),0),0)*$H85*$X85*$Y85),$D85)*$R85","v":0},{"$f":"MIN((IFERROR(IF(AND($V85<=AD$1,$W85>=AD$1),INDEX(Reliability!I$23:I$50,MATCH($S85,Reliability!$C$23:$C$50,0)),0),0)*IF($T85=\"n/a\",$D85*$Y85,$G85)+IFERROR(IF(AND($V85<=AD$1,$W85>=AD$1),INDEX(Reliability!I$23:I$50,MATCH($T85,Reliability!$C$23:$C$50,0)),0),0)*$H85*$X85*$Y85),$D85)*$R85","v":0},{"$f":"MIN((IFERROR(IF(AND($V85<=AE$1,$W85>=AE$1),INDEX(Reliability!J$23:J$50,MATCH($S85,Reliability!$C$23:$C$50,0)),0),0)*IF($T85=\"n/a\",$D85*$Y85,$G85)+IFERROR(IF(AND($V85<=AE$1,$W85>=AE$1),INDEX(Reliability!J$23:J$50,MATCH($T85,Reliability!$C$23:$C$50,0)),0),0)*$H85*$X85*$Y85),$D85)*$R85","v":0},{"$f":"MIN((IFERROR(IF(AND($V85<=AF$1,$W85>=AF$1),INDEX(Reliability!K$23:K$50,MATCH($S85,Reliability!$C$23:$C$50,0)),0),0)*IF($T85=\"n/a\",$D85*$Y85,$G85)+IFERROR(IF(AND($V85<=AF$1,$W85>=AF$1),INDEX(Reliability!K$23:K$50,MATCH($T85,Reliability!$C$23:$C$50,0)),0),0)*$H85*$X85*$Y85),$D85)*$R85","v":0},{"$f":"MIN((IFERROR(IF(AND($V85<=AG$1,$W85>=AG$1),INDEX(Reliability!L$23:L$50,MATCH($S85,Reliability!$C$23:$C$50,0)),0),0)*IF($T85=\"n/a\",$D85*$Y85,$G85)+IFERROR(IF(AND($V85<=AG$1,$W85>=AG$1),INDEX(Reliability!L$23:L$50,MATCH($T85,Reliability!$C$23:$C$50,0)),0),0)*$H85*$X85*$Y85),$D85)*$R85","v":0},{"$f":"MIN((IFERROR(IF(AND($V85<=AH$1,$W85>=AH$1),INDEX(Reliability!M$23:M$50,MATCH($S85,Reliability!$C$23:$C$50,0)),0),0)*IF($T85=\"n/a\",$D85*$Y85,$G85)+IFERROR(IF(AND($V85<=AH$1,$W85>=AH$1),INDEX(Reliability!M$23:M$50,MATCH($T85,Reliability!$C$23:$C$50,0)),0),0)*$H85*$X85*$Y85),$D85)*$R85","v":0},{"$f":"MIN((IFERROR(IF(AND($V85<=AI$1,$W85>=AI$1),INDEX(Reliability!N$23:N$50,MATCH($S85,Reliability!$C$23:$C$50,0)),0),0)*IF($T85=\"n/a\",$D85*$Y85,$G85)+IFERROR(IF(AND($V85<=AI$1,$W85>=AI$1),INDEX(Reliability!N$23:N$50,MATCH($T85,Reliability!$C$23:$C$50,0)),0),0)*$H85*$X85*$Y85),$D85)*$R85","v":0},{"$f":"MIN((IFERROR(IF(AND($V85<=AJ$1,$W85>=AJ$1),INDEX(Reliability!O$23:O$50,MATCH($S85,Reliability!$C$23:$C$50,0)),0),0)*IF($T85=\"n/a\",$D85*$Y85,$G85)+IFERROR(IF(AND($V85<=AJ$1,$W85>=AJ$1),INDEX(Reliability!O$23:O$50,MATCH($T85,Reliability!$C$23:$C$50,0)),0),0)*$H85*$X85*$Y85),$D85)*$R85","v":88.05943258030922},{"$f":"MIN((IFERROR(IF(AND($V85<=AK$1,$W85>=AK$1),INDEX(Reliability!P$23:P$50,MATCH($S85,Reliability!$C$23:$C$50,0)),0),0)*IF($T85=\"n/a\",$D85*$Y85,$G85)+IFERROR(IF(AND($V85<=AK$1,$W85>=AK$1),INDEX(Reliability!P$23:P$50,MATCH($T85,Reliability!$C$23:$C$50,0)),0),0)*$H85*$X85*$Y85),$D85)*$R85","v":0}]
[null,{"$f":"unique_contracts!B86","v":"_EXISTING_GENERIC_COMBINED_CYCLE"},{"$f":"unique_contracts!D86","v":"PlannedExisting"},{"$f":"unique_contracts!J86","v":47.748949873973636},{"$f":"unique_contracts!M86","v":0},{"$f":"unique_contracts!N86","v":0},{"$f":"unique_contracts!P86","v":0},{"$f":"unique_contracts!R86","v":0},{"$f":"unique_contracts!V86","v":0},null,{"$f":"unique_contracts!AM86","v":2035},{"$f":"unique_contracts!AN86","v":1},{"$f":"unique_contracts!AO86","v":1},{"$f":"unique_contracts!AP86","v":2035},{"$f":"unique_contracts!AQ86","v":12},{"$f":"unique_contracts!AR86","v":31},{"$f":"unique_contracts!BP86","v":"CapacityOnly"},1,{"$f":"IFERROR(IF(AND(I86>0,E86=\"NotHybrid\"),_xlfn.CONCAT(MAX(MIN(ROUNDDOWN(I86/D86,0),8),4),INDEX(resources!$G:$G,MATCH(B86,resources!$A:$A,0))),INDEX(resources!$G:$G,MATCH(B86,resources!$A:$A,0))),\"n/a\")","v":"gas_cc"},"n/a","gas_cc",2035,2035,1,1,{"$f":"MIN((IFERROR(IF(AND($V86<=Z$1,$W86>=Z$1),INDEX(Reliability!E$23:E$50,MATCH($S86,Reliability!$C$23:$C$50,0)),0),0)*IF($T86=\"n/a\",$D86*$Y86,$G86)+IFERROR(IF(AND($V86<=Z$1,$W86>=Z$1),INDEX(Reliability!E$23:E$50,MATCH($T86,Reliability!$C$23:$C$50,0)),0),0)*$H86*$X86*$Y86),$D86)*$R86","v":0},{"$f":"MIN((IFERROR(IF(AND($V86<=AA$1,$W86>=AA$1),INDEX(Reliability!F$23:F$50,MATCH($S86,Reliability!$C$23:$C$50,0)),0),0)*IF($T86=\"n/a\",$D86*$Y86,$G86)+IFERROR(IF(AND($V86<=AA$1,$W86>=AA$1),INDEX(Reliability!F$23:F$50,MATCH($T86,Reliability!$C$23:$C$50,0)),0),0)*$H86*$X86*$Y86),$D86)*$R86","v":0},{"$f":"MIN((IFERROR(IF(AND($V86<=AB$1,$W86>=AB$1),INDEX(Reliability!G$23:G$50,MATCH($S86,Reliability!$C$23:$C$50,0)),0),0)*IF($T86=\"n/a\",$D86*$Y86,$G86)+IFERROR(IF(AND($V86<=AB$1,$W86>=AB$1),INDEX(Reliability!G$23:G$50,MATCH($T86,Reliability!$C$23:$C$50,0)),0),0)*$H86*$X86*$Y86),$D86)*$R86","v":0},{"$f":"MIN((IFERROR(IF(AND($V86<=AC$1,$W86>=AC$1),INDEX(Reliability!H$23:H$50,MATCH($S86,Reliability!$C$23:$C$50,0)),0),0)*IF($T86=\"n/a\",$D86*$Y86,$G86)+IFERROR(IF(AND($V86<=AC$1,$W86>=AC$1),INDEX(Reliability!H$23:H$50,MATCH($T86,Reliability!$C$23:$C$50,0)),0),0)*$H86*$X86*$Y86),$D86)*$R86","v":0},{"$f":"MIN((IFERROR(IF(AND($V86<=AD$1,$W86>=AD$1),INDEX(Reliability!I$23:I$50,MATCH($S86,Reliability!$C$23:$C$50,0)),0),0)*IF($T86=\"n/a\",$D86*$Y86,$G86)+IFERROR(IF(AND($V86<=AD$1,$W86>=AD$1),INDEX(Reliability!I$23:I$50,MATCH($T86,Reliability!$C$23:$C$50,0)),0),0)*$H86*$X86*$Y86),$D86)*$R86","v":0},{"$f":"MIN((IFERROR(IF(AND($V86<=AE$1,$W86>=AE$1),INDEX(Reliability!J$23:J$50,MATCH($S86,Reliability!$C$23:$C$50,0)),0),0)*IF($T86=\"n/a\",$D86*$Y86,$G86)+IFERROR(IF(AND($V86<=AE$1,$W86>=AE$1),INDEX(Reliability!J$23:J$50,MATCH($T86,Reliability!$C$23:$C$50,0)),0),0)*$H86*$X86*$Y86),$D86)*$R86","v":0},{"$f":"MIN((IFERROR(IF(AND($V86<=AF$1,$W86>=AF$1),INDEX(Reliability!K$23:K$50,MATCH($S86,Reliability!$C$23:$C$50,0)),0),0)*IF($T86=\"n/a\",$D86*$Y86,$G86)+IFERROR(IF(AND($V86<=AF$1,$W86>=AF$1),INDEX(Reliability!K$23:K$50,MATCH($T86,Reliability!$C$23:$C$50,0)),0),0)*$H86*$X86*$Y86),$D86)*$R86","v":0},{"$f":"MIN((IFERROR(IF(AND($V86<=AG$1,$W86>=AG$1),INDEX(Reliability!L$23:L$50,MATCH($S86,Reliability!$C$23:$C$50,0)),0),0)*IF($T86=\"n/a\",$D86*$Y86,$G86)+IFERROR(IF(AND($V86<=AG$1,$W86>=AG$1),INDEX(Reliability!L$23:L$50,MATCH($T86,Reliability!$C$23:$C$50,0)),0),0)*$H86*$X86*$Y86),$D86)*$R86","v":0},{"$f":"MIN((IFERROR(IF(AND($V86<=AH$1,$W86>=AH$1),INDEX(Reliability!M$23:M$50,MATCH($S86,Reliability!$C$23:$C$50,0)),0),0)*IF($T86=\"n/a\",$D86*$Y86,$G86)+IFERROR(IF(AND($V86<=AH$1,$W86>=AH$1),INDEX(Reliability!M$23:M$50,MATCH($T86,Reliability!$C$23:$C$50,0)),0),0)*$H86*$X86*$Y86),$D86)*$R86","v":0},{"$f":"MIN((IFERROR(IF(AND($V86<=AI$1,$W86>=AI$1),INDEX(Reliability!N$23:N$50,MATCH($S86,Reliability!$C$23:$C$50,0)),0),0)*IF($T86=\"n/a\",$D86*$Y86,$G86)+IFERROR(IF(AND($V86<=AI$1,$W86>=AI$1),INDEX(Reliability!N$23:N$50,MATCH($T86,Reliability!$C$23:$C$50,0)),0),0)*$H86*$X86*$Y86),$D86)*$R86","v":0},{"$f":"MIN((IFERROR(IF(AND($V86<=AJ$1,$W86>=AJ$1),INDEX(Reliability!O$23:O$50,MATCH($S86,Reliability!$C$23:$C$50,0)),0),0)*IF($T86=\"n/a\",$D86*$Y86,$G86)+IFERROR(IF(AND($V86<=AJ$1,$W86>=AJ$1),INDEX(Reliability!O$23:O$50,MATCH($T86,Reliability!$C$23:$C$50,0)),0),0)*$H86*$X86*$Y86),$D86)*$R86","v":0},{"$f":"MIN((IFERROR(IF(AND($V86<=AK$1,$W86>=AK$1),INDEX(Reliability!P$23:P$50,MATCH($S86,Reliability!$C$23:$C$50,0)),0),0)*IF($T86=\"n/a\",$D86*$Y86,$G86)+IFERROR(IF(AND($V86<=AK$1,$W86>=AK$1),INDEX(Reliability!P$23:P$50,MATCH($T86,Reliability!$C$23:$C$50,0)),0),0)*$H86*$X86*$Y86),$D86)*$R86","v":43.580426043477502}]
[null,{"$f":"unique_contracts!B87","v":"_NEW_GENERIC_SOLAR_2AXIS"},{"$f":"unique_contracts!D87","v":"PlannedNew"},null,null,null,null,null,null,null,{"$f":"unique_contracts!AM87","v":2024},{"$f":"unique_contracts!AN87","v":6},{"$f":"unique_contracts!AO87","v":1},null,null,null,{"$f":"unique_contracts!BP87","v":"EnergyCapacity"},1,{"$f":"IFERROR(IF(AND(I87>0,E87=\"NotHybrid\"),_xlfn.CONCAT(MAX(MIN(ROUNDDOWN(I87/D87,0),8),4),INDEX(resources!$G:$G,MATCH(B87,resources!$A:$A,0))),INDEX(resources!$G:$G,MATCH(B87,resources!$A:$A,0))),\"n/a\")","v":"utility_pv"},null,null,2024,null,1,1,{"$f":"MIN((IFERROR(IF(AND($V87<=Z$1,$W87>=Z$1),INDEX(Reliability!E$23:E$50,MATCH($S87,Reliability!$C$23:$C$50,0)),0),0)*IF($T87=\"n/a\",$D87*$Y87,$G87)+IFERROR(IF(AND($V87<=Z$1,$W87>=Z$1),INDEX(Reliability!E$23:E$50,MATCH($T87,Reliability!$C$23:$C$50,0)),0),0)*$H87*$X87*$Y87),$D87)*$R87","v":0},{"$f":"MIN((IFERROR(IF(AND($V87<=AA$1,$W87>=AA$1),INDEX(Reliability!F$23:F$50,MATCH($S87,Reliability!$C$23:$C$50,0)),0),0)*IF($T87=\"n/a\",$D87*$Y87,$G87)+IFERROR(IF(AND($V87<=AA$1,$W87>=AA$1),INDEX(Reliability!F$23:F$50,MATCH($T87,Reliability!$C$23:$C$50,0)),0),0)*$H87*$X87*$Y87),$D87)*$R87","v":0},{"$f":"MIN((IFERROR(IF(AND($V87<=AB$1,$W87>=AB$1),INDEX(Reliability!G$23:G$50,MATCH($S87,Reliability!$C$23:$C$50,0)),0),0)*IF($T87=\"n/a\",$D87*$Y87,$G87)+IFERROR(IF(AND($V87<=AB$1,$W87>=AB$1),INDEX(Reliability!G$23:G$50,MATCH($T87,Reliability!$C$23:$C$50,0)),0),0)*$H87*$X87*$Y87),$D87)*$R87","v":0},{"$f":"MIN((IFERROR(IF(AND($V87<=AC$1,$W87>=AC$1),INDEX(Reliability!H$23:H$50,MATCH($S87,Reliability!$C$23:$C$50,0)),0),0)*IF($T87=\"n/a\",$D87*$Y87,$G87)+IFERROR(IF(AND($V87<=AC$1,$W87>=AC$1),INDEX(Reliability!H$23:H$50,MATCH($T87,Reliability!$C$23:$C$50,0)),0),0)*$H87*$X87*$Y87),$D87)*$R87","v":0},{"$f":"MIN((IFERROR(IF(AND($V87<=AD$1,$W87>=AD$1),INDEX(Reliability!I$23:I$50,MATCH($S87,Reliability!$C$23:$C$50,0)),0),0)*IF($T87=\"n/a\",$D87*$Y87,$G87)+IFERROR(IF(AND($V87<=AD$1,$W87>=AD$1),INDEX(Reliability!I$23:I$50,MATCH($T87,Reliability!$C$23:$C$50,0)),0),0)*$H87*$X87*$Y87),$D87)*$R87","v":0},{"$f":"MIN((IFERROR(IF(AND($V87<=AE$1,$W87>=AE$1),INDEX(Reliability!J$23:J$50,MATCH($S87,Reliability!$C$23:$C$50,0)),0),0)*IF($T87=\"n/a\",$D87*$Y87,$G87)+IFERROR(IF(AND($V87<=AE$1,$W87>=AE$1),INDEX(Reliability!J$23:J$50,MATCH($T87,Reliability!$C$23:$C$50,0)),0),0)*$H87*$X87*$Y87),$D87)*$R87","v":0},{"$f":"MIN((IFERROR(IF(AND($V87<=AF$1,$W87>=AF$1),INDEX(Reliability!K$23:K$50,MATCH($S87,Reliability!$C$23:$C$50,0)),0),0)*IF($T87=\"n/a\",$D87*$Y87,$G87)+IFERROR(IF(AND($V87<=AF$1,$W87>=AF$1),INDEX(Reliability!K$23:K$50,MATCH($T87,Reliability!$C$23:$C$50,0)),0),0)*$H87*$X87*$Y87),$D87)*$R87","v":0},{"$f":"MIN((IFERROR(IF(AND($V87<=AG$1,$W87>=AG$1),INDEX(Reliability!L$23:L$50,MATCH($S87,Reliability!$C$23:$C$50,0)),0),0)*IF($T87=\"n/a\",$D87*$Y87,$G87)+IFERROR(IF(AND($V87<=AG$1,$W87>=AG$1),INDEX(Reliability!L$23:L$50,MATCH($T87,Reliability!$C$23:$C$50,0)),0),0)*$H87*$X87*$Y87),$D87)*$R87","v":0},{"$f":"MIN((IFERROR(IF(AND($V87<=AH$1,$W87>=AH$1),INDEX(Reliability!M$23:M$50,MATCH($S87,Reliability!$C$23:$C$50,0)),0),0)*IF($T87=\"n/a\",$D87*$Y87,$G87)+IFERROR(IF(AND($V87<=AH$1,$W87>=AH$1),INDEX(Reliability!M$23:M$50,MATCH($T87,Reliability!$C$23:$C$50,0)),0),0)*$H87*$X87*$Y87),$D87)*$R87","v":0},{"$f":"MIN((IFERROR(IF(AND($V87<=AI$1,$W87>=AI$1),INDEX(Reliability!N$23:N$50,MATCH($S87,Reliability!$C$23:$C$50,0)),0),0)*IF($T87=\"n/a\",$D87*$Y87,$G87)+IFERROR(IF(AND($V87<=AI$1,$W87>=AI$1),INDEX(Reliability!N$23:N$50,MATCH($T87,Reliability!$C$23:$C$50,0)),0),0)*$H87*$X87*$Y87),$D87)*$R87","v":0},{"$f":"MIN((IFERROR(IF(AND($V87<=AJ$1,$W87>=AJ$1),INDEX(Reliability!O$23:O$50,MATCH($S87,Reliability!$C$23:$C$50,0)),0),0)*IF($T87=\"n/a\",$D87*$Y87,$G87)+IFERROR(IF(AND($V87<=AJ$1,$W87>=AJ$1),INDEX(Reliability!O$23:O$50,MATCH($T87,Reliability!$C$23:$C$50,0)),0),0)*$H87*$X87*$Y87),$D87)*$R87","v":0},{"$f":"MIN((IFERROR(IF(AND($V87<=AK$1,$W87>=AK$1),INDEX(Reliability!P$23:P$50,MATCH($S87,Reliability!$C$23:$C$50,0)),0),0)*IF($T87=\"n/a\",$D87*$Y87,$G87)+IFERROR(IF(AND($V87<=AK$1,$W87>=AK$1),INDEX(Reliability!P$23:P$50,MATCH($T87,Reliability!$C$23:$C$50,0)),0),0)*$H87*$X87*$Y87),$D87)*$R87","v":0}]
[null,{"$f":"unique_contracts!B88","v":"_EXISTING_GENERIC_COMBINED_CYCLE"},{"$f":"unique_contracts!D88","v":"Online"},{"$f":"unique_contracts!J88","v":14.135999999999999},{"$f":"unique_contracts!M88","v":"NotHybrid"},{"$f":"unique_contracts!N88","v":0},{"$f":"unique_contracts!P88","v":0},{"$f":"unique_contracts!R88","v":0},{"$f":"unique_contracts!V88","v":0},null,{"$f":"unique_contracts!AM88","v":2024},{"$f":"unique_contracts!AN88","v":1},{"$f":"unique_contracts!AO88","v":1},{"$f":"unique_contracts!AP88","v":2026},{"$f":"unique_contracts!AQ88","v":12},{"$f":"unique_contracts!AR88","v":31},{"$f":"unique_contracts!BP88","v":"EnergyCapacity"},1,{"$f":"IFERROR(IF(AND(I88>0,E88=\"NotHybrid\"),_xlfn.CONCAT(MAX(MIN(ROUNDDOWN(I88/D88,0),8),4),INDEX(resources!$G:$G,MATCH(B88,resources!$A:$A,0))),INDEX(resources!$G:$G,MATCH(B88,resources!$A:$A,0))),\"n/a\")","v":"gas_cc"},"n/a","gas_cc",2024,2026,1,1,{"$f":"MIN((IFERROR(IF(AND($V88<=Z$1,$W88>=Z$1),INDEX(Reliability!E$23:E$50,MATCH($S88,Reliability!$C$23:$C$50,0)),0),0)*IF($T88=\"n/a\",$D88*$Y88,$G88)+IFERROR(IF(AND($V88<=Z$1,$W88>=Z$1),INDEX(Reliability!E$23:E$50,MATCH($T88,Reliability!$C$23:$C$50,0)),0),0)*$H88*$X88*$Y88),$D88)*$R88","v":11.989414187328405},{"$f":"MIN((IFERROR(IF(AND($V88<=AA$1,$W88>=AA$1),INDEX(Reliability!F$23:F$50,MATCH($S88,Reliability!$C$23:$C$50,0)),0),0)*IF($T88=\"n/a\",$D88*$Y88,$G88)+IFERROR(IF(AND($V88<=AA$1,$W88>=AA$1),INDEX(Reliability!F$23:F$50,MATCH($T88,Reliability!$C$23:$C$50,0)),0),0)*$H88*$X88*$Y88),$D88)*$R88","v":12.194263067728214},{"$f":"MIN((IFERROR(IF(AND($V88<=AB$1,$W88>=AB$1),INDEX(Reliability!G$23:G$50,MATCH($S88,Reliability!$C$23:$C$50,0)),0),0)*IF($T88=\"n/a\",$D88*$Y88,$G88)+IFERROR(IF(AND($V88<=AB$1,$W88>=AB$1),INDEX(Reliability!G$23:G$50,MATCH($T88,Reliability!$C$23:$C$50,0)),0),0)*$H88*$X88*$Y88),$D88)*$R88","v":12.399111948128024},{"$f":"MIN((IFERROR(IF(AND($V88<=AC$1,$W88>=AC$1),INDEX(Reliability!H$23:H$50,MATCH($S88,Reliability!$C$23:$C$50,0)),0),0)*IF($T88=\"n/a\",$D88*$Y88,$G88)+IFERROR(IF(AND($V88<=AC$1,$W88>=AC$1),INDEX(Reliability!H$23:H$50,MATCH($T88,Reliability!$C$23:$C$50,0)),0),0)*$H88*$X88*$Y88),$D88)*$R88","v":0},{"$f":"MIN((IFERROR(IF(AND($V88<=AD$1,$W88>=AD$1),INDEX(Reliability!I$23:I$50,MATCH($S88,Reliability!$C$23:$C$50,0)),0),0)*IF($T88=\"n/a\",$D88*$Y88,$G88)+IFERROR(IF(AND($V88<=AD$1,$W88>=AD$1),INDEX(Reliability!I$23:I$50,MATCH($T88,Reliability!$C$23:$C$50,0)),0),0)*$H88*$X88*$Y88),$D88)*$R88","v":0},{"$f":"MIN((IFERROR(IF(AND($V88<=AE$1,$W88>=AE$1),INDEX(Reliability!J$23:J$50,MATCH($S88,Reliability!$C$23:$C$50,0)),0),0)*IF($T88=\"n/a\",$D88*$Y88,$G88)+IFERROR(IF(AND($V88<=AE$1,$W88>=AE$1),INDEX(Reliability!J$23:J$50,MATCH($T88,Reliability!$C$23:$C$50,0)),0),0)*$H88*$X88*$Y88),$D88)*$R88","v":0},{"$f":"MIN((IFERROR(IF(AND($V88<=AF$1,$W88>=AF$1),INDEX(Reliability!K$23:K$50,MATCH($S88,Reliability!$C$23:$C$50,0)),0),0)*IF($T88=\"n/a\",$D88*$Y88,$G88)+IFERROR(IF(AND($V88<=AF$1,$W88>=AF$1),INDEX(Reliability!K$23:K$50,MATCH($T88,Reliability!$C$23:$C$50,0)),0),0)*$H88*$X88*$Y88),$D88)*$R88","v":0},{"$f":"MIN((IFERROR(IF(AND($V88<=AG$1,$W88>=AG$1),INDEX(Reliability!L$23:L$50,MATCH($S88,Reliability!$C$23:$C$50,0)),0),0)*IF($T88=\"n/a\",$D88*$Y88,$G88)+IFERROR(IF(AND($V88<=AG$1,$W88>=AG$1),INDEX(Reliability!L$23:L$50,MATCH($T88,Reliability!$C$23:$C$50,0)),0),0)*$H88*$X88*$Y88),$D88)*$R88","v":0},{"$f":"MIN((IFERROR(IF(AND($V88<=AH$1,$W88>=AH$1),INDEX(Reliability!M$23:M$50,MATCH($S88,Reliability!$C$23:$C$50,0)),0),0)*IF($T88=\"n/a\",$D88*$Y88,$G88)+IFERROR(IF(AND($V88<=AH$1,$W88>=AH$1),INDEX(Reliability!M$23:M$50,MATCH($T88,Reliability!$C$23:$C$50,0)),0),0)*$H88*$X88*$Y88),$D88)*$R88","v":0},{"$f":"MIN((IFERROR(IF(AND($V88<=AI$1,$W88>=AI$1),INDEX(Reliability!N$23:N$50,MATCH($S88,Reliability!$C$23:$C$50,0)),0),0)*IF($T88=\"n/a\",$D88*$Y88,$G88)+IFERROR(IF(AND($V88<=AI$1,$W88>=AI$1),INDEX(Reliability!N$23:N$50,MATCH($T88,Reliability!$C$23:$C$50,0)),0),0)*$H88*$X88*$Y88),$D88)*$R88","v":0},{"$f":"MIN((IFERROR(IF(AND($V88<=AJ$1,$W88>=AJ$1),INDEX(Reliability!O$23:O$50,MATCH($S88,Reliability!$C$23:$C$50,0)),0),0)*IF($T88=\"n/a\",$D88*$Y88,$G88)+IFERROR(IF(AND($V88<=AJ$1,$W88>=AJ$1),INDEX(Reliability!O$23:O$50,MATCH($T88,Reliability!$C$23:$C$50,0)),0),0)*$H88*$X88*$Y88),$D88)*$R88","v":0},{"$f":"MIN((IFERROR(IF(AND($V88<=AK$1,$W88>=AK$1),INDEX(Reliability!P$23:P$50,MATCH($S88,Reliability!$C$23:$C$50,0)),0),0)*IF($T88=\"n/a\",$D88*$Y88,$G88)+IFERROR(IF(AND($V88<=AK$1,$W88>=AK$1),INDEX(Reliability!P$23:P$50,MATCH($T88,Reliability!$C$23:$C$50,0)),0),0)*$H88*$X88*$Y88),$D88)*$R88","v":0}]
[null,{"$f":"unique_contracts!B89","v":"_EXISTING_GENERIC_COMBINED_CYCLE"},{"$f":"unique_contracts!D89","v":"Online"},{"$f":"unique_contracts!J89","v":12.523999999999999},{"$f":"unique_contracts!M89","v":"NotHybrid"},{"$f":"unique_contracts!N89","v":0},{"$f":"unique_contracts!P89","v":0},{"$f":"unique_contracts!R89","v":0},{"$f":"unique_contracts!V89","v":0},null,{"$f":"unique_contracts!AM89","v":2024},{"$f":"unique_contracts!AN89","v":1},{"$f":"unique_contracts!AO89","v":1},{"$f":"unique_contracts!AP89","v":2025},{"$f":"unique_contracts!AQ89","v":12},{"$f":"unique_contracts!AR89","v":31},{"$f":"unique_contracts!BP89","v":"EnergyCapacity"},1,{"$f":"IFERROR(IF(AND(I89>0,E89=\"NotHybrid\"),_xlfn.CONCAT(MAX(MIN(ROUNDDOWN(I89/D89,0),8),4),INDEX(resources!$G:$G,MATCH(B89,resources!$A:$A,0))),INDEX(resources!$G:$G,MATCH(B89,resources!$A:$A,0))),\"n/a\")","v":"gas_cc"},"n/a","gas_cc",2024,2025,1,1,{"$f":"MIN((IFERROR(IF(AND($V89<=Z$1,$W89>=Z$1),INDEX(Reliability!E$23:E$50,MATCH($S89,Reliability!$C$23:$C$50,0)),0),0)*IF($T89=\"n/a\",$D89*$Y89,$G89)+IFERROR(IF(AND($V89<=Z$1,$W89>=Z$1),INDEX(Reliability!E$23:E$50,MATCH($T89,Reliability!$C$23:$C$50,0)),0),0)*$H89*$X89*$Y89),$D89)*$R89","v":10.622200288773412},{"$f":"MIN((IFERROR(IF(AND($V89<=AA$1,$W89>=AA$1),INDEX(Reliability!F$23:F$50,MATCH($S89,Reliability!$C$23:$C$50,0)),0),0)*IF($T89=\"n/a\",$D89*$Y89,$G89)+IFERROR(IF(AND($V89<=AA$1,$W89>=AA$1),INDEX(Reliability!F$23:F$50,MATCH($T89,Reliability!$C$23:$C$50,0)),0),0)*$H89*$X89*$Y89),$D89)*$R89","v":10.803689209127628},{"$f":"MIN((IFERROR(IF(AND($V89<=AB$1,$W89>=AB$1),INDEX(Reliability!G$23:G$50,MATCH($S89,Reliability!$C$23:$C$50,0)),0),0)*IF($T89=\"n/a\",$D89*$Y89,$G89)+IFERROR(IF(AND($V89<=AB$1,$W89>=AB$1),INDEX(Reliability!G$23:G$50,MATCH($T89,Reliability!$C$23:$C$50,0)),0),0)*$H89*$X89*$Y89),$D89)*$R89","v":0},{"$f":"MIN((IFERROR(IF(AND($V89<=AC$1,$W89>=AC$1),INDEX(Reliability!H$23:H$50,MATCH($S89,Reliability!$C$23:$C$50,0)),0),0)*IF($T89=\"n/a\",$D89*$Y89,$G89)+IFERROR(IF(AND($V89<=AC$1,$W89>=AC$1),INDEX(Reliability!H$23:H$50,MATCH($T89,Reliability!$C$23:$C$50,0)),0),0)*$H89*$X89*$Y89),$D89)*$R89","v":0},{"$f":"MIN((IFERROR(IF(AND($V89<=AD$1,$W89>=AD$1),INDEX(Reliability!I$23:I$50,MATCH($S89,Reliability!$C$23:$C$50,0)),0),0)*IF($T89=\"n/a\",$D89*$Y89,$G89)+IFERROR(IF(AND($V89<=AD$1,$W89>=AD$1),INDEX(Reliability!I$23:I$50,MATCH($T89,Reliability!$C$23:$C$50,0)),0),0)*$H89*$X89*$Y89),$D89)*$R89","v":0},{"$f":"MIN((IFERROR(IF(AND($V89<=AE$1,$W89>=AE$1),INDEX(Reliability!J$23:J$50,MATCH($S89,Reliability!$C$23:$C$50,0)),0),0)*IF($T89=\"n/a\",$D89*$Y89,$G89)+IFERROR(IF(AND($V89<=AE$1,$W89>=AE$1),INDEX(Reliability!J$23:J$50,MATCH($T89,Reliability!$C$23:$C$50,0)),0),0)*$H89*$X89*$Y89),$D89)*$R89","v":0},{"$f":"MIN((IFERROR(IF(AND($V89<=AF$1,$W89>=AF$1),INDEX(Reliability!K$23:K$50,MATCH($S89,Reliability!$C$23:$C$50,0)),0),0)*IF($T89=\"n/a\",$D89*$Y89,$G89)+IFERROR(IF(AND($V89<=AF$1,$W89>=AF$1),INDEX(Reliability!K$23:K$50,MATCH($T89,Reliability!$C$23:$C$50,0)),0),0)*$H89*$X89*$Y89),$D89)*$R89","v":0},{"$f":"MIN((IFERROR(IF(AND($V89<=AG$1,$W89>=AG$1),INDEX(Reliability!L$23:L$50,MATCH($S89,Reliability!$C$23:$C$50,0)),0),0)*IF($T89=\"n/a\",$D89*$Y89,$G89)+IFERROR(IF(AND($V89<=AG$1,$W89>=AG$1),INDEX(Reliability!L$23:L$50,MATCH($T89,Reliability!$C$23:$C$50,0)),0),0)*$H89*$X89*$Y89),$D89)*$R89","v":0},{"$f":"MIN((IFERROR(IF(AND($V89<=AH$1,$W89>=AH$1),INDEX(Reliability!M$23:M$50,MATCH($S89,Reliability!$C$23:$C$50,0)),0),0)*IF($T89=\"n/a\",$D89*$Y89,$G89)+IFERROR(IF(AND($V89<=AH$1,$W89>=AH$1),INDEX(Reliability!M$23:M$50,MATCH($T89,Reliability!$C$23:$C$50,0)),0),0)*$H89*$X89*$Y89),$D89)*$R89","v":0},{"$f":"MIN((IFERROR(IF(AND($V89<=AI$1,$W89>=AI$1),INDEX(Reliability!N$23:N$50,MATCH($S89,Reliability!$C$23:$C$50,0)),0),0)*IF($T89=\"n/a\",$D89*$Y89,$G89)+IFERROR(IF(AND($V89<=AI$1,$W89>=AI$1),INDEX(Reliability!N$23:N$50,MATCH($T89,Reliability!$C$23:$C$50,0)),0),0)*$H89*$X89*$Y89),$D89)*$R89","v":0},{"$f":"MIN((IFERROR(IF(AND($V89<=AJ$1,$W89>=AJ$1),INDEX(Reliability!O$23:O$50,MATCH($S89,Reliability!$C$23:$C$50,0)),0),0)*IF($T89=\"n/a\",$D89*$Y89,$G89)+IFERROR(IF(AND($V89<=AJ$1,$W89>=AJ$1),INDEX(Reliability!O$23:O$50,MATCH($T89,Reliability!$C$23:$C$50,0)),0),0)*$H89*$X89*$Y89),$D89)*$R89","v":0},{"$f":"MIN((IFERROR(IF(AND($V89<=AK$1,$W89>=AK$1),INDEX(Reliability!P$23:P$50,MATCH($S89,Reliability!$C$23:$C$50,0)),0),0)*IF($T89=\"n/a\",$D89*$Y89,$G89)+IFERROR(IF(AND($V89<=AK$1,$W89>=AK$1),INDEX(Reliability!P$23:P$50,MATCH($T89,Reliability!$C$23:$C$50,0)),0),0)*$H89*$X89*$Y89),$D89)*$R89","v":0}]
[null,{"$f":"unique_contracts!B90","v":"_EXISTING_GENERIC_COMBINED_CYCLE"},{"$f":"unique_contracts!D90","v":"Online"},{"$f":"unique_contracts!J90","v":19.542400000000001},{"$f":"unique_contracts!M90","v":"NotHybrid"},{"$f":"unique_contracts!N90","v":0},{"$f":"unique_contracts!P90","v":0},{"$f":"unique_contracts!R90","v":0},{"$f":"unique_contracts!V90","v":0},null,{"$f":"unique_contracts!AM90","v":2024},{"$f":"unique_contracts!AN90","v":1},{"$f":"unique_contracts!AO90","v":1},{"$f":"unique_contracts!AP90","v":2024},{"$f":"unique_contracts!AQ90","v":12},{"$f":"unique_contracts!AR90","v":31},{"$f":"unique_contracts!BP90","v":"EnergyCapacity"},1,{"$f":"IFERROR(IF(AND(I90>0,E90=\"NotHybrid\"),_xlfn.CONCAT(MAX(MIN(ROUNDDOWN(I90/D90,0),8),4),INDEX(resources!$G:$G,MATCH(B90,resources!$A:$A,0))),INDEX(resources!$G:$G,MATCH(B90,resources!$A:$A,0))),\"n/a\")","v":"gas_cc"},"n/a","gas_cc",2024,2024,1,1,{"$f":"MIN((IFERROR(IF(AND($V90<=Z$1,$W90>=Z$1),INDEX(Reliability!E$23:E$50,MATCH($S90,Reliability!$C$23:$C$50,0)),0),0)*IF($T90=\"n/a\",$D90*$Y90,$G90)+IFERROR(IF(AND($V90<=Z$1,$W90>=Z$1),INDEX(Reliability!E$23:E$50,MATCH($T90,Reliability!$C$23:$C$50,0)),0),0)*$H90*$X90*$Y90),$D90)*$R90","v":16.574839262482076},{"$f":"MIN((IFERROR(IF(AND($V90<=AA$1,$W90>=AA$1),INDEX(Reliability!F$23:F$50,MATCH($S90,Reliability!$C$23:$C$50,0)),0),0)*IF($T90=\"n/a\",$D90*$Y90,$G90)+IFERROR(IF(AND($V90<=AA$1,$W90>=AA$1),INDEX(Reliability!F$23:F$50,MATCH($T90,Reliability!$C$23:$C$50,0)),0),0)*$H90*$X90*$Y90),$D90)*$R90","v":0},{"$f":"MIN((IFERROR(IF(AND($V90<=AB$1,$W90>=AB$1),INDEX(Reliability!G$23:G$50,MATCH($S90,Reliability!$C$23:$C$50,0)),0),0)*IF($T90=\"n/a\",$D90*$Y90,$G90)+IFERROR(IF(AND($V90<=AB$1,$W90>=AB$1),INDEX(Reliability!G$23:G$50,MATCH($T90,Reliability!$C$23:$C$50,0)),0),0)*$H90*$X90*$Y90),$D90)*$R90","v":0},{"$f":"MIN((IFERROR(IF(AND($V90<=AC$1,$W90>=AC$1),INDEX(Reliability!H$23:H$50,MATCH($S90,Reliability!$C$23:$C$50,0)),0),0)*IF($T90=\"n/a\",$D90*$Y90,$G90)+IFERROR(IF(AND($V90<=AC$1,$W90>=AC$1),INDEX(Reliability!H$23:H$50,MATCH($T90,Reliability!$C$23:$C$50,0)),0),0)*$H90*$X90*$Y90),$D90)*$R90","v":0},{"$f":"MIN((IFERROR(IF(AND($V90<=AD$1,$W90>=AD$1),INDEX(Reliability!I$23:I$50,MATCH($S90,Reliability!$C$23:$C$50,0)),0),0)*IF($T90=\"n/a\",$D90*$Y90,$G90)+IFERROR(IF(AND($V90<=AD$1,$W90>=AD$1),INDEX(Reliability!I$23:I$50,MATCH($T90,Reliability!$C$23:$C$50,0)),0),0)*$H90*$X90*$Y90),$D90)*$R90","v":0},{"$f":"MIN((IFERROR(IF(AND($V90<=AE$1,$W90>=AE$1),INDEX(Reliability!J$23:J$50,MATCH($S90,Reliability!$C$23:$C$50,0)),0),0)*IF($T90=\"n/a\",$D90*$Y90,$G90)+IFERROR(IF(AND($V90<=AE$1,$W90>=AE$1),INDEX(Reliability!J$23:J$50,MATCH($T90,Reliability!$C$23:$C$50,0)),0),0)*$H90*$X90*$Y90),$D90)*$R90","v":0},{"$f":"MIN((IFERROR(IF(AND($V90<=AF$1,$W90>=AF$1),INDEX(Reliability!K$23:K$50,MATCH($S90,Reliability!$C$23:$C$50,0)),0),0)*IF($T90=\"n/a\",$D90*$Y90,$G90)+IFERROR(IF(AND($V90<=AF$1,$W90>=AF$1),INDEX(Reliability!K$23:K$50,MATCH($T90,Reliability!$C$23:$C$50,0)),0),0)*$H90*$X90*$Y90),$D90)*$R90","v":0},{"$f":"MIN((IFERROR(IF(AND($V90<=AG$1,$W90>=AG$1),INDEX(Reliability!L$23:L$50,MATCH($S90,Reliability!$C$23:$C$50,0)),0),0)*IF($T90=\"n/a\",$D90*$Y90,$G90)+IFERROR(IF(AND($V90<=AG$1,$W90>=AG$1),INDEX(Reliability!L$23:L$50,MATCH($T90,Reliability!$C$23:$C$50,0)),0),0)*$H90*$X90*$Y90),$D90)*$R90","v":0},{"$f":"MIN((IFERROR(IF(AND($V90<=AH$1,$W90>=AH$1),INDEX(Reliability!M$23:M$50,MATCH($S90,Reliability!$C$23:$C$50,0)),0),0)*IF($T90=\"n/a\",$D90*$Y90,$G90)+IFERROR(IF(AND($V90<=AH$1,$W90>=AH$1),INDEX(Reliability!M$23:M$50,MATCH($T90,Reliability!$C$23:$C$50,0)),0),0)*$H90*$X90*$Y90),$D90)*$R90","v":0},{"$f":"MIN((IFERROR(IF(AND($V90<=AI$1,$W90>=AI$1),INDEX(Reliability!N$23:N$50,MATCH($S90,Reliability!$C$23:$C$50,0)),0),0)*IF($T90=\"n/a\",$D90*$Y90,$G90)+IFERROR(IF(AND($V90<=AI$1,$W90>=AI$1),INDEX(Reliability!N$23:N$50,MATCH($T90,Reliability!$C$23:$C$50,0)),0),0)*$H90*$X90*$Y90),$D90)*$R90","v":0},{"$f":"MIN((IFERROR(IF(AND($V90<=AJ$1,$W90>=AJ$1),INDEX(Reliability!O$23:O$50,MATCH($S90,Reliability!$C$23:$C$50,0)),0),0)*IF($T90=\"n/a\",$D90*$Y90,$G90)+IFERROR(IF(AND($V90<=AJ$1,$W90>=AJ$1),INDEX(Reliability!O$23:O$50,MATCH($T90,Reliability!$C$23:$C$50,0)),0),0)*$H90*$X90*$Y90),$D90)*$R90","v":0},{"$f":"MIN((IFERROR(IF(AND($V90<=AK$1,$W90>=AK$1),INDEX(Reliability!P$23:P$50,MATCH($S90,Reliability!$C$23:$C$50,0)),0),0)*IF($T90=\"n/a\",$D90*$Y90,$G90)+IFERROR(IF(AND($V90<=AK$1,$W90>=AK$1),INDEX(Reliability!P$23:P$50,MATCH($T90,Reliability!$C$23:$C$50,0)),0),0)*$H90*$X90*$Y90),$D90)*$R90","v":0}]
[null,{"$f":"unique_contracts!B91","v":"_EXISTING_GENERIC_COGEN"},{"$f":"unique_contracts!D91","v":"Online"},{"$f":"unique_contracts!J91","v":1.1656},{"$f":"unique_contracts!M91","v":"NotHybrid"},{"$f":"unique_contracts!N91","v":0},{"$f":"unique_contracts!P91","v":0},{"$f":"unique_contracts!R91","v":0},{"$f":"unique_contracts!V91","v":0},null,{"$f":"unique_contracts!AM91","v":2024},{"$f":"unique_contracts!AN91","v":1},{"$f":"unique_contracts!AO91","v":1},{"$f":"unique_contracts!AP91","v":2024},{"$f":"unique_contracts!AQ91","v":12},{"$f":"unique_contracts!AR91","v":31},{"$f":"unique_contracts!BP91","v":"EnergyCapacity"},1,{"$f":"IFERROR(IF(AND(I91>0,E91=\"NotHybrid\"),_xlfn.CONCAT(MAX(MIN(ROUNDDOWN(I91/D91,0),8),4),INDEX(resources!$G:$G,MATCH(B91,resources!$A:$A,0))),INDEX(resources!$G:$G,MATCH(B91,resources!$A:$A,0))),\"n/a\")","v":"cogen"},"n/a","cogen",2024,2024,1,1,{"$f":"MIN((IFERROR(IF(AND($V91<=Z$1,$W91>=Z$1),INDEX(Reliability!E$23:E$50,MATCH($S91,Reliability!$C$23:$C$50,0)),0),0)*IF($T91=\"n/a\",$D91*$Y91,$G91)+IFERROR(IF(AND($V91<=Z$1,$W91>=Z$1),INDEX(Reliability!E$23:E$50,MATCH($T91,Reliability!$C$23:$C$50,0)),0),0)*$H91*$X91*$Y91),$D91)*$R91","v":1.0433355054629945},{"$f":"MIN((IFERROR(IF(AND($V91<=AA$1,$W91>=AA$1),INDEX(Reliability!F$23:F$50,MATCH($S91,Reliability!$C$23:$C$50,0)),0),0)*IF($T91=\"n/a\",$D91*$Y91,$G91)+IFERROR(IF(AND($V91<=AA$1,$W91>=AA$1),INDEX(Reliability!F$23:F$50,MATCH($T91,Reliability!$C$23:$C$50,0)),0),0)*$H91*$X91*$Y91),$D91)*$R91","v":0},{"$f":"MIN((IFERROR(IF(AND($V91<=AB$1,$W91>=AB$1),INDEX(Reliability!G$23:G$50,MATCH($S91,Reliability!$C$23:$C$50,0)),0),0)*IF($T91=\"n/a\",$D91*$Y91,$G91)+IFERROR(IF(AND($V91<=AB$1,$W91>=AB$1),INDEX(Reliability!G$23:G$50,MATCH($T91,Reliability!$C$23:$C$50,0)),0),0)*$H91*$X91*$Y91),$D91)*$R91","v":0},{"$f":"MIN((IFERROR(IF(AND($V91<=AC$1,$W91>=AC$1),INDEX(Reliability!H$23:H$50,MATCH($S91,Reliability!$C$23:$C$50,0)),0),0)*IF($T91=\"n/a\",$D91*$Y91,$G91)+IFERROR(IF(AND($V91<=AC$1,$W91>=AC$1),INDEX(Reliability!H$23:H$50,MATCH($T91,Reliability!$C$23:$C$50,0)),0),0)*$H91*$X91*$Y91),$D91)*$R91","v":0},{"$f":"MIN((IFERROR(IF(AND($V91<=AD$1,$W91>=AD$1),INDEX(Reliability!I$23:I$50,MATCH($S91,Reliability!$C$23:$C$50,0)),0),0)*IF($T91=\"n/a\",$D91*$Y91,$G91)+IFERROR(IF(AND($V91<=AD$1,$W91>=AD$1),INDEX(Reliability!I$23:I$50,MATCH($T91,Reliability!$C$23:$C$50,0)),0),0)*$H91*$X91*$Y91),$D91)*$R91","v":0},{"$f":"MIN((IFERROR(IF(AND($V91<=AE$1,$W91>=AE$1),INDEX(Reliability!J$23:J$50,MATCH($S91,Reliability!$C$23:$C$50,0)),0),0)*IF($T91=\"n/a\",$D91*$Y91,$G91)+IFERROR(IF(AND($V91<=AE$1,$W91>=AE$1),INDEX(Reliability!J$23:J$50,MATCH($T91,Reliability!$C$23:$C$50,0)),0),0)*$H91*$X91*$Y91),$D91)*$R91","v":0},{"$f":"MIN((IFERROR(IF(AND($V91<=AF$1,$W91>=AF$1),INDEX(Reliability!K$23:K$50,MATCH($S91,Reliability!$C$23:$C$50,0)),0),0)*IF($T91=\"n/a\",$D91*$Y91,$G91)+IFERROR(IF(AND($V91<=AF$1,$W91>=AF$1),INDEX(Reliability!K$23:K$50,MATCH($T91,Reliability!$C$23:$C$50,0)),0),0)*$H91*$X91*$Y91),$D91)*$R91","v":0},{"$f":"MIN((IFERROR(IF(AND($V91<=AG$1,$W91>=AG$1),INDEX(Reliability!L$23:L$50,MATCH($S91,Reliability!$C$23:$C$50,0)),0),0)*IF($T91=\"n/a\",$D91*$Y91,$G91)+IFERROR(IF(AND($V91<=AG$1,$W91>=AG$1),INDEX(Reliability!L$23:L$50,MATCH($T91,Reliability!$C$23:$C$50,0)),0),0)*$H91*$X91*$Y91),$D91)*$R91","v":0},{"$f":"MIN((IFERROR(IF(AND($V91<=AH$1,$W91>=AH$1),INDEX(Reliability!M$23:M$50,MATCH($S91,Reliability!$C$23:$C$50,0)),0),0)*IF($T91=\"n/a\",$D91*$Y91,$G91)+IFERROR(IF(AND($V91<=AH$1,$W91>=AH$1),INDEX(Reliability!M$23:M$50,MATCH($T91,Reliability!$C$23:$C$50,0)),0),0)*$H91*$X91*$Y91),$D91)*$R91","v":0},{"$f":"MIN((IFERROR(IF(AND($V91<=AI$1,$W91>=AI$1),INDEX(Reliability!N$23:N$50,MATCH($S91,Reliability!$C$23:$C$50,0)),0),0)*IF($T91=\"n/a\",$D91*$Y91,$G91)+IFERROR(IF(AND($V91<=AI$1,$W91>=AI$1),INDEX(Reliability!N$23:N$50,MATCH($T91,Reliability!$C$23:$C$50,0)),0),0)*$H91*$X91*$Y91),$D91)*$R91","v":0},{"$f":"MIN((IFERROR(IF(AND($V91<=AJ$1,$W91>=AJ$1),INDEX(Reliability!O$23:O$50,MATCH($S91,Reliability!$C$23:$C$50,0)),0),0)*IF($T91=\"n/a\",$D91*$Y91,$G91)+IFERROR(IF(AND($V91<=AJ$1,$W91>=AJ$1),INDEX(Reliability!O$23:O$50,MATCH($T91,Reliability!$C$23:$C$50,0)),0),0)*$H91*$X91*$Y91),$D91)*$R91","v":0},{"$f":"MIN((IFERROR(IF(AND($V91<=AK$1,$W91>=AK$1),INDEX(Reliability!P$23:P$50,MATCH($S91,Reliability!$C$23:$C$50,0)),0),0)*IF($T91=\"n/a\",$D91*$Y91,$G91)+IFERROR(IF(AND($V91<=AK$1,$W91>=AK$1),INDEX(Reliability!P$23:P$50,MATCH($T91,Reliability!$C$23:$C$50,0)),0),0)*$H91*$X91*$Y91),$D91)*$R91","v":0}]
[null,{"$f":"unique_contracts!B92","v":"_EXISTING_GENERIC_COGEN"},{"$f":"unique_contracts!D92","v":"Online"},{"$f":"unique_contracts!J92","v":0.99199999999999999},{"$f":"unique_contracts!M92","v":"NotHybrid"},{"$f":"unique_contracts!N92","v":0},{"$f":"unique_contracts!P92","v":0},{"$f":"unique_contracts!R92","v":0},{"$f":"unique_contracts!V92","v":0},null,{"$f":"unique_contracts!AM92","v":2024},{"$f":"unique_contracts!AN92","v":1},{"$f":"unique_contracts!AO92","v":1},{"$f":"unique_contracts!AP92","v":2025},{"$f":"unique_contracts!AQ92","v":12},{"$f":"unique_contracts!AR92","v":31},{"$f":"unique_contracts!BP92","v":"EnergyCapacity"},1,{"$f":"IFERROR(IF(AND(I92>0,E92=\"NotHybrid\"),_xlfn.CONCAT(MAX(MIN(ROUNDDOWN(I92/D92,0),8),4),INDEX(resources!$G:$G,MATCH(B92,resources!$A:$A,0))),INDEX(resources!$G:$G,MATCH(B92,resources!$A:$A,0))),\"n/a\")","v":"cogen"},"n/a","cogen",2024,2025,1,1,{"$f":"MIN((IFERROR(IF(AND($V92<=Z$1,$W92>=Z$1),INDEX(Reliability!E$23:E$50,MATCH($S92,Reliability!$C$23:$C$50,0)),0),0)*IF($T92=\"n/a\",$D92*$Y92,$G92)+IFERROR(IF(AND($V92<=Z$1,$W92>=Z$1),INDEX(Reliability!E$23:E$50,MATCH($T92,Reliability!$C$23:$C$50,0)),0),0)*$H92*$X92*$Y92),$D92)*$R92","v":0.88794511103233575},{"$f":"MIN((IFERROR(IF(AND($V92<=AA$1,$W92>=AA$1),INDEX(Reliability!F$23:F$50,MATCH($S92,Reliability!$C$23:$C$50,0)),0),0)*IF($T92=\"n/a\",$D92*$Y92,$G92)+IFERROR(IF(AND($V92<=AA$1,$W92>=AA$1),INDEX(Reliability!F$23:F$50,MATCH($T92,Reliability!$C$23:$C$50,0)),0),0)*$H92*$X92*$Y92),$D92)*$R92","v":0.91344276215207998},{"$f":"MIN((IFERROR(IF(AND($V92<=AB$1,$W92>=AB$1),INDEX(Reliability!G$23:G$50,MATCH($S92,Reliability!$C$23:$C$50,0)),0),0)*IF($T92=\"n/a\",$D92*$Y92,$G92)+IFERROR(IF(AND($V92<=AB$1,$W92>=AB$1),INDEX(Reliability!G$23:G$50,MATCH($T92,Reliability!$C$23:$C$50,0)),0),0)*$H92*$X92*$Y92),$D92)*$R92","v":0},{"$f":"MIN((IFERROR(IF(AND($V92<=AC$1,$W92>=AC$1),INDEX(Reliability!H$23:H$50,MATCH($S92,Reliability!$C$23:$C$50,0)),0),0)*IF($T92=\"n/a\",$D92*$Y92,$G92)+IFERROR(IF(AND($V92<=AC$1,$W92>=AC$1),INDEX(Reliability!H$23:H$50,MATCH($T92,Reliability!$C$23:$C$50,0)),0),0)*$H92*$X92*$Y92),$D92)*$R92","v":0},{"$f":"MIN((IFERROR(IF(AND($V92<=AD$1,$W92>=AD$1),INDEX(Reliability!I$23:I$50,MATCH($S92,Reliability!$C$23:$C$50,0)),0),0)*IF($T92=\"n/a\",$D92*$Y92,$G92)+IFERROR(IF(AND($V92<=AD$1,$W92>=AD$1),INDEX(Reliability!I$23:I$50,MATCH($T92,Reliability!$C$23:$C$50,0)),0),0)*$H92*$X92*$Y92),$D92)*$R92","v":0},{"$f":"MIN((IFERROR(IF(AND($V92<=AE$1,$W92>=AE$1),INDEX(Reliability!J$23:J$50,MATCH($S92,Reliability!$C$23:$C$50,0)),0),0)*IF($T92=\"n/a\",$D92*$Y92,$G92)+IFERROR(IF(AND($V92<=AE$1,$W92>=AE$1),INDEX(Reliability!J$23:J$50,MATCH($T92,Reliability!$C$23:$C$50,0)),0),0)*$H92*$X92*$Y92),$D92)*$R92","v":0},{"$f":"MIN((IFERROR(IF(AND($V92<=AF$1,$W92>=AF$1),INDEX(Reliability!K$23:K$50,MATCH($S92,Reliability!$C$23:$C$50,0)),0),0)*IF($T92=\"n/a\",$D92*$Y92,$G92)+IFERROR(IF(AND($V92<=AF$1,$W92>=AF$1),INDEX(Reliability!K$23:K$50,MATCH($T92,Reliability!$C$23:$C$50,0)),0),0)*$H92*$X92*$Y92),$D92)*$R92","v":0},{"$f":"MIN((IFERROR(IF(AND($V92<=AG$1,$W92>=AG$1),INDEX(Reliability!L$23:L$50,MATCH($S92,Reliability!$C$23:$C$50,0)),0),0)*IF($T92=\"n/a\",$D92*$Y92,$G92)+IFERROR(IF(AND($V92<=AG$1,$W92>=AG$1),INDEX(Reliability!L$23:L$50,MATCH($T92,Reliability!$C$23:$C$50,0)),0),0)*$H92*$X92*$Y92),$D92)*$R92","v":0},{"$f":"MIN((IFERROR(IF(AND($V92<=AH$1,$W92>=AH$1),INDEX(Reliability!M$23:M$50,MATCH($S92,Reliability!$C$23:$C$50,0)),0),0)*IF($T92=\"n/a\",$D92*$Y92,$G92)+IFERROR(IF(AND($V92<=AH$1,$W92>=AH$1),INDEX(Reliability!M$23:M$50,MATCH($T92,Reliability!$C$23:$C$50,0)),0),0)*$H92*$X92*$Y92),$D92)*$R92","v":0},{"$f":"MIN((IFERROR(IF(AND($V92<=AI$1,$W92>=AI$1),INDEX(Reliability!N$23:N$50,MATCH($S92,Reliability!$C$23:$C$50,0)),0),0)*IF($T92=\"n/a\",$D92*$Y92,$G92)+IFERROR(IF(AND($V92<=AI$1,$W92>=AI$1),INDEX(Reliability!N$23:N$50,MATCH($T92,Reliability!$C$23:$C$50,0)),0),0)*$H92*$X92*$Y92),$D92)*$R92","v":0},{"$f":"MIN((IFERROR(IF(AND($V92<=AJ$1,$W92>=AJ$1),INDEX(Reliability!O$23:O$50,MATCH($S92,Reliability!$C$23:$C$50,0)),0),0)*IF($T92=\"n/a\",$D92*$Y92,$G92)+IFERROR(IF(AND($V92<=AJ$1,$W92>=AJ$1),INDEX(Reliability!O$23:O$50,MATCH($T92,Reliability!$C$23:$C$50,0)),0),0)*$H92*$X92*$Y92),$D92)*$R92","v":0},{"$f":"MIN((IFERROR(IF(AND($V92<=AK$1,$W92>=AK$1),INDEX(Reliability!P$23:P$50,MATCH($S92,Reliability!$C$23:$C$50,0)),0),0)*IF($T92=\"n/a\",$D92*$Y92,$G92)+IFERROR(IF(AND($V92<=AK$1,$W92>=AK$1),INDEX(Reliability!P$23:P$50,MATCH($T92,Reliability!$C$23:$C$50,0)),0),0)*$H92*$X92*$Y92),$D92)*$R92","v":0}]
[null,{"$f":"unique_contracts!B93","v":"_EXISTING_GENERIC_COGEN"},{"$f":"unique_contracts!D93","v":"Online"},{"$f":"unique_contracts!J93","v":0.434},{"$f":"unique_contracts!M93","v":"NotHybrid"},{"$f":"unique_contracts!N93","v":0},{"$f":"unique_contracts!P93","v":0},{"$f":"unique_contracts!R93","v":0},{"$f":"unique_contracts!V93","v":0},null,{"$f":"unique_contracts!AM93","v":2024},{"$f":"unique_contracts!AN93","v":1},{"$f":"unique_contracts!AO93","v":1},{"$f":"unique_contracts!AP93","v":2026},{"$f":"unique_contracts!AQ93","v":12},{"$f":"unique_contracts!AR93","v":31},{"$f":"unique_contracts!BP93","v":"EnergyCapacity"},1,{"$f":"IFERROR(IF(AND(I93>0,E93=\"NotHybrid\"),_xlfn.CONCAT(MAX(MIN(ROUNDDOWN(I93/D93,0),8),4),INDEX(resources!$G:$G,MATCH(B93,resources!$A:$A,0))),INDEX(resources!$G:$G,MATCH(B93,resources!$A:$A,0))),\"n/a\")","v":"cogen"},"n/a","cogen",2024,2026,1,1,{"$f":"MIN((IFERROR(IF(AND($V93<=Z$1,$W93>=Z$1),INDEX(Reliability!E$23:E$50,MATCH($S93,Reliability!$C$23:$C$50,0)),0),0)*IF($T93=\"n/a\",$D93*$Y93,$G93)+IFERROR(IF(AND($V93<=Z$1,$W93>=Z$1),INDEX(Reliability!E$23:E$50,MATCH($T93,Reliability!$C$23:$C$50,0)),0),0)*$H93*$X93*$Y93),$D93)*$R93","v":0.38847598607664691},{"$f":"MIN((IFERROR(IF(AND($V93<=AA$1,$W93>=AA$1),INDEX(Reliability!F$23:F$50,MATCH($S93,Reliability!$C$23:$C$50,0)),0),0)*IF($T93=\"n/a\",$D93*$Y93,$G93)+IFERROR(IF(AND($V93<=AA$1,$W93>=AA$1),INDEX(Reliability!F$23:F$50,MATCH($T93,Reliability!$C$23:$C$50,0)),0),0)*$H93*$X93*$Y93),$D93)*$R93","v":0.39963120844153499},{"$f":"MIN((IFERROR(IF(AND($V93<=AB$1,$W93>=AB$1),INDEX(Reliability!G$23:G$50,MATCH($S93,Reliability!$C$23:$C$50,0)),0),0)*IF($T93=\"n/a\",$D93*$Y93,$G93)+IFERROR(IF(AND($V93<=AB$1,$W93>=AB$1),INDEX(Reliability!G$23:G$50,MATCH($T93,Reliability!$C$23:$C$50,0)),0),0)*$H93*$X93*$Y93),$D93)*$R93","v":0.41078643080642302},{"$f":"MIN((IFERROR(IF(AND($V93<=AC$1,$W93>=AC$1),INDEX(Reliability!H$23:H$50,MATCH($S93,Reliability!$C$23:$C$50,0)),0),0)*IF($T93=\"n/a\",$D93*$Y93,$G93)+IFERROR(IF(AND($V93<=AC$1,$W93>=AC$1),INDEX(Reliability!H$23:H$50,MATCH($T93,Reliability!$C$23:$C$50,0)),0),0)*$H93*$X93*$Y93),$D93)*$R93","v":0},{"$f":"MIN((IFERROR(IF(AND($V93<=AD$1,$W93>=AD$1),INDEX(Reliability!I$23:I$50,MATCH($S93,Reliability!$C$23:$C$50,0)),0),0)*IF($T93=\"n/a\",$D93*$Y93,$G93)+IFERROR(IF(AND($V93<=AD$1,$W93>=AD$1),INDEX(Reliability!I$23:I$50,MATCH($T93,Reliability!$C$23:$C$50,0)),0),0)*$H93*$X93*$Y93),$D93)*$R93","v":0},{"$f":"MIN((IFERROR(IF(AND($V93<=AE$1,$W93>=AE$1),INDEX(Reliability!J$23:J$50,MATCH($S93,Reliability!$C$23:$C$50,0)),0),0)*IF($T93=\"n/a\",$D93*$Y93,$G93)+IFERROR(IF(AND($V93<=AE$1,$W93>=AE$1),INDEX(Reliability!J$23:J$50,MATCH($T93,Reliability!$C$23:$C$50,0)),0),0)*$H93*$X93*$Y93),$D93)*$R93","v":0},{"$f":"MIN((IFERROR(IF(AND($V93<=AF$1,$W93>=AF$1),INDEX(Reliability!K$23:K$50,MATCH($S93,Reliability!$C$23:$C$50,0)),0),0)*IF($T93=\"n/a\",$D93*$Y93,$G93)+IFERROR(IF(AND($V93<=AF$1,$W93>=AF$1),INDEX(Reliability!K$23:K$50,MATCH($T93,Reliability!$C$23:$C$50,0)),0),0)*$H93*$X93*$Y93),$D93)*$R93","v":0},{"$f":"MIN((IFERROR(IF(AND($V93<=AG$1,$W93>=AG$1),INDEX(Reliability!L$23:L$50,MATCH($S93,Reliability!$C$23:$C$50,0)),0),0)*IF($T93=\"n/a\",$D93*$Y93,$G93)+IFERROR(IF(AND($V93<=AG$1,$W93>=AG$1),INDEX(Reliability!L$23:L$50,MATCH($T93,Reliability!$C$23:$C$50,0)),0),0)*$H93*$X93*$Y93),$D93)*$R93","v":0},{"$f":"MIN((IFERROR(IF(AND($V93<=AH$1,$W93>=AH$1),INDEX(Reliability!M$23:M$50,MATCH($S93,Reliability!$C$23:$C$50,0)),0),0)*IF($T93=\"n/a\",$D93*$Y93,$G93)+IFERROR(IF(AND($V93<=AH$1,$W93>=AH$1),INDEX(Reliability!M$23:M$50,MATCH($T93,Reliability!$C$23:$C$50,0)),0),0)*$H93*$X93*$Y93),$D93)*$R93","v":0},{"$f":"MIN((IFERROR(IF(AND($V93<=AI$1,$W93>=AI$1),INDEX(Reliability!N$23:N$50,MATCH($S93,Reliability!$C$23:$C$50,0)),0),0)*IF($T93=\"n/a\",$D93*$Y93,$G93)+IFERROR(IF(AND($V93<=AI$1,$W93>=AI$1),INDEX(Reliability!N$23:N$50,MATCH($T93,Reliability!$C$23:$C$50,0)),0),0)*$H93*$X93*$Y93),$D93)*$R93","v":0},{"$f":"MIN((IFERROR(IF(AND($V93<=AJ$1,$W93>=AJ$1),INDEX(Reliability!O$23:O$50,MATCH($S93,Reliability!$C$23:$C$50,0)),0),0)*IF($T93=\"n/a\",$D93*$Y93,$G93)+IFERROR(IF(AND($V93<=AJ$1,$W93>=AJ$1),INDEX(Reliability!O$23:O$50,MATCH($T93,Reliability!$C$23:$C$50,0)),0),0)*$H93*$X93*$Y93),$D93)*$R93","v":0},{"$f":"MIN((IFERROR(IF(AND($V93<=AK$1,$W93>=AK$1),INDEX(Reliability!P$23:P$50,MATCH($S93,Reliability!$C$23:$C$50,0)),0),0)*IF($T93=\"n/a\",$D93*$Y93,$G93)+IFERROR(IF(AND($V93<=AK$1,$W93>=AK$1),INDEX(Reliability!P$23:P$50,MATCH($T93,Reliability!$C$23:$C$50,0)),0),0)*$H93*$X93*$Y93),$D93)*$R93","v":0}]
[null,{"$f":"unique_contracts!B94","v":"_EXISTING_GENERIC_BATTERY_STORAGE"},{"$f":"unique_contracts!D94","v":"Online"},{"$f":"unique_contracts!J94","v":11.978399999999999},{"$f":"unique_contracts!M94","v":"NotHybrid"},{"$f":"unique_contracts!N94","v":0},{"$f":"unique_contracts!P94","v":0},{"$f":"unique_contracts!R94","v":0},{"$f":"unique_contracts!V94","v":47.863999999999997},null,{"$f":"unique_contracts!AM94","v":2024},{"$f":"unique_contracts!AN94","v":1},{"$f":"unique_contracts!AO94","v":1},{"$f":"unique_contracts!AP94","v":2035},{"$f":"unique_contracts!AQ94","v":12},{"$f":"unique_contracts!AR94","v":31},{"$f":"unique_contracts!BP94","v":"CapacityOnly"},1,{"$f":"IFERROR(IF(AND(I94>0,E94=\"NotHybrid\"),_xlfn.CONCAT(MAX(MIN(ROUNDDOWN(I94/D94,0),8),4),INDEX(resources!$G:$G,MATCH(B94,resources!$A:$A,0))),INDEX(resources!$G:$G,MATCH(B94,resources!$A:$A,0))),\"n/a\")","v":"4hr_batteries"},"n/a","4hr_batteries",2024,2035,1,0.75,{"$f":"MIN((IFERROR(IF(AND($V94<=Z$1,$W94>=Z$1),INDEX(Reliability!E$23:E$50,MATCH($S94,Reliability!$C$23:$C$50,0)),0),0)*IF($T94=\"n/a\",$D94*$Y94,$G94)+IFERROR(IF(AND($V94<=Z$1,$W94>=Z$1),INDEX(Reliability!E$23:E$50,MATCH($T94,Reliability!$C$23:$C$50,0)),0),0)*$H94*$X94*$Y94),$D94)*$R94","v":7.9506629999999987},{"$f":"MIN((IFERROR(IF(AND($V94<=AA$1,$W94>=AA$1),INDEX(Reliability!F$23:F$50,MATCH($S94,Reliability!$C$23:$C$50,0)),0),0)*IF($T94=\"n/a\",$D94*$Y94,$G94)+IFERROR(IF(AND($V94<=AA$1,$W94>=AA$1),INDEX(Reliability!F$23:F$50,MATCH($T94,Reliability!$C$23:$C$50,0)),0),0)*$H94*$X94*$Y94),$D94)*$R94","v":8.0988956999999981},{"$f":"MIN((IFERROR(IF(AND($V94<=AB$1,$W94>=AB$1),INDEX(Reliability!G$23:G$50,MATCH($S94,Reliability!$C$23:$C$50,0)),0),0)*IF($T94=\"n/a\",$D94*$Y94,$G94)+IFERROR(IF(AND($V94<=AB$1,$W94>=AB$1),INDEX(Reliability!G$23:G$50,MATCH($T94,Reliability!$C$23:$C$50,0)),0),0)*$H94*$X94*$Y94),$D94)*$R94","v":8.2471283999999994},{"$f":"MIN((IFERROR(IF(AND($V94<=AC$1,$W94>=AC$1),INDEX(Reliability!H$23:H$50,MATCH($S94,Reliability!$C$23:$C$50,0)),0),0)*IF($T94=\"n/a\",$D94*$Y94,$G94)+IFERROR(IF(AND($V94<=AC$1,$W94>=AC$1),INDEX(Reliability!H$23:H$50,MATCH($T94,Reliability!$C$23:$C$50,0)),0),0)*$H94*$X94*$Y94),$D94)*$R94","v":7.5958028999999989},{"$f":"MIN((IFERROR(IF(AND($V94<=AD$1,$W94>=AD$1),INDEX(Reliability!I$23:I$50,MATCH($S94,Reliability!$C$23:$C$50,0)),0),0)*IF($T94=\"n/a\",$D94*$Y94,$G94)+IFERROR(IF(AND($V94<=AD$1,$W94>=AD$1),INDEX(Reliability!I$23:I$50,MATCH($T94,Reliability!$C$23:$C$50,0)),0),0)*$H94*$X94*$Y94),$D94)*$R94","v":6.9444773999999994},{"$f":"MIN((IFERROR(IF(AND($V94<=AE$1,$W94>=AE$1),INDEX(Reliability!J$23:J$50,MATCH($S94,Reliability!$C$23:$C$50,0)),0),0)*IF($T94=\"n/a\",$D94*$Y94,$G94)+IFERROR(IF(AND($V94<=AE$1,$W94>=AE$1),INDEX(Reliability!J$23:J$50,MATCH($T94,Reliability!$C$23:$C$50,0)),0),0)*$H94*$X94*$Y94),$D94)*$R94","v":6.8187041999999991},{"$f":"MIN((IFERROR(IF(AND($V94<=AF$1,$W94>=AF$1),INDEX(Reliability!K$23:K$50,MATCH($S94,Reliability!$C$23:$C$50,0)),0),0)*IF($T94=\"n/a\",$D94*$Y94,$G94)+IFERROR(IF(AND($V94<=AF$1,$W94>=AF$1),INDEX(Reliability!K$23:K$50,MATCH($T94,Reliability!$C$23:$C$50,0)),0),0)*$H94*$X94*$Y94),$D94)*$R94","v":6.6929309999999989},{"$f":"MIN((IFERROR(IF(AND($V94<=AG$1,$W94>=AG$1),INDEX(Reliability!L$23:L$50,MATCH($S94,Reliability!$C$23:$C$50,0)),0),0)*IF($T94=\"n/a\",$D94*$Y94,$G94)+IFERROR(IF(AND($V94<=AG$1,$W94>=AG$1),INDEX(Reliability!L$23:L$50,MATCH($T94,Reliability!$C$23:$C$50,0)),0),0)*$H94*$X94*$Y94),$D94)*$R94","v":6.0748455599999991},{"$f":"MIN((IFERROR(IF(AND($V94<=AH$1,$W94>=AH$1),INDEX(Reliability!M$23:M$50,MATCH($S94,Reliability!$C$23:$C$50,0)),0),0)*IF($T94=\"n/a\",$D94*$Y94,$G94)+IFERROR(IF(AND($V94<=AH$1,$W94>=AH$1),INDEX(Reliability!M$23:M$50,MATCH($T94,Reliability!$C$23:$C$50,0)),0),0)*$H94*$X94*$Y94),$D94)*$R94","v":5.4567601199999993},{"$f":"MIN((IFERROR(IF(AND($V94<=AI$1,$W94>=AI$1),INDEX(Reliability!N$23:N$50,MATCH($S94,Reliability!$C$23:$C$50,0)),0),0)*IF($T94=\"n/a\",$D94*$Y94,$G94)+IFERROR(IF(AND($V94<=AI$1,$W94>=AI$1),INDEX(Reliability!N$23:N$50,MATCH($T94,Reliability!$C$23:$C$50,0)),0),0)*$H94*$X94*$Y94),$D94)*$R94","v":4.8386746799999996},{"$f":"MIN((IFERROR(IF(AND($V94<=AJ$1,$W94>=AJ$1),INDEX(Reliability!O$23:O$50,MATCH($S94,Reliability!$C$23:$C$50,0)),0),0)*IF($T94=\"n/a\",$D94*$Y94,$G94)+IFERROR(IF(AND($V94<=AJ$1,$W94>=AJ$1),INDEX(Reliability!O$23:O$50,MATCH($T94,Reliability!$C$23:$C$50,0)),0),0)*$H94*$X94*$Y94),$D94)*$R94","v":4.2205892400000007},{"$f":"MIN((IFERROR(IF(AND($V94<=AK$1,$W94>=AK$1),INDEX(Reliability!P$23:P$50,MATCH($S94,Reliability!$C$23:$C$50,0)),0),0)*IF($T94=\"n/a\",$D94*$Y94,$G94)+IFERROR(IF(AND($V94<=AK$1,$W94>=AK$1),INDEX(Reliability!P$23:P$50,MATCH($T94,Reliability!$C$23:$C$50,0)),0),0)*$H94*$X94*$Y94),$D94)*$R94","v":3.6025037999999996}]
[null,{"$f":"unique_contracts!B95","v":"_NEW_GENERIC_BATTERY_STORAGE"},{"$f":"unique_contracts!D95","v":"Development"},{"$f":"unique_contracts!J95","v":1.8599999999999999},{"$f":"unique_contracts!M95","v":"NotHybrid"},{"$f":"unique_contracts!N95","v":0},{"$f":"unique_contracts!P95","v":0},{"$f":"unique_contracts!R95","v":0},{"$f":"unique_contracts!V95","v":7.4399999999999995},null,{"$f":"unique_contracts!AM95","v":2025},{"$f":"unique_contracts!AN95","v":1},{"$f":"unique_contracts!AO95","v":1},{"$f":"unique_contracts!AP95","v":2035},{"$f":"unique_contracts!AQ95","v":12},{"$f":"unique_contracts!AR95","v":31},{"$f":"unique_contracts!BP95","v":"CapacityOnly"},1,{"$f":"IFERROR(IF(AND(I95>0,E95=\"NotHybrid\"),_xlfn.CONCAT(MAX(MIN(ROUNDDOWN(I95/D95,0),8),4),INDEX(resources!$G:$G,MATCH(B95,resources!$A:$A,0))),INDEX(resources!$G:$G,MATCH(B95,resources!$A:$A,0))),\"n/a\")","v":"4hr_batteries"},"n/a","4hr_batteries",2025,2035,1,1,{"$f":"MIN((IFERROR(IF(AND($V95<=Z$1,$W95>=Z$1),INDEX(Reliability!E$23:E$50,MATCH($S95,Reliability!$C$23:$C$50,0)),0),0)*IF($T95=\"n/a\",$D95*$Y95,$G95)+IFERROR(IF(AND($V95<=Z$1,$W95>=Z$1),INDEX(Reliability!E$23:E$50,MATCH($T95,Reliability!$C$23:$C$50,0)),0),0)*$H95*$X95*$Y95),$D95)*$R95","v":0},{"$f":"MIN((IFERROR(IF(AND($V95<=AA$1,$W95>=AA$1),INDEX(Reliability!F$23:F$50,MATCH($S95,Reliability!$C$23:$C$50,0)),0),0)*IF($T95=\"n/a\",$D95*$Y95,$G95)+IFERROR(IF(AND($V95<=AA$1,$W95>=AA$1),INDEX(Reliability!F$23:F$50,MATCH($T95,Reliability!$C$23:$C$50,0)),0),0)*$H95*$X95*$Y95),$D95)*$R95","v":1.6767899999999998},{"$f":"MIN((IFERROR(IF(AND($V95<=AB$1,$W95>=AB$1),INDEX(Reliability!G$23:G$50,MATCH($S95,Reliability!$C$23:$C$50,0)),0),0)*IF($T95=\"n/a\",$D95*$Y95,$G95)+IFERROR(IF(AND($V95<=AB$1,$W95>=AB$1),INDEX(Reliability!G$23:G$50,MATCH($T95,Reliability!$C$23:$C$50,0)),0),0)*$H95*$X95*$Y95),$D95)*$R95","v":1.7074799999999999},{"$f":"MIN((IFERROR(IF(AND($V95<=AC$1,$W95>=AC$1),INDEX(Reliability!H$23:H$50,MATCH($S95,Reliability!$C$23:$C$50,0)),0),0)*IF($T95=\"n/a\",$D95*$Y95,$G95)+IFERROR(IF(AND($V95<=AC$1,$W95>=AC$1),INDEX(Reliability!H$23:H$50,MATCH($T95,Reliability!$C$23:$C$50,0)),0),0)*$H95*$X95*$Y95),$D95)*$R95","v":1.57263},{"$f":"MIN((IFERROR(IF(AND($V95<=AD$1,$W95>=AD$1),INDEX(Reliability!I$23:I$50,MATCH($S95,Reliability!$C$23:$C$50,0)),0),0)*IF($T95=\"n/a\",$D95*$Y95,$G95)+IFERROR(IF(AND($V95<=AD$1,$W95>=AD$1),INDEX(Reliability!I$23:I$50,MATCH($T95,Reliability!$C$23:$C$50,0)),0),0)*$H95*$X95*$Y95),$D95)*$R95","v":1.4377799999999998},{"$f":"MIN((IFERROR(IF(AND($V95<=AE$1,$W95>=AE$1),INDEX(Reliability!J$23:J$50,MATCH($S95,Reliability!$C$23:$C$50,0)),0),0)*IF($T95=\"n/a\",$D95*$Y95,$G95)+IFERROR(IF(AND($V95<=AE$1,$W95>=AE$1),INDEX(Reliability!J$23:J$50,MATCH($T95,Reliability!$C$23:$C$50,0)),0),0)*$H95*$X95*$Y95),$D95)*$R95","v":1.41174},{"$f":"MIN((IFERROR(IF(AND($V95<=AF$1,$W95>=AF$1),INDEX(Reliability!K$23:K$50,MATCH($S95,Reliability!$C$23:$C$50,0)),0),0)*IF($T95=\"n/a\",$D95*$Y95,$G95)+IFERROR(IF(AND($V95<=AF$1,$W95>=AF$1),INDEX(Reliability!K$23:K$50,MATCH($T95,Reliability!$C$23:$C$50,0)),0),0)*$H95*$X95*$Y95),$D95)*$R95","v":1.3856999999999999},{"$f":"MIN((IFERROR(IF(AND($V95<=AG$1,$W95>=AG$1),INDEX(Reliability!L$23:L$50,MATCH($S95,Reliability!$C$23:$C$50,0)),0),0)*IF($T95=\"n/a\",$D95*$Y95,$G95)+IFERROR(IF(AND($V95<=AG$1,$W95>=AG$1),INDEX(Reliability!L$23:L$50,MATCH($T95,Reliability!$C$23:$C$50,0)),0),0)*$H95*$X95*$Y95),$D95)*$R95","v":1.2577319999999999},{"$f":"MIN((IFERROR(IF(AND($V95<=AH$1,$W95>=AH$1),INDEX(Reliability!M$23:M$50,MATCH($S95,Reliability!$C$23:$C$50,0)),0),0)*IF($T95=\"n/a\",$D95*$Y95,$G95)+IFERROR(IF(AND($V95<=AH$1,$W95>=AH$1),INDEX(Reliability!M$23:M$50,MATCH($T95,Reliability!$C$23:$C$50,0)),0),0)*$H95*$X95*$Y95),$D95)*$R95","v":1.129764},{"$f":"MIN((IFERROR(IF(AND($V95<=AI$1,$W95>=AI$1),INDEX(Reliability!N$23:N$50,MATCH($S95,Reliability!$C$23:$C$50,0)),0),0)*IF($T95=\"n/a\",$D95*$Y95,$G95)+IFERROR(IF(AND($V95<=AI$1,$W95>=AI$1),INDEX(Reliability!N$23:N$50,MATCH($T95,Reliability!$C$23:$C$50,0)),0),0)*$H95*$X95*$Y95),$D95)*$R95","v":1.0017960000000001},{"$f":"MIN((IFERROR(IF(AND($V95<=AJ$1,$W95>=AJ$1),INDEX(Reliability!O$23:O$50,MATCH($S95,Reliability!$C$23:$C$50,0)),0),0)*IF($T95=\"n/a\",$D95*$Y95,$G95)+IFERROR(IF(AND($V95<=AJ$1,$W95>=AJ$1),INDEX(Reliability!O$23:O$50,MATCH($T95,Reliability!$C$23:$C$50,0)),0),0)*$H95*$X95*$Y95),$D95)*$R95","v":0.87382800000000016},{"$f":"MIN((IFERROR(IF(AND($V95<=AK$1,$W95>=AK$1),INDEX(Reliability!P$23:P$50,MATCH($S95,Reliability!$C$23:$C$50,0)),0),0)*IF($T95=\"n/a\",$D95*$Y95,$G95)+IFERROR(IF(AND($V95<=AK$1,$W95>=AK$1),INDEX(Reliability!P$23:P$50,MATCH($T95,Reliability!$C$23:$C$50,0)),0),0)*$H95*$X95*$Y95),$D95)*$R95","v":0.74585999999999997}]
[null,{"$f":"unique_contracts!B96","v":"_NEW_GENERIC_BATTERY_STORAGE"},{"$f":"unique_contracts!D96","v":"Development"},{"$f":"unique_contracts!J96","v":2.4799999999999999E-2},{"$f":"unique_contracts!M96","v":"NotHybrid"},{"$f":"unique_contracts!N96","v":0},{"$f":"unique_contracts!P96","v":0},{"$f":"unique_contracts!R96","v":0},{"$f":"unique_contracts!V96","v":0.12300799999999999},null,{"$f":"unique_contracts!AM96","v":2024},{"$f":"unique_contracts!AN96","v":1},{"$f":"unique_contracts!AO96","v":1},{"$f":"unique_contracts!AP96","v":2035},{"$f":"unique_contracts!AQ96","v":12},{"$f":"unique_contracts!AR96","v":31},{"$f":"unique_contracts!BP96","v":"EnergyCapacity"},1,{"$f":"IFERROR(IF(AND(I96>0,E96=\"NotHybrid\"),_xlfn.CONCAT(MAX(MIN(ROUNDDOWN(I96/D96,0),8),4),INDEX(resources!$G:$G,MATCH(B96,resources!$A:$A,0))),INDEX(resources!$G:$G,MATCH(B96,resources!$A:$A,0))),\"n/a\")","v":"4hr_batteries"},"n/a","4hr_batteries",2024,2035,1,1,{"$f":"MIN((IFERROR(IF(AND($V96<=Z$1,$W96>=Z$1),INDEX(Reliability!E$23:E$50,MATCH($S96,Reliability!$C$23:$C$50,0)),0),0)*IF($T96=\"n/a\",$D96*$Y96,$G96)+IFERROR(IF(AND($V96<=Z$1,$W96>=Z$1),INDEX(Reliability!E$23:E$50,MATCH($T96,Reliability!$C$23:$C$50,0)),0),0)*$H96*$X96*$Y96),$D96)*$R96","v":2.1947999999999999E-2},{"$f":"MIN((IFERROR(IF(AND($V96<=AA$1,$W96>=AA$1),INDEX(Reliability!F$23:F$50,MATCH($S96,Reliability!$C$23:$C$50,0)),0),0)*IF($T96=\"n/a\",$D96*$Y96,$G96)+IFERROR(IF(AND($V96<=AA$1,$W96>=AA$1),INDEX(Reliability!F$23:F$50,MATCH($T96,Reliability!$C$23:$C$50,0)),0),0)*$H96*$X96*$Y96),$D96)*$R96","v":2.2357199999999997E-2},{"$f":"MIN((IFERROR(IF(AND($V96<=AB$1,$W96>=AB$1),INDEX(Reliability!G$23:G$50,MATCH($S96,Reliability!$C$23:$C$50,0)),0),0)*IF($T96=\"n/a\",$D96*$Y96,$G96)+IFERROR(IF(AND($V96<=AB$1,$W96>=AB$1),INDEX(Reliability!G$23:G$50,MATCH($T96,Reliability!$C$23:$C$50,0)),0),0)*$H96*$X96*$Y96),$D96)*$R96","v":2.2766399999999999E-2},{"$f":"MIN((IFERROR(IF(AND($V96<=AC$1,$W96>=AC$1),INDEX(Reliability!H$23:H$50,MATCH($S96,Reliability!$C$23:$C$50,0)),0),0)*IF($T96=\"n/a\",$D96*$Y96,$G96)+IFERROR(IF(AND($V96<=AC$1,$W96>=AC$1),INDEX(Reliability!H$23:H$50,MATCH($T96,Reliability!$C$23:$C$50,0)),0),0)*$H96*$X96*$Y96),$D96)*$R96","v":2.0968400000000002E-2},{"$f":"MIN((IFERROR(IF(AND($V96<=AD$1,$W96>=AD$1),INDEX(Reliability!I$23:I$50,MATCH($S96,Reliability!$C$23:$C$50,0)),0),0)*IF($T96=\"n/a\",$D96*$Y96,$G96)+IFERROR(IF(AND($V96<=AD$1,$W96>=AD$1),INDEX(Reliability!I$23:I$50,MATCH($T96,Reliability!$C$23:$C$50,0)),0),0)*$H96*$X96*$Y96),$D96)*$R96","v":1.9170400000000001E-2},{"$f":"MIN((IFERROR(IF(AND($V96<=AE$1,$W96>=AE$1),INDEX(Reliability!J$23:J$50,MATCH($S96,Reliability!$C$23:$C$50,0)),0),0)*IF($T96=\"n/a\",$D96*$Y96,$G96)+IFERROR(IF(AND($V96<=AE$1,$W96>=AE$1),INDEX(Reliability!J$23:J$50,MATCH($T96,Reliability!$C$23:$C$50,0)),0),0)*$H96*$X96*$Y96),$D96)*$R96","v":1.8823199999999998E-2},{"$f":"MIN((IFERROR(IF(AND($V96<=AF$1,$W96>=AF$1),INDEX(Reliability!K$23:K$50,MATCH($S96,Reliability!$C$23:$C$50,0)),0),0)*IF($T96=\"n/a\",$D96*$Y96,$G96)+IFERROR(IF(AND($V96<=AF$1,$W96>=AF$1),INDEX(Reliability!K$23:K$50,MATCH($T96,Reliability!$C$23:$C$50,0)),0),0)*$H96*$X96*$Y96),$D96)*$R96","v":1.8475999999999999E-2},{"$f":"MIN((IFERROR(IF(AND($V96<=AG$1,$W96>=AG$1),INDEX(Reliability!L$23:L$50,MATCH($S96,Reliability!$C$23:$C$50,0)),0),0)*IF($T96=\"n/a\",$D96*$Y96,$G96)+IFERROR(IF(AND($V96<=AG$1,$W96>=AG$1),INDEX(Reliability!L$23:L$50,MATCH($T96,Reliability!$C$23:$C$50,0)),0),0)*$H96*$X96*$Y96),$D96)*$R96","v":1.6769760000000002E-2},{"$f":"MIN((IFERROR(IF(AND($V96<=AH$1,$W96>=AH$1),INDEX(Reliability!M$23:M$50,MATCH($S96,Reliability!$C$23:$C$50,0)),0),0)*IF($T96=\"n/a\",$D96*$Y96,$G96)+IFERROR(IF(AND($V96<=AH$1,$W96>=AH$1),INDEX(Reliability!M$23:M$50,MATCH($T96,Reliability!$C$23:$C$50,0)),0),0)*$H96*$X96*$Y96),$D96)*$R96","v":1.506352E-2},{"$f":"MIN((IFERROR(IF(AND($V96<=AI$1,$W96>=AI$1),INDEX(Reliability!N$23:N$50,MATCH($S96,Reliability!$C$23:$C$50,0)),0),0)*IF($T96=\"n/a\",$D96*$Y96,$G96)+IFERROR(IF(AND($V96<=AI$1,$W96>=AI$1),INDEX(Reliability!N$23:N$50,MATCH($T96,Reliability!$C$23:$C$50,0)),0),0)*$H96*$X96*$Y96),$D96)*$R96","v":1.3357280000000001E-2},{"$f":"MIN((IFERROR(IF(AND($V96<=AJ$1,$W96>=AJ$1),INDEX(Reliability!O$23:O$50,MATCH($S96,Reliability!$C$23:$C$50,0)),0),0)*IF($T96=\"n/a\",$D96*$Y96,$G96)+IFERROR(IF(AND($V96<=AJ$1,$W96>=AJ$1),INDEX(Reliability!O$23:O$50,MATCH($T96,Reliability!$C$23:$C$50,0)),0),0)*$H96*$X96*$Y96),$D96)*$R96","v":1.1651040000000001E-2},{"$f":"MIN((IFERROR(IF(AND($V96<=AK$1,$W96>=AK$1),INDEX(Reliability!P$23:P$50,MATCH($S96,Reliability!$C$23:$C$50,0)),0),0)*IF($T96=\"n/a\",$D96*$Y96,$G96)+IFERROR(IF(AND($V96<=AK$1,$W96>=AK$1),INDEX(Reliability!P$23:P$50,MATCH($T96,Reliability!$C$23:$C$50,0)),0),0)*$H96*$X96*$Y96),$D96)*$R96","v":9.9448000000000002E-3}]

{"sheet":"resources","index":4,"n_rows":1778,"n_cols":7,"rows_kept":1778,"cut":false,"hidden":false,"merged":[]}
["resource","generator_name","MAXGEN","resolve_final_group","BAA_ID","supertype","elcc_type"]
["7STDRD_1_SOLAR1","SHAFTER_SOLAR",20,"caiso_solar","CISO","physical","utility_pv"]
["ACACIA_6_SOLAR","WEST_ANTELOPE_SOLAR",20,"caiso_solar","CISO","physical","utility_pv"]
["ADELANTO_SOLAR","NAN",10,"ldwp_solar","LADWP","physical","utility_pv"]
["ADERA_1_SOLAR1","ADERA_SOLAR",20,"caiso_solar","CISO","physical","utility_pv"]
["ADLIN_1_UNITS","GEYSERS_AIDLIN_AGGREGATE",22,"caiso_geothermal","CISO","physical","geothermal"]
["ADMEST_6_SOLAR","ADAMS_EAST",19,"caiso_solar","CISO","physical","utility_pv"]
["ADOBEE_1_SOLAR","ADOBE_SOLAR",20,"caiso_solar","CISO","physical","utility_pv"]
["AGCANA_X_HOOVER","HOOVER_POWER_PLANT",40,"caiso_hydro","WALC","specifiedimport","hydro"]
["AGRICO_6_PL3N5","FRESNO_PEAKER",22.69,"caiso_peaker1","CISO","physical","gas_ct"]
["AGRICO_7_UNIT","FRESNO_COGEN",49.9,"caiso_ccgt2","CISO","physical","gas_cc"]
["AGUCAL_5_SOLAR1","AGUA_CALIENTE_SOLAR",290,"caiso_solar","CISO","physical","utility_pv"]
["AKINGS_6_AMESR1","AMERICAN_KINGS_SOLAR",123,"caiso_solar","CISO","physical","utility_pv"]
["ALAMIT_2_PL1X3","ALAMITOS_ENERGY_CENTER_UNIT_7",674.7,"caiso_ccgt1","CISO","physical","gas_cc"]
["ALAMIT_7_ES1","ALAMITOS_ENERGY_STORAGE",100.45,"caiso_li_battery","CISO","physical","hr_batteries"]
["ALAMIT_7_UNIT_3","ALAMITOS_GEN_STA._UNIT_3",326.76,"caiso_st","CISO","physical","steam"]
["ALAMIT_7_UNIT_4","ALAMITOS_GEN_STA._UNIT_4",334.43,"caiso_st","CISO","physical","steam"]
["ALAMIT_7_UNIT_5","ALAMITOS_GEN_STA._UNIT_5",480,"caiso_st","CISO","physical","steam"]
["ALAMO_6_UNIT","ALAMO_POWER_PLANT",17,"caiso_hydro","CISO","physical","hydro"]
["ALHMBR_1_ALHSLR","SG_ALHAMBRA",50,"iid_solar","IID","specifiedimport","utility_pv"]
["ALLGNY_6_HYDRO1","SALMON_CREEK_HYDROELECTRIC_PROJECT",0.52,"caiso_small_hydro","CISO","physical","small_hydro"]
["ALMASL_2_AL6BT6","MAVERICK6STORAGE",50,"caiso_li_battery","CISO","physical","hr_batteries"]
["ALMASL_2_GS1SR1","ALMASOL_GENERATING_STATION_1",125,"caiso_solar","CISO","physical","utility_pv"]
["ALMASL_2_GS4SR4","ALMASOL_GENERATING_STATION_4",100,"caiso_solar","CISO","physical","utility_pv"]
["ALMASL_2_GS6SR6","ALMASOL_GENERATING_STATION_6",100,"caiso_solar","CISO","physical","utility_pv"]
["ALMASL_2_GS7SR7","ALMASOL_GENERATING_STATION_7",132,"caiso_solar","CISO","physical","utility_pv"]
["ALMEGT_1_UNIT_1","ALAMEDA_GT_UNIT_1",25,"caiso_peaker2","CISO","physical","gas_ct"]
["ALMEGT_1_UNIT_2","ALAMEDA_GT_UNIT_2",25,"caiso_peaker2","CISO","physical","gas_ct"]
["ALPSLR_1_NTHSLR","ALPAUGH_NORTH,_LLC",20,"caiso_solar","CISO","physical","utility_pv"]
["ALPSLR_1_SPSSLR","ALPAUGH_50_LLC",50,"caiso_solar","CISO","physical","utility_pv"]
["ALT6DN_2_WIND7","PINYON_PINES_1",164.31,"caiso_wind","CISO","physical","in_state_wind_south"]
["ALT6DS_2_WIND9","PINYON_PINES_2",132,"caiso_wind","CISO","physical","in_state_wind_south"]
["ALTA3A_2_CPCE4","ALTA_WIND_4",102,"caiso_wind","CISO","physical","in_state_wind_south"]
["ALTA3A_2_CPCE5","ALTA_WIND_5",168,"caiso_wind","CISO","physical","in_state_wind_south"]
["ALTA3A_2_CPCE8","ALTA_WIND_8",150,"caiso_wind","CISO","physical","in_state_wind_south"]
["ALTA4A_2_CPCW1","ALTA_WIND_1",150,"caiso_wind","CISO","physical","in_state_wind_south"]
["ALTA4B_2_CPCW2","ALTA_WIND_2",150,"caiso_wind","CISO","physical","in_state_wind_south"]
["ALTA4B_2_CPCW3","ALTA_WIND_3",150,"caiso_wind","CISO","physical","in_state_wind_south"]
["ALTA4B_2_CPCW6","MUSTANG_HILLS",150,"caiso_wind","CISO","physical","in_state_wind_south"]
["ALTA6B_2_WIND11","ALTA_WIND_11",88.15,"caiso_wind","CISO","physical","in_state_wind_south"]
["ALTA6E_2_WIND10","ALTA_WIND_10",134.84,"caiso_wind","CISO","physical","in_state_wind_south"]
["ALTAGASSTORAGE","NAN",40,"caiso_li_battery","CISO","physical","hr_batteries"]
["ALTWD_1_QF","NAN",28.84,"caiso_wind","CISO","physical","in_state_wind_south"]
["ALTWD_2_AT3WD3","ALTECH_3",9.8000000000000007,"caiso_wind","CISO","physical","in_state_wind_south"]
["ALTWD_2_COAWD1","COACHELLA_1",50.4,"caiso_wind","CISO","physical","in_state_wind_south"]
["ANAHM_2_CANYN1","CANYON_POWER_PLANT_UNIT_1",49.4,"caiso_peaker1","CISO","physical","gas_ct"]
["ANAHM_2_CANYN2","CANYON_POWER_PLANT_UNIT_2",49.4,"caiso_peaker1","CISO","physical","gas_ct"]
["ANAHM_2_CANYN3","CANYON_POWER_PLANT_UNIT_3",49.4,"caiso_peaker1","CISO","physical","gas_ct"]
["ANAHM_2_CANYN4","CANYON_POWER_PLANT_UNIT_4",49.4,"caiso_peaker1","CISO","physical","gas_ct"]
["ANAHM_7_CT","NAN",40.64,"caiso_peaker1","CISO","physical","gas_ct"]
["ANTLPE_2_QF","ANTELOPE QFS",4,"caiso_wind","CISO","physical","in_state_wind_south"]
["ANZA_6_SOLAR1","SEVILLE SOLAR ONE",20,"iid_solar","IID","specifiedimport","utility_pv"]
["APEX_CC","NAN",538.70000000000005,"ldwp_ccgt","LADWP","physical","gas_cc"]
["APLHIL_1_SFKHY1","SOUTH FORK POWERHOUSE",2.68,"caiso_hydro","CISO","physical","hydro"]
["APLHIL_1_SLABCK","SLAB CREEK HYDRO",1,"caiso_small_hydro","CISO","physical","small_hydro"]
["AQUAWS_2_AQWSR1","Aquamarine Westside",250,"caiso_solar","CISO","physical","utility_pv"]
["ARATINASOLAR","NAN",150,"caiso_solar","CISO","physical","utility_pv"]
["ARATINASTORAGE","NAN",50,"caiso_li_battery","CISO","physical","hr_batteries"]
["ARBWD_6_QF","WIND RESOURCE II",19.95,"caiso_wind","CISO","physical","in_state_wind_south"]
["ARCOGN_2_UNITS","WATSON COGENERATION",416.6,"caiso_chp","CISO","physical","cogen"]
["ARKANS_1_ARKSLR","SG ARKANSAS",50,"iid_solar","IID","specifiedimport","utility_pv"]
["ARLINT_5_SCEDYN","ARLINGTON VALLEY CC",565,"SW_CCGT","AZPS","specifiedimport","gas_cc"]
["ARLNTN_2_AR1SR1","Arlington",100,"caiso_solar","CISO","physical","utility_pv"]
["ARLNTN_2_ASUSR1","Arlington Solar 1",131,"caiso_solar","CISO","physical","utility_pv"]
["ARLVAL_5_SOLAR","ARLINGTON VALLEY SOLAR ENERGY II",127,"caiso_solar","SRP","specifiedimport","utility_pv"]
["ARVINN_6_ORION1","ORION 1 SOLAR",12,"caiso_solar","CISO","physical","utility_pv"]
["ARVINN_6_ORION2","ORION 2 SOLAR",8,"caiso_solar","CISO","physical","utility_pv"]
["ASTORA_2_SOLAR1","ASTORIA 1",100,"caiso_solar","CISO","physical","utility_pv"]
["ASTORA_2_SOLAR2","ASTORIA 2",75,"caiso_solar","CISO","physical","utility_pv"]
["ATHOS_5_AP1X2","INTERSECTSOLAR",250,"caiso_solar","CISO","physical","utility_pv"]
["ATHOS_5_AP2X2","Athos Power Plant 2",200,"caiso_solar","CISO","physical","utility_pv"]
["ATWEL2_1_SOLAR1","ATWELL WEST",20,"caiso_solar","CISO","physical","utility_pv"]
["ATWELL_1_SOLAR","ATWELL ISLAND PV SOLAR GENERATING FACI.",20,"caiso_solar","CISO","physical","utility_pv"]
["AVENAL_6_AVPARK","AVENAL PARK SOLAR PROJECT",6,"caiso_solar","CISO","physical","utility_pv"]
["AVENAL_6_AVSLR1","AVENAL SOLAR 1",7.9,"caiso_solar","CISO","physical","utility_pv"]
["AVENAL_6_AVSLR2","AVENAL SOLAR 2",7.9,"caiso_solar","CISO","physical","utility_pv"]
["AVENAL_6_SANDDG","SAND DRAG SOLAR PROJECT",19,"caiso_solar","CISO","physical","utility_pv"]
["AVENAL_6_SUNCTY","SUN CITY SOLAR PROJECT",20,"caiso_solar","CISO","physical","utility_pv"]
["AVSOLR_2_SOLAR","AV SOLAR RANCH 1",241.5,"caiso_solar","CISO","physical","utility_pv"]
["AZALEASOLAR","NAN",60,"caiso_solar","CISO","physical","utility_pv"]
["AZALEASTORAGE","NAN",38,"caiso_li_battery","CISO","physical","hr_batteries"]
["BAHIA_2_LKHSR1","LAKE HERMAN SOLAR",5,"caiso_solar","CISO","physical","utility_pv"]
["BALCHS_7_UNIT 1","BALCH 1 PH UNIT 1",31,"caiso_hydro","CISO","physical","hydro"]
["BALCHS_7_UNIT 2","BALCH 2 PH UNIT 2",52.5,"caiso_hydro","CISO","physical","hydro"]
["BALCHS_7_UNIT 3","BALCH 2 PH UNIT 3",54.6,"caiso_hydro","CISO","physical","hydro"]
["BANGOR_6_HYDRO","VIRGINIA RANCH DAM POWERPLANT",1,"caiso_small_hydro","CISO","physical","small_hydro"]
["BANKPP_2_NSPIN","BANKPP_2_NSPIN",270,"caiso_pumped_hydro","CISO","physical","pumped_storage"]
["BARRE_2_QF","BARRE QFS",0.2,"caiso_small_hydro","CISO","physical","small_hydro"]
["BARRE_6_PEAKER","BARRE PEAKER",47,"caiso_peaker1","CISO","physical","gas_ct"]
["BASICE_2_UNITS","KING CITY COGEN",120,"caiso_chp","CISO","physical","cogen"]
["BCTSYS_5_PWXDYN","BCTSYS_5_PWXDYN",428,"caiso_hydro","BPAT","specifiedimport","hydro"]
["BDGRCK_1_UNITS","BADGER CREEK LIMITED",48.08,"caiso_peaker1","CISO","physical","gas_ct"]
["BEACON_SOLAR_B","NAN",125,"ldwp_solar","LADWP","physical","utility_pv"]
["BEARDS_7_UNIT 1","BEARDSLEY HYDRO",11.5,"caiso_hydro","CISO","physical","hydro"]
["BEARMT_1_UNIT","BEAR MOUNTAIN LIMITED",49.21,"caiso_peaker2","CISO","physical","gas_ct"]
["BEJNLS_5_BV2SCEDYN","BROADVIEW 2",167,"caiso_wind","AZPS","specifiedimport","out_of_state_wind_AZNM"]
["BEKWJS_5_BV1SCEDYN","BROADVIEW 1",130,"caiso_wind","AZPS","specifiedimport","out_of_state_wind_AZNM"]
["BELDEN_7_UNIT 1","BELDEN HYDRO",119,"caiso_hydro","CISO","physical","hydro"]
["BELLEVUESOLARINV1","NAN",1.6,"caiso_solar","CISO","physical","utility_pv"]
["BGSKYN_2_AS2SR1","ANTELOPE SOLAR 2",105,"caiso_solar","CISO","physical","utility_pv"]
["BGSKYN_2_ASPSR2","ANTELOPE SOLAR 2 SAN PABLO",100,"caiso_solar","CISO","physical","utility_pv"]
["BGSKYN_2_ASSR1B","Antelope Solar 1B ",17,"caiso_solar","CISO","physical","utility_pv"]
["BGSKYN_2_ASSR3A","ANTELOPE SOLAR 3A",15,"caiso_solar","CISO","physical","utility_pv"]
["BGSKYN_2_ASSR3B","ANTELOPE SOLAR 3B",5,"caiso_solar","CISO","physical","utility_pv"]
["BGSKYN_2_BS3SR3","BIG SKY SOLAR 3",20,"caiso_solar","CISO","physical","utility_pv"]
["BIGBEAUSTORAGE","NAN",40,"caiso_li_battery","CISO","physical","hr_batteries"]
["BIGCRK_2_EXESWD","BIG CREEK HYDRO PROJECT PSP",820,"caiso_hydro","CISO","physical","hydro"]
["BIGCRK_7_DAM7","DAM 7 AT BIG CREEK (FISHWATER GEN)",0.3,"caiso_hydro","CISO","physical","hydro"]
["BIGCRK_7_MAMRES","MAMMOTH POOL RESERVOIR (FISHWATER",1.25,"caiso_small_hydro","CISO","physical","small_hydro"]
["BIGSKY_2_AS2BT1","Antelope Solar 2 LAB",127,"caiso_li_battery","CISO","physical","hr_batteries"]
["BIGSKY_2_ASLBT2","ANTELOPE SOLAR 2 LUNA",100,"caiso_li_battery","CISO","physical","hr_batteries"]
["BIGSKY_2_BSKSR6","BIG SKY SOLAR 6",20,"caiso_solar","CISO","physical","utility_pv"]
["BIGSKY_2_BSKSR7","BIG SKY SOLAR 7",20,"caiso_solar","CISO","physical","utility_pv"]
["BIGSKY_2_BSKSR8","BIG SKY SOLAR 8",20,"caiso_solar","CISO","physical","utility_pv"]
["BIGSKY_2_SOLAR1","ANTELOPE BIG SKY RANCH",20,"caiso_solar","CISO","physical","utility_pv"]
["BIGSKY_2_SOLAR2","BIG SKY SOLAR 4",40,"caiso_solar","CISO","physical","utility_pv"]
["BIGSKY_2_SOLAR3","BIG SKY SUMMER",20,"caiso_solar","CISO","physical","utility_pv"]
["BIGSKY_2_SOLAR4","WESTERN ANTELOPE BLUE SKY RANCH B",20,"caiso_solar","CISO","physical","utility_pv"]
["BIGSKY_2_SOLAR5","BIG SKY SOLAR 2",5,"caiso_solar","CISO","physical","utility_pv"]
["BIGSKY_2_SOLAR6","SOLVERDE 1",85,"caiso_solar","CISO","physical","utility_pv"]
["BIGSKY_2_SOLAR7","BIG SKY SOLAR 1",50,"caiso_solar","CISO","physical","utility_pv"]
["BIGSKY1","NAN",0.75,"caiso_biomass","CISO","physical","biomass_wood"]
["BIGSKY2","NAN",0.75,"caiso_biomass","CISO","physical","biomass_wood"]
["BIOMAS_1_UNIT 1","WOODLAND BIOMASS",25.5,"caiso_biomass","CISO","physical","biomass_wood"]
["BIOMASSONEGE1","NAN",14.4,"caiso_biomass","CISO","physical","biomass_wood"]
["BISHOP_1_ALAMO","BISHOP CREEK PLANT 2  AND  6",13.4,"caiso_small_hydro","CISO","physical","small_hydro"]
["BISHOP_1_UNITS","BISHOP CREEK PLANT 3  AND  4",15.8,"caiso_small_hydro","CISO","physical","small_hydro"]
["BKRFLD_2_SOLAR1","BAKERSFIELD 111",1.38,"caiso_solar","CISO","physical","utility_pv"]
["BLACK_7_UNIT 1","JAMES B. BLACK 1",85,"caiso_hydro","CISO","physical","hydro"]
["BLACK_7_UNIT 2","JAMES B. BLACK 2",84.1,"caiso_hydro","CISO","physical","hydro"]
["BLACK_WALNUT","NAN",15,"caiso_li_battery","CISO","physical","hr_batteries"]
["BLAST_1_WIND","MOUNTAIN VIEW IV WIND",49,"caiso_wind","CISO","physical","in_state_wind_south"]
["BLCKBT_2_STONEY","BLACK BUTTE HYDRO",6.2,"caiso_small_hydro","CISO","physical","small_hydro"]
["BLCKWL_6_SOLAR1","BLACKWELL SOLAR",12,"caiso_solar","CISO","physical","utility_pv"]
["BLKCRK_2_GMCBT1","GENESIS MCCOY BESS",230,"caiso_li_battery","CISO","physical","hr_batteries"]
["BLKCRK_2_SOLAR1","MCCOY STATION",250,"caiso_solar","CISO","physical","utility_pv"]
["BLKDIA_2_BDEBT1","BLACK DIAMOND ENERGY STORAGE",200,"caiso_li_battery","CISO","physical","hr_batteries"]
["BLM W_2_COSBT1","COSOSTORAGE",60,"caiso_li_battery","CISO","physical","hr_batteries"]
["BLM_2_UNITS","BLM EAST FACILITY",72,"caiso_geothermal","CISO","physical","geothermal"]
["BLUE_MOUNTAIN_ELECTRIC_COMPANY","NAN",3,"caiso_biomass","CISO","physical","biomass_wood"]
["BLULKE_6_BLUELK","NAN",12,"caiso_biomass","CISO","physical","biomass_wood"]
["BLYTHE_1_SOLAR1","BLYTHE SOLAR 1 PROJECT",21,"caiso_solar","CISO","physical","utility_pv"]
["BLYTHE_1_SOLAR2","BLYTHE GREEN 1",20,"caiso_solar","CISO","physical","utility_pv"]
["BLYTHESTORAGE1","NAN",63,"caiso_li_battery","CISO","physical","hr_batteries"]
["BNNIEN_7_ALTAPH","ALTA POWER HOUSE",1,"caiso_small_hydro","CISO","physical","small_hydro"]
["BOGUE_1_UNITA1","FEATHER RIVER ENERGY CENTER, UNIT #1",47.6,"caiso_peaker1","CISO","physical","gas_ct"]
["BORDER_6_UNITA1","CALPEAK POWER BORDER UNIT 1",51.25,"caiso_peaker2","CISO","physical","gas_ct"]
["BOWMN_6_HYDRO","NID HYDRO BOWMAN POWERHOUSE",3.6,"caiso_small_hydro","CISO","physical","small_hydro"]
["BRDGVL_7_BAKER","BAKER STATION HYDRO",1.49,"caiso_small_hydro","CISO","physical","small_hydro"]
["BRDSLD_2_HIWIND","HIGH WINDS ENERGY CENTER",162,"caiso_wind","CISO","physical","in_state_wind_north"]
["BRDSLD_2_MTZUM2","NEXTERA ENERGY MONTEZUMA WIND II",78.2,"caiso_wind","CISO","physical","in_state_wind_north"]
["BRDSLD_2_MTZUMA","FPL ENERGY MONTEZUMA WIND",36.799999999999997,"caiso_wind","CISO","physical","in_state_wind_north"]
["BRDSLD_2_SHILO1","SHILOH I WIND PROJECT",150,"caiso_wind","CISO","physical","in_state_wind_north"]
["BRDSLD_2_SHILO2","SHILOH WIND PROJECT 2",150,"caiso_wind","CISO","physical","in_state_wind_north"]
["BRDSLD_2_SHLO3A","SHILOH III WIND PROJECT, LLC",102.5,"caiso_wind","CISO","physical","in_state_wind_north"]
["BRDSLD_2_SHLO3B","SHILOH IV WIND PROJECT",100,"caiso_wind","CISO","physical","in_state_wind_north"]
["BREGGO_6_DEGRSL","DESERT GREEN SOLAR FARM",6.3,"caiso_solar","CISO","physical","utility_pv"]
["BREGGO_6_SOLAR","NRG BORREGO SOLAR ONE",26,"caiso_solar","CISO","physical","utility_pv"]
["BRODIE_2_WIND","CORAM BRODIE WIND PROJECT",102,"caiso_wind","CISO","physical","in_state_wind_south"]
["BUCKBL_2_PL1X3","BLYTHE ENERGY CENTER",493.63,"caiso_ccgt2","CISO","physical","gas_cc"]
["BUCKCK_2_HYDRO","LASSEN STATION HYDRO",0.99,"caiso_small_hydro","CISO","physical","small_hydro"]
["BUCKCK_7_OAKFLT","OAK FLAT",1.3,"caiso_small_hydro","CISO","physical","small_hydro"]
["BUCKCK_7_PL1X2","BUCKS CREEK AGGREGATE",57.25,"caiso_hydro","CISO","physical","hydro"]
["BUCKWD_1_NPALM1","NORTH PALM SPRINGS 1A",2.4,"caiso_solar","CISO","physical","utility_pv"]
["BUCKWD_1_QF","BUCKWIND RE-POWERING PROJECT",16.5,"caiso_wind","CISO","physical","in_state_wind_south"]
["BUCKWD_7_WINTCV","WINTEC ENERGY, LTD.",1.32,"caiso_wind","CISO","physical","in_state_wind_south"]
["BURNYF_2_UNIT 1","BURNEY FOREST POWER",29,"caiso_biomass","CISO","physical","biomass_wood"]
["BUTTVL_7_UNIT 1","BUTT VALLEY HYDRO",39.5,"caiso_hydro","CISO","physical","hydro"]
["CABALO_2_M2BSR1","MUSTANG 2 BARBARO SOLAR",50,"caiso_solar","CISO","physical","utility_pv"]
["CABALO_2_M2WSR2","MUSTANG 2 WHIRLAWAY SOLAR",100,"caiso_solar","CISO","physical","utility_pv"]
["CABZON_1_WINDA1","CABAZON WIND PROJECT",41,"caiso_wind","CISO","physical","in_state_wind_south"]
["CALFTN_2_CFSBT1","California Flats Storage",60,"caiso_li_battery","CISO","physical","hr_batteries"]
["CALFTN_2_SOLAR","CALIFORNIA FLATS NORTH",130,"caiso_solar","CISO","physical","utility_pv"]
["CALFTS_2_CFSSR1","CALIFORNIA FLATS SOLAR SOUTH",150,"caiso_solar","CISO","physical","utility_pv"]
["CALGEN_1_UNITS","COSO NAVY 1",80,"caiso_geothermal","CISO","physical","geothermal"]
["CALPIN_1_AGNEW","AGNEWS POWER PLANT",28.56,"caiso_ccgt1","CISO","physical","gas_cc"]
["CALPSS_6_SOLAR1","CALIPATRIA SOLAR FARM",19.899999999999999,"iid_solar","IID","specifiedimport","utility_pv"]
["CAMCHE_1_PL1X3","CAMANCHE UNITS  1, 2 &  3 AGGREGATE",9.99,"caiso_hydro","CISO","physical","hydro"]
["CAMDEN_6_RDDBM1","RUANN DAIRY DIGESTER BIOMAT",0.55000000000000004,"caiso_biomass","CISO","physical","biomass_wood"]
["CAMERON","NAN",2.4,"caiso_solar","CISO","physical","utility_pv"]
["CAMLOT_2_SOLAR1","CAMELOT",45,"caiso_solar","CISO","physical","utility_pv"]
["CAMLOT_2_SOLAR2","COLUMBIA TWO",15,"caiso_solar","CISO","physical","utility_pv"]
["CAMPFW_7_FARWST","CAMP FAR WEST HYDRO",8,"caiso_small_hydro","CISO","physical","small_hydro"]
["CANTUA_1_SOLAR","CANTUA SOLAR STATION",20,"caiso_solar","CISO","physical","utility_pv"]
["CAPWD_1_QF","EDOM HILLS WIND FARM",19.55,"caiso_wind","CISO","physical","in_state_wind_south"]
["CARBOU_7_PL2X3","CARIBOU PH 1 UNIT 2 & 3 AGGREGATE",49,"caiso_hydro","CISO","physical","hydro"]
["CARBOU_7_PL4X5","CARIBOU PH 2 UNIT 4 & 5 AGGREGATE",120,"caiso_hydro","CISO","physical","hydro"]
["CARBOU_7_UNIT 1","CARIBOU PH 1 UNIT 1",24,"caiso_hydro","CISO","physical","hydro"]
["CARGILLB6BIO1","NAN",1.1000000000000001,"caiso_biomass","CISO","physical","biomass_wood"]
["CARGILLB6BIO2","NAN",1.1000000000000001,"caiso_biomass","CISO","physical","biomass_wood"]
["CARLS1_2_CARCT1","CARLSBAD 1",422,"caiso_peaker1","CISO","physical","gas_ct"]
["CARLS2_1_CARCT1","CARLSBAD 2",105.5,"caiso_peaker1","CISO","physical","gas_ct"]
["CARSON_ICE_CC","NAN",62.7,"banc_ccgt","BANC","physical","gas_cc"]
["CARSON_ICE_PEAKER","NAN",42,"banc_peaker","BANC","physical","gas_ct"]
["CASADB_1_CD4GT1","NAN",40,"caiso_geothermal","CISO","physical","geothermal"]
["CASCADESTORAGE","NAN",25,"caiso_li_battery","CISO","physical","hr_batteries"]
["CASTAIC_1","NAN",240,"ldwp_pumped_hydro","LADWP","physical","pumped_storage"]
["CASTAIC_2","NAN",250,"ldwp_pumped_hydro","LADWP","physical","pumped_storage"]
["CASTAIC_3","NAN",240,"ldwp_pumped_hydro","LADWP","physical","pumped_storage"]
["CASTAIC_4","NAN",240,"ldwp_pumped_hydro","LADWP","physical","pumped_storage"]
["CASTAIC_5","NAN",240,"ldwp_pumped_hydro","LADWP","physical","pumped_storage"]
["CASTAIC_6","NAN",250,"ldwp_pumped_hydro","LADWP","physical","pumped_storage"]
["CASTVL_2_FCELL","NAN",1.4,"caiso_biomass","CISO","physical","biomass_wood"]
["CATLNA_2_SOLAR","CATALINA SOLAR - PHASES 1 AND 2",110,"caiso_solar","CISO","physical","utility_pv"]
["CATLNA_2_SOLAR2","CATALINA SOLAR 2",18,"caiso_solar","CISO","physical","utility_pv"]
["CAVLSR_2_BSOLAR","CALIFORNIA VALLEY SOLAR RANCH-PHASE B",40,"caiso_solar","CISO","physical","utility_pv"]
["CAVLSR_2_RSOLAR","CALIFORNIA VALLEY SOLAR RANCH-PHASE A",210,"caiso_solar","CISO","physical","utility_pv"]
["CAYTNO_2_VASCO","VASCO ROAD",4.3,"caiso_biomass","CISO","physical","biomass_wood"]
["CDWR07_2_GEN","CDWR07_2_GEN",415.3,"caiso_pumped_hydro","CISO","physical","pumped_storage"]
["CEDRCK_6_UNIT","WATER WHEEL RANCH",0.98,"caiso_small_hydro","CISO","physical","small_hydro"]
["CEDUCR_2_SOLAR1","DUCOR SOLAR 1",20,"caiso_solar","CISO","physical","utility_pv"]
["CEDUCR_2_SOLAR2","DUCOR SOLAR 2",20,"caiso_solar","CISO","physical","utility_pv"]
["CEDUCR_2_SOLAR3","DUCOR SOLAR 3",15,"caiso_solar","CISO","physical","utility_pv"]
["CEDUCR_2_SOLAR4","DUCOR SOLAR 4",20,"caiso_solar","CISO","physical","utility_pv"]
["CENT40_1_C40SR1","CENTRAL 40",40,"caiso_solar","CISO","physical","utility_pv"]
["CENTER_2_RHONDO","MWD RIO HONDO HYDROELECTRIC RECOVERY PLA",1.91,"caiso_hydro","CISO","physical","hydro"]
["CENTER_2_SOLAR1","PICO RIVERA",0.9,"caiso_solar","CISO","physical","utility_pv"]
["CENTER_2_TECNG1","TECHNICAST",0.99,"caiso_chp","CISO","physical","cogen"]
["CENTER_6_PEAKER","CENTER PEAKER",47.11,"caiso_peaker1","CISO","physical","gas_ct"]
["CENTRY_6_PL1X4","CENTURY GENERATING PLANT (AGGREGATE)",41.4,"caiso_peaker1","CISO","physical","gas_ct"]
["CHALANSOLAR","NAN",64.900000000000006,"caiso_solar","CISO","physical","utility_pv"]
["CHALANSTORAGE","NAN",25,"caiso_li_battery","CISO","physical","hr_batteries"]
["CHALK_1_UNIT","CHALK CLIFF LIMITED",48.67,"caiso_peaker2","CISO","physical","gas_ct"]
["CHARMN_2_PGONG1","PROCTER  AND  GAMBLE OXNARD I",19.87,"caiso_chp","CISO","physical","cogen"]
["CHEVCD_6_UNIT","CHEVRON USA (TAFT/CADET)",11.5,"caiso_chp","CISO","physical","cogen"]
["CHEVCO_6_UNIT 1","CHEVRON USA (COALINGA)",16.5,"caiso_chp","CISO","physical","cogen"]
["CHEVCO_6_UNIT 2","AERA ENERGY LLC. (COALINGA)",8.5,"caiso_chp","CISO","physical","cogen"]
["CHEVCY_1_UNIT","CHEVRON USA (CYMRIC)",24.3,"caiso_chp","CISO","physical","cogen"]
["CHEVMN_2_UNITS","CHEVRON U.S.A. UNITS 1 & 2 AGGREGATE",124.87,"caiso_chp","CISO","physical","cogen"]
["CHICPK_7_UNIT 1","CHICAGO PARK POWERHOUSE",42,"caiso_hydro","CISO","physical","hydro"]
["CHILLS_1_SYCENG","SYCAMORE ENERGY 1",1.5,"caiso_biomass","CISO","physical","biomass_wood"]
["CHILLS_7_UNITA1","SYCAMORE ENERGY 2",2.25,"caiso_biomass","CISO","physical","biomass_wood"]
["CHINO_2_APEBT1","POMONA ENERGY STORAGE",20,"caiso_li_battery","CISO","physical","hr_batteries"]
["CHINO_2_JURUPA","JURUPA",1.5,"caiso_solar","CISO","physical","utility_pv"]
["CHINO_2_QF","CHINO QFS",0.19,"caiso_biomass","CISO","physical","biomass_wood"]
["CHINO_2_SASOLR","SS SAN ANTONIO WEST LLC",1.5,"caiso_solar","CISO","physical","utility_pv"]
["CHINO_2_SOLAR","CHINO RT SOLAR 1",1,"caiso_solar","CISO","physical","utility_pv"]
["CHINO_2_SOLAR2","KONA SOLAR - TERRA FRANCESCA",1.49,"caiso_solar","CISO","physical","utility_pv"]
["CHINO_6_CIMGEN","CHINO CO-GENERATION",26,"caiso_chp","CISO","physical","cogen"]
["CHINO_6_SMPPAP","NAN",44,"caiso_peaker2","CISO","physical","gas_ct"]
["CHINO_7_MILIKN","MN MILLIKEN GENCO LLC",1.9,"caiso_biomass","CISO","physical","biomass_wood"]
["CHWCHL_1_BIOMAS","CHOW II BIOMASS TO ENERGY",10.8,"caiso_biomass","CISO","physical","biomass_wood"]
["CHWCHL_1_UNIT","CHOW 2 PEAKER PLANT",48.6,"caiso_reciprocating_engine","CISO","physical","ice"]
["CLINESCO_3_PVDYN","CLINES CORNERS",129.94,"caiso_wind","PNM","specifiedimport","out_of_state_wind_AZNM"]
["CLINESCO_3_WBDYN","CLINES CORNERS B",194.28,"caiso_wind","PNM","specifiedimport","out_of_state_wind_AZNM"]
["CLOVDL_1_SOLAR","CLOVERDALE SOLAR I",1.5,"caiso_solar","CISO","physical","utility_pv"]
["CLOVER_2_UNIT","CLOVER CREEK",0.99,"caiso_small_hydro","CISO","physical","small_hydro"]
["CLRKRD_6_LIMESD","LIME SADDLE HYDRO",2,"caiso_small_hydro","CISO","physical","small_hydro"]
["CLRMTK_1_QF","SMALL QF AGGREGATION - OAKLAND",1.25,"caiso_chp","CISO","physical","cogen"]
["CNTNLA_2_SOLAR1","CENTINELA SOLAR ENERGY I",125,"caiso_solar","CISO","physical","utility_pv"]
["CNTNLA_2_SOLAR2","CENTINELS SOLAR ENERGY 2",45.6,"caiso_solar","CISO","physical","utility_pv"]
["CNTRVL_6_UNIT","CENTERVILLE",6.4,"caiso_small_hydro","CISO","physical","small_hydro"]
["COACHELLA_1","NAN",20,"iid_peaker","IID","physical","gas_ct"]
["COACHELLA_2","NAN",20,"iid_peaker","IID","physical","gas_ct"]
["COACHELLA_3","NAN",20,"iid_peaker","IID","physical","gas_ct"]
["COACHELLA_4","NAN",20,"iid_peaker","IID","physical","gas_ct"]
["COACHELLA_BATTERY","NAN",31,"IID_Li_Battery","IID","physical","hr_batteries"]
["COACHELLAWIND","NAN",94.936000000000007,"caiso_wind","CISO","physical","in_state_wind_south"]
["COCOPP_2_CTG1","MARSH LANDING 1",204.2,"caiso_peaker1","CISO","physical","gas_ct"]
["COCOPP_2_CTG2","MARSH LANDING 2",202.7,"caiso_peaker1","CISO","physical","gas_ct"]
["COCOPP_2_CTG3","MARSH LANDING 3",208.96,"caiso_peaker1","CISO","physical","gas_ct"]
["COCOPP_2_CTG4","MARSH LANDING 4",204.29,"caiso_peaker1","CISO","physical","gas_ct"]
["COCOSB_6_SOLAR","OAKLEY SOLAR PROJECT",1.5,"caiso_solar","CISO","physical","utility_pv"]
["COGNAT_1_UNIT","STOCKTON BIOMAS",45,"caiso_biomass","CISO","physical","biomass_wood"]
["COLEMN_2_UNIT","COLEMAN",13,"caiso_small_hydro","CISO","physical","small_hydro"]
["COLGAT_7_UNIT 1","COLGATE POWERHOUSE UNIT 1",176.72,"caiso_hydro","CISO","physical","hydro"]
["COLGAT_7_UNIT 2","COLGATE POWERHOUSE UNIT 2",175.67,"caiso_hydro","CISO","physical","hydro"]
["COLGNS_2_CNSSR1","COLGREEN NORTH SHORE",74.8,"iid_solar","IID","specifiedimport","utility_pv"]
["COLPIN_6_COLLNS","COLLINS PINE",3.3,"caiso_biomass","CISO","physical","biomass_wood"]
["COLTON_6_AGUAM1","AGUA MANSA UNIT 1 (CITY OF COLTON)",43,"caiso_peaker2","CISO","physical","gas_ct"]
["COLUSA_2_PL1X3","COLUSA GENERATING STATION",641,"caiso_ccgt1","CISO","physical","gas_cc"]
["COLVIL_7_PL1X2","COLLIERVILLE HYDRO UNIT 1 & 2 AGGREGATE",246.86,"caiso_hydro","CISO","physical","hydro"]
["CONTRL_1_CASAD1","MAMMOTH G1",10,"caiso_geothermal","CISO","physical","geothermal"]
["CONTRL_1_CASAD2","MAMMOTH G2",10.5,"caiso_geothermal","CISO","physical","geothermal"]
["CONTRL_1_CASAD3","MAMMOTH G3",14,"caiso_geothermal","CISO","physical","geothermal"]
["CONTRL_1_LUNDY","LUNDY",3,"caiso_small_hydro","CISO","physical","small_hydro"]
["CONTRL_1_OXBOW","DIXIE VALLEY GEO",60,"caiso_geothermal","CISO","physical","geothermal"]
["CONTRL_1_POOLE","POOLE HYDRO PLANT 1",10.9,"caiso_small_hydro","CISO","physical","small_hydro"]
["CONTRL_1_QF","CONTROL QFS",2.9,"caiso_geothermal","CISO","physical","geothermal"]
["CONTRL_1_RUSHCK","RUSH CREEK",11.94,"caiso_small_hydro","CISO","physical","small_hydro"]
["COPMT2_2_SOLAR2","CMS2",155,"caiso_solar","CISO","physical","utility_pv"]
["COPMT4_2_SOLAR4","COPPER MOUNTAIN SOLAR 4",92,"caiso_solar","CISO","physical","utility_pv"]
["COPMTN_2_CM10","COPPER MOUNTAIN 10",10,"caiso_solar","CISO","physical","utility_pv"]
["COPMTN_2_SOLAR1","COPPER MOUNTAIN 48",48,"caiso_solar","CISO","physical","utility_pv"]
["COPPER_MOUNTAIN_3_01","COPPER_MOUNTAIN_3_01",26,"ldwp_solar","LADWP","physical","utility_pv"]
["COPPER_MOUNTAIN_3_02","COPPER_MOUNTAIN_3_02",27,"ldwp_solar","LADWP","physical","utility_pv"]
["COPPER_MOUNTAIN_3_03","COPPER_MOUNTAIN_3_03",26,"ldwp_solar","LADWP","physical","utility_pv"]
["COPPER_MOUNTAIN_3_04","COPPER_MOUNTAIN_3_04",28,"ldwp_solar","LADWP","physical","utility_pv"]
["COPPER_MOUNTAIN_3_05","COPPER_MOUNTAIN_3_05",25,"ldwp_solar","LADWP","physical","utility_pv"]
["COPPER_MOUNTAIN_3_06","COPPER_MOUNTAIN_3_06",26,"ldwp_solar","LADWP","physical","utility_pv"]
["COPPER_MOUNTAIN_3_07","COPPER_MOUNTAIN_3_07",27,"ldwp_solar","LADWP","physical","utility_pv"]
["COPPER_MOUNTAIN_3_08","COPPER_MOUNTAIN_3_08",26,"ldwp_solar","LADWP","physical","utility_pv"]
["COPPER_MOUNTAIN_3_09","COPPER_MOUNTAIN_3_09",24,"ldwp_solar","LADWP","physical","utility_pv"]
["COPPER_MOUNTAIN_3_10","COPPER_MOUNTAIN_3_10",20,"ldwp_solar","LADWP","physical","utility_pv"]
["CORCAN_1_SOLAR1","CID SOLAR",20,"caiso_solar","CISO","physical","utility_pv"]
["CORCAN_1_SOLAR2","CORCORAN CITY",11,"caiso_solar","CISO","physical","utility_pv"]
["CORDOVA_FIR_SOLAR","NAN",9.5,"banc_solar","BANC","physical","utility_pv"]
["CORONS_2_SOLAR","MASTER DEVELOPMENT CORONA",0.99,"caiso_solar","CISO","physical","utility_pv"]
["CORONS_6_CLRWTR","CLEARWATER POWER PLANT",28,"caiso_ccgt2","CISO","physical","gas_cc"]
["CORRAL_6_SJOAQN","AMERESCO SAN JOAQUIN",4.3,"caiso_biomass","CISO","physical","biomass_wood"]
["COSUMNES_CC","NAN",534.6,"banc_ccgt","BANC","physical","gas_cc"]
["COTTLE_2_FRNKNH","FRANKENHEIMER POWER PLANT",5.3,"caiso_small_hydro","CISO","physical","small_hydro"]
["COVERD_2_HCKHY1","HATCHET CREEK",6.89,"caiso_hydro","CISO","physical","hydro"]
["COVERD_2_MCKHY1","MONTGOMERY CREEK HYDRO",2.8,"caiso_hydro","CISO","physical","hydro"]
["COVERD_2_QFUNTS","COVE HYDROELECTRIC PROJECT",5.5,"caiso_small_hydro","CISO","physical","small_hydro"]
["COVERD_2_RCKHY1","ROARING CREEK",2,"caiso_hydro","CISO","physical","hydro"]
["COWCRK_2_UNIT","COW CREEK HYDRO",2,"caiso_small_hydro","CISO","physical","small_hydro"]
["CPSTNO_7_PRMADS","PRIMA DESCHECHA (CAPISTRANO)",6.1,"caiso_biomass","CISO","physical","cogen"]
["CPVERD_2_SOLAR","CAMPO VERDE SOLAR",139,"caiso_solar","CISO","physical","utility_pv"]
["CRELMN_6_RAMON1","RAMONA 1",2,"caiso_solar","CISO","physical","utility_pv"]
["CRELMN_6_RAMON2","RAMONA 2",5,"caiso_solar","CISO","physical","utility_pv"]
["CRELMN_6_RAMSR3","RAMONA SOLAR ENERGY",4.32,"caiso_solar","CISO","physical","utility_pv"]
["CRESSY_1_PARKER","PARKER POWERHOUSE",2.83,"caiso_small_hydro","CISO","physical","small_hydro"]
["CRESTA_7_PL1X2","CRESTA PH UNIT 1 & 2 AGGREGATE",70.400000000000006,"caiso_hydro","CISO","physical","hydro"]
["CRIMSN_2_CRMBT1","Crimson (CAISO), Sonoran West (LSEs)",200,"caiso_li_battery","CISO","physical","hr_batteries"]
["CRIMSN_2_CRMBT2","Crimson 2",150,"caiso_li_battery","CISO","physical","hr_batteries"]
["CRNEVL_6_CRNVA","CRANE VALLEY",0.9,"caiso_small_hydro","CISO","physical","small_hydro"]
["CRNEVL_6_SJQN 2","SAN JOAQUIN 2",3.2,"caiso_hydro","CISO","physical","hydro"]
["CRNEVL_6_SJQN 3","SAN JOAQUIN 3",4.2,"caiso_hydro","CISO","physical","hydro"]
["CROKET_7_UNIT","CROCKETT COGEN",240,"caiso_chp","CISO","physical","cogen"]
["CROWCREEKSOLAR","NAN",20,"caiso_solar","CISO","physical","utility_pv"]
["CROWCREEKSTORAGE","NAN",20,"caiso_li_battery","CISO","physical","hr_batteries"]
["CRSTWD_6_KUMYAY","KUMEYAAY WIND FARM",50,"caiso_wind","CISO","physical","in_state_wind_south"]
["CRWCKS_1_SOLAR1","CROW CREEK SOLAR 1",20,"caiso_solar","CISO","physical","utility_pv"]
["CSCCOG_1_UNIT 1","SANTA CLARA CO-GEN",7,"caiso_peaker1","CISO","physical","cogen"]
["CSCGNR_1_UNIT 1","GIANERA PEAKER UNIT 1",24.75,"caiso_peaker2","CISO","physical","gas_ct"]
["CSCGNR_1_UNIT 2","GIANERA PEAKER UNIT 2",24.75,"caiso_peaker2","CISO","physical","gas_ct"]
["CSLR4S_2_SOLAR","CSOLAR IV SOUTH",130,"caiso_solar","CISO","physical","utility_pv"]
["CSTOGA_6_LNDFIL","CLOVER FLAT LAND FILL GAS",0.85,"caiso_biomass","CISO","physical","biomass_wood"]
["CSTRVL_7_PL1X2","MARINA LAND FILL GAS",4.53,"caiso_biomass","CISO","physical","biomass_wood"]
["CSTRVL_7_QFUNTS","CASTROVILLE QF AGGREGATE",2,"caiso_biomass","CISO","physical","cogen"]
["CTNWDP_1_QF","SMALL QF AGGREGATION - BURNEY",0.5,"caiso_small_hydro","CISO","physical","small_hydro"]
["CUMBIA_1_SOLAR","COLUMBIA SOLAR ENERGY II",19,"caiso_solar","CISO","physical","utility_pv"]
["CUMMNG_6_SUNCT1","SUNSELECT 1",4,"caiso_chp","CISO","physical","cogen"]
["CURTIS_1_CANLCK","CANAL CREEK POWERHOUSE",0.9,"caiso_small_hydro","CISO","physical","small_hydro"]
["CURTIS_1_FARFLD","FAIRFIELD POWERHOUSE",0.9,"caiso_small_hydro","CISO","physical","small_hydro"]
["CUYAMS_6_CUYSR1","CUYAMA SOLAR",40,"caiso_solar","CISO","physical","utility_pv"]
["DAIRLD_1_CR1BM1","NAN",2,"caiso_biogas","CISO","physical","biogas"]
["DAIRLD_1_MD1SL1","MADERA 1",1.5,"caiso_solar","CISO","physical","utility_pv"]
["DAIRLD_1_MD2BM1","MADERA DIGESTER GENSET 2",0.8,"caiso_biomass","CISO","physical","biomass_wood"]
["DALYCT_1_FCELL","NAN",1.6,"caiso_biomass","CISO","physical","biomass_wood"]
["DAVID_TEVELDE_DAIRY_DIGESTER","NAN",1,"caiso_biogas","CISO","physical","biogas"]
["DAVIS_1_SOLAR1","GRASSLANDS 3",1,"caiso_solar","CISO","physical","utility_pv"]
["DAVIS_1_SOLAR2","GRASSLANDS 4",1,"caiso_solar","CISO","physical","utility_pv"]
["DAVIS_7_MNMETH","MM YOLO POWER LLC",4,"caiso_biogas","CISO","physical","biogas"]
["DEADCK_1_UNIT","DEADCK_1_UNIT",2,"caiso_small_hydro","CISO","physical","small_hydro"]
["DEERCR_6_UNIT 1","DEER CREEK",7,"caiso_hydro","CISO","physical","hydro"]
["DEL_RANCH_COMPANY","NAN",42,"iid_geothermal","IID","physical","geothermal"]
["DELAMO_2_SOLAR1","GOLDEN SPRINGS BUILDING H",1.5,"caiso_solar","CISO","physical","utility_pv"]
["DELAMO_2_SOLAR2","GOLDEN SPRINGS BUILDING M",1.75,"caiso_solar","CISO","physical","utility_pv"]
["DELAMO_2_SOLAR3","GOLDEN SPRINGS BUILDING G",1.25,"caiso_solar","CISO","physical","utility_pv"]
["DELAMO_2_SOLAR4","GOLDEN SPRINGS BUILDING F",1.3,"caiso_solar","CISO","physical","utility_pv"]
["DELAMO_2_SOLAR5","GOLDEN SPRINGS BUILDING L",1,"caiso_solar","CISO","physical","utility_pv"]
["DELAMO_2_SOLAR6","FREEWAY SPRINGS",2,"caiso_solar","CISO","physical","utility_pv"]
["DELAMO_2_SOLRC1","GOLDEN SPRINGS BUILDING C1",1.1599999999999999,"caiso_solar","CISO","physical","utility_pv"]
["DELAMO_2_SOLRD","GOLDEN SOLAR BUILDING D",1.25,"caiso_solar","CISO","physical","utility_pv"]
["DELSUR_6_BSOLAR","CENTRAL ANTELOPE DRY RANCH B",3,"caiso_solar","CISO","physical","utility_pv"]
["DELSUR_6_CREST","NAN",10,"caiso_solar","CISO","physical","utility_pv"]
["DELSUR_6_DRYFRB","DRY FARM RANCH B",5,"caiso_solar","CISO","physical","utility_pv"]
["DELSUR_6_SOLAR1","SUMMER SOLAR NORTH",6.5,"caiso_solar","CISO","physical","utility_pv"]
["DELSUR_6_SOLAR4","RADIANCE SOLAR 4",1.5,"caiso_solar","CISO","physical","utility_pv"]
["DELSUR_6_SOLAR5","RADIANCE SOLAR 5",1.5,"caiso_solar","CISO","physical","utility_pv"]
["DELTA_2_PL1X4","DELTA ENERGY CENTER AGGREGATE",880,"caiso_ccgt1","CISO","physical","gas_cc"]
["DESERT_POWER_3","NAN",50,"iid_geothermal","IID","physical","geothermal"]
["DESERT_VIEW","NAN",50,"caiso_biomass","IID","physical","biogas"]
["DEVERS_1_QF","NAN",92.639805999999993,"caiso_wind","CISO","physical","in_state_wind_south"]
["DEVERS_1_SEPV05","SEPV 5",2,"caiso_solar","CISO","physical","utility_pv"]
["DEVERS_1_SOLAR","CASCADE SOLAR",18.5,"caiso_solar","CISO","physical","utility_pv"]
["DEVERS_1_SOLAR1","SEPV8",12,"caiso_solar","CISO","physical","utility_pv"]
["DEVERS_1_SOLAR2","SEPV9",9,"caiso_solar","CISO","physical","utility_pv"]
["DEVERS_2_CS2SR4","CALIENTE SOLAR 2",0.91,"caiso_solar","CISO","physical","utility_pv"]
["DEVERS_2_DHSPG2","DESERT HOT SPRINGS 2",1.4,"caiso_solar","CISO","physical","utility_pv"]
["DEXZEL_1_UNIT","WESTERN POWER AND STEAM COGENERATION",20,"caiso_chp","CISO","physical","cogen"]
["DIABLO_7_UNIT 1","DIABLO CANYON UNIT 1",1150,"caiso_nuclear","CISO","physical","nuclear"]
["DIABLO_7_UNIT 2","DIABLO CANYON UNIT 2",1150,"caiso_nuclear","CISO","physical","nuclear"]
["DIAMOND_H_DAIRY_POWER","NAN",2,"caiso_biogas","CISO","physical","biogas"]
["DINUBA_6_UNIT","NAN",12,"caiso_biomass","CISO","physical","biomass_wood"]
["DISCOV_1_CHEVRN","CHEVRON USA (EASTRIDGE)",48.8,"caiso_chp","CISO","physical","cogen"]
["DIVSON_6_NSQF","NAN",47,"caiso_chp","CISO","physical","cogen"]
["DIXNLD_1_LNDFL","ZERO WASTE ENERGY",1.6,"caiso_biomass","CISO","physical","biomass_wood"]
["DMDVLY_1_UNITS","DIAMOND VALLEY LAKE PUMP-GEN PLANT",21,"caiso_hydro","CISO","physical","hydro"]
["DONNLS_7_UNIT","DONNELLS HYDRO",72,"caiso_hydro","CISO","physical","hydro"]
["DOSMGO_2_NSPIN","DOSMGO_2_NSPIN",159,"caiso_pumped_hydro","CISO","physical","pumped_storage"]
["DOUBLC_1_UNITS","DOUBLE \"C\" LIMITED",52.23,"caiso_peaker2","CISO","physical","gas_ct"]
["DOUBLEADIGESTER1","NAN",1.5,"caiso_biomass","CISO","physical","biomass_wood"]
["DOUBLEADIGESTER2","NAN",1.5,"caiso_biomass","CISO","physical","biomass_wood"]
["DOUBLEADIGESTER3","NAN",1.5,"caiso_biomass","CISO","physical","biomass_wood"]
["DRACKR_2_D4SR4B","DRACKER SOLAR UNIT 4B",62.5,"caiso_solar","CISO","physical","utility_pv"]
["DRACKR_2_DS3SR3","DRACKER SOLAR UNIT 3",125,"caiso_solar","CISO","physical","utility_pv"]
["DRACKR_2_DS4SR4","DRACKER SOLAR UNIT 4",62.5,"caiso_solar","CISO","physical","utility_pv"]
["DRACKR_2_DSUBT1","DRACKER SOLAR UNIT 1 BESS",63,"caiso_li_battery","CISO","physical","hr_batteries"]
["DRACKR_2_DSUBT2","DRACKER SOLAR UNIT 2 BESS",115,"caiso_li_battery","CISO","physical","hr_batteries"]
["DRACKR_2_DSUBT3","DRACKER SOLAR UNIT 3 BESS",115,"caiso_li_battery","CISO","physical","hr_batteries"]
["DRACKR_2_DSUBT4","Dracker Solar Unit 4 BESS",47,"caiso_li_battery","CISO","physical","hr_batteries"]
["DRACKR_2_SOLAR1","DRACKER SOLAR UNIT 1",110,"caiso_solar","CISO","physical","utility_pv"]
["DRACKR_2_SOLAR2","DRACKER SOLAR UNIT 2",125,"caiso_solar","CISO","physical","utility_pv"]
["DRACKR_3_DSUBT3","NAN",115,"caiso_li_battery","CISO","physical","hr_batteries"]
["DREWS_6_PL1X4","DREWS GENERATING PLANT",41.4,"caiso_peaker1","CISO","physical","gas_ct"]
["DREWSR_2_BHSSR1","Blue Hornet Solar",100,"caiso_solar","CISO","physical","utility_pv"]
["DRUM_7_PL1X2","DRUM PH 1 UNITS 1 & 2 AGGREGATE",26,"caiso_hydro","CISO","physical","hydro"]
["DRUM_7_PL3X4","DRUM PH 1 UNITS 3 & 4 AGGREGATE",28.9,"caiso_hydro","CISO","physical","hydro"]
["DRUM_7_UNIT 5","DRUM PH 2 UNIT 5",50,"caiso_hydro","CISO","physical","hydro"]
["DSABLA_7_UNIT","DE SABLA HYDRO",18.5,"caiso_small_hydro","CISO","physical","small_hydro"]
["DSFLWR_2_WS2SR1","WILLOW SPRINGS 2",100,"caiso_solar","CISO","physical","utility_pv"]
["DSRTHV_2_DH1SR1","DESERT HARVEST",80,"caiso_solar","CISO","physical","utility_pv"]
["DSRTHV_2_DH2BT1","DESERT HARVEST BESS",35,"caiso_li_battery","CISO","physical","hr_batteries"]
["DSRTHV_2_DH2SR2","DESERT HARVEST 2",70,"caiso_solar","CISO","physical","utility_pv"]
["DSRTSL_2_SOLAR1","DESERT STATELINE",296.19,"caiso_solar","CISO","physical","utility_pv"]
["DSRTSN_2_DS2X2","Desert Sunlight PV II Storage",230,"caiso_li_battery","CISO","physical","hr_batteries"]
["DSRTSN_2_SOLAR1","DESERT SUNLIGHT 300",300,"caiso_solar","CISO","physical","utility_pv"]
["DSRTSN_2_SOLAR2","DESERT SUNLIGHT 250",250,"caiso_solar","CISO","physical","utility_pv"]
["DTCHWD_2_BT3WND","BROOKFIELD TEHACHAPI 3",4.5,"caiso_wind","CISO","physical","in_state_wind_south"]
["DTCHWD_2_BT4WND","BROOKFIELD TEHACHAPI 4",6.52,"caiso_wind","CISO","physical","in_state_wind_south"]
["DUANE_1_PL1X3","DONALD VON RAESFELD POWER PROJECT",147.80000000000001,"caiso_ccgt2","CISO","physical","gas_cc"]
["DURNMESA_3_WBDYN","DURAN MESA",105.08,"caiso_wind","PNM","specifiedimport","out_of_state_wind_AZNM"]
["DUTCH1_7_UNIT 1","DUTCH FLAT 1 PH",22,"caiso_hydro","CISO","physical","hydro"]
["DUTCH2_7_UNIT 1","DUTCH FLAT 2 PH",26,"caiso_hydro","CISO","physical","hydro"]
["DVLCYN_1_UNITS","DEVIL CANYON HYDRO UNITS 1-4 AGGREGATE",235,"caiso_hydro","CISO","physical","hydro"]
["DYERSM_6_DSWWD1","DYER SUMMIT WIND REPOWER",44.8,"caiso_wind","CISO","physical","in_state_wind_north"]
["EARTH_ENERGY_1","NAN",11,"iid_geothermal","IID","physical","geothermal"]
["EASTWD_7_UNIT","EASTWOOD PUMP-GEN",200,"caiso_pumped_hydro","CISO","physical","pumped_storage"]
["EDMONS_2_NSPIN","EDMONS_2_NSPIN",775.8,"caiso_pumped_hydro","CISO","physical","pumped_storage"]
["EDWARD_2_E21SB1_LESR","EdSan 2 Edwards 1A",71,"caiso_li_battery","CISO","physical","hr_batteries"]
["EDWARD_2_E21SB1_SUN","EdSan 2 Edwards 1A",95,"caiso_solar","CISO","physical","utility_pv"]
["EDWARD_2_E23SB1","EdSan 2 Edwards 3",18,"caiso_solar","CISO","physical","utility_pv"]
["EDWARD_2_E23SB1_LESR","EdSan 2 Edwards 3",12,"caiso_li_battery","CISO","physical","hr_batteries"]
["EDWARD_2_ES2BT3","EdSan 2",85,"caiso_solar","CISO","physical","utility_pv"]
["EDWARD_2_ES2BT3_LESR","EdSan 2",66,"caiso_li_battery","CISO","physical","hr_batteries"]
["EEKTMN_6_SOLAR1","EE K SOLAR 1",20,"caiso_solar","CISO","physical","utility_pv"]
["EL_CENTRO_4","NAN",70,"iid_ccgt","IID","physical","gas_cc"]
["EL_CENTRO_CC2","NAN",108.8,"iid_ccgt","IID","physical","gas_cc"]
["EL_CENTRO_CC3","NAN",146.5,"iid_ccgt","IID","physical","gas_cc"]
["ELCABO_5_ECWSCEDYN","EL CABO WIND",298,"caiso_wind","AZPS","specifiedimport","out_of_state_wind_AZNM"]
["ELCAJN_6_DRGEN1","NAN",3,"caiso_li_battery","CISO","physical","hr_batteries"]
["ELCAJN_6_DRGEN2","NAN",1,"caiso_li_battery","CISO","physical","hr_batteries"]
["ELCAJN_6_EB1BT1","EASTERN BESS 1",7.5,"caiso_li_battery","CISO","physical","hr_batteries"]
["ELCAJN_6_LM6K","EL CAJON ENERGY CENTER",48.1,"caiso_peaker2","CISO","physical","gas_ct"]
["ELCAJN_6_UNITA1","CUYAMACA PEAK ENERGY PLANT",45.42,"caiso_peaker1","CISO","physical","gas_ct"]
["ELCAP_1_SOLAR","2097 HELTON",1.5,"caiso_solar","CISO","physical","utility_pv"]
["ELDORO_7_UNIT 1","EL DORADO UNIT 1",11,"caiso_hydro","CISO","physical","hydro"]
["ELDORO_7_UNIT 2","EL DORADO UNIT 2",11,"caiso_hydro","CISO","physical","hydro"]
["ELECTR_7_PL1X3","ELECTRA PH UNIT 1 & 2 AGGREGATE",93,"caiso_hydro","CISO","physical","hydro"]
["ELK_GROVE_1_SOLAR","NAN",50.9,"banc_solar","BANC","physical","utility_pv"]
["ELK_GROVE_2_SOLAR","NAN",37.9,"banc_solar","BANC","physical","utility_pv"]
["ELKCRK_6_STONYG","STONEY GORGE HYDRO AGGREGATE",4.9000000000000004,"caiso_small_hydro","CISO","physical","small_hydro"]
["ELKHIL_2_PL1X3","ELK HILLS COMBINED CYCLE (AGGREGATE)",551.70000000000005,"caiso_ccgt1","CISO","physical","gas_cc"]
["ELKHRN_1_EESX3","ELKHORN ENERGY STORAGE",182.5,"caiso_li_battery","CISO","physical","hr_batteries"]
["ELLIS_2_QF","ELLIS QFS",12,"caiso_peaker1","CISO","physical","gas_ct"]
["ELNIDP_6_BIOMAS","EL NIDO BIOMASS TO ENERGY",10.5,"caiso_biomass","CISO","physical","biomass_wood"]
["ELSEGN_2_UN1011","EL SEGUNDO ENERGY CENTER 5/6",263,"caiso_ccgt2","CISO","physical","gas_cc"]
["ELSEGN_2_UN2021","EL SEGUNDO ENERGY CENTER 7/8",263.68,"caiso_ccgt1","CISO","physical","gas_cc"]
["ENELBELLASTORAGE","NAN",10,"caiso_li_battery","CISO","physical","hr_batteries"]
["ENERGETICS_PV","NAN",4.8,"caiso_solar","CISO","physical","utility_pv"]
["ENERSJ_2_WIND","ESJ WIND ENERGY",155.1,"caiso_wind","CISO","physical","in_state_wind_south"]
["ENERSJ_5_ESJWD2","ENERGIA_SIERRA_JUAREZ_2_US_LLC",105,"caiso_wind","CISO","physical","in_state_wind_south"]
["ENWIND_2_WIND1","CAMERON RIDGE",47.1,"caiso_wind","CISO","physical","in_state_wind_south"]
["ENWIND_2_WIND2","RIDGETOP I",38.24,"caiso_wind","CISO","physical","in_state_wind_south"]
["ESCNDO_6_EB1BT1","ESCONDIDO BESS 1",10,"caiso_li_battery","CISO","physical","hr_batteries"]
["ESCNDO_6_EB2BT2","ESCONDIDO BESS 2",10,"caiso_li_battery","CISO","physical","hr_batteries"]
["ESCNDO_6_EB3BT3","ESCONDIDO BESS 3",10,"caiso_li_battery","CISO","physical","hr_batteries"]
["ESCNDO_6_PL1X2","MMC ESCONDIDO AGGREGATE",48.71,"caiso_peaker2","CISO","physical","gas_ct"]
["ESCNDO_6_UNITB1","CALPEAK POWER ENTERPRISE UNIT 1",48.04,"caiso_peaker2","CISO","physical","gas_ct"]
["ESCO_6_GLMQF","GOAL LINE COGEN",49.9,"caiso_chp","CISO","physical","cogen"]
["ESNHWR_2_WC1BT1","Wildcat I BESS",3,"caiso_li_battery","CISO","physical","hr_batteries"]
["ESQUON_6_LNDFIL","NEAL ROAD LANDFILL GENERATING FACILITY",2.1,"caiso_biomass","CISO","physical","biomass_wood"]
["ESTWND_2_OPPWD1","Oasis Power Plant Eastwind",57.14,"caiso_wind","CISO","physical","in_state_wind_south"]
["ETIWND_2_CHMPNE","CHAMPAGNE",1,"caiso_solar","CISO","physical","utility_pv"]
["ETIWND_2_FONTNA","FONTANALYTLE CREEK POWERHOUSE P",2.56,"caiso_small_hydro","CISO","physical","small_hydro"]
["ETIWND_2_RTS010","SPVP010 FONTANA RT SOLAR",1.5,"caiso_solar","CISO","physical","utility_pv"]
["ETIWND_2_RTS015","SPVP015",3,"caiso_solar","CISO","physical","utility_pv"]
["ETIWND_2_RTS017","SPVP017",3.5,"caiso_solar","CISO","physical","utility_pv"]
["ETIWND_2_RTS018","SPVP018 FONTANA RT SOLAR",1.5,"caiso_solar","CISO","physical","utility_pv"]
["ETIWND_2_RTS023","SPVP023 FONTANA RT SOLAR",2.5,"caiso_solar","CISO","physical","utility_pv"]
["ETIWND_2_RTS026","SPVP026",6,"caiso_solar","CISO","physical","utility_pv"]
["ETIWND_2_RTS027","SPVP027",2,"caiso_solar","CISO","physical","utility_pv"]
["ETIWND_2_SOLAR1","DEDEAUX ONTARIO",1,"caiso_solar","CISO","physical","utility_pv"]
["ETIWND_2_SOLAR2","ROCHESTER",1,"caiso_solar","CISO","physical","utility_pv"]
["ETIWND_2_SOLAR5","DULLES",2,"caiso_solar","CISO","physical","utility_pv"]
["ETIWND_2_UNIT1","ETIWND_2_UNIT1",33.6,"caiso_chp","CISO","physical","cogen"]
["ETIWND_6_GRPLND","GRAPELAND PEAKER",47.39,"caiso_peaker1","CISO","physical","gas_ct"]
["ETIWND_6_MWDETI","ETIWANDA RECOVERY HYDRO",24,"caiso_small_hydro","CISO","physical","small_hydro"]
["EXCHEC_7_UNIT 1","EXCHEQUER HYDRO",94.5,"caiso_hydro","CISO","physical","hydro"]
["EXCLSG_1_SOLAR","EXCELSIOR SOLAR",60,"caiso_solar","CISO","physical","utility_pv"]
["FAIRHV_6_UNIT","NAN",18.75,"caiso_biomass","CISO","physical","biomass_wood"]
["FALLBROOKSTORAGE","NAN",40,"caiso_li_battery","CISO","physical","hr_batteries"]
["FELLOW_7_QFUNTS","FELLOW QF AGGREGATE",6.2,"caiso_chp","CISO","physical","cogen"]
["FLOWD_2_RT2WD2","RIDGETOP 2",27.39,"caiso_wind","CISO","physical","in_state_wind_south"]
["FLOWD_2_WIND1","CAMERON RIDGE 2",11.9,"caiso_wind","CISO","physical","in_state_wind_south"]
["FLOWD2_2_FPLWND","DIABLO WINDS",18,"caiso_wind","CISO","physical","in_state_wind_north"]
["FMEADO_6_HELLHL","FMEADO_6_HELLHL",0.6,"caiso_hydro","CISO","physical","hydro"]
["FMEADO_7_UNIT","FRENCH MEADOWS HYDRO",16,"caiso_small_hydro","CISO","physical","small_hydro"]
["FORBST_7_UNIT 1","FORBESTOWN HYDRO",37.5,"caiso_hydro","CISO","physical","hydro"]
["FORKBU_6_UNIT","HYPOWER, INC. (FORKS OF BUTTE)",14.3,"caiso_hydro","CISO","physical","hydro"]
["FRESHW_1_SOLAR1","CORCORAN 3",20,"caiso_solar","CISO","physical","utility_pv"]
["FRESNOSOLAR","NAN",100,"caiso_solar","CISO","physical","utility_pv"]
["FRESNOSTORAGE","NAN",10,"caiso_li_battery","CISO","physical","hr_batteries"]
["FRIANT_6_UNITS","FRIANT DAM",25,"caiso_small_hydro","CISO","physical","small_hydro"]
["FRITO_1_LAY","FRITO-LAY",6,"caiso_chp","CISO","physical","cogen"]
["FRNTBW_6_SOLAR1","FRONTIER SOLAR",20,"caiso_solar","CISO","physical","utility_pv"]
["FROGTN_1_UTICAA","ANGELS POWERHOUSE",1.4,"caiso_hydro","CISO","physical","hydro"]
["FROGTN_1_UTICAM","MURPHYS POWERHOUSE",3.6,"caiso_hydro","CISO","physical","hydro"]
["FTSWRD_6_TRFORK","THREE FORKS WATER POWER PROJECT",1.63,"caiso_small_hydro","CISO","physical","small_hydro"]
["FTSWRD_7_QFUNTS","FTSWRD_7_QFUNTS",1.6,"caiso_small_hydro","CISO","physical","small_hydro"]
["FULTON_1_QF","SMALL QF AGGREGATION - ZENIA",1,"caiso_small_hydro","CISO","physical","small_hydro"]
["GALE_1_SR3SR3","SUNRAY 3",13.8,"caiso_solar","CISO","physical","utility_pv"]
["GANSO_1_WSTBM1","WESTSTAR DAIRY BIOGAS",1,"caiso_biogas","CISO","physical","biogas"]
["GARLND_2_GARBT1","GARLAND STORAGE",88,"caiso_li_battery","CISO","physical","hr_batteries"]
["GARLND_2_GASLR","GARLAND B",180,"caiso_solar","CISO","physical","utility_pv"]
["GARLND_2_GASLRA","GARLAND A",20,"caiso_solar","CISO","physical","utility_pv"]
["GARNET_1_SOLAR","NORTH PALM SPRINGS 4A",4,"caiso_solar","CISO","physical","utility_pv"]
["GARNET_1_SOLAR2","GARNET SOLAR POWER GENERATION STATION 1",4,"caiso_solar","CISO","physical","utility_pv"]
["GARNET_1_UNITS","GARNET GREEN POWER PROJECT AGGREGATE",16.5,"caiso_wind","CISO","physical","in_state_wind_south"]
["GARNET_1_WIND","GARNET WIND ENERGY CENTER",6.5,"caiso_wind","CISO","physical","in_state_wind_south"]
["GARNET_1_WINDS","GARNET WINDS AGGREGATION",22.5,"caiso_wind","CISO","physical","in_state_wind_south"]
["GARNET_1_WT3WND","WAGNER WIND",6,"caiso_wind","CISO","physical","in_state_wind_south"]
["GARNET_2_COAWD2","COACHELLA 2",10.8,"caiso_wind","CISO","physical","in_state_wind_south"]
["GARNET_2_DIFWD1","NAN",7.88,"caiso_wind","CISO","physical","in_state_wind_south"]
["GARNET_2_HYDRO","WHITEWATER HYDRO",1,"caiso_small_hydro","CISO","physical","small_hydro"]
["GARNET_2_WIND1","PHOENIX",11.2,"caiso_wind","CISO","physical","in_state_wind_south"]
["GARNET_2_WIND2","KAREN AVENUE WIND FARM",11.7,"caiso_wind","CISO","physical","in_state_wind_south"]
["GARNET_2_WIND3","SAN GORGONIO EAST",12.6,"caiso_wind","CISO","physical","in_state_wind_south"]
["GARNET_2_WIND4","WINDUSTRIES",9.8000000000000007,"caiso_wind","CISO","physical","in_state_wind_south"]
["GARNET_2_WIND5","EASTWIND",3,"caiso_wind","CISO","physical","in_state_wind_south"]
["GARNET_2_WPMWD6","WINTEC PALM",5.93,"caiso_wind","CISO","physical","in_state_wind_south"]
["GASKW1_2_GW1SR1","GASKELL WEST 1",20,"caiso_solar","CISO","physical","utility_pv"]
["GATES_2_SOLAR","GATES SOLAR STATION",20,"caiso_solar","CISO","physical","utility_pv"]
["GATES_2_WSOLAR","WEST GATES SOLAR STATION",10,"caiso_solar","CISO","physical","utility_pv"]
["GATEWY_2_GESBT1","GATEWAY ENERGY STROAGE",250,"caiso_li_battery","CISO","physical","hr_batteries"]
["GATWAY_2_PL1X3","GATEWAY GENERATING STATION",585,"caiso_ccgt1","CISO","physical","gas_cc"]
["GENESI_2_STG","GENESIS STATION",250,"caiso_solar","CISO","physical","utility_pv"]
["GEO_EAST_MESA_2_1","NAN",22,"iid_geothermal","IID","physical","geothermal"]
["GEO_EAST_MESA_3_1","NAN",22,"iid_geothermal","IID","physical","geothermal"]
["GEO_EAST_MESA_3_2","NAN",10,"iid_geothermal","IID","physical","geothermal"]
["GEYS11_7_UNIT11","GEYSERS UNIT 11 (HEALDSBURG)",86.8,"caiso_geothermal","CISO","physical","geothermal"]
["GEYS12_7_UNIT12","GEYSERS UNIT 12 (HEALDSBURG)",57,"caiso_geothermal","CISO","physical","geothermal"]
["GEYS13_7_UNIT13","GEYSERS UNIT 13 (HEALDSBURG)",73,"caiso_geothermal","CISO","physical","geothermal"]
["GEYS14_7_UNIT14","GEYSERS UNIT 14 (HEALDSBURG)",70,"caiso_geothermal","CISO","physical","geothermal"]
["GEYS16_7_UNIT16","GEYSERS UNIT 16 (HEALDSBURG)",63,"caiso_geothermal","CISO","physical","geothermal"]
["GEYS17_2_BOTRCK","NAN",10.01,"caiso_geothermal","CISO","physical","geothermal"]
["GEYS17_7_UNIT17","GEYSERS UNIT 17 (HEALDSBURG)",75.5,"caiso_geothermal","CISO","physical","geothermal"]
["GEYS18_7_UNIT18","GEYSERS UNIT 18 (HEALDSBURG)",72,"caiso_geothermal","CISO","physical","geothermal"]
["GEYS20_7_UNIT20","GEYSERS UNIT 20 (HEALDSBURG)",50,"caiso_geothermal","CISO","physical","geothermal"]
["GIFENS_6_BUGSL1","BURFORD GIFFEN",20,"caiso_solar","CISO","physical","utility_pv"]
["GIFFEN_6_SOLAR","GIFFEN SOLAR STATION",10,"caiso_solar","CISO","physical","utility_pv"]
["GIFFEN_6_SOLAR1","ASPIRATION SOLAR G",9,"caiso_solar","CISO","physical","utility_pv"]
["GILROY_1_UNIT","GILROY COGEN AGGREGATE",120,"caiso_ccgt1","CISO","physical","gas_ct"]
["GILRPP_1_PL1X2","GILROY ENERGY CENTER UNITS 1&2 AGGREGATE",95.2,"caiso_peaker2","CISO","physical","gas_ct"]
["GILRPP_1_PL3X4","GILROY ENERGY CENTER, UNIT #3",46.2,"caiso_peaker2","CISO","physical","gas_ct"]
["GLDFGR_6_SOLAR1","PORTAL RIDGE B",20,"caiso_solar","CISO","physical","utility_pv"]
["GLDFGR_6_SOLAR2","PORTAL RIDGE C",11.4,"caiso_solar","CISO","physical","utility_pv"]
["GLDTWN_6_COLUM3","COLUMBIA 3",10,"caiso_solar","CISO","physical","utility_pv"]
["GLDTWN_6_SOLAR","RIO GRANDE",5,"caiso_solar","CISO","physical","utility_pv"]
["GLNARM_2_UNIT 5","GLENARM TURBINE 5",65.81,"caiso_peaker2","CISO","physical","gas_cc"]
["GLNARM_7_UNIT 1","GLEN ARM UNIT 1",22.07,"caiso_peaker2","CISO","physical","gas_ct"]
["GLNARM_7_UNIT 2","GLEN ARM UNIT 2",22.3,"caiso_peaker2","CISO","physical","gas_ct"]
["GLNARM_7_UNIT 3","GLEN ARM UNIT 3",44.83,"caiso_peaker1","CISO","physical","gas_ct"]
["GLNARM_7_UNIT 4","GLEN ARM UNIT 4",42.42,"caiso_peaker1","CISO","physical","gas_ct"]
["GLOW_6_SOLAR","ANTELOPE POWER PLANT",20,"caiso_solar","CISO","physical","utility_pv"]
["GOLETA_2_QF","GOLETA QFS",0.25,"caiso_small_hydro","CISO","physical","small_hydro"]
["GOLETA_2_VALBT1","VALLECITO ENERGY STORAGE",10,"caiso_li_battery","CISO","physical","hr_batteries"]
["GOLETA_6_ELLWOD","ELLWOOD ENERGY SUPPORT FACILITY",54,"caiso_peaker2","CISO","physical","gas_ct"]
["GOLETA_6_EXGEN","EXXON COMPANY USA",48.2,"caiso_chp","CISO","physical","cogen"]
["GOLETA_6_GAVOTA","NAN",9.9,"caiso_chp","CISO","physical","cogen"]
["GOLETA_6_TAJIGS","NAN",2.84,"caiso_biogas","CISO","physical","biogas"]
["GOLETA_6_TR2BM2","Tajiguas Biogas Engines",1.99,"caiso_biomass","CISO","physical","biogas"]
["GONZLS_6_UNIT","JOHNSON CANYON LANDFILL",1.42,"caiso_biomass","CISO","physical","biomass_wood"]
["GOOSLK_1_SOLAR1","GOOSE LAKE",12,"caiso_solar","CISO","physical","utility_pv"]
["GRADYW_5_GDYWD1","GRADY WIND",200,"caiso_wind","AZPS","specifiedimport","out_of_state_wind_AZNM"]
["GRAYSON_3","NAN",18,"ldwp_st","LADWP","physical","steam"]
["GRAYSON_4","NAN",40,"ldwp_st","LADWP","physical","steam"]
["GRAYSON_5","NAN",40,"ldwp_st","LADWP","physical","steam"]
["GRAYSON_9","NAN",48,"ldwp_peaker","LADWP","physical","gas_ct"]
["GRAYSON_CC","NAN",102,"ldwp_ccgt","LADWP","physical","gas_cc"]
["GRIDLY_6_SOLAR","GRIDLEY MAIN TWO",2.5,"caiso_solar","CISO","physical","utility_pv"]
["GRIFFI_2_LSPDYN","GRIFFITH ENERGY",570,"sw_ccgt","WALC","specifiedimport","gas_cc"]
["GRIZLY_1_UNIT 1","GRIZZLY HYDRO",20,"caiso_hydro","CISO","physical","hydro"]
["GRNITE_6_ESCBT1","EnerSmart El Cajon",3,"caiso_li_battery","CISO","physical","hr_batteries"]
["GRNLF1_1_PL1X2","Greenleaf 1",60,"caiso_peaker2","CISO","physical","gas_ct"]
["GRNLF1_1_UNITS","NAN",49.2,"caiso_peaker1","CISO","physical","gas_ct"]
["GRNLF2_1_UNIT","GREENLEAF II COGEN",49.2,"caiso_chp","CISO","physical","cogen"]
["GRNVLY_7_SCLAND","SANTA CRUZ LANDFILL GENERATING PLANT",3.04,"caiso_biomass","CISO","physical","biomass_wood"]
["GRSCRK_6_BGCKWW","BIG CREEK WATER WORKS - CEDAR FLAT",5,"caiso_small_hydro","CISO","physical","small_hydro"]
["GRZZLY_1_BERKLY","BERKELEY COGENERATION",26.35,"caiso_chp","CISO","physical","cogen"]
["GUERNS_6_HD3BM3","HANFORD DIGESTER GENSET 3",1,"caiso_biogas","CISO","physical","biogas"]
["GUERNS_6_SOLAR","GUERNSEY SOLAR STATION",20,"caiso_solar","CISO","physical","utility_pv"]
["GUERNS_6_VH2BM1","HANFORD DIGESTER GENSET 2",1,"caiso_biogas","CISO","physical","biogas"]
["GWFPWR_1_UNITS","HANFORD PEAKER PLANT",98.46,"caiso_peaker2","CISO","physical","gas_ct"]
["GYS5X6_7_UNITS","GEYSERS UNITS 5 & 6 AGGREGATE",98.43,"caiso_geothermal","CISO","physical","geothermal"]
["GYS7X8_7_UNITS","GEYSERS UNITS 7 & 8 AGGREGATE",95.8,"caiso_geothermal","CISO","physical","geothermal"]
["GYSRVL_7_WSPRNG","WARM SPRINGS HYDRO",3.75,"caiso_small_hydro","CISO","physical","small_hydro"]
["HAASPH_7_PL1X2","HAAS PH UNIT 1 & 2 AGGREGATE",144,"caiso_hydro","CISO","physical","hydro"]
["HALSEY_6_UNIT","HALSEY HYDRO",13.5,"caiso_small_hydro","CISO","physical","small_hydro"]
["HARBGN_7_UNITS","HARBOR COGEN COMBINED CYCLE",109.01,"caiso_ccgt2","CISO","physical","gas_cc"]
["HARBOR_CC","NAN",231,"ldwp_ccgt","LADWP","physical","gas_cc"]
["HARBOR_UNIT_10","NAN",49,"ldwp_peaker","LADWP","physical","gas_ct"]
["HARBOR_UNIT_11","NAN",49,"ldwp_peaker","LADWP","physical","gas_ct"]
["HARBOR_UNIT_12","NAN",49,"ldwp_peaker","LADWP","physical","gas_ct"]
["HARBOR_UNIT_13","NAN",49,"ldwp_peaker","LADWP","physical","gas_ct"]
["HARBOR_UNIT_14","NAN",49,"ldwp_peaker","LADWP","physical","gas_ct"]
["HARDWK_6_STWBM1","STILL WATER RANCH DAIRY",1,"caiso_biogas","CISO","physical","biogas"]
["HAT_CREEK_BIOENERGY__LLC","NAN",2.88,"caiso_biomass","CISO","physical","biomass_wood"]
["HATCR1_7_UNIT","HAT CREEK  #1",8.5,"caiso_small_hydro","CISO","physical","small_hydro"]
["HATCR2_7_UNIT","HAT CREEK  #2",8.5,"caiso_small_hydro","CISO","physical","small_hydro"]
["HATLOS_6_BWDHY1","BIDWELL DITCH",2,"caiso_hydro","CISO","physical","hydro"]
["HATLOS_6_LSCRK","LOST CREEK 1 & 2 HYDRO CONVERSION",1.7,"caiso_small_hydro","CISO","physical","small_hydro"]
["HATRDG_2_WIND","HATCHET RIDGE WIND FARM",102,"caiso_wind","CISO","physical","in_state_wind_north"]
["HAYNES_1","NAN",222,"ldwp_st","LADWP","physical","steam"]
["HAYNES_11","NAN",96,"ldwp_peaker","LADWP","physical","gas_ct"]
["HAYNES_12","NAN",96,"ldwp_peaker","LADWP","physical","gas_ct"]
["HAYNES_13","NAN",96,"ldwp_peaker","LADWP","physical","gas_ct"]
["HAYNES_14","NAN",96,"ldwp_peaker","LADWP","physical","gas_ct"]
["HAYNES_15","NAN",96,"ldwp_peaker","LADWP","physical","gas_ct"]
["HAYNES_16","NAN",96,"ldwp_peaker","LADWP","physical","gas_ct"]
["HAYNES_2","NAN",222,"ldwp_st","LADWP","physical","steam"]
["HAYNES_CC","NAN",590,"ldwp_ccgt","LADWP","physical","gas_cc"]
["HAYPRS_6_HAYHD1","HAYPRESS LOWER",5.8,"caiso_small_hydro","CISO","physical","small_hydro"]
["HAYPRS_6_HAYHD2","HAYPRESS MIDDLE",6.7,"caiso_small_hydro","CISO","physical","small_hydro"]
["HEBER_GEO_1","NAN",8.75,"iid_geothermal","IID","physical","geothermal"]
["HEBER_GEO_2","NAN",4.37,"iid_geothermal","IID","physical","geothermal"]
["HEBER_GEO_COMPLEX","NAN",52,"iid_geothermal","IID","physical","geothermal"]
["HEBER_II","NAN",16,"iid_geothermal","IID","physical","geothermal"]
["HEBER_SOLAR_PV","NAN",10,"iid_solar","IID","physical","utility_pv"]
["HEDGE_SOLAR","NAN",1.5,"banc_solar","BANC","physical","utility_pv"]
["HELMPG_7_UNIT 1","HELMS PUMP-GEN UNIT 1",407,"caiso_pumped_hydro","CISO","physical","pumped_storage"]
["HELMPG_7_UNIT 2","HELMS PUMP-GEN UNIT 2",407,"caiso_pumped_hydro","CISO","physical","pumped_storage"]
["HELMPG_7_UNIT 3","HELMS PUMP-GEN UNIT 3",404,"caiso_pumped_hydro","CISO","physical","pumped_storage"]
["HENRTA_6_HDEBT1","HENRIETTA D ENERGY STORAGE",10,"caiso_li_battery","CISO","physical","hr_batteries"]
["HENRTA_6_SOLAR1","LEMOORE 1",1.5,"caiso_solar","CISO","physical","utility_pv"]
["HENRTA_6_SOLAR2","WESTSIDE SOLAR POWER PV1",2,"caiso_solar","CISO","physical","utility_pv"]
["HENRTA_6_UNITA1","GWF HENRIETTA PEAKER PLANT UNIT 1",49.98,"caiso_peaker2","CISO","physical","gas_ct"]
["HENRTA_6_UNITA2","GWF HENRIETTA PEAKER PLANT UNIT 2",49.42,"caiso_peaker2","CISO","physical","gas_ct"]
["HENRTS_1_SOLAR","HENRIETTA SOLAR PROJECT",100,"caiso_solar","CISO","physical","utility_pv"]
["HERDLN_6_BYHSR1","Byron Highway Solar",5,"caiso_solar","CISO","physical","utility_pv"]
["HIDSRT_2_UNITS","HIGH DESERT POWER PROJECT AGGREGATE",830,"caiso_ccgt1","CISO","physical","gas_cc"]
["HIGGNS_1_COMBIE","COMBIE SOUTH",1.5,"caiso_small_hydro","CISO","physical","small_hydro"]
["HIGGNS_7_QFUNTS","HIGGNS_7_QFUNTS",0.5,"caiso_hydro","CISO","physical","hydro"]
["HIGHDS_2_H5SBT1","HIGH 5 SOLAR BESS",50,"caiso_li_battery","CISO","physical","hr_batteries"]
["HIGHDS_2_H5SSR1","HIGH 5 SOLAR",100,"caiso_solar","CISO","physical","utility_pv"]
["HILAND_7_YOLOWD","CLEAR LAKE UNIT 1",3.75,"caiso_hydro","CISO","physical","hydro"]
["HINSON_6_CARBGN","BP WILMINGTON CALCINER",30,"caiso_chp","CISO","physical","cogen"]
["HINSON_6_LBECH1","LONG BEACH UNIT 1",63,"caiso_peaker2","CISO","physical","gas_ct"]
["HINSON_6_LBECH2","LONG BEACH UNIT 2",63,"caiso_peaker2","CISO","physical","gas_ct"]
["HINSON_6_LBECH3","LONG BEACH UNIT 3",63,"caiso_peaker2","CISO","physical","gas_ct"]
["HINSON_6_LBECH4","LONG BEACH UNIT 4",63,"caiso_peaker2","CISO","physical","gas_ct"]
["HINSON_6_SERRGN","SOUTHEAST RESOURCE RECOVERY",34,"caiso_chp","CISO","physical","cogen"]
["HMLTBR_6_UNITS","HAMILTON BRANCH PH (AGGREGATE)",4.9000000000000004,"caiso_small_hydro","CISO","physical","small_hydro"]
["HNTGBH_2_PL1X3","HUNTINGTON BEACH ENERGY",673.8,"caiso_ccgt1","CISO","physical","gas_cc"]
["HNTGBH_7_UNIT 2","HUNTINGTON BEACH GEN STA. UNIT 2",226.84,"caiso_st","CISO","physical","steam"]
["HOLGAT_1_BORAX","U.S. BORAX, UNIT 1",48.2,"caiso_chp","CISO","physical","cogen"]
["HOLSTR_1_SOLAR","SAN BENITO SMART PARK",1.5,"caiso_solar","CISO","physical","utility_pv"]
["HOLSTR_1_SOLAR2","HOLLISTER SOLAR",1.5,"caiso_solar","CISO","physical","utility_pv"]
["HOOLEYDIGESTER1","NAN",0.2,"caiso_biomass","CISO","physical","biomass_wood"]
["HOOLEYDIGESTER2","NAN",0.2,"caiso_biomass","CISO","physical","biomass_wood"]
["HOOVER_2_MWDDYN","HOOVER",249,"caiso_hydro","WALC","specifiedimport","hydro"]
["HOOVER_2_VEADYN","HOOVER",16,"caiso_hydro","WALC","specifiedimport","hydro"]
["HUDSON_RANCH_I","NAN",64.8,"iid_geothermal","IID","physical","geothermal"]
["HUMBPP_1_UNITS3","HUMBOLDT BAY GENERATING STATION 3",65.08,"caiso_reciprocating_engine","CISO","physical","ice"]
["HUMBPP_6_UNITS","HUMBOLDT BAY GENERATING STATION 1",97.62,"caiso_reciprocating_engine","CISO","physical","ice"]
["HUMBSB_1_QF","SMALL QF AGGREGATION - TRINITY",1.25,"caiso_hydro","CISO","physical","hydro"]
["HUMMINGBIRDSTORAGE","NAN",75,"caiso_li_battery","CISO","physical","hr_batteries"]
["HURON_6_SOLAR","HURON SOLAR STATION",20,"caiso_solar","CISO","physical","utility_pv"]
["HYTTHM_2_UNITS","HYATT-THERMALITO PUMP-GEN (AGGREGATE)",933.1,"caiso_hydro","CISO","physical","hydro"]
["IGNACO_1_QF","SMALL QF AGGREGATION - VALLEJO/DINSMORE",0.5,"caiso_chp","CISO","physical","cogen"]
["IMPERIAL_VALLEYIVSC2","NAN",20,"iid_solar","IID","physical","utility_pv"]
["INDIGO_1_UNIT 1","INDIGO PEAKER UNIT 1",45,"caiso_peaker2","CISO","physical","gas_ct"]
["INDIGO_1_UNIT 2","INDIGO PEAKER UNIT 2",45,"caiso_peaker2","CISO","physical","gas_ct"]
["INDIGO_1_UNIT 3","INDIGO PEAKER UNIT 3",45,"caiso_peaker2","CISO","physical","gas_ct"]
["INDVLY_1_UNITS","INDIAN VALLEY HYDRO",3.01,"caiso_small_hydro","CISO","physical","small_hydro"]
["INSKIP_2_UNIT","INSKIP HYDRO",8,"caiso_hydro","CISO","physical","hydro"]
["INTERMOUNTAIN_1","NAN",849.97,"ldwp_coal","LADWP","physical","coal"]
["INTERMOUNTAIN_2","NAN",849.97,"ldwp_coal","LADWP","physical","coal"]
["INTKEP_2_UNITS","CCSF HETCH_HETCHY HYDRO AGGREGATE",405,"caiso_hydro","CISO","physical","hydro"]
["INTMNT_3_ANAHEIM","INTERMOUNTAIN POWER PROJECT",236,"ldwp_coal","LADWP","specifiedimport","coal"]
["INTMNT_3_PASADENA","INTERMOUNTAIN POWER PROJECT",107,"ldwp_coal","LADWP","specifiedimport","coal"]
["INTMNT_3_RIVERSIDE","IPPDYN",136,"ldwp_coal","LADWP","specifiedimport","coal"]
["INTTRB_6_UNIT","INTERNATIONAL TURBINE RESEARCH",18.399999999999999,"caiso_wind","CISO","physical","in_state_wind_north"]
["IVANPA_1_UNIT1","IVANPAH 1",126,"caiso_solar","CISO","physical","utility_pv"]
["IVANPA_1_UNIT2","IVANPAH 2",133,"caiso_solar","CISO","physical","utility_pv"]
["IVANPA_1_UNIT3","IVANPAH 3",133,"caiso_solar","CISO","physical","utility_pv"]
["IVSLR2_2_SM2SR1","SILVER RIDGE MOUNT SIGNAL 2",150,"caiso_solar","CISO","physical","utility_pv"]
["IVSLRP_2_SOLAR1","SILVER RIDGE MOUNT SIGNAL",200,"caiso_solar","CISO","physical","utility_pv"]
["IVWEST_2_SOLAR1","IMPERIAL VALLEY WEST ( Q # 608)",150,"caiso_solar","CISO","physical","utility_pv"]
["JACMSR_1_JACSR1","JACUMBA SOLAR FARM",20,"caiso_solar","CISO","physical","utility_pv"]
["JANCRK_6_RCABT1","Redwood Coast Airport Microgrid",1.75,"caiso_li_battery","CISO","physical","hr_batteries"]
["JAVASR_1_JAVSR1","NAN",13.5,"caiso_solar","CISO","physical","utility_pv"]
["JAWBNE_2_NSRWND","NORTH SKY RIVER WIND PROJECT",160,"caiso_wind","CISO","physical","in_state_wind_south"]
["JAWBNE_2_SRWND","NAN",77,"caiso_wind","CISO","physical","in_state_wind_south"]
["JAWBNE_2_SRWWD2","Sky River Wind Repower B",30.2,"caiso_wind","CISO","physical","in_state_wind_south"]
["JAYNE_6_WLSLR","WESTLANDS SOLAR FARM PV 1",18,"caiso_solar","CISO","physical","utility_pv"]
["JJ_ELMORE","NAN",42,"iid_geothermal","IID","physical","geothermal"]
["JOANEC_2_STABT1","SANTA ANA STORAGE 1",20,"caiso_li_battery","CISO","physical","hr_batteries"]
["JOANEC_2_STABT2","Santa Ana Storage 2",20,"caiso_li_battery","CISO","physical","hr_batteries"]
["JOHANN_2_JOSBT1","JOHANNA STORAGE 1",10,"caiso_li_battery","CISO","physical","hr_batteries"]
["JOHANN_2_JOSBT2","JOHANNA STORAGE 2",10,"caiso_li_battery","CISO","physical","hr_batteries"]
["JOHANN_2_OCEBT2","ORANGE COUNTY ENERGY STORAGE 2",9,"caiso_li_battery","CISO","physical","hr_batteries"]
["JOHANN_2_OCEBT3","ORANGE COUNTY ENERGY STORAGE 3",6,"caiso_li_battery","CISO","physical","hr_batteries"]
["K_ROAD_MOAPA","NAN",250,"ldwp_solar","LADWP","physical","utility_pv"]
["K_ROAD_MODESTO","NAN",26.32,"banc_solar","BANC","physical","utility_pv"]
["KANSAS_6_SOLAR","RE KANSAS SOUTH",20,"caiso_solar","CISO","physical","utility_pv"]
["KEARNY_6_NESBT1","KEARNY NORTH ENERGY STORAGE",10,"caiso_li_battery","CISO","physical","hr_batteries"]
["KEARNY_6_SESBT2","KEARNY SOUTH ENERGY STORAGE",10,"caiso_li_battery","CISO","physical","hr_batteries"]
["KEKAWK_6_UNIT","STS HYDROPOWER LTD. (KEKAWAKA)",5.5,"caiso_small_hydro","CISO","physical","small_hydro"]
["KELSO_2_UNITS","MARIPOSA ENERGY",198.03,"caiso_peaker1","CISO","physical","gas_ct"]
["KELYRG_6_UNIT","KELLY RIDGE HYDRO",11,"caiso_small_hydro","CISO","physical","small_hydro"]
["KERKH2_7_UNIT 1","KERKHOFF PH 2 UNIT #1",153.9,"caiso_hydro","CISO","physical","hydro"]
["KERMAN_6_SOLAR1","FRESNO SOLAR SOUTH",1.5,"caiso_solar","CISO","physical","utility_pv"]
["KERMAN_6_SOLAR2","FRESNO SOLAR WEST",1.5,"caiso_solar","CISO","physical","utility_pv"]
["KERNFT_1_UNITS","KERN FRONT LIMITED",52.4,"caiso_chp","CISO","physical","cogen"]
["KERNRG_1_UNITS","SOUTH BELRIDGE COGEN FACILITY",55.2,"caiso_chp","CISO","physical","cogen"]
["KERRGN_1_UNIT 1","KERN RIVER HYDRO UNITS 1-4 AGGREGATE",25.6,"caiso_hydro","CISO","physical","hydro"]
["KIEFER_LANDFILL_1_1","NAN",3.5,"caiso_biomass","BANC","physical","biogas"]
["KIEFER_LANDFILL_1_2","NAN",3.5,"caiso_biomass","BANC","physical","biogas"]
["KIEFER_LANDFILL_1_3","NAN",3.5,"caiso_biomass","BANC","physical","biogas"]
["KIEFER_LANDFILL_2_1","NAN",3.5,"caiso_biomass","BANC","physical","biogas"]
["KIEFER_LANDFILL_2_2","NAN",3.5,"caiso_biomass","BANC","physical","biogas"]
["KILARC_2_UNIT 1","KILARC HYDRO",1.5,"caiso_small_hydro","CISO","physical","small_hydro"]
["KINGCO_1_KINGBR","KINGSBURG COGEN",34.5,"caiso_chp","CISO","physical","cogen"]
["KINGRV_7_UNIT 1","KINGS RIVER HYDRO UNIT 1",51.2,"caiso_hydro","CISO","physical","hydro"]
["KIRKER_7_KELCYN","KELLER CANYON LANDFILL GEN FACILICITY",3.56,"caiso_biomass","CISO","physical","biomass_wood"]
["KNGBRD_2_SOLAR1","KINGBIRD SOLAR A",20,"caiso_solar","CISO","physical","utility_pv"]
["KNGBRD_2_SOLAR2","KINGBIRD SOLAR B",20,"caiso_solar","CISO","physical","utility_pv"]
["KNGBRG_1_KBSLR1","KINGSBURG1",1.5,"caiso_solar","CISO","physical","utility_pv"]
["KNGBRG_1_KBSLR2","KINGSBURG2",1.5,"caiso_solar","CISO","physical","utility_pv"]
["KNGCTY_6_UNITA1","KING CITY ENERGY CENTER, UNIT 1",44.6,"caiso_peaker2","CISO","physical","gas_ct"]
["KNTSTH_6_SOLAR","KENT SOUTH",20,"caiso_solar","CISO","physical","utility_pv"]
["KRAMER_1_KJ5SR5","NAN",30,"caiso_solar","CISO","physical","utility_pv"]
["KRAMER_1_SEGS37","NAN",72.057623090000007,"caiso_solar","CISO","physical","utility_pv"]
["KRAMER_1_SEGSR3","NAN",30,"caiso_solar","CISO","physical","utility_pv"]
["KRAMER_1_SEGSR4","NAN",30.881838470000002,"caiso_solar","CISO","physical","utility_pv"]
["KRAMER_2_SEGS 8","KRAMER JUNCTION 8",80,"caiso_solar","CISO","physical","utility_pv"]
["KRAMER_2_SEGS 9","KRAMER JUNCTION 9",80,"caiso_solar","CISO","physical","utility_pv"]
["KRAMER_2_SEGS89","NAN",80,"caiso_solar","CISO","physical","utility_pv"]
["KRNCNY_6_UNIT","KERN CANYON POWERHOUSE",10.6,"caiso_small_hydro","CISO","physical","small_hydro"]
["KYCORA_6_KMSBT1","KEARNY MESA STORAGE",1,"caiso_li_battery","CISO","physical","hr_batteries"]
["LACIEN_2_VENICE","MWD VENICE HYDROELECTRIC RECOVERY PLANT",9.9499999999999993,"caiso_hydro","CISO","physical","hydro"]
["LAGBEL_6_QF","NAN",0.35,"caiso_chp","CISO","physical","cogen"]
["LAKE","NAN",51,"ldwp_peaker","LADWP","physical","gas_ct"]
["LAKESIDE_BIOGAS_LLC","NAN",3,"caiso_biogas","CISO","physical","biogas"]
["LAKHDG_6_UNIT 1","LAKE HODGES PUMPED STORAGE-UNIT1",20,"caiso_pumped_hydro","CISO","physical","pumped_storage"]
["LAKHDG_6_UNIT 2","LAKE HODGES PUMPED STORAGE-UNIT2",20,"caiso_pumped_hydro","CISO","physical","pumped_storage"]
["LAMONT_1_SOLAR1","REGULUS SOLAR",60,"caiso_solar","CISO","physical","utility_pv"]
["LAMONT_1_SOLAR2","REDWOOD SOLAR FARM 4",20,"caiso_solar","CISO","physical","utility_pv"]
["LAMONT_1_SOLAR3","WOODMERE SOLAR FARM",14.99,"caiso_solar","CISO","physical","utility_pv"]
["LAMONT_1_SOLAR4","HAYWORTH SOLAR FARM",26.66,"caiso_solar","CISO","physical","utility_pv"]
["LAMONT_1_SOLAR5","REDCREST SOLAR FARM",16.66,"caiso_solar","CISO","physical","utility_pv"]
["LAPAC_6_UNIT","LOUISIANA PACIFIC SAMOA",20,"caiso_biomass","CISO","physical","biomass_wood"]
["LAPLMA_2_UNIT 1","LA PALOMA GENERATING PLANT UNIT #1",267,"caiso_ccgt1","CISO","physical","gas_cc"]
["LAPLMA_2_UNIT 2","LA PALOMA GENERATING PLANT UNIT #2",266,"caiso_ccgt1","CISO","physical","gas_cc"]
["LAPLMA_2_UNIT 3","LA PALOMA GENERATING PLANT UNIT #3",266,"caiso_ccgt1","CISO","physical","gas_cc"]
["LAPLMA_2_UNIT 4","LA PALOMA GENERATING PLANT, UNIT #4",267,"caiso_ccgt1","CISO","physical","gas_cc"]
["LARKSP_6_UNIT 1","LARKSPUR PEAKER UNIT 1",46.1,"caiso_peaker1","CISO","physical","gas_ct"]
["LARKSP_6_UNIT 2","LARKSPUR PEAKER UNIT 2",47.98,"caiso_peaker1","CISO","physical","gas_ct"]
["LAROA2_2_UNITA1","LR2",322,"caiso_ccgt2","CISO","physical","gas_cc"]
["LASSEN_6_UNITS","HONEY LAKE POWER",30,"caiso_biomass","CISO","physical","biomass_wood"]
["LAWRNC_7_SUNYVL","CITY OF SUNNYVALE UNIT 1 AND 2",0.3,"caiso_chp","CISO","physical","cogen"]
["LEATHERS","NAN",42,"iid_geothermal","IID","physical","geothermal"]
["LEBECS_2_UNITS","PASTORIA ENERGY FACILITY",799.47,"caiso_ccgt1","CISO","physical","gas_cc"]
["LECEF_1_UNITS","LOS ESTEROS ENERGY FACILITY AGGREGATE",309.83999999999997,"caiso_ccgt2","CISO","physical","gas_cc"]
["LECONT_2_LESBT1","LeConte Energy Storage",125,"caiso_li_battery","CISO","physical","hr_batteries"]
["LEPRFD_1_KANSAS","KANSAS",20,"caiso_solar","CISO","physical","utility_pv"]
["LGHTHP_6_ICEGEN","CARSON COGENERATION",48,"caiso_ccgt1","CISO","physical","gas_ct"]
["LHILLS_6_SOLAR1","LOST HILLS SOLAR",20,"caiso_solar","CISO","physical","utility_pv"]
["LILIAC_6_SOLAR","MESA CREST",3,"caiso_solar","CISO","physical","utility_pv"]
["LITLRK_6_GBCSR1","GREEN BEANWORKS C",3,"caiso_solar","CISO","physical","utility_pv"]
["LITLRK_6_SEPV01","GESTAMP SOLAR 1",2,"caiso_solar","CISO","physical","utility_pv"]
["LITLRK_6_SOLAR1","LANCASTER LITTLE ROCK C",5,"caiso_solar","CISO","physical","utility_pv"]
["LITLRK_6_SOLAR2","PALMDALE 18",2,"caiso_solar","CISO","physical","utility_pv"]
["LITLRK_6_SOLAR3","ONE TEN PARTNERS",2,"caiso_solar","CISO","physical","utility_pv"]
["LITLRK_6_SOLAR4","LITTLE ROCK PHAM SOLAR",3,"caiso_solar","CISO","physical","utility_pv"]
["LIVEOK_6_SOLAR","HARRIS",1.25,"caiso_solar","CISO","physical","utility_pv"]
["LIVOAK_1_UNIT 1","LIVE OAK LIMITED",49.7,"caiso_peaker2","CISO","physical","gas_ct"]
["LLAGAS","NAN",20,"caiso_li_battery","CISO","physical","hr_batteries"]
["LMBEPK_2_UNITA1","LAMBIE ENERGY CENTER, UNIT #1",47.5,"caiso_peaker2","CISO","physical","gas_ct"]
["LMBEPK_2_UNITA2","CREED ENERGY CENTER, UNIT #1",47.6,"caiso_peaker2","CISO","physical","gas_ct"]
["LMBEPK_2_UNITA3","GOOSE HAVEN ENERGY CENTER, UNIT #1",47.4,"caiso_peaker2","CISO","physical","gas_ct"]
["LMEC_1_PL1X3","LOS MEDANOS ENERGY CENTER AGGREGATE",580,"caiso_ccgt1","CISO","physical","gas_cc"]
["LNCSTR_6_CREST","NAN",5.5,"caiso_solar","CISO","physical","utility_pv"]
["LNCSTR_6_SOLAR2","SEPV SIERRA NGR",2.75,"caiso_solar","CISO","physical","utility_pv"]
["LOCKFD_1_BEARCK","BEAR CREEK SOLAR",1.5,"caiso_solar","CISO","physical","utility_pv"]
["LOCKFD_1_KSOLAR","KETTLEMAN SOLAR",1,"caiso_solar","CISO","physical","utility_pv"]
["LODI25_2_UNIT 1","LODI GAS TURBINE",25,"caiso_peaker2","CISO","physical","gas_ct"]
["LODIEC_2_PL1X2","LODI ENERGY CENTER",302.58,"caiso_ccgt1","CISO","physical","gas_cc"]
["LOTUS_6_LSFSR1","LOTUS SOLAR FARM",50,"caiso_solar","CISO","physical","utility_pv"]
["LOWGAP_1_SUPHR","MILL & SULPHUR CREEK HYDRO",0.99,"caiso_small_hydro","CISO","physical","small_hydro"]
["LOWGAP_7_QFUNTS","MATTHEWS DAM HYDRO",1.35,"caiso_hydro","CISO","physical","hydro"]
["LTBEAR_1_LB3SR3","LITTLE BEAR 3 SOLAR",20,"caiso_solar","CISO","physical","utility_pv"]
["LTBEAR_1_LB4SR4","LITTLE BEAR 4",50,"caiso_solar","CISO","physical","utility_pv"]
["LTBEAR_1_LB4SR5","LITTLE BEAR 4 SOLAR 5",50,"caiso_solar","CISO","physical","utility_pv"]
["LTBERA_1_LB1SR1","LITTLE BEAR SOLAR 1",40,"caiso_solar","CISO","physical","utility_pv"]
["MAGNLA_6_ANAHEIM","MAGNOLIA POWER PLANT ANAHEIM",109,"ldwp_ccgt","LADWP","specifiedimport","gas_cc"]
["MAGNLA_6_CERRITOS","MAGNOLIA POWER PLANT CERRITOS",12,"ldwp_ccgt","LADWP","specifiedimport","gas_cc"]
["MAGNLA_6_COLTON","MAGNOLIA POWER PROJECT",12,"caiso_ccgt1","LADWP","specifiedimport","gas_cc"]
["MAGNLA_6_PASADENA","MAGNOLIA POWER PLANT - PASADENA",18,"caiso_ccgt1","LADWP","specifiedimport","gas_cc"]
["MAGNOLIA_CC","MAGNOLIA",301,"ldwp_ccgt","LADWP","physical","gas_cc"]
["MAGUND_1_BKISR1","BAKERSFIELD INDUSTRIAL 1",1,"caiso_solar","CISO","physical","utility_pv"]
["MAGUND_1_BKSSR2","BAKERSFIELD SOLAR 1",5.25,"caiso_solar","CISO","physical","utility_pv"]
["MALAGA_1_PL1X2","MALAGA POWER AGGREGATE",96,"caiso_peaker1","CISO","physical","gas_ct"]
["MALCHQ_7_UNIT 1","MALACHA HYDRO L.P.",32.5,"caiso_hydro","CISO","physical","hydro"]
["MALIN_5_BPADYN","MALIN_5_BPADYN",250,"CAISO_Imports","BPAT","specifiedimport","n/a"]
["MALIN_5_GCPDDYN","GRANT COUNTY HYDRO FACILITIES",125,"caiso_hydro","BPAT","specifiedimport","hydro"]
["MALIN_5_HERMDYN","MALIN_5_HERMDYN",308,"nw_ccgt","BPAT","specifiedimport","gas_cc"]
["MALIN_5_IBERDR","IBERDROLA CENTROID SYTEM RESOURCE",100,"caiso_wind","BPAT","specifiedimport","out_of_state_wind_WAOR"]
["MALIN_5_INHRED","CSF COLUMBIA GORGE",50,"caiso_wind","BPAT","specifiedimport","out_of_state_wind_WAOR"]
["MALIN_5_INHRPG","BIGLOW CANYON",50,"caiso_wind","BPAT","specifiedimport","out_of_state_wind_WAOR"]
["MANTEC_1_ML1SR1","MANTECA  LAND 1",1,"caiso_solar","CISO","physical","utility_pv"]
["MANZNA_2_WIND","MANZANA WIND",189,"caiso_wind","CISO","physical","in_state_wind_south"]
["MARCPW_6_SOLAR1","MARICOPA WEST SOLAR PV",20,"caiso_solar","CISO","physical","utility_pv"]
["MARTIN_1_SUNSET","SUNSET RESERVOIR - NORTH BASIN",4.5,"caiso_solar","CISO","physical","utility_pv"]
["MCARTH_6_FRIVRB","FALL RIVER MILLS PROJECT B",1.5,"caiso_solar","CISO","physical","utility_pv"]
["MCCALL_1_QF","FISH WATER",0.52,"caiso_small_hydro","CISO","physical","small_hydro"]
["MCCLELLAN_1","NAN",74,"banc_peaker","BANC","physical","gas_ct"]
["MCCLURE_1","NAN",62,"banc_peaker","BANC","physical","gas_ct"]
["MCCLURE_2","NAN",62,"banc_peaker","BANC","physical","gas_ct"]
["MCSWAN_6_UNITS","MC SWAIN HYDRO",10,"caiso_hydro","CISO","physical","hydro"]
["MDFKRL_2_PROJCT","MIDDLE FORK AND RALSTON PSP",210,"caiso_hydro","CISO","physical","hydro"]
["MELROSESTORAGE1","NAN",20,"caiso_li_battery","CISO","physical","hr_batteries"]
["MENBIO_6_RENEW1","CALRENEW - 1(A)",5,"caiso_solar","CISO","physical","utility_pv"]
["MENBIO_6_UNIT","NAN",25,"caiso_biomass","CISO","physical","biomass_wood"]
["MERCED_1_SOLAR1","MISSION SOLAR",1.5,"caiso_solar","CISO","physical","utility_pv"]
["MERCED_1_SOLAR2","MERCED SOLAR",1.5,"caiso_solar","CISO","physical","utility_pv"]
["MERCFL_6_UNIT","MERCED FALLS POWERHOUSE",3.5,"caiso_small_hydro","CISO","physical","small_hydro"]
["MESAP_1_QF","SMALL QF AGGREGATION - SAN LUIS OBISPO",1,"caiso_chp","CISO","physical","cogen"]
["MESAS_2_QF","NAN",2.9,"caiso_chp","CISO","physical","cogen"]
["MESQUITE_RECOVERY","NAN",27,"caiso_biomass","IID","physical","biogas"]
["METEC_2_PL1X3","METCALF ENERGY CENTER",593.16,"caiso_ccgt1","CISO","physical","gas_cc"]
["MIDSUN_1_PL1X2","North Midway Cogens 5A 5B",9.6,"caiso_peaker2","CISO","physical","gas_ct"]
["MIDWD_2_WIND1","NAN",7.81,"caiso_wind","CISO","physical","in_state_wind_south"]
["MIDWD_2_WIND2","CORAM ENERGY",3,"caiso_wind","CISO","physical","in_state_wind_south"]
["MIDWD_6_WNDLND","NAN",7.45,"caiso_wind","CISO","physical","in_state_wind_south"]
["MIDWD_7_CORAMB","CELLC 7.5 MW TEHACHAPI PROJECT",7.5,"caiso_wind","CISO","physical","in_state_wind_south"]
["MIDWY3_2_MDSSR1","MIDWAY SOUTH SOLAR FARM",20,"iid_solar","IID","specifiedimport","utility_pv"]
["MIDWYS_2_MIDSL1","MIDWAY SOLAR FARM",49.9,"iid_solar","IID","specifiedimport","utility_pv"]
["MILFORD_WIND_1_1","NAN",145,"nw_wind","LADWP","physical","out_of_state_wind_WYID"]
["MILFORD_WIND_1_2","NAN",58.5,"nw_wind","LADWP","physical","out_of_state_wind_WYID"]
["MILFORD_WIND_2","NAN",100,"nw_wind","LADWP","physical","out_of_state_wind_WYID"]
["MILFRD_7_PASADENA","MILFORD I",5,"nw_wind","LADWP","specifiedimport","out_of_state_wind_WYID"]
["MIRLOM_2_CORONA","MWD CORONA HYDROELECTRIC RECOVERY PLANT",2.85,"caiso_hydro","CISO","physical","hydro"]
["MIRLOM_2_LNDFL","MILLIKEN LANDFILL SOLAR",3,"caiso_solar","CISO","physical","utility_pv"]
["MIRLOM_2_MLBBTA","MIRA LOMA BESS A",10,"caiso_li_battery","CISO","physical","hr_batteries"]
["MIRLOM_2_MLBBTB","MIRA LOMA BESS B",10,"caiso_li_battery","CISO","physical","hr_batteries"]
["MIRLOM_2_ONTARO","ONTARIO RT SOLAR",5.5,"caiso_solar","CISO","physical","utility_pv"]
["MIRLOM_2_RTS032","SPVP032",1.5,"caiso_solar","CISO","physical","utility_pv"]
["MIRLOM_2_RTS033","SPVP033",1,"caiso_solar","CISO","physical","utility_pv"]
["MIRLOM_2_TEMESC","MWD TEMESCAL HYDROELECTRIC RECOVERY PLAN",2.85,"caiso_hydro","CISO","physical","hydro"]
["MIRLOM_6_PEAKER","MIRA LOMA PEAKER",46,"caiso_peaker1","CISO","physical","gas_ct"]
["MIRLOM_7_MWDLKM","LAKE MATHEWS HYDROELECTRIC RECOVERY PLAN",5,"caiso_hydro","CISO","physical","hydro"]
["MISSIX_1_QF","SMALL QF AGGREGATION - SAB FRABCUSCI",1,"caiso_chp","CISO","physical","cogen"]
["MKTRCK_1_UNIT 1","MCKITTRICK LIMITED",47.49,"caiso_peaker2","CISO","physical","gas_ct"]
["MLPTAS_7_QFUNTS","MLPTAS_7_QFUNTS",1,"caiso_chp","CISO","physical","cogen"]
["MM_SD_MIRAMAR2","NAN",1.6,"caiso_biomass","CISO","physical","biomass_wood"]
["MNDALY_6_MCGRTH","MCGRATH BEACH PEAKER",47.2,"caiso_peaker1","CISO","physical","gas_ct"]
["MNDOTA_1_SOLAR1","NORTH STAR SOLAR 1",60,"caiso_solar","CISO","physical","utility_pv"]
["MNDOTA_1_SOLAR2","CITIZEN SOLAR B",5,"caiso_solar","CISO","physical","utility_pv"]
["MNOCAERSSTORAGE","NAN",10,"caiso_li_battery","CISO","physical","hr_batteries"]
["MOJAVE_1_SIPHON","MOJAVE SIPHON POWER PLANT",14.36,"caiso_hydro","CISO","physical","hydro"]
["MOJAVW_2_SOLAR","MOJAVE WEST",20,"caiso_solar","CISO","physical","utility_pv"]
["MONLTH_6_BATTRY","TEHACHAPI STORAGE PROJECT",7.99,"caiso_li_battery","CISO","physical","hr_batteries"]
["MONLTS_2_MONWD4","NAN",6.1432232100000004,"caiso_wind","CISO","physical","in_state_wind_south"]
["MONLTS_2_MONWD5","NAN",4.04,"caiso_wind","CISO","physical","in_state_wind_south"]
["MONLTS_2_MONWD6","NAN",5.25,"caiso_wind","CISO","physical","in_state_wind_south"]
["MONLTS_2_MONWD7","NAN",6.1561563110000002,"caiso_wind","CISO","physical","in_state_wind_south"]
["MONTPH_7_UNITS","MONTICELLO HYDRO AGGREGATE",12.5,"caiso_small_hydro","CISO","physical","small_hydro"]
["MOORPK_2_ACOBT1","ACORN I BESS",2,"caiso_li_battery","CISO","physical","hr_batteries"]
["MOORPK_2_CALABS","CALABASAS GAS-TO-ENERGY FACILITY",6.96,"caiso_biomass","CISO","physical","biomass_wood"]
["MOORPK_6_QF","MOORPARK QFS",0.8,"caiso_small_hydro","CISO","physical","small_hydro"]
["MORWD_6_QF","MORWIND",38.159999999999997,"caiso_wind","CISO","physical","in_state_wind_south"]
["MOSSLD_1_QF","SMALL QF AGGREGATION - SANTA CRUZ",1,"caiso_chp","CISO","physical","cogen"]
["MOSSLD_2_PSP1","MOSS LANDING POWER BLOCK 1",510,"caiso_ccgt1","CISO","physical","gas_cc"]
["MOSSLD_2_PSP2","MOSS LANDING POWER BLOCK 2",510,"caiso_ccgt1","CISO","physical","gas_cc"]
["MRCHNT_2_PL1X3","DESERT STAR ENERGY CENTER",494.58,"caiso_ccgt1","CISO","physical","gas_cc"]
["MRGT_6_MEF2","MIRAMAR ENERGY FACILITY II",44,"caiso_peaker1","CISO","physical","gas_ct"]
["MRGT_6_MMAREF","MIRAMAR ENERGY FACILITY",45,"caiso_peaker1","CISO","physical","gas_ct"]
["MRGT_6_TGEBT1","TOP GUN ENERGY STORAGE",30,"caiso_li_battery","CISO","physical","hr_batteries"]
["MRLSDS_6_SOLAR1","MORELOS SOLAR",15,"caiso_solar","CISO","physical","utility_pv"]
["MSHGTS_6_MMARLF","MIRAMAR LANDFILL",5,"caiso_biomass","CISO","physical","biomass_wood"]
["MSOLAR_2_SOLAR1","MESQUITE SOLAR 1",165,"caiso_solar","CISO","physical","utility_pv"]
["MSOLAR_2_SOLAR2","MESQUITE SOLAR 2",100.81,"caiso_solar","CISO","physical","utility_pv"]
["MSOLAR_2_SOLAR3","MESQUITE SOLAR 3, LLC",152,"caiso_solar","CISO","physical","utility_pv"]
["MSQUIT_5_SERDYN","MSQUIT_5_SERDYN",625,"sw_ccgt","SRP","specifiedimport","gas_ct"]
["MSSION_2_QF","SMALL QF AGGREGATION - SAN DIEGO",2,"caiso_small_hydro","CISO","physical","small_hydro"]
["MSTANG_2_MTGBT1","MUSTANG 1 BESS",75,"caiso_li_battery","CISO","physical","hr_batteries"]
["MSTANG_2_SOLAR","MUSTANG",30,"caiso_solar","CISO","physical","utility_pv"]
["MSTANG_2_SOLAR3","MUSTANG 3",40,"caiso_solar","CISO","physical","utility_pv"]
["MSTANG_2_SOLAR4","MUSTANG 4",30,"caiso_solar","CISO","physical","utility_pv"]
["MTHSE_G_38380_1","NAN",20,"banc_solar","BANC","physical","utility_pv"]
["MTNPOS_1_UNIT","MT.POSO COGENERATION CO.",46.64,"caiso_biomass","CISO","physical","cogen"]
["MTWIND_1_MVPWD1","Mountain View Power Project I Repower",66.599999999999994,"caiso_wind","CISO","physical","in_state_wind_south"]
["MTWIND_1_UNIT 1","MOUNTAIN VIEW POWER PROJECT I",44.4,"caiso_wind","CISO","physical","in_state_wind_south"]
["MTWIND_1_UNIT 2","MOUNTAIN VIEW POWER PROJECT II",22.2,"caiso_wind","CISO","physical","in_state_wind_south"]
["MTWIND_1_UNIT 3","MOUNTAIN VIEW POWER PROJECT III",22.44,"caiso_wind","CISO","physical","in_state_wind_south"]
["MURRAY_6_UNIT","GROSSMONT HOSPITAL",4.12,"caiso_chp","CISO","physical","cogen"]
["NAPA_RECYCLING_BIOMASS_PLANT","NAN",1,"caiso_biomass","CISO","physical","biomass_wood"]
["NAROW1_2_UNIT","NARROWS PH 1 UNIT",12,"caiso_small_hydro","CISO","physical","small_hydro"]
["NAROW2_2_UNIT","NARROWS POWERHOUSE UNIT 2",55,"caiso_hydro","CISO","physical","hydro"]
["NAVYII_2_UNITS","COSO POWER DEVELOPER (NAVY II) AGGREGATE",90,"caiso_geothermal","CISO","physical","geothermal"]
["NCPA_7_GP1UN1","NCPA GEO PLANT 1 UNIT 1",38.85,"caiso_geothermal","CISO","physical","geothermal"]
["NCPA_7_GP1UN2","NCPA GEO PLANT 1 UNIT 2",39.94,"caiso_geothermal","CISO","physical","geothermal"]
["NCPA_7_GP2UN3","NCPA GEO PLANT 2 UNIT 3",42.42,"caiso_geothermal","CISO","physical","geothermal"]
["NCPA_7_GP2UN4","NCPA GEO PLANT 2 UNIT 4",52.73,"caiso_geothermal","CISO","physical","geothermal"]
["NEENACH_SOLAR","NAN",3,"ldwp_solar","LADWP","physical","utility_pv"]
["NEENCH_6_SOLAR","ALPINE SOLAR",66,"caiso_solar","CISO","physical","utility_pv"]
["NEWARK_1_QF","NEWARK 1 QF",0.1,"caiso_chp","CISO","physical","cogen"]
["NGILAA_5_SDGDYN","NGILAA_5_SDGDYN",57,"sw_ct","AZPS","specifiedimport","gas_ct"]
["NHOGAN_6_UNITS","NEW HOGAN PH AGGREGATE",4,"caiso_hydro","CISO","physical","hydro"]
["NILAND_1","NAN",50,"iid_peaker","IID","physical","gas_ct"]
["NILAND_2","NAN",50,"iid_peaker","IID","physical","gas_ct"]
["NIMTG_6_NICOGN","NORTH ISLAND COGEN",4.05,"caiso_chp","CISO","physical","cogen"]
["NIMTG_6_NIQF","NAN",42.7,"caiso_chp","CISO","physical","cogen"]
["NORTH_BRAWLEY_01","NAN",16,"iid_geothermal","IID","physical","geothermal"]
["NORTH_BRAWLEY_02","NAN",16,"iid_geothermal","IID","physical","geothermal"]
["NORTH_BRAWLEY_03","NAN",16,"iid_geothermal","IID","physical","geothermal"]
["NORTH_BRAWLEY_04","NAN",16,"iid_geothermal","IID","physical","geothermal"]
["NORTH_BRAWLEY_05","NAN",16,"iid_geothermal","IID","physical","geothermal"]
["NORTH_BRAWLEY_06","NAN",16,"iid_geothermal","IID","physical","geothermal"]
["NORTH_FORK_COMMUNITY_POWER","NAN",2,"caiso_biomass","CISO","physical","biomass_wood"]
["NOVATO_6_LNDFL","REDWOOD RENEWABLE ENERGY",3.9,"caiso_biogas","CISO","physical","biogas"]
["NWCSTL_7_UNIT 1","NEWCASTLE HYDRO",12,"caiso_hydro","CISO","physical","hydro"]
["NZWIND_2_WDSTR5","WINDSTREAM 6111",6.31,"caiso_wind","CISO","physical","in_state_wind_south"]
["NZWIND_6_CALWND","WIND RESOURCE I",9,"caiso_wind","CISO","physical","in_state_wind_south"]
["NZWIND_6_WDSTR","WINDSTREAM 39",3.35,"caiso_wind","CISO","physical","in_state_wind_south"]
["NZWIND_6_WDSTR2","WINDSTREAM 6040",4.07,"caiso_wind","CISO","physical","in_state_wind_south"]
["NZWIND_6_WDSTR3","WINDSTREAM 6041",3.86,"caiso_wind","CISO","physical","in_state_wind_south"]
["NZWIND_6_WDSTR4","WINDSTREAM 6042",6.77,"caiso_wind","CISO","physical","in_state_wind_south"]
["OAK C_1_EBMUD","MWWTP PGS 1 - ENGINES",6.9,"caiso_biogas","CISO","physical","biogas"]
["OAK C_7_UNIT 1","OAKLAND STATION C GT UNIT 1",55,"caiso_peaker2","CISO","physical","gas_ct"]
["OAK C_7_UNIT 3","OAKLAND STATION C GT UNIT 3",55,"caiso_peaker2","CISO","physical","gas_ct"]
["OAK C_7_UNIT_2","OAKLAND STATION C GT UNIT 2",55,"caiso_peaker2","CISO","physical","gas_ct"]
["OAK L_1_GTG1","MWWTP PGS 2 - TURBINE",4.5999999999999996,"caiso_biomass","CISO","physical","biomass_wood"]
["OAKWD_6_QF","OAK CREEK",27.87,"caiso_wind","CISO","physical","in_state_wind_south"]
["OAKWD_6_ZEPHWD","ZEPHYR PARK",3.5,"caiso_wind","CISO","physical","in_state_wind_south"]
["OASIS_6_CREST","NAN",13.5,"caiso_solar","CISO","physical","utility_pv"]
["OASIS_6_GBDSR4","GREEN BEANWORKS D",3,"caiso_solar","CISO","physical","utility_pv"]
["OASIS_6_LPPSR1","Lancaster Psomas PV",3,"caiso_solar","CISO","physical","utility_pv"]
["OASIS_6_SOLAR1","MORGAN LANCASTER I",1.5,"caiso_solar","CISO","physical","utility_pv"]
["OASIS_6_SOLAR2","OASIS SOLAR",20,"caiso_solar","CISO","physical","utility_pv"]
["OASIS_6_SOLAR3","SOCCER CENTER",3,"caiso_solar","CISO","physical","utility_pv"]
["OCI_SOLAR_LAKESIDE","NAN",2,"caiso_solar","CISO","physical","utility_pv"]
["OCTILO_5_WIND","OCOTILLO WIND ENERGY FACILITY",265,"caiso_wind","CISO","physical","in_state_wind_south"]
["OGROVE_6_PL1X2","ORANGE GROVE ENERGY CENTER",96,"caiso_peaker2","CISO","physical","gas_ct"]
["OILFLD_7_QFUNTS","NACIMIENTO HYDROELECTRIC PLANT",3.8,"caiso_hydro","CISO","physical","hydro"]
["OLDRIV_6_BIOGAS","BIDART OLD RIVER 1",2,"caiso_biomass","CISO","physical","biomass_wood"]
["OLDRIV_6_CESDBM","CES DAIRY BIOGAS",1,"caiso_biogas","CISO","physical","biogas"]
["OLDRIV_6_LKVBM1","LAKEVIEW DAIRY BIOGAS",1,"caiso_biogas","CISO","physical","biogas"]
["OLDRV1_6_SOLAR","OLD RIVER ONE",20,"caiso_solar","CISO","physical","utility_pv"]
["OLINDA_2_COYCRK","MWD COYOTE CREEK HYDROELECTRIC RECOVERY",3.13,"caiso_hydro","CISO","physical","hydro"]
["OLINDA_2_LNDFL2","BREA POWER II",28.1,"caiso_biomass","CISO","physical","biomass_wood"]
["OLINDA_2_QF","OLINDA QFS",0.4,"caiso_small_hydro","CISO","physical","small_hydro"]
["OLINDA_7_BLKSND","BLACKSAND GENERATING FACILITY",8,"caiso_biomass","CISO","physical","biomass_wood"]
["OLINDA_7_LNDFIL","NAN",5.6,"caiso_biomass","CISO","physical","biomass_wood"]
["OLIVE_O1","NAN",44,"ldwp_st","LADWP","physical","steam"]
["OLIVE_O2","NAN",55,"ldwp_st","LADWP","physical","steam"]
["OLIVEP_1_SOLAR","WHITE RIVER SOLAR",20,"caiso_solar","CISO","physical","utility_pv"]
["OLIVEP_1_SOLAR2","WHITE RIVER WEST",19.75,"caiso_solar","CISO","physical","utility_pv"]
["OLSEN_2_UNIT","OLSEN POWER PARTNERS",5.8,"caiso_small_hydro","CISO","physical","small_hydro"]
["OMAR_2_UNIT 1","KERN RIVER COGENERATION CO. UNIT 1",78,"caiso_peaker1","CISO","physical","gas_ct"]
["OMAR_2_UNIT 2","KERN RIVER COGENERATION CO. UNIT 2",78.11,"caiso_peaker1","CISO","physical","gas_ct"]
["OMAR_2_UNIT 3","KERN RIVER COGENERATION CO. UNIT 3",81.41,"caiso_peaker1","CISO","physical","gas_ct"]
["OMAR_2_UNIT 4","KERN RIVER COGENERATION CO. UNIT 4",81.44,"caiso_peaker1","CISO","physical","cogen"]
["ONLLPP_6_UNITS","O'NEILL PUMP-GEN (AGGREGATE)",25.2,"caiso_pumped_hydro","CISO","physical","pumped_storage"]
["ORLND_6_HIGHLI","HIGH LINE CANAL HYDRO",0.5,"caiso_hydro","CISO","physical","hydro"]
["ORLND_6_SOLAR1","ENERPARC CALIFORNIA 2",1.5,"caiso_solar","CISO","physical","utility_pv"]
["ORMESA_1_E","NAN",12.9,"iid_geothermal","IID","physical","geothermal"]
["ORMESA_1_H","NAN",12.9,"iid_geothermal","IID","physical","geothermal"]
["ORMESA_I","NAN",33.5,"iid_geothermal","IID","physical","geothermal"]
["ORMESA_II_OEC21","NAN",15,"iid_geothermal","IID","physical","geothermal"]
["ORMESA_II_OEC22","NAN",15,"iid_geothermal","IID","physical","geothermal"]
["ORMOND_7_UNIT 1","ORMOND BEACH GEN STA. UNIT 1",741.27,"caiso_st","CISO","physical","steam"]
["ORMOND_7_UNIT 2","ORMOND BEACH GEN STA. UNIT 2",750,"caiso_st","CISO","physical","steam"]
["ORNI33__LLC","NAN",20,"iid_solar","IID","physical","utility_pv"]
["OROLOM_1_SOLAR1","ORO LOMA SOLAR 1",10,"caiso_solar","CISO","physical","utility_pv"]
["OROLOM_1_SOLAR2","ORO LOMA SOLAR 2",10,"caiso_solar","CISO","physical","utility_pv"]
["OROVIL_6_UNIT","OROVILLE COGENERATION, LP",7.5,"caiso_chp","CISO","physical","cogen"]
["ORTGA_6_ME1SL1","MERCED 1",3,"caiso_solar","CISO","physical","utility_pv"]
["OSO_6_NSPIN","OSO_6_NSPIN",70,"caiso_pumped_hydro","CISO","physical","pumped_storage"]
["OTAY_6_ECVBT1","EnerSmart Chula Vista 1",3,"caiso_li_battery","CISO","physical","hr_batteries"]
["OTAY_6_ECVBT2","Chula Vista 2",3,"caiso_li_battery","CISO","physical","hr_batteries"]
["OTAY_6_LNDFL5","NAN",1.5,"caiso_biogas","CISO","physical","biogas"]
["OTAY_6_LNDFL6","NAN",1.5,"caiso_biogas","CISO","physical","biogas"]
["OTAY_6_PL1X2","CHULA VISTA ENERGY CENTER, LLC",35.5,"caiso_peaker2","CISO","physical","gas_ct"]
["OTAY_6_UNITB1","NAN",3,"caiso_biogas","CISO","physical","biogas"]
["OTMESA_2_PL1X3","OTAY MESA ENERGY CENTER",603.67999999999995,"caiso_ccgt1","CISO","physical","gas_cc"]
["OXBOW_6_DRUM","OXBOW HYDRO",5.8,"caiso_hydro","CISO","physical","hydro"]
["OXMTN_6_LNDFIL","OX MOUNTAIN LANDFILL GENERATING PLANT",10.62,"caiso_biomass","CISO","physical","biomass_wood"]
["PACLUM_6_UNIT","HUMBOLDT REDWOOD",28.8,"caiso_biomass","CISO","physical","biomass_wood"]
["PADUA_2_ONTARO","ONTARIO/SIERRA HYDRO PSP",1.92,"caiso_small_hydro","CISO","physical","small_hydro"]
["PADUA_2_SOLAR1","KONA SOLAR - RANCHO DC #1",1.75,"caiso_solar","CISO","physical","utility_pv"]
["PADUA_6_MWDSDM","SAN DIMAS HYDROELECTRIC RECOVERY PLANT",9.9,"caiso_hydro","CISO","physical","hydro"]
["PADUA_6_QF","PADUA QFS",1.82,"caiso_small_hydro","CISO","physical","small_hydro"]
["PADUA_7_SDIMAS","SAN DIMAS WASH HYDRO",1.05,"caiso_small_hydro","CISO","physical","small_hydro"]
["PAIGES_6_SOLAR","PAIGE SOLAR",20,"caiso_solar","CISO","physical","utility_pv"]
["PALALT_7_COBUG","COOPERATIVELY OWNED BACK UP GENERATOR",4.5,"caiso_peaker2","CISO","physical","gas_ct"]
["PALO_VERDE_3_LADWP","NAN",407,"ldwp_nuclear","LADWP","physical","nuclear"]
["PALOMR_2_PL1X3","PALOMAR ENERGY CENTER",575,"caiso_ccgt1","CISO","physical","gas_cc"]
["PANDOL_6_UNIT","NAN",49,"caiso_biomass","CISO","physical","biomass_wood"]
["PANSEA_1_PANARO","NAN",30,"caiso_wind","CISO","physical","in_state_wind_south"]
["PARDEB_6_UNITS","PARDEE POWER HOUSE",30,"caiso_hydro","CISO","physical","hydro"]
["PARQUEEOLICO","NAN",10,"caiso_wind","CISO","physical","in_state_wind_south"]
["PBLOSM_2_SOLAR","PEARBLOSSOM",9.5,"caiso_solar","CISO","physical","utility_pv"]
["PEABDY_2_LNDFIL","G2 ENERGY HAY ROAD POWER PLANT",1.6,"caiso_biomass","CISO","physical","biomass_wood"]
["PEABDY_2_LNDFL1","POTRERO HILLS ENERGY PRODUCERS",8,"caiso_biomass","CISO","physical","biomass_wood"]
["PEARBL_2_NSPIN","PEARBL_2_NSPIN",118,"caiso_pumped_hydro","CISO","physical","pumped_storage"]
["PEASE_1_TBEBT1","Tierra Buena Energy Storage",5,"caiso_li_battery","CISO","physical","hr_batteries"]
["PEORIA_1_SOLAR","SONORA 1",1.5,"caiso_solar","CISO","physical","utility_pv"]
["PGE_BAY_BIP_DO","NAN",90,"caiso_loadmod","CISO","physical","demand_response"]
["PGE_BAY_CBP DA_NONRES","NAN",0.1,"caiso_loadmod","CISO","physical","demand_response"]
["PGE_BAY_CBP DA_RES","NAN",0.1,"caiso_loadmod","CISO","physical","demand_response"]
["PGE_BAY_PDP_NON_RES","NAN",4,"caiso_loadmod","CISO","physical","demand_response"]
["PGE_BAY_SMARTAC_NON_RES","NAN",0.1,"caiso_loadmod","CISO","physical","demand_response"]
["PGE_BAY_SMARTAC_RES","NAN",0.1,"caiso_loadmod","CISO","physical","demand_response"]
["PGE_BAY_SMARTRATE_RES","NAN",0.1,"caiso_loadmod","CISO","physical","demand_response"]
["PGE_VAL_BIP_DO","NAN",267,"caiso_loadmod","CISO","physical","demand_response"]
["PGE_VAL_CBP_DA","NAN",0.1,"caiso_loadmod","CISO","physical","demand_response"]
["PGE_VAL_CBP_DA_RES","NAN",0.1,"caiso_loadmod","CISO","physical","demand_response"]
["PGE_VAL_SMARTAC_NON_RES","NAN",0.1,"caiso_loadmod","CISO","physical","demand_response"]
["PGE_VAL_SMARTAC_RES","NAN",0.1,"caiso_loadmod","CISO","physical","demand_response"]
["PGE_VAL_SMARTRATE_RES","NAN",2,"caiso_loadmod","CISO","physical","demand_response"]
["PHOENX_1_UNIT","PHOENIX PH",2,"caiso_small_hydro","CISO","physical","small_hydro"]
["PINE_TREE_SOLAR","NAN",8.5,"ldwp_solar","LADWP","physical","utility_pv"]
["PINE_TREE_WIND","NAN",120,"ldwp_wind","LADWP","physical","out_of_state_wind_WYID"]
["PINFLT_7_UNITS","PINE FLAT HYDRO AGGREGATE",198.51,"caiso_hydro","CISO","physical","hydro"]
["PIOPIC_2_CTG1","PIO PICO UNIT 1",111.3,"caiso_peaker1","CISO","physical","gas_ct"]
["PIOPIC_2_CTG2","PIO PICO UNIT 2",112.7,"caiso_peaker1","CISO","physical","gas_ct"]
["PIOPIC_2_CTG3","PIO PICO UNIT 3",112,"caiso_peaker1","CISO","physical","gas_ct"]
["PIT1_6_FRIVRA","FALL RIVER MILLS PROJECT A",1.5,"caiso_solar","CISO","physical","utility_pv"]
["PIT1_7_UNIT 1","PIT PH 1 UNIT 1",32,"caiso_hydro","CISO","physical","hydro"]
["PIT1_7_UNIT 2","PIT PH 1 UNIT 2",32,"caiso_hydro","CISO","physical","hydro"]
["PIT3_7_PL1X3","PIT PH 3 UNITS 1, 2 & 3 AGGREGATE",70.599999999999994,"caiso_hydro","CISO","physical","hydro"]
["PIT4_7_PL1X2","PIT PH 4 UNITS 1 & 2 AGGREGATE",95,"caiso_hydro","CISO","physical","hydro"]
["PIT5_7_PL1X2","PIT PH 5 UNITS 1 & 2 AGGREGATE",82,"caiso_hydro","CISO","physical","hydro"]
["PIT5_7_PL3X4","PIT PH 5 UNITS 3 & 4 AGGREGATE",82,"caiso_hydro","CISO","physical","hydro"]
["PIT5_7_QFUNTS","GRASSHOPPER FLAT HYDRO",1.1000000000000001,"caiso_hydro","CISO","physical","hydro"]
["PIT6_7_UNIT 1","PIT PH 6 UNIT 1",39,"caiso_hydro","CISO","physical","hydro"]
["PIT6_7_UNIT 2","PIT PH 6 UNIT 2",40,"caiso_hydro","CISO","physical","hydro"]
["PIT7_7_UNIT 1","PIT PH 7 UNIT 1",55.7,"caiso_hydro","CISO","physical","hydro"]
["PIT7_7_UNIT 2","PIT PH 7 UNIT 2",54.6,"caiso_hydro","CISO","physical","hydro"]
["PIUTE_6_GNBSR1","GREEN BEANWORKS B",3,"caiso_biomass","CISO","physical","utility_pv"]
["PLACVL_1_CHILIB","CHILI BAR HYDRO",8.4,"caiso_small_hydro","CISO","physical","small_hydro"]
["PLACVL_1_RCKCRE","ROCK CREEK HYDRO",5,"caiso_small_hydro","CISO","physical","small_hydro"]
["PLAINV_6_BSOLAR","WESTERN ANTELOPE BLUE SKY RANCH A",20,"caiso_solar","CISO","physical","utility_pv"]
["PLAINV_6_DSOLAR","WESTERN ANTELOPE DRY RANCH",10,"caiso_solar","CISO","physical","utility_pv"]
["PLAINV_6_NLRSR1","NORTH LANCASTER RANCH",20,"caiso_solar","CISO","physical","utility_pv"]
["PLAINV_6_SOLAR3","SIERRA SOLAR GREENWORKS LLC",20,"caiso_solar","CISO","physical","utility_pv"]
["PLAINV_6_SOLARC","CENTRAL ANTELOPE DRY RANCH C",20,"caiso_solar","CISO","physical","utility_pv"]
["PLMSSR_6_HISIER","HIGH SIERRA COGENERATION AGGREGATE",6,"caiso_chp","CISO","physical","cogen"]
["PLSNTG_7_LNCLND","LINCOLN LANDFILL POWER PLANT",4.9800000000000004,"caiso_biomass","CISO","physical","biomass_wood"]
["PMDLET_6_SOLAR1","SEPV PALMDALE EAST, LLC",10,"caiso_solar","CISO","physical","utility_pv"]
["PMPJCK_1_RB2SLR","RIO BRAVO SOLAR 2",20,"caiso_solar","CISO","physical","utility_pv"]
["PMPJCK_1_SOLAR1","PUMPJACK SOLAR I",20,"caiso_solar","CISO","physical","utility_pv"]
["PMPJCK_1_SOLAR2","RIO BRAVO SOLAR 1",20,"caiso_solar","CISO","physical","utility_pv"]
["PNCHEG_2_PL1X4","PANOCHE ENERGY CENTER (AGGREGATED)",401,"caiso_peaker1","CISO","physical","gas_ct"]
["PNCHPP_1_PL1X2","MIDWAY PEAKING AGGREGATE",119.91,"caiso_peaker2","CISO","physical","gas_ct"]
["PNCHVS_2_SOLAR","PANOCHE VALLEY SOLAR",140,"caiso_solar","CISO","physical","utility_pv"]
["PNOCHE_1_PL1X2","PANOCHE PEAKER",49.97,"caiso_peaker2","CISO","physical","gas_ct"]
["PNOCHE_1_UNITA1","CALPEAK POWER PANOCHE UNIT 1",52.01,"caiso_peaker2","CISO","physical","gas_ct"]
["POCATELLO_WASTE","NAN",0.46,"caiso_biomass","CISO","physical","biomass_wood"]
["POEPH_7_UNIT 1","POE HYDRO UNIT 1",69,"caiso_hydro","CISO","physical","hydro"]
["POEPH_7_UNIT 2","POE HYDRO UNIT 2",68.5,"caiso_hydro","CISO","physical","hydro"]
["POINTLOMA1","NAN",2.29,"caiso_biomass","CISO","physical","biomass_wood"]
["POINTLOMA2","NAN",2.29,"caiso_biomass","CISO","physical","biomass_wood"]
["POTTER_6_UNITS","POTTER VALLEY",10.1,"caiso_small_hydro","CISO","physical","small_hydro"]
["POTTER_7_VECINO","VECINO VINEYARDS LLC",1.25,"caiso_hydro","CISO","physical","hydro"]
["PRCTVY_1_MIGBT1","MIGUEL BESS",2,"caiso_biomass","CISO","physical","hr_batteries"]
["PRIMA_PLANT1","NAN",3,"caiso_biomass","CISO","physical","biomass_wood"]
["PRIMA_PLANT2","NAN",3,"caiso_biomass","CISO","physical","biomass_wood"]
["PRIMM_2_SOLAR1","SILVER STATE SOUTH",250,"caiso_solar","CISO","physical","utility_pv"]
["PROXIMASOLAR","NAN",50,"caiso_solar","CISO","physical","utility_pv"]
["PROXIMASTORAGE","NAN",5,"caiso_li_battery","CISO","physical","hr_batteries"]
["PSWEET_1_STCRUZ","SANTA CRUZ ENERGY LLC",1.6,"caiso_biogas","CISO","physical","biogas"]
["PSWEET_7_QFUNTS","PSWEET_7_QFUNTS",1,"caiso_chp","CISO","physical","cogen"]
["PTLOMA_6_NTCCGN","NAN",2.58,"caiso_chp","CISO","physical","cogen"]
["PTLOMA_6_NTCQF","NTC/MCRD COGENERATION",22.3,"caiso_chp","CISO","physical","cogen"]
["PUTHCR_1_PCNSB1","Putah Creek Solar Farm North",3,"caiso_solar","CISO","physical","utility_pv"]
["PUTHCR_1_SOLAR1","PUTAH CREEK SOLAR FARM",1.98,"caiso_solar","CISO","physical","utility_pv"]
["PVERDE_5_SCEDYN","PVERDE_5_SCEDYN",635,"caiso_nuclear","SRP","specifiedimport","nuclear"]
["PWEST_1_UNIT","PACIFIC WEST 1 WIND GENERATION",2.1,"caiso_wind","CISO","physical","in_state_wind_south"]
["QUARANTINASTORAGE","NAN",10,"caiso_li_battery","CISO","physical","hr_batteries"]
["RABBITBRUSHSTORAGE","NAN",20,"caiso_li_battery","CISO","physical","hr_batteries"]
["RACEWAYSOLAR","NAN",125,"caiso_solar","CISO","physical","utility_pv"]
["RACEWAYSTORAGE","NAN",80,"caiso_li_battery","CISO","physical","hr_batteries"]
["RAMON_2_SCEDYN","RAMON_2_SCEDYN",106.18,"iid_geothermal","IID","specifiedimport","geothermal"]
["RANCHO_2_SMUDSYSDYN","SMUD REGULATION MARKET",124,"caiso_specified_imports","BANC","specifiedimport","n/a"]
["RATSKE_2_NROSR1","NORTH ROSAMOND SOLAR",150,"caiso_solar","CISO","physical","utility_pv"]
["RATSKE_2_RBSSB1","Rabbitbrush Solar 1",60,"caiso_solar","CISO","physical","utility_pv"]
["RATSKE_2_RBSSB2","Rabbitbrush Solar 2",40,"caiso_solar","CISO","physical","utility_pv"]
["RCKCRK_7_UNIT 1","ROCK CREEK HYDRO UNIT 1",57,"caiso_hydro","CISO","physical","hydro"]
["RCKCRK_7_UNIT 2","ROCK CREEK HYDRO UNIT 2",56.9,"caiso_hydro","CISO","physical","hydro"]
["RDWAY_1_CREST","NAN",6.5,"caiso_solar","CISO","physical","utility_pv"]
["RE_BR1_26960_1","NAN",61.1,"ldwp_solar","LADWP","physical","utility_pv"]
["RE_GASKELL_WEST_3","NAN",20,"caiso_solar","CISO","physical","utility_pv"]
["RE_GASKELL_WEST_4","NAN",20,"caiso_solar","CISO","physical","utility_pv"]
["RE_GASKELL_WEST_5","NAN",20,"caiso_solar","CISO","physical","utility_pv"]
["RECTOR_2_CREST","NAN",14,"caiso_solar","CISO","physical","utility_pv"]
["RECTOR_2_IVANPV","IVANHOE TULARE PV",3.5,"caiso_solar","CISO","physical","utility_pv"]
["RECTOR_2_KAWEAH","KAWEAH PH 2 & 3 PSP AGGREGATE",6.55,"caiso_small_hydro","CISO","physical","small_hydro"]
["RECTOR_2_KAWH 1","KAWEAH PH 1 UNIT 1",2.25,"caiso_hydro","CISO","physical","hydro"]
["RECTOR_2_QF","KAWEAH UNIT 1",20.09,"caiso_small_hydro","CISO","physical","small_hydro"]
["RECTOR_2_TFDBM1","TWO FIETS DAIRY DIGESTER",0.8,"caiso_biomass","CISO","physical","biomass_wood"]
["RECTOR_7_TULARE","MM TULARE",1.5,"caiso_biomass","CISO","physical","biomass_wood"]
["REDBLF_6_UNIT","RED BLUFF PEAKER PLANT",44,"caiso_reciprocating_engine","CISO","physical","ice"]
["REDDING_POWER_1","NAN",17.03,"banc_peaker","BANC","physical","gas_ct"]
["REDDING_POWER_2","NAN",25.03,"banc_peaker","BANC","physical","gas_ct"]
["REDDING_POWER_3","NAN",25.03,"banc_peaker","BANC","physical","gas_ct"]
["REDDING_POWER_CC","NAN",121,"banc_ccgt","BANC","physical","gas_cc"]
["REDMAN_2_SOLAR","LANCASTER EAST AVENUE F",3.75,"caiso_solar","CISO","physical","utility_pv"]
["REDMAN_6_AVSSR1","ANTELOPE VALLEY SOLAR",3,"caiso_solar","CISO","physical","utility_pv"]
["REDOND_7_UNIT 5","REDONDO GEN STA. UNIT 5",178.87,"caiso_st","CISO","physical","steam"]
["REDOND_7_UNIT 6","REDONDO GEN STA. UNIT 6",175,"caiso_st","CISO","physical","steam"]
["REDOND_7_UNIT 8","REDONDO GEN STA. UNIT 8",480,"caiso_st","CISO","physical","steam"]
["REEDLY_6_SOLAR","TERZIAN",1.23,"caiso_solar","CISO","physical","utility_pv"]
["RENWD_1_QF","RENWIND RE-POWERING PROJECT",10,"caiso_wind","CISO","physical","in_state_wind_south"]
["REXFORDSOLAR","NAN",300,"caiso_solar","CISO","physical","utility_pv"]
["REXFORDSTORAGE","NAN",180,"caiso_li_battery","CISO","physical","hr_batteries"]
["RHONDO_6_PUENTE","NAN",4,"caiso_biogas","CISO","physical","biogas"]
["RICHMN_1_CHVSR2","CHEVRON 8.5",8.5,"caiso_solar","CISO","physical","utility_pv"]
["RICHMN_1_SOLAR","CHEVRON 2",2,"caiso_solar","CISO","physical","utility_pv"]
["RICHMN_7_BAYENV","BAY ENVIRONMENTAL (NOVE POWER)",2.5,"caiso_biomass","CISO","physical","biomass_wood"]
["RIOBRV_6_UNIT 1","RIO BRAVO HYDRO",14,"caiso_hydro","CISO","physical","hydro"]
["RIOOSO_1_QF","SMALL QF AGGREGATION - GRASS VALLEY",1.1100000000000001,"caiso_small_hydro","CISO","physical","small_hydro"]
["RIPON_1","NAN",50,"banc_peaker","BANC","physical","gas_ct"]
["RIPON_2","NAN",50,"banc_peaker","BANC","physical","gas_ct"]
["RNDMTN_2_SLSPHY1","SILVER SPRINGS",0.6,"caiso_hydro","CISO","physical","hydro"]
["RNDSBG_1_HZASR1","HAZEL A",2.99,"caiso_solar","CISO","physical","utility_pv"]
["ROCKWOOD_1","NAN",25,"iid_peaker","IID","physical","gas_ct"]
["ROCKWOOD_2","NAN",25,"iid_peaker","IID","physical","gas_ct"]
["ROLLIN_6_UNIT","ROLLINS HYDRO",13.5,"caiso_hydro","CISO","physical","hydro"]
["ROSEVILLE_1","NAN",25.6,"banc_peaker","BANC","physical","gas_ct"]
["ROSEVILLE_2","NAN",25.6,"banc_peaker","BANC","physical","gas_ct"]
["ROSMDW_2_WIND1","PACIFIC WIND - PHASE 1",140,"caiso_wind","CISO","physical","in_state_wind_south"]
["ROSMND_6_SOLAR","LANCASTER B",3,"caiso_solar","CISO","physical","utility_pv"]
["RSMSLR_6_SOLAR1","ROSAMOND ONE",20,"caiso_solar","CISO","physical","utility_pv"]
["RSMSLR_6_SOLAR2","ROSAMOND TWO",20,"caiso_solar","CISO","physical","utility_pv"]
["RTEDDY_2_SC1SR3","ROSAMOND WEST SOLAR CLEAN",40,"caiso_solar","CISO","physical","utility_pv"]
["RTEDDY_2_SEBSR3","ROSAMOND WEST SOLAR EAST BAY 3",56,"caiso_solar","CISO","physical","utility_pv"]
["RTEDDY_2_SEBSR4","ROSAMOND WEST SOLAR EAST BAY 4",56,"caiso_solar","CISO","physical","utility_pv"]
["RTEDDY_2_SOLAR1","ROSAMOND WEST SOLAR 1",54,"caiso_solar","CISO","physical","utility_pv"]
["RTEDDY_2_SOLAR2","ROSAMOND WEST SOLAR 2",54,"caiso_solar","CISO","physical","utility_pv"]
["RTEDDY_2_SPASR4","ROSAMOND WEST SOLAR PALO ALTO",26,"caiso_solar","CISO","physical","utility_pv"]
["RTEDDY_2_SRXSR4","ROSAMOND WEST SOLAR ROSIE X",13.6,"caiso_solar","CISO","physical","utility_pv"]
["RTREE_2_WIND1","RISING TREE 1",79.2,"caiso_wind","CISO","physical","in_state_wind_south"]
["RTREE_2_WIND2","RISING TREE 2",19.8,"caiso_wind","CISO","physical","in_state_wind_south"]
["RTREE_2_WIND3","RISING TREE 3",99,"caiso_wind","CISO","physical","in_state_wind_south"]
["RUSCTY_2_UNITS","RUSSELL CITY ENERGY CENTER",615.17999999999995,"caiso_ccgt2","CISO","physical","gas_cc"]
["RVRVEW_1_UNITA1","RIVERVIEW ENERGY CENTER (GP ANTIOCH)",47.6,"caiso_peaker2","CISO","physical","gas_ct"]
["RVSIDE_2_RERCU3","RIVERSIDE ENERGY RES. CTR UNIT 3",49,"caiso_peaker1","CISO","physical","gas_ct"]
["RVSIDE_2_RERCU4","RIVERSIDE ENERGY RES. CTR UNIT 4",49,"caiso_peaker1","CISO","physical","gas_ct"]
["RVSIDE_6_RERCU1","RIVERSIDE ENERGY RES. CTR UNIT 1",48.35,"caiso_peaker1","CISO","physical","gas_ct"]
["RVSIDE_6_RERCU2","RIVERSIDE ENERGY RES. CTR UNIT 2",48.5,"caiso_peaker2","CISO","physical","gas_ct"]
["RVSIDE_6_SOLAR1","TEQUESQUITE LANDFILL SOLAR PROJECT",7.5,"caiso_solar","CISO","physical","utility_pv"]
["RVSIDE_6_SPRING","SPRINGS GENERATION PROJECT AGGREGATE",36,"caiso_peaker1","CISO","physical","gas_ct"]
["S_RITA_6_SOLAR1","SUN HARVEST SOLAR",1.5,"caiso_solar","CISO","physical","utility_pv"]
["SALIRV_2_UNIT","SALINAS RIVER COGENERATION",39,"caiso_chp","CISO","physical","cogen"]
["SALTON_SEA_4","NAN",42,"iid_geothermal","IID","physical","geothermal"]
["SALTON_SEA_5","NAN",50,"iid_geothermal","IID","physical","geothermal"]
["SALTON_SEA_UNIT_2_G1","NAN",10,"iid_geothermal","IID","physical","geothermal"]
["SALTON_SEA_UNIT_2_G2","NAN",5,"iid_geothermal","IID","physical","geothermal"]
["SALTON_SEA_UNIT_2_G3","NAN",5,"iid_geothermal","IID","physical","geothermal"]
["SALTSP_7_UNITS","SALT SPRINGS HYDRO AGGREGATE",46,"caiso_hydro","CISO","physical","hydro"]
["SAMPSN_6_KELCO1","KELCO QUALIFYING FACILITY",25,"caiso_chp","CISO","physical","cogen"]
["SANBRN_2_EESSB2","EdSan 1 Edwards 0",166,"caiso_solar","CISO","physical","utility_pv"]
["SANBRN_2_ES1BT3","EdSan 1 Edwards 1",51,"caiso_solar","CISO","physical","utility_pv"]
["SANBRN_2_ES2SB3","EdSan 2 Sanborn 3",42,"caiso_solar","CISO","physical","utility_pv"]
["SANBRN_2_ESABT1","EDSAN 1A",100,"caiso_li_battery","CISO","physical","hr_batteries"]
["SANBRN_2_ESBBT1","EDSAN 1B",100,"caiso_li_battery","CISO","physical","hr_batteries"]
["SANBRN_2_SS2SB4","EdSan 2 Sanborn 4",36,"caiso_solar","CISO","physical","utility_pv"]
["SANDHILLCWIND","NAN",80,"caiso_wind","CISO","physical","in_state_wind_south"]
["SANDLT_2_SUNITS","MOJAVE SOLAR",275,"caiso_solar","CISO","physical","utility_pv"]
["SANDRINISOL","NAN",100,"caiso_solar","CISO","physical","utility_pv"]
["SANITR_6_UNITS","LACSD CARSON WATER POLLUTION AGGREGATE",8,"caiso_biogas","CISO","physical","biogas"]
["SANLOB_1_LNDFIL","COLD CANYON",1.5,"caiso_biomass","CISO","physical","biomass_wood"]
["SANLOB_1_OSFBM1","OLD SANTA FE ROAD",0.85,"caiso_biomass","CISO","physical","biomass_wood"]
["SANTA_BARBARA_COUNTY_PUBLIC_WORKS_DEPARTMENT","NAN",2.274,"caiso_biogas","CISO","physical","biogas"]
["SANTFG_7_UNITS","GEYSERS CALISTOGA AGGREGATE",72,"caiso_geothermal","CISO","physical","geothermal"]
["SANTGO_2_LNDFL1","BOWERMAN POWER",19.600000000000001,"caiso_biogas","CISO","physical","biogas"]
["SANTGO_2_MABBT1","MILLIKAN AVENUE BESS",2,"caiso_li_battery","CISO","physical","hr_batteries"]
["SANWD_1_QF","SAN GORGONIO FARMS WIND FARM",31,"caiso_wind","CISO","physical","in_state_wind_south"]
["SAUGUS_2_TOLAND","NAN",1.57,"caiso_biogas","CISO","physical","biogas"]
["SAUGUS_6_MWDFTH","FOOTHILL HYDROELECTRIC RECOVERY PLANT",9.1,"caiso_hydro","CISO","physical","hydro"]
["SAUGUS_6_PTCHGN","NAN",20.78,"caiso_chp","CISO","physical","cogen"]
["SAUGUS_6_QF","SAUGUS QFS",2.19,"caiso_small_hydro","CISO","physical","small_hydro"]
["SAUGUS_7_CHIQCN","CHIQUITA CANYON LANDFILL FAC",8,"caiso_biomass","CISO","physical","biomass_wood"]
["SAUGUS_7_LOPEZ","MM LOPEZ ENERGY",6.1,"caiso_biomass","CISO","physical","biomass_wood"]
["SBERDO_2_PSP3","MOUNTAINVIEW GEN STA. UNIT 3",555,"caiso_ccgt1","CISO","physical","gas_cc"]
["SBERDO_2_PSP4","MOUNTAINVIEW GEN STA. UNIT 4",555,"caiso_ccgt1","CISO","physical","gas_cc"]
["SBERDO_2_QF","NAN",10.6,"caiso_chp","CISO","physical","cogen"]
["SBERDO_2_REDLND","REDLANDS RT SOLAR",2,"caiso_solar","CISO","physical","utility_pv"]
["SBERDO_2_RTS005","SPVP005 REDLANDS RT SOLAR",2.5,"caiso_solar","CISO","physical","utility_pv"]
["SBERDO_2_RTS007","SPVP007 REDLANDS RT SOLAR",2.5,"caiso_solar","CISO","physical","utility_pv"]
["SBERDO_2_RTS011","SPVP011",3.5,"caiso_solar","CISO","physical","utility_pv"]
["SBERDO_2_RTS013","SPVP013",3.5,"caiso_solar","CISO","physical","utility_pv"]
["SBERDO_2_RTS016","SPVP016 REDLANDS RT SOLAR",1.5,"caiso_solar","CISO","physical","utility_pv"]
["SBERDO_2_RTS048","SPVP048",5,"caiso_solar","CISO","physical","utility_pv"]
["SBERDO_2_SNTANA","SANTA ANA PSP",6.95,"caiso_small_hydro","CISO","physical","small_hydro"]
["SBERDO_6_MILLCK","MILL CREEK PSP",3.93,"caiso_small_hydro","CISO","physical","small_hydro"]
["SCACOGEN2_CC","NAN",65.599999999999994,"banc_ccgt","BANC","physical","gas_cc"]
["SCACOGEN2GT","NAN",49,"banc_peaker","BANC","physical","gas_ct"]
["SCATTERGOOD_1","NAN",174,"ldwp_st","LADWP","physical","steam"]
["SCATTERGOOD_2","NAN",177,"ldwp_st","LADWP","physical","steam"]
["SCATTERGOOD_4","NAN",300,"ldwp_peaker","LADWP","physical","gas_ct"]
["SCATTERGOOD_5","NAN",100,"ldwp_peaker","LADWP","physical","gas_ct"]
["SCATTERGOOD_6","NAN",89,"ldwp_peaker","LADWP","physical","gas_ct"]
["SCATTERGOOD_7","NAN",89,"ldwp_peaker","LADWP","physical","gas_ct"]
["SCE_AP_I","NAN",19,"caiso_loadmod","CISO","physical","demand_response"]
["SCE_BIP_15","NAN",212,"caiso_loadmod","CISO","physical","demand_response"]
["SCE_BIP_30","NAN",606,"caiso_loadmod","CISO","physical","demand_response"]
["SCE_CBP_DA","NAN",0.1,"caiso_loadmod","CISO","physical","demand_response"]
["SCE_CBP_DO","NAN",1,"caiso_loadmod","CISO","physical","demand_response"]
["SCE_SDP_COMM","NAN",3,"caiso_loadmod","CISO","physical","demand_response"]
["SCE_SDP_RESD","NAN",1,"caiso_loadmod","CISO","physical","demand_response"]
["SCEHOV_2_HOOVER","SCEHOV_2_HOOVER",287.01,"caiso_hydro","WALC","specifiedimport","hydro"]
["SCHLTE_1_PL1X3","TRACY COMBINED CYCLE POWER PLANT",336.04,"caiso_ccgt2","CISO","physical","gas_cc"]
["SCHNDR_1_FIVPTS","FIVE POINTS SOLAR STATION",15,"caiso_solar","CISO","physical","utility_pv"]
["SCHNDR_1_OS2BM2","OPEN SKY DIGESTER GENSET 2",0.8,"caiso_biogas","CISO","physical","biogas"]
["SCHNDR_1_WSTSDE","WESTSIDE SOLAR STATION",15,"caiso_solar","CISO","physical","utility_pv"]
["SDGE_BIP","NAN",2,"caiso_loadmod","CISO","physical","demand_response"]
["SDGE_CBP_DA","NAN",0.1,"caiso_loadmod","CISO","physical","demand_response"]
["SDGE_CBP_DO","NAN",0.1,"caiso_loadmod","CISO","physical","demand_response"]
["SDGE_SUMM_SAV_RESD","NAN",0.1,"caiso_loadmod","CISO","physical","demand_response"]
["SDGE_SUMMER_SAVER_COM","NAN",0.1,"caiso_loadmod","CISO","physical","demand_response"]
["SDGEAC_SAVER_DA_COMM","NAN",0.1,"caiso_loadmod","CISO","physical","demand_response"]
["SDGEAC_SAVER_DA_RES","NAN",0.1,"caiso_loadmod","CISO","physical","demand_response"]
["SDGEAC_SAVER_DO_COMM","NAN",0.1,"caiso_loadmod","CISO","physical","demand_response"]
["SDGEAC_SAVER_DO_RES","NAN",0.1,"caiso_loadmod","CISO","physical","demand_response"]
["SDSU_GEN","NAN",7,"iid_solar","IID","physical","utility_pv"]
["SEARLS_7_ARGUS","ARGUS COGENERATION",19,"caiso_chp","CISO","physical","cogen"]
["SEAWST_6_LAPOS","SEA WEST ENERGY - SEAWEST",13,"caiso_wind","CISO","physical","in_state_wind_south"]
["SECOND_IMPERIAL01_12","NAN",33,"iid_geothermal","IID","physical","geothermal"]
["SEGS_1_SR2SL2","SUNRAY 2",20,"caiso_solar","CISO","physical","utility_pv"]
["SENTNL_2_CTG1","SENTINEL UNIT 1",107.68,"caiso_peaker1","CISO","physical","gas_ct"]
["SENTNL_2_CTG2","SENTINEL UNIT 2",102.5,"caiso_peaker1","CISO","physical","gas_ct"]
["SENTNL_2_CTG3","SENTINEL UNIT 3",105.69,"caiso_peaker1","CISO","physical","gas_ct"]
["SENTNL_2_CTG4","SENTINEL UNIT 4",106.55,"caiso_peaker1","CISO","physical","gas_ct"]
["SENTNL_2_CTG5","SENTINEL UNIT 5",107.52,"caiso_peaker1","CISO","physical","gas_ct"]
["SENTNL_2_CTG6","SENTINEL UNIT 6",105,"caiso_peaker1","CISO","physical","gas_ct"]
["SENTNL_2_CTG7","SENTINEL UNIT 7",106.73,"caiso_peaker1","CISO","physical","gas_ct"]
["SENTNL_2_CTG8","SENTINEL UNIT 8",106.85,"caiso_peaker1","CISO","physical","gas_ct"]
["SEPV_BOULEVARD_2","NAN",2.9,"caiso_solar","CISO","physical","utility_pv"]
["SEVILLE_2","NAN",32.5,"iid_solar","IID","physical","utility_pv"]
["SGREGY_6_SANGER","ALGONQUIN POWER SANGER 2",48.3,"caiso_chp","CISO","physical","cogen"]
["SHANDN_2_SBBBM1","SAN BERNARDINO BIOGAS",2.6,"caiso_biomass","CISO","physical","biomass_wood"]
["SHEEP_CREEK_ROAD_SOLAR_GENERATION_FACILITY_PROJECT","NAN",3,"caiso_solar","CISO","physical","utility_pv"]
["SHELRF_1_UNITS","SHELL OIL REFINERY AGGREGATE",100,"caiso_peaker2","CISO","physical","gas_ct"]
["SHUTLE_6_CREST","NAN",4,"caiso_solar","CISO","physical","utility_pv"]
["SIERRA_1_UNITS","HIGH SIERRA LIMITED",52.43,"caiso_peaker2","CISO","physical","gas_ct"]
["SIERRASTORAGE","NAN",10,"caiso_li_battery","CISO","physical","hr_batteries"]
["SIGHEB_6_MIRDYN","Heber South",17,"iid_geothermal","IID","specifiedimport","geothermal"]
["SISQUC_1_SMARIA","SANTA MARIA II LFG POWER PLANT",1.42,"caiso_biomass","CISO","physical","biomass_wood"]
["SKERN_6_SOLAR1","SOUTH KERN SOLAR PV PLANT",20,"caiso_solar","CISO","physical","utility_pv"]
["SKERN_6_SOLAR2","SKIC SOLAR",10,"caiso_solar","CISO","physical","utility_pv"]
["SLATE_2_SLASR1","SLATE",50.5,"caiso_solar","CISO","physical","utility_pv"]
["SLATE_2_SLASR2_SUN","Slate_2",46.5,"caiso_solar","CISO","physical","utility_pv"]
["SLATE_2_SLASR2_LESR","Slate_2",46.5,"caiso_li_battery","CISO","physical","hr_batteries"]
["SLATE_2_SLASR3_LESR","SLATE_3",33.799999999999997,"caiso_li_battery","CISO","physical","hr_batteries"]
["SLATE_2_SLASR3_SUN","SLATE_3",33.700000000000003,"caiso_solar","CISO","physical","utility_pv"]
["SLATE_2_SLASR4","SLATE_4",63,"caiso_solar","CISO","physical","utility_pv"]
["SLATE_2_SLASR5_LESR","Slate 5",10,"caiso_li_battery","CISO","physical","hr_batteries"]
["SLATE_2_SLASR5_SUN","Slate 5",16,"caiso_solar","CISO","physical","utility_pv"]
["SLRMS3_2_SRMSR1","SILVER RIDGE MOUNT SIGNAL 3",250,"caiso_solar","CISO","physical","utility_pv"]
["SLST13_2_SOLAR1","QUINTO SOLAR PV PROJECT",107.6,"caiso_solar","CISO","physical","utility_pv"]
["SLSTR1_2_SOLAR1","SOLAR STAR 1",310,"caiso_solar","CISO","physical","utility_pv"]
["SLSTR2_2_SOLAR2","SOLAR STAR 2",276,"caiso_solar","CISO","physical","utility_pv"]
["SLUISP_2_UNITS","SAN LUIS (GIANELLI) PUMP-GEN (AGGREGATE)",374.43,"caiso_pumped_hydro","CISO","physical","pumped_storage"]
["SLYCRK_1_UNIT 1","SLY CREEK HYDRO",13,"caiso_hydro","CISO","physical","hydro"]
["SMPRIP_1_SMPSON","RIPON COGENERATION UNIT 1",46.05,"caiso_peaker1","CISO","physical","cogen"]
["SMRCOS_6_LNDFIL","SAN MARCOS ENERGY",1.5,"caiso_biomass","CISO","physical","biomass_wood"]
["SMUDGO_7_UNIT 1","SONOMA POWER PLANT",64.8,"caiso_geothermal","CISO","physical","geothermal"]
["SMYRNA_1_DL1SR1","DELANO LAND 1",1,"caiso_solar","CISO","physical","utility_pv"]
["SNCLRA_2_HOWLNG","HOUWELINGS NURSERIES OXNARD, INC",13,"caiso_biomass","CISO","physical","biomass_wood"]
["SNCLRA_2_SILBT1","SILVERSTRAND BESS",11,"caiso_li_battery","CISO","physical","hr_batteries"]
["SNCLRA_2_SPRHYD","SPRINGVILLE HYDROELECTRIC GENERATOR",1,"caiso_small_hydro","CISO","physical","small_hydro"]
["SNCLRA_2_UNIT","CHANNEL ISLANDS POWER",27.5,"caiso_chp","CISO","physical","cogen"]
["SNCLRA_2_UNIT1","NEW INDY OXNARD",27.8,"caiso_chp","CISO","physical","cogen"]
["SNCLRA_2_VESBT1","VENTURA ENERGY STORAGE",100,"caiso_li_battery","CISO","physical","hr_batteries"]
["SNCLRA_6_OXGEN","OXGEN",47.7,"caiso_chp","CISO","physical","cogen"]
["SNCLRA_6_PROCGN","PROCTER AND GAMBLE OXNARD 2",47.9,"caiso_chp","CISO","physical","cogen"]
["SNCLRA_6_QF","SANTA CLARA QFS",1.65,"caiso_small_hydro","CISO","physical","small_hydro"]
["SNDBAR_7_UNIT 1","SANDBAR",16.2,"caiso_hydro","CISO","physical","hydro"]
["SNMALF_6_UNITS","SONOMA COUNTY LANDFILL",5,"caiso_biomass","CISO","physical","biomass_wood"]
["SNORA_2_SNRSLR","SG SORRENTO",50,"iid_solar","IID","specifiedimport","utility_pv"]
["SOL_GEN","NAN",20,"iid_solar","IID","physical","utility_pv"]
["SONRISASOLAR","NAN",100,"caiso_solar","CISO","physical","utility_pv"]
["SONRISASTORAGE","NAN",30,"caiso_li_battery","CISO","physical","hr_batteries"]
["SOUTH_2_UNIT","SOUTH HYDRO",7.1,"caiso_small_hydro","CISO","physical","small_hydro"]
["SPA_COGEN_3_CC","NAN",157,"banc_ccgt","BANC","physical","gas_cc"]
["SPANSH_6_FBEHY1","FIVE BEARS HYDROELECTRIC",0.99,"caiso_hydro","CISO","physical","hydro"]
["SPAULD_6_UNIT 3","SPAULDING HYDRO PH 3 UNIT",6.5,"caiso_hydro","CISO","physical","hydro"]
["SPAULD_6_UNIT12","SPAULDING HYDRO PH 1 & 2 AGGREGATE",11.4,"caiso_hydro","CISO","physical","hydro"]
["SPBURN_2_UNIT 1","BURNEY BIOMASS",22,"caiso_biomass","CISO","physical","biomass_wood"]
["SPBURN_7_SNOWMT","BURNEY CREEK HYDRO",3,"caiso_small_hydro","CISO","physical","small_hydro"]
["SPI LI_2_UNIT 1","LINCOLN BIOMASS",17.2,"caiso_biomass","CISO","physical","biomass_wood"]
["SPIAND_1_ANDSN2","SPI ANDERSON 2",27.15,"caiso_biomass","CISO","physical","biomass_wood"]
["SPICER_1_UNITS","SPICER HYDRO UNITS 1-3 AGGREGATE",6,"caiso_small_hydro","CISO","physical","small_hydro"]
["SPIFBD_1_PL1X2","SIERRA PACIFIC IND. (SONORA)",7.5,"caiso_biomass","CISO","physical","biomass_wood"]
["SPOINT_2_MEADDYN","SPOINT_2_MEADDYN",325,"SW_CCGT","WALC","specifiedimport","gas_cc"]
["SPOINT_2_PARKERDYN","SOUTHPOINT ENERGY CENTER",200,"SW_CCGT","WALC","specifiedimport","gas_cc"]
["SPQUIN_6_SRPCQU","QUINCY BIOMASS",24,"caiso_biomass","CISO","physical","biomass_wood"]
["SPRGAP_1_UNIT 1","SPRING GAP HYDRO",7,"caiso_hydro","CISO","physical","hydro"]
["SPRGVL_2_CREST","NAN",14,"caiso_solar","CISO","physical","utility_pv"]
["SPRGVL_2_EXETPV","EXETER TULARE PV",3.5,"caiso_solar","CISO","physical","utility_pv"]
["SPRGVL_2_LINDPV","LINDSAY TULARE PV",4,"caiso_solar","CISO","physical","utility_pv"]
["SPRGVL_2_PORTPV","PORTERVILLE TULARE PV",3.5,"caiso_solar","CISO","physical","utility_pv"]
["SPRGVL_2_QF","SPRINGVILLE QFS",0.18,"caiso_small_hydro","CISO","physical","cogen"]
["SPRGVL_2_TULE","TULE RIVER HYDRO PLANT (PG&E)",6.4,"caiso_small_hydro","CISO","physical","small_hydro"]
["SPRGVL_2_TULESC","TULE RIVER HYDRO PLANT (SCE)",2.5,"caiso_small_hydro","CISO","physical","small_hydro"]
["SPRINGBOK_1","NAN",108,"ldwp_solar","LADWP","physical","utility_pv"]
["SPRINGBOK_2","NAN",165,"ldwp_solar","LADWP","physical","utility_pv"]
["SPRINGBOK_3","NAN",90,"ldwp_solar","LADWP","physical","utility_pv"]
["SRINTL_6_UNIT","SRI INTERNATIONAL",6.9,"caiso_chp","CISO","physical","cogen"]
["STANIS_7_UNIT 1","STANISLAUS HYDRO",91,"caiso_hydro","CISO","physical","hydro"]
["STANTN_2_STAGT1","STANTON 1",49.65,"caiso_peaker1","CISO","physical","gas_ct"]
["STANTN_2_STAGT2","STANTON 2",49.65,"caiso_peaker1","CISO","physical","gas_ct"]
["STAUFF_1_UNIT","NAN",4.5999999999999996,"caiso_chp","CISO","physical","cogen"]
["STIGCT_2_LODI","LODI STIG UNIT",49.9,"caiso_peaker2","CISO","physical","gas_ct"]
["STNRES_1_UNIT","COVANTA STANISLAUS",19.899999999999999,"caiso_biomass","CISO","physical","biomass_wood"]
["STOILS_1_UNITS","CHEVRON RICHMOND REFINERY",56.2,"caiso_chp","CISO","physical","cogen"]
["STOREY_2_MDRCH2","MADERA CHOWCHILLA 2",0.56000000000000005,"caiso_small_hydro","CISO","physical","small_hydro"]
["STOREY_2_MDRCH3","MADERA CHOWCHILLA 3",0.42,"caiso_small_hydro","CISO","physical","small_hydro"]
["STOREY_2_MDRCH4","MADERA CHOWCHILLA 4",0.92,"caiso_small_hydro","CISO","physical","small_hydro"]
["STOREY_7_MDRCHW","MADERA CANAL SITE 980",1.84,"caiso_small_hydro","CISO","physical","small_hydro"]
["STRAUSSWIND","NAN",99,"caiso_wind","CISO","physical","in_state_wind_south"]
["STROUD_6_SOLAR","STROUD SOLAR STATION",20,"caiso_solar","CISO","physical","utility_pv"]
["STROUD_6_WWHSR1","WINTER WHEAT SOLAR FARM",1.5,"caiso_solar","CISO","physical","utility_pv"]
["SUMWHT_6_SWSSR1","SUMMER WHEAT SOLAR FARM",18.5,"caiso_solar","CISO","physical","utility_pv"]
["SUN_EDISON_VICTORVILLE_SOLAR","NAN",10,"caiso_solar","CISO","physical","utility_pv"]
["SUNCAT_2_A1ABT1","Arlington Solar Unit 1A BESS",43,"caiso_li_battery","CISO","physical","hr_batteries"]
["SUNCAT_2_A1BBT1","Arlington Solar Unit 1B BESS",67,"caiso_li_battery","CISO","physical","hr_batteries"]
["SUNCAT_2_A2ABT2","Arlington Solar Unit 2A BESS",132,"caiso_li_battery","CISO","physical","hr_batteries"]
["SUNPEAK_IID","NAN",23,"iid_solar","IID","physical","utility_pv"]
["SUNRIS_2_PL1X3","SUNRISE POWER PROJECT AGGREGATE II",586.02,"caiso_ccgt1","CISO","physical","gas_cc"]
["SUNSET_2_UNITS","MIDWAY SUNSET COGENERATION PLANT",248,"caiso_peaker1","CISO","physical","cogen"]
["SUNSHN_2_LNDFL","SUNSHINE GAS PRODUCERS",20,"caiso_biomass","CISO","physical","biomass_wood"]
["SUNSLR_1_SSVSR1","SUNSHINE VALLEY SOLAR 1",100,"caiso_solar","CISO","physical","utility_pv"]
["SUNSPT_2_WNASR1","WINDHUB SOLAR A",20,"caiso_solar","CISO","physical","utility_pv"]
["SUNST2_5_SS2SR1","SUN STREAMS SOLAR 2",150,"caiso_solar","CISO","physical","utility_pv"]
["SUNSTR_5_SS1SCEDYN","SUNSTREAM SOLAR 1",150,"SW_SOLAR","AZPS","specifiedimport","out_of_state_wind_AZNM"]
["SUTTER_2_CISO","SUTTER POWER PLANT PSEUDO-CISO",275,"caiso_ccgt1","BANC","specifiedimport","gas_cc"]
["SUTTERENERGYCC_TOTAL","SUTTER POWER PLANT",250,"banc_ccgt","BANC","physical","gas_cc"]
["SWIFT_1_NAS","YERBA BUENA BATTERY",4.8,"caiso_li_battery","CISO","physical","hr_batteries"]
["SYCAMR_2_UNIT 1","SYCAMORE COGENERATION UNIT 1",86,"caiso_chp","CISO","physical","cogen"]
["SYCAMR_2_UNIT 2","SYCAMORE COGENERATION UNIT 2",78,"caiso_peaker1","CISO","physical","gas_ct"]
["SYCAMR_2_UNIT 3","SYCAMORE COGENERATION UNIT 3",78,"caiso_chp","CISO","physical","cogen"]
["SYCAMR_2_UNIT 4","SYCAMORE COGENERATION UNIT 4",78,"caiso_peaker1","CISO","physical","gas_ct"]
["TANHIL_6_SOLART","BERRY COGEN 18",17,"caiso_chp","CISO","physical","cogen"]
["TBLMTN_6_QF","SMALL QF AGGREGATION - PARADISE",1.7,"caiso_small_hydro","CISO","physical","small_hydro"]
["TECOLOTE_3_WBDYN","TECOLOTE WIND",271.68,"caiso_wind","PNM","specifiedimport","out_of_state_wind_AZNM"]
["TEHAPI_2_PW1WD1","POINT WIND 1",47.49,"caiso_wind","CISO","physical","in_state_wind_south"]
["TEHAPI_2_PW2WD2","POINT WIND 2",14.4,"caiso_wind","CISO","physical","in_state_wind_south"]
["TEHAPI_2_WIND1","WIND WALL MONOLITH 1",19.850000000000001,"caiso_wind","CISO","physical","in_state_wind_south"]
["TEHAPI_2_WIND2","WIND WALL MONOLITH 2",23.66,"caiso_wind","CISO","physical","in_state_wind_south"]
["TENGEN_2_PL1X2","BERRY COGEN 42",40.200000000000003,"caiso_chp","CISO","physical","cogen"]
["TERMEX_2_PL1X3","TDM",625,"caiso_ccgt1","CISO","physical","gas_cc"]
["TESLA_1_QF","SMALL QF AGGREGATION - STOCKTON",2,"caiso_small_hydro","CISO","physical","small_hydro"]
["THERMONO1_2","NAN",14,"caiso_geothermal","CISO","physical","geothermal"]
["THREE_MILE_CANYON","NAN",9.9,"nw_wind","PACW","physical","out_of_state_wind_WAOR"]
["TIDWTR_2_UNITS","MARTINEZ COGEN LIMITED PARTNERSHIP",114.8,"caiso_chp","CISO","physical","cogen"]
["TIERRA_DEL_SOL__SOLAR_FARM","NAN",45,"iid_solar","IID","physical","utility_pv"]
["TIFFNY_1_DILLON","TIFFNY_1_DILLON",45,"caiso_wind","CISO","physical","in_state_wind_south"]
["TIGRCK_7_UNITS","TIGER CREEK HYDRO AGGREGATE",62,"caiso_hydro","CISO","physical","hydro"]
["TITANS_2_TTSSR1","TITAN SOLAR 1 PSEUDO",70,"caiso_solar","IID","specifiedimport","utility_pv"]
["TKOPWR_6_HYDRO","BEAR CREEK HYDROELECTRIC PROJECT",2.83,"caiso_small_hydro","CISO","physical","small_hydro"]
["TMPLTN_2_SOLAR","VINTNER SOLAR",1.5,"caiso_solar","CISO","physical","utility_pv"]
["TOADTW_6_UNIT","TOAD TOWN",1.5,"caiso_small_hydro","CISO","physical","small_hydro"]
["TOPAZ_2_SOLAR","TOPAZ SOLAR FARMS",550,"caiso_solar","CISO","physical","utility_pv"]
["TORTLA_1_SOLAR","LONGBOAT SOLAR",20,"caiso_solar","CISO","physical","utility_pv"]
["TOWNSITE_2_MEADDYN_LESR","Townsite Solar BESS",90,"caiso_li_battery","CISO","physical","hr_batteries"]
["TOWNSITE_2_MEADDYN_SUN","Townsite Solar BESS",90,"caiso_solar","CISO","physical","utility_pv"]
["TRNQL8_2_AMASR1","TRANQUILLITY 8 AMARILLO",20,"caiso_solar","CISO","physical","utility_pv"]
["TRNQL8_2_AZUSR1","TRANQUILLITY 8 AZUL",20,"caiso_solar","CISO","physical","utility_pv"]
["TRNQL8_2_ROJSR1","TRANQUILLITY 8 ROJO",100,"caiso_solar","CISO","physical","utility_pv"]
["TRNQL8_2_VERSR1","TRANQUILLITY 8 VERDE",60,"caiso_solar","CISO","physical","utility_pv"]
["TRNQLT_2_RETBT1","NAN",72,"caiso_li_battery","CISO","physical","hr_batteries"]
["TRNQLT_2_SOLAR","TRANQUILLITY",200,"caiso_solar","CISO","physical","utility_pv"]
["TRNSWD_1_QF","FPL ENERGY C WIND",38.97,"caiso_wind","CISO","physical","in_state_wind_south"]
["TULARE_2_TULBM1","TULARE BIOMAT FUEL CELL",2.8,"caiso_biomass","CISO","physical","biomass_wood"]
["TULEWD_1_TULWD1","TULE WIND",130.5,"caiso_wind","CISO","physical","in_state_wind_south"]
["TULLCK_7_UNITS","TULLOCK HYDRO",25.9,"caiso_hydro","CISO","physical","hydro"]
["TUPMAN_1_BIOGAS","ABEC BIDART-STOCKALE #1",0.6,"caiso_biomass","CISO","physical","biomass_wood"]
["TVYVLY_6_KRSHY1","Kings River Syphon",1.3,"caiso_hydro","CISO","physical","hydro"]
["TWISSL_6_SOLAR","NICKEL 1 (\"NLH1\")",1.5,"caiso_solar","CISO","physical","utility_pv"]
["TWISSL_6_SOLAR1","CORONAL LOST HILLS",20,"caiso_solar","CISO","physical","utility_pv"]
["TX_ELK_6_SOLAR1","CASTOR",1.5,"caiso_solar","CISO","physical","utility_pv"]
["TX-ELK_6_ECKSR2","EAGLE CREEK",3,"caiso_solar","CISO","physical","utility_pv"]
["TXMCKT_6_UNIT","MCKITTRICK COGEN",11.2,"caiso_chp","CISO","physical","cogen"]
["UC_DAVIS_MC","NAN",27,"banc_ccgt","BANC","physical","gas_cc"]
["UKIAH_7_LAKEMN","UKIAH LAKE MENDOCINO HYDRO",3.5,"caiso_small_hydro","CISO","physical","small_hydro"]
["ULTPCH_1_UCSBT1","Ultrapower Chinese Station BESS",10,"caiso_li_battery","CISO","physical","hr_batteries"]
["ULTPCH_1_UNIT 1","PACIFIC ULTRAPOWER CHINESE STATION",18,"caiso_biomass","CISO","physical","biomass_wood"]
["ULTPFR_1_UNIT 1","RIO BRAVO FRESNO",24.3,"caiso_biomass","CISO","physical","biomass_wood"]
["ULTRCK_2_UNIT","RIO BRAVO ROCKLIN",24.4,"caiso_biomass","CISO","physical","biomass_wood"]
["UNCHEM_1_UNIT","CONTRA COSTA CARBON PLANT",19,"caiso_chp","CISO","physical","cogen"]
["UNOCAL_1_UNITS","TOSCO (RODEO PLANT)",49.85,"caiso_chp","CISO","physical","cogen"]
["UNVRSY_1_UNIT 1","BERRY COGEN 38 - UNIT 1",38,"caiso_chp","CISO","physical","cogen"]
["USWND2_1_WIND1","GOLDEN HILLS A",42.96,"caiso_wind","CISO","physical","in_state_wind_north"]
["USWND2_1_WIND2","GOLDEN HILLS B",42.96,"caiso_wind","CISO","physical","in_state_wind_north"]
["USWND2_1_WIND3","GOLDEN HILLS C",46,"caiso_wind","CISO","physical","in_state_wind_north"]
["USWND4_2_UNIT2","ALTAMONT LANDFILL GAS TO ENERGY",7.4,"caiso_biogas","CISO","physical","biogas"]
["USWNDR_2_LABWD1","LABRISA WIND PROJECT",9,"caiso_wind","CISO","physical","in_state_wind_north"]
["USWNDR_2_SMUD","SOLANO WIND FARM",102.18,"caiso_wind","CISO","physical","in_state_wind_north"]
["USWNDR_2_SMUD2","SOLANO WIND PROJECT PHASE 3",127.8,"caiso_wind","CISO","physical","in_state_wind_north"]
["USWNDR_2_UNITS","NAN",8,"caiso_wind","CISO","physical","in_state_wind_south"]
["USWPFK_6_FRICK","FRICK SUMMIT WIND REPOWER",10,"caiso_wind","CISO","physical","in_state_wind_north"]
["USWPJR_2_UNITS","VASCO WIND",78.2,"caiso_wind","CISO","physical","in_state_wind_north"]
["V2_GEN","NAN",3.1,"iid_solar","IID","physical","utility_pv"]
["V3_GEN","NAN",3.1,"iid_solar","IID","physical","utility_pv"]
["VACADX_1_NAS","VACA-DIXON BATTERY",0.7,"caiso_li_battery","CISO","physical","hr_batteries"]
["VACADX_1_SOLAR","VACA-DIXON SOLAR STATION",2.5,"caiso_solar","CISO","physical","utility_pv"]
["VACADX_1_UNITA1","CALPEAK POWER VACA DIXON UNIT 1",50.61,"caiso_peaker2","CISO","physical","gas_ct"]
["VALLEY_5_PERRIS","MWD PERRIS HYDROELECTRIC RECOVERY PLANT",7.94,"caiso_small_hydro","CISO","physical","small_hydro"]
["VALLEY_5_REDMTN","MWD RED MOUNTAIN HYDROELECTRIC RECOVERY",5.9,"caiso_hydro","CISO","physical","hydro"]
["VALLEY_5_RTS044","NAN",8,"caiso_solar","CISO","physical","utility_pv"]
["VALLEY_5_SOLAR1","KONA SOLAR - MERIDIAN #1",1.49,"caiso_solar","CISO","physical","utility_pv"]
["VALLEY_5_SOLAR2","AP NORTH LAKE SOLAR",20,"caiso_solar","CISO","physical","utility_pv"]
["VALLEY_CC","NAN",529,"ldwp_ccgt","LADWP","physical","gas_cc"]
["VALLEY_UNIT_5","NAN",47,"ldwp_peaker","LADWP","physical","gas_ct"]
["VALTNE_2_AVASR1","VALENTINE SOLAR",100,"caiso_solar","CISO","physical","utility_pv"]
["VALTNE_2_TBBBT1","NAN",128,"caiso_solar","CISO","physical","utility_pv"]
["VALTNE_2_TRSBT1","Tropico Solar",70,"caiso_li_battery","CISO","physical","hr_batteries"]
["VAN_DER_KOOI_DAIRY_DIGESTER","NAN",0.8,"caiso_biogas","CISO","physical","biogas"]
["VEAVST_1_SOLAR","COMMUNITY SOLAR",14.4,"caiso_solar","CISO","physical","utility_pv"]
["VEDDER_1_SEKERN","TEXACO EXPLORATION & PROD (SE KERN RIVER",34.47,"caiso_chp","CISO","physical","cogen"]
["VEGA_6_SOLAR1","VEGA SOLAR",20,"caiso_solar","CISO","physical","utility_pv"]
["VENWD_1_WIND1","Windpark Unlimited 1",12.19591471,"caiso_wind","CISO","physical","in_state_wind_south"]
["VENWD_1_WIND2","Windpark Unlimited 2",16,"caiso_wind","CISO","physical","in_state_wind_south"]
["VENWD_1_WIND3","PAINTED HILLS",44.53,"caiso_wind","CISO","physical","in_state_wind_south"]
["VERNON_6_GONZL1","H. GONZALES UNIT #1",5.75,"caiso_peaker1","CISO","physical","gas_ct"]
["VERNON_6_GONZL2","H. GONZALES UNIT #2",5.75,"caiso_peaker1","CISO","physical","gas_ct"]
["VERNON_6_MALBRG","MALBURG GENERATING STATION",134,"caiso_ccgt2","CISO","physical","gas_cc"]
["VESTAL_2_KERN","KERN RIVER PH 3 UNITS 1 & 2 AGGREGATE",36.799999999999997,"caiso_hydro","CISO","physical","hydro"]
["VESTAL_2_RTS042","SPVP042 PORTERVILLE SOLAR",5,"caiso_solar","CISO","physical","utility_pv"]
["VESTAL_2_SOLAR1","NICOLIS",20,"caiso_solar","CISO","physical","utility_pv"]
["VESTAL_2_SOLAR2","TROPICO",14,"caiso_solar","CISO","physical","utility_pv"]
["VESTAL_2_TS5SR1","TULARE SOLAR 5",55.8,"caiso_solar","CISO","physical","utility_pv"]
["VESTAL_2_UNIT1","CALGREN-PIXLEY",5,"caiso_chp","CISO","physical","cogen"]
["VESTAL_2_WELLHD","WELLHEAD POWER DELANO",49,"caiso_peaker1","CISO","physical","gas_ct"]
["VESTAL_6_QF","ISABELLA HYDRO DAM 1",11.95,"caiso_small_hydro","CISO","physical","small_hydro"]
["VICTOR_1_CREST","NAN",24.49,"caiso_solar","CISO","physical","utility_pv"]
["VICTOR_1_EXSLRA","EXPRESSWAY SOLAR A",2,"caiso_solar","CISO","physical","utility_pv"]
["VICTOR_1_EXSLRB","EXPRESSWAY SOLAR B",2,"caiso_solar","CISO","physical","utility_pv"]
["VICTOR_1_LVSLR1","LONE VALLEY SOLAR PARK 1",10,"caiso_solar","CISO","physical","utility_pv"]
["VICTOR_1_LVSLR2","LONE VALLEY SOLAR PARK 2",20,"caiso_solar","CISO","physical","utility_pv"]
["VICTOR_1_SLRHES","SUNEDISON - HESPERIA",1.5,"caiso_solar","CISO","physical","utility_pv"]
["VICTOR_1_SOLAR1","VICTOR PHELAN SOLAR ONE",17.5,"caiso_solar","CISO","physical","utility_pv"]
["VICTOR_1_SOLAR2","ALAMO SOLAR",20,"caiso_solar","CISO","physical","utility_pv"]
["VICTOR_1_SOLAR3","ADELANTO SOLAR 2",7,"caiso_solar","CISO","physical","utility_pv"]
["VICTOR_1_SOLAR4","ADELANTO SOLAR",20,"caiso_solar","CISO","physical","utility_pv"]
["VICTOR_1_VDRYFA","VICTOR DRY FARM RANCH A",5,"caiso_solar","CISO","physical","utility_pv"]
["VICTOR_1_VDRYFB","VICTOR DRY FARM RANCH B",5,"caiso_solar","CISO","physical","utility_pv"]
["VILLPK_2_VALLYV","MWD VALLEY VIEW HYDROELECTRIC RECOVERY P",4.0999999999999996,"caiso_hydro","CISO","physical","hydro"]
["VILLPK_6_MWDYOR","YORBA LINDA HYDROELECTRIC RECOVERY PLANT",5.0999999999999996,"caiso_hydro","CISO","physical","hydro"]
["VINCNT_2_QF","NAN",207,"caiso_wind","CISO","physical","in_state_wind_south"]
["VINCNT_2_WESTWD","NAN",59,"caiso_wind","CISO","physical","in_state_wind_south"]
["VISTA_2_FCELL","CSUSB FUEL CELL",1.4,"caiso_chp","CISO","physical","cogen"]
["VISTA_2_RIALTO","RIALTO RT SOLAR",1,"caiso_solar","CISO","physical","utility_pv"]
["VISTA_2_RTS028","SPVP028",3.5,"caiso_solar","CISO","physical","utility_pv"]
["VISTA_6_QF","VISTA QFS",0.18,"caiso_small_hydro","CISO","physical","small_hydro"]
["VISTRA_5_DALBT1","DALLAS ENERGY STORAGE",100,"caiso_li_battery","CISO","physical","hr_batteries"]
["VISTRA_5_DALBT2","DALLAS ENERGY STORAGE 2",100,"caiso_li_battery","CISO","physical","hr_batteries"]
["VISTRA_5_DALBT3","DALLAS ENERGY STORAGE 3",100,"caiso_li_battery","CISO","physical","hr_batteries"]
["VISTRA_5_DALBT4","DALLAS ENERGY STORAGE 4",100,"caiso_li_battery","CISO","physical","hr_batteries"]
["VLCNTR_6_VCEBT1","Valley Center Energy Storage",54,"caiso_li_battery","CISO","physical","hr_batteries"]
["VLCNTR_6_VCEBT2","Valley Center Energy Storage B",50,"caiso_li_battery","CISO","physical","hr_batteries"]
["VLCNTR_6_VCSLR","COLE GRADE",2.33,"caiso_solar","CISO","physical","utility_pv"]
["VLCNTR_6_VCSLR1","VALLEY CENTER 1",2.5,"caiso_solar","CISO","physical","utility_pv"]
["VLCNTR_6_VCSLR2","VALLEY CENTER 2",5,"caiso_solar","CISO","physical","utility_pv"]
["VLYHOM_7_SSJID","WOODWARD POWER PLANT",3,"caiso_small_hydro","CISO","physical","small_hydro"]
["VOLTA_2_UNIT 1","VOLTA HYDRO UNIT 1",9.1,"caiso_hydro","CISO","physical","hydro"]
["VOLTA_2_UNIT 2","VOLTA HYDRO UNIT 2",1,"caiso_hydro","CISO","physical","hydro"]
["VOLTA_6_BAILCK","BAILEY CREEK RANCH",0.63,"caiso_hydro","CISO","physical","hydro"]
["VOLTA_6_DIGHYD","DIGGER CREEK RANCH HYDRO",0.6,"caiso_small_hydro","CISO","physical","small_hydro"]
["VOLTA_7_PONHY1","VOLTA_7_PONHY1",1.25,"caiso_hydro","CISO","physical","hydro"]
["VOLTA_7_QFUNTS","VOLTA_7_QFUNTS",0.15,"caiso_small_hydro","CISO","physical","small_hydro"]
["VOYAGR_2_VOAWD5","VOYAGER WIND OASIS ALTA",13.98,"caiso_wind","CISO","physical","in_state_wind_south"]
["VOYAGR_2_VOYWD1","VOYAGER 1",128.91,"caiso_wind","CISO","physical","in_state_wind_south"]
["VOYAGR_2_VOYWD2","VOYAGER WIND 2",126.35,"caiso_wind","CISO","physical","in_state_wind_south"]
["VOYAGR_2_VOYWD3","VOYAGER WIND 3",42.45,"caiso_wind","CISO","physical","in_state_wind_south"]
["VOYAGR_2_VOYWD4","VOYAGER WIND 4",21.01,"caiso_wind","CISO","physical","in_state_wind_south"]
["VSTAES_6_VESBT1","VISTA ENERGY STORAGE",40,"caiso_li_battery","CISO","physical","hr_batteries"]
["VULCAN_1","NAN",38,"iid_geothermal","IID","physical","geothermal"]
["VULCAN_2","NAN",10.74,"iid_geothermal","IID","physical","geothermal"]
["VULCAN_EXPANDER","NAN",10.5,"iid_geothermal","IID","physical","geothermal"]
["WADHAM_6_UNIT","WADHAM ENERGY LP",29.07,"caiso_biomass","CISO","physical","biomass_wood"]
["WALCRK_2_CTG1","WALNUT CREEK ENERGY PARK UNIT 1",96.43,"caiso_peaker1","CISO","physical","gas_ct"]
["WALCRK_2_CTG2","WALNUT CREEK ENERGY PARK UNIT 2",96.91,"caiso_peaker1","CISO","physical","gas_ct"]
["WALCRK_2_CTG3","WALNUT CREEK ENERGY PARK UNIT 3",96.65,"caiso_peaker1","CISO","physical","gas_ct"]
["WALCRK_2_CTG4","WALNUT CREEK ENERGY PARK UNIT 4",96.49,"caiso_peaker1","CISO","physical","gas_ct"]
["WALCRK_2_CTG5","WALNUT CREEK ENERGY PARK UNIT 5",96.65,"caiso_peaker1","CISO","physical","gas_ct"]
["WALNUT_2_SOLAR","INDUSTRY METROLINK PV 1",1.5,"caiso_solar","CISO","physical","utility_pv"]
["WALNUT_6_HILLGEN","PUENTE HILLS",47,"caiso_biomass","CISO","physical","biomass_wood"]
["WALNUT_7_WCOVCT","NAN",0.2,"caiso_geothermal","CISO","physical","geothermal"]
["WALNUT_7_WCOVST","MM WEST COVINA - ST UNIT",6.5,"caiso_biomass","CISO","physical","biomass_wood"]
["WARNE_2_UNIT","WARNE HYDRO AGGREGATE",76,"caiso_hydro","CISO","physical","hydro"]
["WAUKNA_1_SOLAR","CORCORAN SOLAR",20,"caiso_solar","CISO","physical","utility_pv"]
["WAUKNA_1_SOLAR2","CORCORAN 2",19.75,"caiso_solar","CISO","physical","utility_pv"]
["WDLEAF_7_UNIT 1","WOODLEAF HYDRO",60,"caiso_hydro","CISO","physical","hydro"]
["WEBER_6_FORWRD","FORWARD",4.2,"caiso_biomass","CISO","physical","biomass_wood"]
["WESTLANDSSOLAR","NAN",19.88,"caiso_solar","CISO","physical","utility_pv"]
["WESTPT_2_UNIT","WEST POINT HYDRO PLANT",14,"caiso_small_hydro","CISO","physical","small_hydro"]
["WFRESN_1_SOLAR","JOYA DEL SOL",1.5,"caiso_solar","CISO","physical","utility_pv"]
["WHEATL_6_LNDFIL","G2 ENERGY, OSTROM ROAD LLC",3.55,"caiso_biomass","CISO","physical","biomass_wood"]
["WHITEH_2_MEADDYN1","WHITE HILLS A",50,"caiso_wind","WALC","specifiedimport","out_of_state_wind_AZNM"]
["WHITEH_2_MEADDYN2","WHITE HILLS B",300,"caiso_wind","WALC","specifiedimport","out_of_state_wind_AZNM"]
["WHITNY_6_SOLAR","WHITNEY POINT SOLAR",20,"caiso_solar","CISO","physical","utility_pv"]
["WHTWTR_1_WINDA1","WHITEWATER HILL WIND PROJECT",61.5,"caiso_wind","CISO","physical","in_state_wind_south"]
["WILLMS_6_ARBBM1","Abel Road Bioenergy",3,"caiso_biomass","CISO","physical","biogas"]
["WILSONASOLAR","NAN",14,"caiso_solar","CISO","physical","utility_pv"]
["WISE_1_UNIT 1","WISE HYDRO UNIT 1",14.5,"caiso_hydro","CISO","physical","hydro"]
["WISE_1_UNIT 2","WISE HYDRO UNIT 2",3.2,"caiso_hydro","CISO","physical","hydro"]
["WISHON_6_UNITS","WISHON/SAN JOAQUIN  #1-A AGGREGATE",18.399999999999999,"caiso_small_hydro","CISO","physical","small_hydro"]
["WISTER_2_WISSR1","Wister Solar",20,"caiso_solar","CISO","physical","utility_pv"]
["WISTRA_2_WRSSR1","WISTARIA RANCH SOLAR",100,"caiso_solar","CISO","physical","utility_pv"]
["WLDWD_1_SOLAR1","WILDWOOD SOLAR I",20,"caiso_solar","CISO","physical","utility_pv"]
["WLDWD_1_SOLAR2","WILDWOOD SOLAR 2",15,"caiso_solar","CISO","physical","utility_pv"]
["WNDMAS_2_UNIT 1","BUENA VISTA ENERGY, LLC",38,"caiso_wind","CISO","physical","in_state_wind_north"]
["WNDSTR_2_WIND","WINDSTAR",120,"caiso_wind","CISO","physical","in_state_wind_south"]
["WOLFSK_1_UNITA1","WOLFSKILL ENERGY CENTER",46.9,"caiso_peaker2","CISO","physical","gas_ct"]
["WOODLAND_1","NAN",49,"banc_peaker","BANC","physical","gas_ct"]
["WOODLAND_3A","NAN",8.1999999999999993,"banc_reciprocating_engine","BANC","physical","ice"]
["WOODLAND_3B","NAN",8.1999999999999993,"banc_reciprocating_engine","BANC","physical","ice"]
["WOODLAND_3C","NAN",8.1999999999999993,"banc_reciprocating_engine","BANC","physical","ice"]
["WOODLAND_3D","NAN",8.1999999999999993,"banc_reciprocating_engine","BANC","physical","ice"]
["WOODLAND_3E","NAN",8.1999999999999993,"banc_reciprocating_engine","BANC","physical","ice"]
["WOODLAND_3F","NAN",8.1999999999999993,"banc_reciprocating_engine","BANC","physical","ice"]
["WOODLAND_CC","NAN",84.2,"banc_ccgt","BANC","physical","gas_cc"]
["WOODWR_1_HYDRO","QUINTEN LUALLEN",7.3,"caiso_hydro","CISO","physical","hydro"]
["WRGHTP_7_AMENGY","SMALL QF AGGREGATION - LOS BANOS",2.5,"caiso_hydro","CISO","physical","hydro"]
["WRGTSR_2_WSFSR1","WRIGHT SOLAR FREEMAN",200,"caiso_solar","CISO","physical","utility_pv"]
["WRIGHTFREEMANSTORAGE","NAN",80,"caiso_li_battery","CISO","physical","hr_batteries"]
["WSENGY_1_UNIT 1","WHEELABRATOR SHASTA",50,"caiso_biomass","CISO","physical","biomass_wood"]
["WSNR_2_CVPDYN","CENTRAL VALLEY 1",10,"caiso_hydro","BANC","specifiedimport","hydro"]
["WSNR_2_TESLADYN","CENTRAL VALLEY TESLA",10,"caiso_hydro","BANC","specifiedimport","hydro"]
["WSNR_5_TRCYDYN","CENTRAL VALLEY TRACY",10,"caiso_hydro","BANC","specifiedimport","hydro"]
["WSTWND_2_M89WD1_LESR","Mojave 89",70.599999999999994,"caiso_li_battery","CISO","physical","hr_batteries"]
["WSTWND_2_M89WD1_WIND","Mojave 89",82.65,"caiso_wind","CISO","physical","in_state_wind_south"]
["WSTWND_2_M90BT1","MOJAVE 90 BESS 1A",15.71,"caiso_li_battery","CISO","physical","hr_batteries"]
["WSTWND_2_M90WD2","MOJAVE 90",48.85,"caiso_wind","CISO","physical","in_state_wind_south"]
["WSTWND_2_SBSBT1","Sagebrush Solar 2",80,"caiso_li_battery","CISO","physical","hr_batteries"]
["YUBACT_1_SUNSWT","YUBA CITY COGEN",49.97,"caiso_chp","CISO","physical","cogen"]
["YUBACT_6_UNITA1","YUBA CITY ENERGY CENTER (CALPINE)",47.6,"caiso_peaker2","CISO","physical","gas_ct"]
["YUCCA_GT21","NAN",22,"iid_peaker","IID","physical","gas_ct"]
["YUCCA_ST1","NAN",75,"iid_st","IID","physical","steam"]
["ZOND_6_UNIT","ZOND WINDSYSTEMS INC.",17.100000000000001,"caiso_wind","CISO","physical","in_state_wind_north"]
["_BRANCH_GENERIC_AMARGO_ITC","AMARGOSA230",null,"nan","NAN","unspecifiedimport","n/a"]
["_BRANCH_GENERIC_BLYTHE_ITC","BLYTHE161",null,"nan","NAN","unspecifiedimport","n/a"]
["_BRANCH_GENERIC_CASCADE_ITC","CRAG",null,"nan","NAN","unspecifiedimport","n/a"]
["_BRANCH_GENERIC_CFE_ITC","CFETIJ & CFEROA",null,"nan","NAN","unspecifiedimport","n/a"]
["_BRANCH_GENERIC_COTPISO_ITC","TRCYCOTPISO",null,"nan","NAN","unspecifiedimport","n/a"]
["_BRANCH_GENERIC_CTW230_ITC","CTW230",null,"nan","NAN","unspecifiedimport","n/a"]
["_BRANCH_GENERIC_ELDORADO_ITC","WILLOWBEACH",null,"nan","NAN","unspecifiedimport","n/a"]
["_BRANCH_GENERIC_GONDIPPDC_ITC","GONIPP",null,"nan","NAN","unspecifiedimport","n/a"]
["_BRANCH_GENERIC_IID-SCE_ITC","MIR2",null,"nan","NAN","unspecifiedimport","n/a"]
["_BRANCH_GENERIC_IID-SDGE_ITC","IVLY2",null,"nan","NAN","unspecifiedimport","n/a"]
["_BRANCH_GENERIC_IPPDCADLN_ITC","IPP & IPPUTAH",null,"nan","NAN","unspecifiedimport","n/a"]
["_BRANCH_GENERIC_LAUGHLIN_ITC","MOHAVE500",null,"nan","NAN","unspecifiedimport","n/a"]
["_BRANCH_GENERIC_LLNL_ITC","LLL115",null,"nan","NAN","unspecifiedimport","n/a"]
["_BRANCH_GENERIC_MALIN500_ISL","MALIN500",null,"nan","NAN","unspecifiedimport","n/a"]
["_BRANCH_GENERIC_MARBLE_ITC","MARBLE60",null,"nan","NAN","unspecifiedimport","n/a"]
["_BRANCH_GENERIC_MCCLMKTPC_ITC","MCCULLOUG500",null,"nan","NAN","unspecifiedimport","n/a"]
["_BRANCH_GENERIC_MCCULLGH_ITC","ELDORADO500",null,"nan","NAN","unspecifiedimport","n/a"]
["_BRANCH_GENERIC_MEADMKTPC_ITC","MEAD5MSCHD",null,"nan","NAN","unspecifiedimport","n/a"]
["_BRANCH_GENERIC_MEADTMEAD_ITC","MEAD2MSCHD",null,"nan","NAN","unspecifiedimport","n/a"]
["_BRANCH_GENERIC_MEAD_ITC","MEAD230",null,"nan","NAN","unspecifiedimport","n/a"]
["_BRANCH_GENERIC_MERCHANT_ITC","ELDORADO230",null,"nan","NAN","unspecifiedimport","n/a"]
["_BRANCH_GENERIC_MERCURY_ITC","MERCURY138",null,"nan","NAN","unspecifiedimport","n/a"]
["_BRANCH_GENERIC_MKTPCADLN_ITC","MARKETPLACE",null,"nan","NAN","unspecifiedimport","n/a"]
["_BRANCH_GENERIC_MONAIPPDC_ITC","MDWP",null,"nan","NAN","unspecifiedimport","n/a"]
["_BRANCH_GENERIC_NEWMELONP_ITC","NML230",null,"nan","NAN","unspecifiedimport","n/a"]
["_BRANCH_GENERIC_NOB_ITC","NOB",null,"nan","NAN","unspecifiedimport","n/a"]
["_BRANCH_GENERIC_NORTHGILA500_ITC","NORTHGILA500",null,"nan","NAN","unspecifiedimport","n/a"]
["_BRANCH_GENERIC_NWEST230_ITC","NWEST",null,"nan","NAN","unspecifiedimport","n/a"]
["_BRANCH_GENERIC_OAKDALE_ITC","OAKDALE",null,"nan","NAN","unspecifiedimport","n/a"]
["_BRANCH_GENERIC_PALOVRDE_ITC","PVWEST",null,"nan","NAN","unspecifiedimport","n/a"]
["_BRANCH_GENERIC_PARKER_ITC","PARKER230",null,"nan","NAN","unspecifiedimport","n/a"]
["_BRANCH_GENERIC_RDM230_ITC","RDM230",null,"nan","NAN","unspecifiedimport","n/a"]
["_BRANCH_GENERIC_RNCHLAKE_ITC","LAKE & RANCHOSECO",null,"nan","NAN","unspecifiedimport","n/a"]
["_BRANCH_GENERIC_SILVERPK_ITC","SILVERPEAK55",null,"nan","NAN","unspecifiedimport","n/a"]
["_BRANCH_GENERIC_STANDIFORD_ITC","STANDIFORD",null,"nan","NAN","unspecifiedimport","n/a"]
["_BRANCH_GENERIC_SUMMIT_ITC","SUMMIT120",null,"nan","NAN","unspecifiedimport","n/a"]
["_BRANCH_GENERIC_SYLMAR-AC_ITC","SYLMAR",null,"nan","NAN","unspecifiedimport","n/a"]
["_BRANCH_GENERIC_TRACY230_ITC","TESLA230",null,"nan","NAN","unspecifiedimport","n/a"]
["_BRANCH_GENERIC_TRACY500_ITC","TRCYPGAE & TRCYCOTP",null,"nan","NAN","unspecifiedimport","n/a"]
["_BRANCH_GENERIC_TRCYTEA_ITC","TRCYTEA",null,"nan","NAN","unspecifiedimport","n/a"]
["_BRANCH_GENERIC_VICTVL_ITC","LUGO",null,"nan","NAN","unspecifiedimport","n/a"]
["_BRANCH_GENERIC_WESTLYLBNS_ITC","WESTLYQNTO",null,"nan","NAN","unspecifiedimport","n/a"]
["_BRANCH_GENERIC_WESTLYTSLA_ITC","WESTLYTSLA",null,"nan","NAN","unspecifiedimport","n/a"]
["_BRANCH_GENERIC_WSTWGMEAD_ITC","WESTWING500",null,"nan","NAN","unspecifiedimport","n/a"]
["_CREZ_GENERIC_ARIZONA_SOLAR","NAN",null,"caiso_solar","NAN","newresolve","utility_pv"]
["_CREZ_GENERIC_ARIZONA_WIND","NAN",null,"caiso_wind","NAN","newresolve","out_of_state_wind_AZNM"]
["_CREZ_GENERIC_BAJA_CALIFORNIA_SOLAR","NAN",null,"caiso_solar","NAN","newresolve","utility_pv"]
["_CREZ_GENERIC_BAJA_CALIFORNIA_WIND","NAN",null,"caiso_wind","NAN","newresolve","in_state_wind_south"]
["_CREZ_GENERIC_CAPE_MENDOCINO_OFFSHORE_WIND","NAN",null,"caiso_wind","NAN","newresolve","offshore_wind"]
["_CREZ_GENERIC_CARRIZO_SOLAR","NAN",null,"caiso_solar","NAN","newresolve","utility_pv"]
["_CREZ_GENERIC_CARRIZO_WIND","NAN",null,"caiso_wind","NAN","newresolve","in_state_wind_north"]
["_CREZ_GENERIC_CENTRAL_VALLEY_NORTH_LOS_BANOS_SOLAR","NAN",null,"caiso_solar","NAN","newresolve","utility_pv"]
["_CREZ_GENERIC_CENTRAL_VALLEY_NORTH_LOS_BANOS_WIND","NAN",null,"caiso_wind","NAN","newresolve","in_state_wind_north"]
["_CREZ_GENERIC_DEL_NORTE_OFFSHORE_WIND","NAN",null,"caiso_wind","NAN","newresolve","offshore_wind"]
["_CREZ_GENERIC_DIABLO_CANYON_EXT_TX_OFFSHORE_WIND","NAN",null,"caiso_wind","NAN","newresolve","offshore_wind"]
["_CREZ_GENERIC_DIABLO_CANYON_OFFSHORE_WIND","NAN",null,"caiso_wind","NAN","newresolve","offshore_wind"]
["_CREZ_GENERIC_DISTRIBUTED_SOLAR","NAN",null,"caiso_solar","NAN","newresolve","utility_pv"]
["_CREZ_GENERIC_DISTRIBUTED_WIND","NAN",null,"caiso_wind","NAN","newresolve","in_state_wind_south"]
["_CREZ_GENERIC_GREATER_IMPERIAL_GEOTHERMAL","NAN",null,"caiso_geothermal","NAN","newresolve","geothermal"]
["_CREZ_GENERIC_GREATER_IMPERIAL_SOLAR","NAN",null,"caiso_solar","NAN","newresolve","utility_pv"]
["_CREZ_GENERIC_GREATER_IMPERIAL_WIND","NAN",null,"caiso_wind","NAN","newresolve","in_state_wind_south"]
["_CREZ_GENERIC_GREATER_KRAMER_SOLAR","NAN",null,"caiso_solar","NAN","newresolve","utility_pv"]
["_CREZ_GENERIC_GREATER_KRAMER_WIND","NAN",null,"caiso_wind","NAN","newresolve","in_state_wind_south"]
["_CREZ_GENERIC_HUMBOLDT_BAY_OFFSHORE_WIND","NAN",null,"caiso_wind","NAN","newresolve","offshore_wind"]
["_CREZ_GENERIC_HUMBOLDT_WIND","NAN",null,"caiso_wind","NAN","newresolve","in_state_wind_north"]
["_CREZ_GENERIC_IDAHO_WIND","NAN",null,"caiso_wind","NAN","newresolve","out_of_state_wind_WYID"]
["_CREZ_GENERIC_INSTATE_BIOMASS","NAN",null,"caiso_biomass","NAN","newresolve","biomass_wood"]
["_CREZ_GENERIC_INYOKERN_NORTH_KRAMER_GEOTHERMAL","NAN",null,"caiso_geothermal","NAN","newresolve","geothermal"]
["_CREZ_GENERIC_INYOKERN_NORTH_KRAMER_SOLAR","NAN",null,"caiso_solar","NAN","newresolve","utility_pv"]
["_CREZ_GENERIC_KERN_GREATER_CARRIZO_SOLAR","NAN",null,"caiso_solar","NAN","newresolve","utility_pv"]
["_CREZ_GENERIC_KERN_GREATER_CARRIZO_WIND","NAN",null,"caiso_wind","NAN","newresolve","in_state_wind_north"]
["_CREZ_GENERIC_KRAMER_INYOKERN_EX_SOLAR","NAN",null,"caiso_solar","NAN","newresolve","utility_pv"]
["_CREZ_GENERIC_KRAMER_INYOKERN_EX_WIND","NAN",null,"caiso_wind","NAN","newresolve","in_state_wind_south"]
["_CREZ_GENERIC_MORRO_BAY_OFFSHORE_WIND","NAN",null,"caiso_wind","NAN","newresolve","offshore_wind"]
["_CREZ_GENERIC_MOUNTAIN_PASS_EL_DORADO_SOLAR","NAN",null,"caiso_solar","NAN","newresolve","utility_pv"]
["_CREZ_GENERIC_NEW_MEXICO_SOLAR","NAN",null,"caiso_solar","NAN","newresolve","utility_pv"]
["_CREZ_GENERIC_NEW_MEXICO_WIND","NAN",null,"caiso_wind","NAN","newresolve","out_of_state_wind_AZNM"]
["_CREZ_GENERIC_NORTHERN_CALIFORNIA_EX_GEOTHERMAL","NAN",null,"caiso_geothermal","NAN","newresolve","geothermal"]
["_CREZ_GENERIC_NORTHERN_CALIFORNIA_EX_SOLAR","NAN",null,"caiso_solar","NAN","newresolve","utility_pv"]
["_CREZ_GENERIC_NORTHERN_CALIFORNIA_EX_WIND","NAN",null,"caiso_wind","NAN","newresolve","in_state_wind_north"]
["_CREZ_GENERIC_NORTH_VICTOR_SOLAR","NAN",null,"caiso_solar","NAN","newresolve","utility_pv"]
["_CREZ_GENERIC_NW_BIOMASS","NAN",null,"caiso_biomass","NAN","newresolve","biomass_wood"]
["_CREZ_GENERIC_NW_EXT_TX_WIND","NAN",null,"caiso_wind","NAN","newresolve","in_state_wind_north"]
["_CREZ_GENERIC_NW_SMALL_HYDRO","NAN",null,"caiso_small_hydro","NAN","newresolve","small_hydro"]
["_CREZ_GENERIC_PACIFIC_NORTHWEST_GEOTHERMAL","NAN",null,"caiso_geothermal","NAN","newresolve","geothermal"]
["_CREZ_GENERIC_PACIFIC_NORTHWEST_WIND","NAN",null,"caiso_wind","NAN","newresolve","out_of_state_wind_WAOR"]
["_CREZ_GENERIC_RIVERSIDE_PALM_SPRINGS_GEOTHERMAL","NAN",null,"caiso_geothermal","NAN","newresolve","geothermal"]
["_CREZ_GENERIC_RIVERSIDE_PALM_SPRINGS_SOLAR","NAN",null,"caiso_solar","NAN","newresolve","utility_pv"]
["_CREZ_GENERIC_SACRAMENTO_RIVER_SOLAR","NAN",null,"caiso_solar","NAN","newresolve","utility_pv"]
["_CREZ_GENERIC_SACRAMENTO_RIVER_WIND","NAN",null,"caiso_wind","NAN","newresolve","in_state_wind_north"]
["_CREZ_GENERIC_SCADSNV_SOLAR","NAN",null,"caiso_solar","NAN","newresolve","utility_pv"]
["_CREZ_GENERIC_SCADSNV_WIND","NAN",null,"caiso_wind","NAN","newresolve","in_state_wind_south"]
["_CREZ_GENERIC_SOLANO_GEOTHERMAL","NAN",null,"caiso_geothermal","NAN","newresolve","geothermal"]
["_CREZ_GENERIC_SOLANO_SOLAR","NAN",null,"caiso_solar","NAN","newresolve","utility_pv"]
["_CREZ_GENERIC_SOLANO_SUBZONE_SOLAR","NAN",null,"caiso_solar","NAN","newresolve","utility_pv"]
["_CREZ_GENERIC_SOLANO_SUBZONE_WIND","NAN",null,"caiso_wind","NAN","newresolve","in_state_wind_north"]
["_CREZ_GENERIC_SOLANO_WIND","NAN",null,"caiso_wind","NAN","newresolve","in_state_wind_north"]
["_CREZ_GENERIC_SOUTHERN_CALIFORNIA_DESERT_EX_SOLAR","NAN",null,"caiso_solar","NAN","newresolve","utility_pv"]
["_CREZ_GENERIC_SOUTHERN_CALIFORNIA_DESERT_EX_WIND","NAN",null,"caiso_wind","NAN","newresolve","in_state_wind_south"]
["_CREZ_GENERIC_SOUTHERN_CA_DESERT_SOUTHERN_NV_SOLAR","NAN",null,"caiso_solar","NAN","newresolve","utility_pv"]
["_CREZ_GENERIC_SOUTHERN_CA_DESERT_SOUTHERN_NV_WIND","NAN",null,"caiso_wind","NAN","newresolve","in_state_wind_south"]
["_CREZ_GENERIC_SOUTHERN_NEVADA_GEOTHERMAL","NAN",null,"caiso_geothermal","NAN","newresolve","geothermal"]
["_CREZ_GENERIC_SOUTHERN_NEVADA_SOLAR","NAN",null,"caiso_solar","NAN","newresolve","utility_pv"]
["_CREZ_GENERIC_SOUTHERN_NEVADA_WIND","NAN",null,"caiso_wind","NAN","newresolve","in_state_wind_south"]
["_CREZ_GENERIC_SW_BIOMASS","NAN",null,"caiso_biomass","NAN","newresolve","biomass_wood"]
["_CREZ_GENERIC_SW_EXT_TX_WIND","NAN",null,"caiso_wind","NAN","newresolve","out_of_state_wind_AZNM"]
["_CREZ_GENERIC_TEHACHAPI_EX_SOLAR","NAN",null,"caiso_solar","NAN","newresolve","utility_pv"]
["_CREZ_GENERIC_TEHACHAPI_SOLAR","NAN",null,"caiso_solar","NAN","newresolve","utility_pv"]
["_CREZ_GENERIC_TEHACHAPI_WIND","NAN",null,"caiso_wind","NAN","newresolve","in_state_wind_south"]
["_CREZ_GENERIC_UTAH_SOLAR","NAN",null,"caiso_solar","NAN","newresolve","utility_pv"]
["_CREZ_GENERIC_UTAH_WIND","NAN",null,"caiso_wind","NAN","newresolve","out_of_state_wind_AZNM"]
["_CREZ_GENERIC_WESTLANDS_EX_SOLAR","NAN",null,"caiso_solar","NAN","newresolve","utility_pv"]
["_CREZ_GENERIC_WESTLANDS_EX_WIND","NAN",null,"caiso_wind","NAN","newresolve","in_state_wind_north"]
["_CREZ_GENERIC_WESTLANDS_SOLAR","NAN",null,"caiso_solar","NAN","newresolve","utility_pv"]
["_CREZ_GENERIC_WYOMING_WIND","NAN",null,"caiso_wind","NAN","newresolve","out_of_state_wind_WYID"]
["_CREZ_UNBUNDLEDREC_ARIZONA_SOLAR","NAN",null,"caiso_solar","NAN","unbundledrec","n/a"]
["_CREZ_UNBUNDLEDREC_ARIZONA_WIND","NAN",null,"caiso_wind","NAN","unbundledrec","n/a"]
["_CREZ_UNBUNDLEDREC_BAJA_CALIFORNIA_SOLAR","NAN",null,"caiso_solar","NAN","unbundledrec","n/a"]
["_CREZ_UNBUNDLEDREC_BAJA_CALIFORNIA_WIND","NAN",null,"caiso_wind","NAN","unbundledrec","n/a"]
["_CREZ_UNBUNDLEDREC_CAPE_MENDOCINO_OFFSHORE_WIND","NAN",null,"caiso_wind","NAN","unbundledrec","n/a"]
["_CREZ_UNBUNDLEDREC_CARRIZO_SOLAR","NAN",null,"caiso_solar","NAN","unbundledrec","n/a"]
["_CREZ_UNBUNDLEDREC_CARRIZO_WIND","NAN",null,"caiso_wind","NAN","unbundledrec","n/a"]
["_CREZ_UNBUNDLEDREC_CENTRAL_VALLEY_NORTH_LOS_BANOS_SOLAR","NAN",null,"caiso_solar","NAN","unbundledrec","n/a"]
["_CREZ_UNBUNDLEDREC_CENTRAL_VALLEY_NORTH_LOS_BANOS_WIND","NAN",null,"caiso_wind","NAN","unbundledrec","n/a"]
["_CREZ_UNBUNDLEDREC_DEL_NORTE_OFFSHORE_WIND","NAN",null,"caiso_wind","NAN","unbundledrec","n/a"]
["_CREZ_UNBUNDLEDREC_DIABLO_CANYON_EXT_TX_OFFSHORE_WIND","NAN",null,"caiso_wind","NAN","unbundledrec","n/a"]
["_CREZ_UNBUNDLEDREC_DIABLO_CANYON_OFFSHORE_WIND","NAN",null,"caiso_wind","NAN","unbundledrec","n/a"]
["_CREZ_UNBUNDLEDREC_DISTRIBUTED_SOLAR","NAN",null,"caiso_solar","NAN","unbundledrec","n/a"]
["_CREZ_UNBUNDLEDREC_DISTRIBUTED_WIND","NAN",null,"caiso_wind","NAN","unbundledrec","n/a"]
["_CREZ_UNBUNDLEDREC_GREATER_IMPERIAL_GEOTHERMAL","NAN",null,"caiso_geothermal","NAN","unbundledrec","n/a"]
["_CREZ_UNBUNDLEDREC_GREATER_IMPERIAL_SOLAR","NAN",null,"caiso_solar","NAN","unbundledrec","n/a"]
["_CREZ_UNBUNDLEDREC_GREATER_IMPERIAL_WIND","NAN",null,"caiso_wind","NAN","unbundledrec","n/a"]
["_CREZ_UNBUNDLEDREC_GREATER_KRAMER_SOLAR","NAN",null,"caiso_solar","NAN","unbundledrec","n/a"]
["_CREZ_UNBUNDLEDREC_GREATER_KRAMER_WIND","NAN",null,"caiso_wind","NAN","unbundledrec","n/a"]
["_CREZ_UNBUNDLEDREC_HUMBOLDT_BAY_OFFSHORE_WIND","NAN",null,"caiso_wind","NAN","unbundledrec","n/a"]
["_CREZ_UNBUNDLEDREC_HUMBOLDT_WIND","NAN",null,"caiso_wind","NAN","unbundledrec","n/a"]
["_CREZ_UNBUNDLEDREC_IDAHO_WIND","NAN",null,"caiso_wind","NAN","unbundledrec","n/a"]
["_CREZ_UNBUNDLEDREC_INSTATE_BIOMASS","NAN",null,"caiso_biomass","NAN","unbundledrec","n/a"]
["_CREZ_UNBUNDLEDREC_INYOKERN_NORTH_KRAMER_GEOTHERMAL","NAN",null,"caiso_geothermal","NAN","unbundledrec","n/a"]
["_CREZ_UNBUNDLEDREC_INYOKERN_NORTH_KRAMER_SOLAR","NAN",null,"caiso_solar","NAN","unbundledrec","n/a"]
["_CREZ_UNBUNDLEDREC_KERN_GREATER_CARRIZO_SOLAR","NAN",null,"caiso_solar","NAN","unbundledrec","n/a"]
["_CREZ_UNBUNDLEDREC_KERN_GREATER_CARRIZO_WIND","NAN",null,"caiso_wind","NAN","unbundledrec","n/a"]
["_CREZ_UNBUNDLEDREC_KRAMER_INYOKERN_EX_SOLAR","NAN",null,"caiso_solar","NAN","unbundledrec","n/a"]
["_CREZ_UNBUNDLEDREC_KRAMER_INYOKERN_EX_WIND","NAN",null,"caiso_wind","NAN","unbundledrec","n/a"]
["_CREZ_UNBUNDLEDREC_MORRO_BAY_OFFSHORE_WIND","NAN",null,"caiso_wind","NAN","unbundledrec","n/a"]
["_CREZ_UNBUNDLEDREC_MOUNTAIN_PASS_EL_DORADO_SOLAR","NAN",null,"caiso_solar","NAN","unbundledrec","n/a"]
["_CREZ_UNBUNDLEDREC_NEW_MEXICO_SOLAR","NAN",null,"caiso_solar","NAN","unbundledrec","n/a"]
["_CREZ_UNBUNDLEDREC_NEW_MEXICO_WIND","NAN",null,"caiso_wind","NAN","unbundledrec","n/a"]
["_CREZ_UNBUNDLEDREC_NORTHERN_CALIFORNIA_EX_GEOTHERMAL","NAN",null,"caiso_geothermal","NAN","unbundledrec","n/a"]
["_CREZ_UNBUNDLEDREC_NORTHERN_CALIFORNIA_EX_SOLAR","NAN",null,"caiso_solar","NAN","unbundledrec","n/a"]
["_CREZ_UNBUNDLEDREC_NORTHERN_CALIFORNIA_EX_WIND","NAN",null,"caiso_wind","NAN","unbundledrec","n/a"]
["_CREZ_UNBUNDLEDREC_NORTH_VICTOR_SOLAR","NAN",null,"caiso_solar","NAN","unbundledrec","n/a"]
["_CREZ_UNBUNDLEDREC_NW_BIOMASS","NAN",null,"caiso_biomass","NAN","unbundledrec","n/a"]
["_CREZ_UNBUNDLEDREC_NW_EXT_TX_WIND","NAN",null,"caiso_wind","NAN","unbundledrec","n/a"]
["_CREZ_UNBUNDLEDREC_NW_SMALL_HYDRO","NAN",null,"caiso_small_hydro","NAN","unbundledrec","n/a"]
["_CREZ_UNBUNDLEDREC_PACIFIC_NORTHWEST_GEOTHERMAL","NAN",null,"caiso_geothermal","NAN","unbundledrec","n/a"]
["_CREZ_UNBUNDLEDREC_PACIFIC_NORTHWEST_WIND","NAN",null,"caiso_wind","NAN","unbundledrec","n/a"]
["_CREZ_UNBUNDLEDREC_RIVERSIDE_PALM_SPRINGS_GEOTHERMAL","NAN",null,"caiso_geothermal","NAN","unbundledrec","n/a"]
["_CREZ_UNBUNDLEDREC_RIVERSIDE_PALM_SPRINGS_SOLAR","NAN",null,"caiso_solar","NAN","unbundledrec","n/a"]
["_CREZ_UNBUNDLEDREC_SACRAMENTO_RIVER_SOLAR","NAN",null,"caiso_solar","NAN","unbundledrec","n/a"]
["_CREZ_UNBUNDLEDREC_SACRAMENTO_RIVER_WIND","NAN",null,"caiso_wind","NAN","unbundledrec","n/a"]
["_CREZ_UNBUNDLEDREC_SCADSNV_SOLAR","NAN",null,"caiso_solar","NAN","unbundledrec","n/a"]
["_CREZ_UNBUNDLEDREC_SCADSNV_WIND","NAN",null,"caiso_wind","NAN","unbundledrec","n/a"]
["_CREZ_UNBUNDLEDREC_SOLANO_GEOTHERMAL","NAN",null,"caiso_geothermal","NAN","unbundledrec","n/a"]
["_CREZ_UNBUNDLEDREC_SOLANO_SOLAR","NAN",null,"caiso_solar","NAN","unbundledrec","n/a"]
["_CREZ_UNBUNDLEDREC_SOLANO_SUBZONE_SOLAR","NAN",null,"caiso_solar","NAN","unbundledrec","n/a"]
["_CREZ_UNBUNDLEDREC_SOLANO_SUBZONE_WIND","NAN",null,"caiso_wind","NAN","unbundledrec","n/a"]
["_CREZ_UNBUNDLEDREC_SOLANO_WIND","NAN",null,"caiso_wind","NAN","unbundledrec","n/a"]
["_CREZ_UNBUNDLEDREC_SOUTHERN_CALIFORNIA_DESERT_EX_SOLAR","NAN",null,"caiso_solar","NAN","unbundledrec","n/a"]
["_CREZ_UNBUNDLEDREC_SOUTHERN_CALIFORNIA_DESERT_EX_WIND","NAN",null,"caiso_wind","NAN","unbundledrec","n/a"]
["_CREZ_UNBUNDLEDREC_SOUTHERN_CA_DESERT_SOUTHERN_NV_SOLAR","NAN",null,"caiso_solar","NAN","unbundledrec","n/a"]
["_CREZ_UNBUNDLEDREC_SOUTHERN_CA_DESERT_SOUTHERN_NV_WIND","NAN",null,"caiso_wind","NAN","unbundledrec","n/a"]
["_CREZ_UNBUNDLEDREC_SOUTHERN_NEVADA_GEOTHERMAL","NAN",null,"caiso_geothermal","NAN","unbundledrec","n/a"]
["_CREZ_UNBUNDLEDREC_SOUTHERN_NEVADA_SOLAR","NAN",null,"caiso_solar","NAN","unbundledrec","n/a"]
["_CREZ_UNBUNDLEDREC_SOUTHERN_NEVADA_WIND","NAN",null,"caiso_wind","NAN","unbundledrec","n/a"]
["_CREZ_UNBUNDLEDREC_SW_BIOMASS","NAN",null,"caiso_biomass","NAN","unbundledrec","n/a"]
["_CREZ_UNBUNDLEDREC_SW_EXT_TX_WIND","NAN",null,"caiso_wind","NAN","unbundledrec","n/a"]
["_CREZ_UNBUNDLEDREC_TEHACHAPI_EX_SOLAR","NAN",null,"caiso_solar","NAN","unbundledrec","n/a"]
["_CREZ_UNBUNDLEDREC_TEHACHAPI_SOLAR","NAN",null,"caiso_solar","NAN","unbundledrec","n/a"]
["_CREZ_UNBUNDLEDREC_TEHACHAPI_WIND","NAN",null,"caiso_wind","NAN","unbundledrec","n/a"]
["_CREZ_UNBUNDLEDREC_UTAH_SOLAR","NAN",null,"caiso_solar","NAN","unbundledrec","n/a"]
["_CREZ_UNBUNDLEDREC_UTAH_WIND","NAN",null,"caiso_wind","NAN","unbundledrec","n/a"]
["_CREZ_UNBUNDLEDREC_WESTLANDS_EX_SOLAR","NAN",null,"caiso_solar","NAN","unbundledrec","n/a"]
["_CREZ_UNBUNDLEDREC_WESTLANDS_EX_WIND","NAN",null,"caiso_wind","NAN","unbundledrec","n/a"]
["_CREZ_UNBUNDLEDREC_WESTLANDS_SOLAR","NAN",null,"caiso_solar","NAN","unbundledrec","n/a"]
["_CREZ_UNBUNDLEDREC_WYOMING_WIND","NAN",null,"caiso_wind","NAN","unbundledrec","n/a"]
["_EXISTING_GENERIC_BATTERY_STORAGE","NAN",null,"caiso_battery","NAN","existinggeneric","hr_batteries"]
["_EXISTING_GENERIC_BIOGAS_LANDFILLGAS","NAN",null,"caiso_biomass","NAN","existinggeneric","biomass_wood"]
["_EXISTING_GENERIC_BIOMASS/WOOD","NAN",null,"caiso_biomass","NAN","existinggeneric","biomass_wood"]
["_EXISTING_GENERIC_COAL","NAN",null,"caiso_coal","NAN","existinggeneric","coal"]
["_EXISTING_GENERIC_COGEN","NAN",null,"caiso_chp","NAN","existinggeneric","cogen"]
["_EXISTING_GENERIC_COMBINED_CYCLE","NAN",null,"caiso_ccgt1","NAN","existinggeneric","gas_cc"]
["_EXISTING_GENERIC_DR","NAN",null,"caiso_dr","NAN","existinggeneric","demand_response"]
["_EXISTING_GENERIC_GEOTHERMAL","NAN",null,"caiso_geothermal","NAN","existinggeneric","geothermal"]
["_EXISTING_GENERIC_ICE","NAN",null,"caiso_reciprocating_engine","NAN","existinggeneric","ice"]
["_EXISTING_GENERIC_INSTATE_LARGE_HYDRO","NAN",null,"caiso_hydro","NAN","existinggeneric","hydro"]
["_EXISTING_GENERIC_INSTATE_SMALL_HYDRO","NAN",null,"caiso_hydro","NAN","existinggeneric","hydro"]
["_EXISTING_GENERIC_NUCLEAR","NAN",null,"caiso_nuclear","NAN","existinggeneric","nuclear"]
["_EXISTING_GENERIC_NW_HYDRO","NAN",null,"caiso_hydro","NAN","existinggeneric","hydro"]
["_EXISTING_GENERIC_PEAKER","NAN",null,"caiso_peaker1","NAN","existinggeneric","gas_ct"]
["_EXISTING_GENERIC_PUMPED_STORAGE_HYDRO","NAN",null,"caiso_pumped_hydro","NAN","existinggeneric","pumped_storage"]
["_EXISTING_GENERIC_SOLAR_1AXIS","NAN",null,"caiso_solar","NAN","existinggeneric","utility_pv"]
["_EXISTING_GENERIC_SOLAR_2AXIS","NAN",null,"caiso_solar","NAN","existinggeneric","utility_pv"]
["_EXISTING_GENERIC_SOLAR_FIXED","NAN",null,"caiso_solar","NAN","existinggeneric","utility_pv"]
["_EXISTING_GENERIC_SOLAR_THERMAL","NAN",null,"caiso_solar","NAN","existinggeneric","utility_pv"]
["_EXISTING_GENERIC_STEAM","NAN",null,"caiso_steam","NAN","existinggeneric","steam"]
["_EXISTING_GENERIC_UNKNOWN","NAN",null,"caiso_unknown","NAN","existinggeneric","n/a"]
["_EXISTING_GENERIC_WIND","NAN",null,"caiso_wind","NAN","existinggeneric","in_state_wind_south"]
["_NEW_BTM_DR","NAN",null,"caiso_loadmod","NAN","newloadmod","demand_response"]
["_NEW_BTM_EE","NAN",null,"caiso_loadmod","NAN","newloadmod","demand_response"]
["_NEW_BTM_RESOURCE","NAN",null,"caiso_loadmod","NAN","newloadmod","demand_response"]
["_NEW_DG","NAN",null,"caiso_loadmod","NAN","newloadmod","btm_pv"]
["_NEW_EV","NAN",null,"caiso_loadmod","NAN","newloadmod","demand_response"]
["_NEW_GENERIC_BATTERY_STORAGE","NAN",null,"caiso_battery","NAN","newgeneric","hr_batteries"]
["_NEW_GENERIC_BIOGAS_LANDFILLGAS","NAN",null,"caiso_biomass","NAN","newgeneric","biomass_wood"]
["_NEW_GENERIC_BIOMASS/WOOD","NAN",null,"caiso_biomass","NAN","newgeneric","biomass_wood"]
["_NEW_GENERIC_COAL","NAN",null,"caiso_coal","NAN","newgeneric","coal"]
["_NEW_GENERIC_COGEN","NAN",null,"caiso_chp","NAN","newgeneric","cogen"]
["_NEW_GENERIC_COMBINED_CYCLE","NAN",null,"caiso_ccgt1","NAN","newgeneric","gas_cc"]
["_NEW_GENERIC_DR","NAN",null,"caiso_dr","NAN","newgeneric","demand_response"]
["_NEW_GENERIC_GEOTHERMAL","NAN",null,"caiso_geothermal","NAN","newgeneric","geothermal"]
["_NEW_GENERIC_ICE","NAN",null,"caiso_reciprocating_engine","NAN","newgeneric","ice"]
["_NEW_GENERIC_INSTATE_LARGE_HYDRO","NAN",null,"caiso_hydro","NAN","newgeneric","hydro"]
["_NEW_GENERIC_INSTATE_SMALL_HYDRO","NAN",null,"caiso_hydro","NAN","newgeneric","hydro"]
["_NEW_GENERIC_NUCLEAR","NAN",null,"caiso_nuclear","NAN","newgeneric","nuclear"]
["_NEW_GENERIC_NW_HYDRO","NAN",null,"caiso_hydro","NAN","newgeneric","hydro"]
["_NEW_GENERIC_PEAKER","NAN",null,"caiso_peaker1","NAN","newgeneric","gas_ct"]
["_NEW_GENERIC_PUMPED_STORAGE_HYDRO","NAN",null,"caiso_pumped_hydro","NAN","newgeneric","pumped_storage"]
["_NEW_GENERIC_SOLAR_1AXIS","NAN",null,"caiso_solar","NAN","newgeneric","utility_pv"]
["_NEW_GENERIC_SOLAR_2AXIS","NAN",null,"caiso_solar","NAN","newgeneric","utility_pv"]
["_NEW_GENERIC_SOLAR_FIXED","NAN",null,"caiso_solar","NAN","newgeneric","utility_pv"]
["_NEW_GENERIC_SOLAR_THERMAL","NAN",null,"caiso_solar","NAN","newgeneric","utility_pv"]
["_NEW_GENERIC_STEAM","NAN",null,"caiso_steam","NAN","newgeneric","steam"]
["_NEW_GENERIC_UNKNOWN","NAN",null,"caiso_unknown","NAN","newgeneric","n/a"]
["_NEW_GENERIC_WIND","NAN",null,"caiso_wind","NAN","newgeneric","in_state_wind_south"]
["_NEW_TOU","NAN",null,"caiso_loadmod","NAN","newloadmod","demand_response"]
["_SUPPLIERS_CHOICE","NAN",null,"suppliers_choice","NAN","supplierschoice","n/a"]
["_UNSPECIFIED_NON_IMPORT","NAN",null,"unspecified_non_import","NAN","unspecifiednonimport","n/a"]

{"sheet":"lse_names","index":5,"n_rows":104,"n_cols":3,"rows_kept":104,"cut":false,"hidden":false,"merged":[]}
["lse","NAME","lse_type"]
["3PR","3 Phases Renewables","ESP"]
["APN","American PowerNet Management","ESP"]
["AVCE","Apple Valley Choice Energy","CCA"]
["CEI","Just Energy Solutions","ESP"]
["CES","Commercial Energy of Montana","ESP"]
["CNE","Constellation New Energy","ESP"]
["COBP","City of Baldwin Park","CCA"]
["COSB","City of Solana Beach","CCA"]
["CPA","Calpine Power America","ESP"]
["CPASC","Clean Power Alliance of Southern California","CCA"]
["CPSF","CleanPowerSF","CCA"]
["DCE","Desert Community Energy","CCA"]
["DEB","Direct Energy Business","ESP"]
["EBCE","East Bay Community Energy","CCA"]
["EIPS","EDF Industrial Power Services","ESP"]
["HANFORD","City of Hanford","CCA"]
["KCCP","King City Community Power","CCA"]
["LCE","Lancaster Choice Energy","CCA"]
["LPH","Liberty Power Holdings","ESP"]
["CCCE","Monterey Bay Community Power Authority","CCA"]
["MCE","Marin Clean Energy","CCA"]
["NES","Calpine Energy Solutions","ESP"]
["PALMDALE","City of Palmdale","CCA"]
["PCEA","Peninsula Clean Energy Authority","CCA"]
["PGE","Pacific Gas & Electric","IOU"]
["PIONEER","Pioneer Community Energy","CCA"]
["POMONA","City of Pomona","CCA"]
["PPG","Pilot Power Group","ESP"]
["PRIME","Pico Rivera Innovative Municipal Energy","CCA"]
["RCEA","Redwood Coast Energy Authority","CCA"]
["RMEA","Rancho Mirage Energy Authority","CCA"]
["SCE","Southern California Edison","IOU"]
["SDGE","San Diego Gas & Electric","IOU"]
["SENA","Shell Energy North America","ESP"]
["SJCE","San Jose Clean Energy","CCA"]
["SJP","San Jacinto Power","CCA"]
["SOMA","Sonoma Clean Power Authority","CCA"]
["SVCE","Silicon Valley Clean Energy Authority","CCA"]
["TNG","Tiger Natural Gas","ESP"]
["UC","University of California","ESP"]
["VCEA","Valley Clean Energy Alliance","CCA"]
["WCE","Western Community Energy","CCA"]
["PCORP","PacifiCorp","POU"]
["BVES","Bear Valley Electric Service","IOU"]
["LIB","Liberty Utilities","IOU"]
["BCE","Butte Choice Energy","CCA"]
["CEA","Clean Energy Alliance","CCA"]
["COM","City of Commerce","CCA"]
["SDCP","San Diego Community Power","CCA"]
["SBCE","Santa Barbara Clean Energy","CCA"]
["AGERA","Agera Energy, LLC","ESP"]
["GEXA","Gexa Energy California, LLC","ESP"]
["LPD","Liberty Power Delaware, LLC","ESP"]
["PALMCO","Palmco Power CA","ESP"]
["PRAX","Praxair Plainfield, Inc.","ESP"]
["TENA","Tenaska Power Services Co.","ESP"]
["YEP","Yep Energy","ESP"]
["ANZA","Anza Electric Cooperative","COOP"]
["PLUMAS","Plumas Sierra Rural Electric Cooperative","COOP"]
["SURPRISE","Surprise Valley Electrification Corporation","POU"]
["VEA","Valley Electric Association","COOP"]
["ANHM","Anaheim","CAISOPOU"]
["AZCO","Arizona Electric Power Cooperative","POU"]
["AZUA","Azusa","CAISOPOU"]
["BAN1","Banning","CAISOPOU"]
["BWPM","Burbank","POU"]
["CCSF","City and County San Francisco","CAISOPOU"]
["CLTN","Colton","CAISOPOU"]
["COR1","Corona","CAISOPOU"]
["CRCL","Cerritos","CAISOPOU"]
["GLEN","Glendale","POU"]
["IIDE","Imperial Irrigation District","POU"]
["INDU","Industry","CAISOPOU"]
["KIRK","Kirkwood","POU"]
["LADWP","LADWP","POU"]
["LASS","Lassen","CAISOPOU"]
["MEID","Merced","POU"]
["MID","Modesto Irrigation District","POU"]
["MVAL","Moreno Valley","CAISOPOU"]
["NCPA","Northern California Power Agency","CAISOPOU"]
["NEED","Needles","POU"]
["PASA","Pasadena","CAISOPOU"]
["PITT","Pittsburg","CAISOPOU"]
["PSTN","Stockton","CAISOPOU"]
["PWRPA","Power Water Resources Pooling Authority","CAISOPOU"]
["RCMU","Rancho Cucamonga","CAISOPOU"]
["RDG1","Redding","POU"]
["RSVL","Roseville","POU"]
["RVSD","Riverside","CAISOPOU"]
["SCOV","Shelter Cove","CAISOPOU"]
["SLAK","Shasta Lake","POU"]
["SMUD","SMUD","POU"]
["SNCL","Silicon Valley Power","CAISOPOU"]
["TIDM","Turlock Irrigation District","POU"]
["TRIN","Trinity","CAISOPOU"]
["TRUC","Truckee","POU"]
["VERN","Vernon","CAISOPOU"]
["VMUS","Victorville","CAISOPOU"]
["WEPA","Eastside Power Authority","CAISOPOU"]
["_OTHER","Multiple non-IOU LSEs"]
["_OTHER","Multiple LSEs"]
["_OTHER","Multiple IOUs"]
["_OTHER","non-LSE supplier","_OTHER"]

{"sheet":"misc","index":6,"n_rows":93,"n_cols":74,"rows_kept":93,"cut":false,"hidden":false,"merged":[]}
["contract_status","bool","yes_no","Year","int_count","transact","cap_areas","cap_sub_areas","state_county","d1911016_tranches","d2106035_tranche ","energy_capacity_from_resource","is_hybrid_paired","csp_cat","solar_Technology_sub_type","storage_Technology_sub_type","nqc_reporting_source","cam_d1911016_vamo_pcia",null,"25MMT ELCC (%)",null,null,null,null,null,null,null,null,null,null,null,null,null,"30MMT ELCC (%)",null,null,null,null,null,null,null,null,null,null,null,null,null,"25MMT MRN/TRN ratio",null,null,null,null,null,null,null,null,null,null,null,null,null,"30MMT MRN/TRN ratio"]
["Online",0,"YES","NA","NA","Buy","Humboldt","North Coast  Eagle Rock","NA","NA","NA","EnergyCapacity","NotHybrid","NA","Fixed","Li","In the contract","CAM",null,"elcc_type",2024,2025,2026,2027,2028,2029,2030,2031,2032,2033,2034,2035,null,"elcc_type",2024,2025,2026,2027,2028,2029,2030,2031,2032,2033,2034,2035,null,null,2024,2025,2026,2027,2028,2029,2030,2031,2032,2033,2034,2035,null,null,2024,2025,2026,2027,2028,2029,2030,2031,2032,2033,2034,2035]
["Review",1,"NO",1970,1,"Sell","NorthCoastNorthBay","North Coast  Fulton","AlpineCounty",1,"firm_ZE","EnergyOnly","ExistingBiomassExistingStorage","Large Hydro (GWh)","SolarThermal","Flow","Calculated","D.19-11-016",null,"in_state_wind_south",0.11841355076102321,0.13636070685128646,0.15430786294154972,0.10693659222396304,5.9565321506376369E-2,7.7201442724824779E-2,9.4837563943273195E-2,8.4644753263379724E-2,7.4451942583486252E-2,6.4259131903592781E-2,5.406632122369931E-2,4.3873510543805838E-2,null,"in_state_wind_south",0.15102941403529452,0.15178846902809942,0.15254752402090432,0.11848326121551586,8.4418998410127413E-2,8.3416882718990337E-2,8.2414767027853275E-2,7.4829691124404837E-2,6.72446152209564E-2,5.9659539317507955E-2,5.207446341405951E-2,4.4489387510611059E-2,null,null,0.77201871279722722,0.78867470616438251,0.80390270140610376,0.77610409059689334,0.75027694884377893,0.76246521023924085,0.77457060149091872,0.74274625791973614,0.71261162813758272,0.6827328847380274,0.65390251423413703,0.62577079443506212,null,null,0.80029848011116889,0.81896333891271367,0.83611438362607471,0.79544567238840358,0.75709177033813169,0.73673303550177849,0.71703757483484865,0.69918925792169562,0.68264892770624752,0.66607760402249072,0.65025016398978508,0.63484459547384975]
["PlannedExisting",null,"NA",1971,2,"Owned","Sierra","Sierra  Placer","AmadorCounty","1&2","firm_ZE_&_firm_ZE_ext","CapacityOnly","ExistingBiomassNewStorage","Imported Hydro (GWh)","1Axis","PSH",null,"VAMO",null,"in_state_wind_north",0.23682710152204642,0.27272141370257291,0.30861572588309943,0.21387318444792608,0.11913064301275274,0.15440288544964956,0.18967512788654639,0.16928950652675945,0.1489038851669725,0.12851826380718556,0.10813264244739862,8.7747021087611676E-2,null,"in_state_wind_north",0.30205882807058904,0.30357693805619884,0.30509504804180865,0.23696652243103172,0.16883799682025483,0.16683376543798067,0.16482953405570655,0.14965938224880967,0.1344892304419128,0.11931907863501591,0.10414892682811902,8.8978775021222117E-2]
["Development",null,null,1972,3,null,"Stockton","Sierra  Pease","AlamedaCounty",2,"firm_ZE_ext",null,"ExistingGeothermalExistingStorage","Asset Controlling Supplier (GWh)","2Axis","Other",null,"GHG-free PCIA",null,"out_of_state_wind_WYID",0.46897827577694978,0.45359083280372914,0.43820338983050844,0.38080451179552754,0.3234056337605466,0.32954852469028811,0.33569141562002963,0.32866160707229491,0.3216317985245602,0.31460198997682548,0.30757218142909076,0.30054237288135593,null,"out_of_state_wind_WYID",0.42559322033898306,0.39180370915668034,0.35801419797437761,0.37372282962154058,0.38943146126870348,0.31241064588858902,0.23538983050847456,0.24842033898305083,0.26145084745762709,0.27448135593220335,0.28751186440677962,0.30054237288135593]
["PlannedNew",null,null,1973,4,null,"GreaterBay","Sierra  Gold Hill-Drum","ButteCounty","2&3","general",null,"ExistingGeothermalNewStorage","Nuclear (GWh)",null,null,null,null,null,"out_of_state_wind_WAOR",0.28743829805684018,0.27800728462164043,0.26857627118644067,0.23339631368112979,0.19821635617581887,0.20198135384243465,0.20574635150905043,0.20143775917334206,0.19712916683763368,0.1928205745019253,0.18851198216621692,0.18420338983050849,null,"out_of_state_wind_WAOR",0.26084745762711864,0.24013775722506214,0.21942805682300565,0.22905592783255713,0.23868379884210861,0.1914774926413933,0.14427118644067796,0.15225762711864407,0.16024406779661018,0.1682305084745763,0.17621694915254241,0.18420338983050849]
[null,null,null,1974,5,null,"GreaterFresno","Stockton  Lockeford","CalaverasCounty","1&3","general_&_firm_ZE",null,"ExistingSolarExistingStorage","Biogas (GWh)",null,null,null,null,null,"out_of_state_wind_AZNM",0.42359328134692242,0.40969494575820697,0.39579661016949158,0.34395246226692811,0.29210831436436469,0.29765673197832476,0.30320514959228489,0.29685564509755674,0.29050614060282859,0.28415663610810044,0.27780713161337228,0.27145762711864413,null,"out_of_state_wind_AZNM",0.384406779661017,0.3538872211737758,0.32336766268653466,0.33755610417429471,0.35174454566205482,0.28217735757679013,0.21261016949152545,0.22437966101694917,0.2361491525423729,0.24791864406779662,0.25968813559322035,0.27145762711864413]
[null,null,null,1975,6,null,"Kern","Stockton  Tesla-Bellota","ColusaCounty",3,"general_&_firm_ZE_ext",null,"ExistingSolarNewStorage","Biomass (GWh)",null,null,null,null,null,"offshore_wind",0.66745107707355167,0.61580710432933394,0.56416313158511622,0.55718196245584084,0.55020079332656546,0.5803035093936455,0.61040622546072543,0.55232498036858035,0.49424373527643528,0.43616249018429021,0.37808124509214514,0.32,null,"offshore_wind",0.54900000000000004,0.50668405182051957,0.46436810364103909,0.48659667347489211,0.50882524330874512,0.46741262165437258,0.42599999999999999,0.40479999999999999,0.3836,0.3624,0.3412,0.32]
[null,null,null,1976,7,null,"BigCreekVentura","Greater Bay   Llagas","ContraCostaCounty","1&2&3","general_&_long_duration_storage",null,"ExistingThermalExistingStorage","Geothermal (GWh)",null,null,null,null,null,"utility_pv",0.12434584155282009,0.12102944303332039,0.11771304451382068,0.1001620473979912,8.261105028216173E-2,7.6604612550074003E-2,7.0598174817986262E-2,6.9278539854389004E-2,6.7958904890791746E-2,6.6639269927194489E-2,6.5319634963597231E-2,6.4000000000000001E-2,null,"utility_pv",9.6000000000000002E-2,0.10220064352589828,0.10840128705179657,0.1016803220430352,9.4959357034273828E-2,7.7479678517136913E-2,0.06,6.08E-2,6.1600000000000002E-2,6.2400000000000004E-2,6.3200000000000006E-2,6.4000000000000001E-2]
[null,null,null,1977,8,null,"LABasin","Greater Bay   San Jose","DelNorteCounty",null,"general_&_long_duration_storage_ext",null,"ExistingThermalNewStorage","Small Hydro (GWh)",null,null,null,null,null,"btm_pv",5.3182100841591383E-2,4.865045278619004E-2,4.4118804730788705E-2,5.2547949194918675E-2,6.0977093659048652E-2,5.4040407611745077E-2,4.7103721564441502E-2,4.8882977251553203E-2,5.0662232938664904E-2,5.2441488625776606E-2,5.4220744312888307E-2,5.6000000000000001E-2,null,"btm_pv",8.8999999999999996E-2,9.3703365409453621E-2,9.8406730818907232E-2,8.2703365409453611E-2,6.7000000000000004E-2,5.6000000000000001E-2,4.4999999999999998E-2,4.7199999999999999E-2,4.9399999999999999E-2,5.16E-2,5.3800000000000001E-2,5.6000000000000001E-2]
[null,null,null,1978,9,null,"SanDiegoImperialValley","Greater Bay   South Bay  Moss Landing","ElDoradoCounty",null,"general_&_ZE_gen_paired_dr",null,"ExistingWindExistingStorage","Wind Existing California (GWh)",null,null,null,null,null,"4hr_batteries",0.85399999999999998,0.86399999999999999,0.874,0.84499999999999997,0.81599999999999995,0.85299999999999998,0.89,0.79220000000000002,0.69440000000000002,0.59660000000000002,0.49880000000000002,0.40100000000000002,null,"4hr_batteries",0.88500000000000001,0.90149999999999997,0.91800000000000004,0.84550000000000003,0.77300000000000002,0.75900000000000001,0.745,0.67620000000000002,0.60740000000000005,0.53860000000000008,0.46980000000000011,0.40100000000000002]
[null,null,null,1979,10,null,"PacGE","Greater Bay  Oakland","FresnoCounty",null,"long_duration_storage",null,"ExistingWindNewStorage","Wind New PG&E (GWh)",null,null,null,null,null,"5hr_batteries",0.86399999999999999,0.86962499999999998,0.87524999999999997,0.85087500000000005,0.82650000000000001,0.85824999999999996,0.89,0.80695000000000006,0.72389999999999999,0.64084999999999992,0.55779999999999996,0.47475000000000001,null,"5hr_batteries",0.88675000000000004,0.90387499999999998,0.92100000000000004,0.85887500000000006,0.79675000000000007,0.78362500000000002,0.77049999999999996,0.71135000000000004,0.6522,0.59305000000000008,0.53390000000000004,0.47475000000000001]
[null,null,null,1980,11,null,"SCE","Greater Fresno  Panoche","GlennCounty",null,"long_duration_storage_&_firm_ZE",null,"NewBiomassExistingStorage","Wind New SCE SDG&E (GWh)",null,null,null,null,null,"6hr_batteries",0.874,0.87524999999999997,0.87649999999999995,0.85675000000000012,0.83699999999999997,0.86349999999999993,0.89,0.8217000000000001,0.75339999999999996,0.68509999999999982,0.6167999999999999,0.54849999999999999,null,"6hr_batteries",0.88850000000000007,0.90625,0.92400000000000004,0.87225000000000008,0.82050000000000001,0.80825000000000002,0.79599999999999993,0.74650000000000005,0.69699999999999995,0.64750000000000008,0.59799999999999998,0.54849999999999999]
[null,null,null,1981,12,null,"SDGE","Greater Fresno  Herndon","HumboldtCounty",null,"long_duration_storage_&_firm_ZE_ext",null,"NewBiomassNewStorage","Wind Pacific Northwest (GWh)",null,null,null,null,null,"7hr_batteries",0.88400000000000001,0.88087499999999996,0.87774999999999992,0.8626250000000002,0.84749999999999992,0.86874999999999991,0.89,0.83645000000000014,0.78289999999999993,0.72934999999999972,0.67579999999999985,0.62224999999999997,null,"7hr_batteries",0.8902500000000001,0.90862500000000002,0.92700000000000005,0.88562500000000011,0.84424999999999994,0.83287500000000003,0.8214999999999999,0.78165000000000007,0.7417999999999999,0.70195000000000007,0.66209999999999991,0.62224999999999997]
[null,null,null,1982,13,null,"AVA","Greater Fresno  Hanford","ImperialCounty",null,"long_duration_storage_&_long_duration_storage_ext",null,"NewGeothermalExistingStorage","Wind Wyoming (GWh)",null,null,null,null,null,"8hr_batteries",0.89400000000000002,0.88650000000000007,0.879,0.86850000000000005,0.85799999999999998,0.874,0.89,0.85119999999999996,0.8123999999999999,0.77359999999999984,0.73479999999999979,0.69599999999999995,null,"8hr_batteries",0.89200000000000002,0.91100000000000003,0.93,0.89900000000000002,0.86799999999999999,0.85749999999999993,0.84699999999999998,0.81679999999999997,0.78659999999999997,0.75639999999999996,0.72619999999999996,0.69599999999999995]
[null,null,null,1983,14,null,"AVRN","Greater Fresno  Coalinga","InyoCounty",null,"long_duration_storage_ext",null,"NewGeothermalNewStorage","Wind New Mexico (GWh)",null,null,null,null,null,"pumped_storage",0.90100000000000002,0.89,0.879,0.86850000000000005,0.85799999999999998,0.874,0.89,0.85860000000000003,0.82720000000000005,0.79580000000000006,0.76440000000000008,0.73299999999999998,null,"pumped_storage",0.89400000000000002,0.91400000000000003,0.93400000000000005,0.91300000000000003,0.89200000000000002,0.89050000000000007,0.88900000000000001,0.85780000000000001,0.8266,0.7954,0.76419999999999999,0.73299999999999998]
[null,null,null,1984,15,null,"AZPS","Greater Fresno  Borden","KernCounty",null,"long_duration_storage_ext_&_firm_ZE",null,"NewSolarExistingStorage","Wind Offshore Morro Bay (GWh)",null,null,null,null,null,"demand_response",0.7724039633086085,0.79750142153712067,0.82259887976563284,0.77486011512236863,0.72712135047910442,0.79507732791389651,0.86303330534868861,0.71922664427895089,0.57541998320921317,0.43161332213947545,0.28780666106973773,0.14399999999999999,null,"demand_response",0.89300000000000002,0.9083512608449148,0.92370252168982958,0.77235126084491479,0.621,0.60599999999999998,0.59099999999999997,0.50159999999999993,0.41219999999999996,0.32279999999999998,0.2334,0.14399999999999999]
[null,null,null,1985,16,null,"BANC","Greater Fresno  Reedley","KingsCounty",null,"long_duration_storage_ext_&_firm_ZE_ext",null,"NewSolarNewStorage","Wind Offshore Humboldt (GWh)",null,null,null,null,null,"hydro",0.50808542614523622,0.52136584004877395,0.53464625395231169,0.52463421830816248,0.51462218266401338,0.52965938625731068,0.54469658985060787,0.52172491439930901,0.4987532389480101,0.47578156349671119,0.45280988804541228,0.42983821259411337,null,"hydro",0.56660491660133128,0.5639186026863886,0.56123228877144593,0.53191654140391154,0.50260079403637703,0.49249487994717378,0.48238896585797048,0.47187881520519903,0.46136866455242759,0.45085851389965614,0.4403483632468847,0.42983821259411337]
[null,null,null,1986,17,null,"BPAT","Kern  Westpark","LakeCounty",null,"ZE_gen_paired_dr",null,"NewThermalExistingStorage","Solar Existing California (GWh)",null,null,null,null,null,"small_hydro",0.36439596011147751,0.37392059696589919,0.38344523382032081,0.37626465915023138,0.36908408448014196,0.37986868084682657,0.39065327721351117,0.37417812303529918,0.35770296885708719,0.3412278146788752,0.3247526605006632,0.3082775063224511,null,"small_hydro",0.40636580378868559,0.40443919482132551,0.40251258585396549,0.38148749960139383,0.36046241334882212,0.35321450959515949,0.34596660584149685,0.33842878593768772,0.33089096603387858,0.32335314613006944,0.3158153262262603,0.3082775063224511]
[null,null,null,1987,18,null,"CHPD","Kern  Kern Power-Tevis","LassenCounty",null,"ZE_gen_paired_dr_&_firm_ZE",null,"NewThermalNewStorage","Solar New PG&E (GWh)",null,null,null,null,null,"geothermal",0.86035735395693558,0.88845422376818506,0.91655109357943454,0.92141545041207906,0.92627980724472359,0.91906618301364429,0.91185255878256499,0.91955797078363211,0.92726338278469922,0.93496879478576633,0.94267420678683345,0.95037961878790056,null,"geothermal",0.86400365575892546,0.8782620417931235,0.89252042782732166,0.91001836007896375,0.92751629233060595,0.92280590133888829,0.91809551034717063,0.92538472229861102,0.93267393425005141,0.93996314620149179,0.94725235815293218,0.95454157010437257]
[null,null,null,1988,19,null,"CSTO","Kern  Kern Oil","LosAngelesCounty",null,"ZE_gen_paired_dr_&_firm_ZE_ext",null,"NewWindExistingStorage","Solar New SCE SDG&E (GWh)",null,null,null,null,null,"biomass_wood",0.7760796336578174,0.79410595910163018,0.81213228454544306,0.81927788031425353,0.82642347608306399,0.81498790039485203,0.80355232470664006,0.81956505086438813,0.8355777770221362,0.85159050317988427,0.86760322933763234,0.88361595549538019,null,"biomass_wood",0.78777252109464602,0.80873519104432079,0.82969786099399567,0.83028460488270484,0.83087134877141389,0.82344593040995451,0.81602051204849513,0.83149916107410415,0.84697781009971318,0.86245645912532221,0.87793510815093123,0.89341375717654026]
[null,null,null,1989,20,null,"DEAA","Kern  South Kern PP","MaderaCounty",null,"ZE_gen_paired_dr_&_long_duration_storage",null,"NewWindNewStorage","Solar Distributed (GWh)",null,null,null,null,null,"biogas",0.74993508538984277,0.76621477432747476,0.78249446326510674,0.78556571387656016,0.78863696448801368,0.77725397013863851,0.76587097578926322,0.78423035140973241,0.80258972703020159,0.82094910265067078,0.83930847827113997,0.85766785389160938,null,"biogas",0.75849976538356267,0.77833009661414909,0.79816042784473562,0.79513379797889616,0.7921071681130567,0.78251806948180391,0.77292897085055123,0.79192907385472411,0.81092917685889698,0.82992927986306986,0.84892938286724273,0.86792948587141583]
[null,null,null,1990,21,null,"DOPD","Big Creek/Ventura - Vesta","MarinCounty",null,"ZE_gen_paired_dr_&_long_duration_storage_ext",null,null,"Hybrid_or_Paired_Solar_and_Battery (GWh)",null,null,null,null,null,"nuclear",0.93356208910726446,0.93542040714074237,0.93727872517422017,0.93803958722410496,0.93880044927398987,0.93205531633495187,0.92531018339591387,0.93233873256863709,0.9393672817413603,0.94639583091408352,0.95342438008680674,0.96045292925952974,null,"nuclear",0.93139197880214852,0.93996144395127801,0.9485309091004076,0.94333376244952838,0.93813661579864904,0.93575640725694242,0.93337619871523581,0.93933118321638243,0.94528616771752905,0.95124115221867567,0.95719613671982229,0.96315112122096869]
[null,null,null,1991,22,null,"EPE","Big Creek/Ventura - Santa Clara","MariposaCounty",null,null,null,null,"Shed DR (MW)",null,null,null,null,null,"gas_cc",0.84405545915455138,0.85378805932691004,0.86352065949926871,0.86634980076266022,0.86917894202605173,0.85956321379360601,0.84994748556116018,0.86140444290247919,0.87286140024379821,0.88431835758511723,0.89577531492643625,0.90723227226775538,null,"gas_cc",0.84814757974875532,0.86263887009961904,0.87713016045048275,0.87417936920023021,0.87122857794997766,0.86089172285515003,0.85055486776032241,0.86298372454380101,0.87541258132727962,0.88784143811075822,0.90027029489423682,0.91269915167771554]
[null,null,null,1992,23,null,"GCPD","LA Basin  Eastern","MendocinoCounty",null,null,null,null,"Pumped Storage (MW)",null,null,null,null,null,"gas_ct",0.81237441831218216,0.83458266364683165,0.85679090898148114,0.84024564289456083,0.82370037680764052,0.80688071641969916,0.7900610560317578,0.80257508455656523,0.81508911308137266,0.82760314160618009,0.84011717013098752,0.85263119865579484,null,"gas_ct",0.80210397441153047,0.8164055166331512,0.83070705885477203,0.82614281229582409,0.82157856573687627,0.80581095377983025,0.79004334182278424,0.79962832305535969,0.80921330428793514,0.81879828552051059,0.82838326675308604,0.83796824798566139]
[null,null,null,1993,24,null,"GRIF","LA Basin  Western","MercedCounty",null,null,null,null,"Battery Storage (MWh Energy Capacity)",null,null,null,null,null,"cogen",0.93171659158246634,0.92982721151899872,0.9279378314555311,0.93426748239376611,0.94059713333200112,0.93177611621028944,0.92295509908857776,0.92509715629415346,0.92723921349972915,0.92938127070530485,0.93152332791088055,0.93366538511645647,null,"cogen",0.89510595870195142,0.92080923604040321,0.94651251337885489,0.91922536104575825,0.89193820871266161,0.89034739869657353,0.88875658868048535,0.89657566327297322,0.9043947378654611,0.91221381245794897,0.92003288705043684,0.92785196164292472]
[null,null,null,1994,25,null,"GRIS","LA Basin  El Nido","ModocCounty",null,null,null,null,"Storage Resource Custom Profile (MW)",null,null,null,null,null,"ice",0.93417725494886394,0.93953702885460977,0.94489680276035559,0.94420958116215314,0.94352235956395081,0.94551881178594521,0.94751526400793951,0.93432127731937176,0.92112729063080401,0.90793330394223626,0.89473931725366851,0.88154533056510087,null,"ice",0.92925750703154864,0.90155388721725416,0.87385026740295979,0.89802819899977204,0.92220613059658441,0.91831713786770974,0.91442814513883497,0.90430189637815794,0.89417564761748092,0.88404939885680389,0.87392315009612687,0.86379690133544973]
[null,null,null,1995,26,null,"GRMA","San Diego/Imperial Valley  San Diego","MonoCounty",null,null,null,null,"RPS Resource Custom Profile (GWh)",null,null,null,null,null,"coal",0.68780333538830307,0.70728773218306451,0.72677212897782595,0.72091463332629768,0.71505713767476942,0.68678495655552108,0.65851277543627273,0.68894203468715276,0.71937129393803279,0.74980055318891281,0.78022981243979284,0.81065907169067308,null,"coal",0.6905015932630254,0.71720881804551684,0.74391604282800827,0.73721266741320757,0.73050929199840686,0.71015565906334177,0.68980202612827657,0.71688684336924113,0.7439716606102057,0.77105647785117026,0.79814129509213483,0.82522611233309917]
[null,null,null,1996,27,null,"GWA","San Diego/Imperial Valley  El Cajon","MontereyCounty",null,null,null,null,"GHG-free non-RPS Resource Custom Profile (GWh)",null,null,null,null,null,"steam",0.77854029702421501,0.79236174105596691,0.80618318508771891,0.80202811428072351,0.79787304347372801,0.77781790021672426,0.75776275695972062,0.77934804431009863,0.80093333166047664,0.82251861901085466,0.84410390636123267,0.86568919371161046,null,"steam",0.7804543321668751,0.79939935861356859,0.81834438506026208,0.81358928131774333,0.80883417757522458,0.79439613253754293,0.77995808749986129,0.79917096278409228,0.81838383806832327,0.83759671335255426,0.85680958863678525,0.87602246392101613]
[null,null,null,1997,28,null,"HGMA","San Diego/Imperial Valley  Border","NapaCounty",null,null,null,null,"Coal (GWh)",null,null,null,null,null,"unspecified_import",1,1,1,1,1,1,1,1,1,1,1,1,null,"unspecified_import",1,1,1,1,1,1,1,1,1,1,1,1]
[null,null,null,1998,29,null,"IID","No_sub_area","NevadaCounty"]
[null,null,null,1999,30,null,"IPCO",null,"OrangeCounty"]
[null,null,null,2000,31,null,"LDWP",null,"PlacerCounty"]
[null,null,null,2001,null,null,"NEVP",null,"PlumasCounty"]
[null,null,null,2002,null,null,"NWMT",null,"RiversideCounty"]
[null,null,null,2003,null,null,"PACE",null,"SacramentoCounty"]
[null,null,null,2004,null,null,"PACW",null,"SanBenitoCounty"]
[null,null,null,2005,null,null,"PortGE",null,"SanBernardinoCounty"]
[null,null,null,2006,null,null,"PNM",null,"SanDiegoCounty"]
[null,null,null,2007,null,null,"PSCO",null,"SanFrancisco"]
[null,null,null,2008,null,null,"PSEI",null,"SanJoaquinCounty"]
[null,null,null,2009,null,null,"SCL",null,"SanLuisObispoCounty"]
[null,null,null,2010,null,null,"SRP",null,"SanMateoCounty"]
[null,null,null,2011,null,null,"SWPP",null,"SantaBarbaraCounty"]
[null,null,null,2012,null,null,"TEPC",null,"SantaClaraCounty"]
[null,null,null,2013,null,null,"TIDC",null,"SantaCruzCounty"]
[null,null,null,2014,null,null,"TPWR",null,"ShastaCounty"]
[null,null,null,2015,null,null,"WACM",null,"SierraCounty"]
[null,null,null,2016,null,null,"WALC",null,"SiskiyouCounty"]
[null,null,null,2017,null,null,"WAUW",null,"SolanoCounty"]
[null,null,null,2018,null,null,"WWA",null,"SonomaCounty"]
[null,null,null,2019,null,null,null,null,"StanislausCounty"]
[null,null,null,2020,null,null,null,null,"SutterCounty"]
[null,null,null,2021,null,null,null,null,"TehamaCounty"]
[null,null,null,2022,null,null,null,null,"TrinityCounty"]
[null,null,null,2023,null,null,null,null,"TulareCounty"]
[null,null,null,2024,null,null,null,null,"TuolumneCounty"]
[null,null,null,2025,null,null,null,null,"VenturaCounty"]
[null,null,null,2026,null,null,null,null,"YoloCounty"]
[null,null,null,2027,null,null,null,null,"YubaCounty"]
[null,null,null,2028,null,null,null,null,"Washington"]
[null,null,null,2029,null,null,null,null,"Oregon"]
[null,null,null,2030,null,null,null,null,"California"]
[null,null,null,2031,null,null,null,null,"Idaho"]
[null,null,null,2032,null,null,null,null,"Nevada"]
[null,null,null,2033,null,null,null,null,"Utah"]
[null,null,null,2034,null,null,null,null,"Arizona"]
[null,null,null,2035,null,null,null,null,"Colorado"]
[null,null,null,2036,null,null,null,null,"Wyoming"]
[null,null,null,2037,null,null,null,null,"Montana"]
[null,null,null,2038,null,null,null,null,"SouthDakota"]
[null,null,null,2039,null,null,null,null,"NewMexico"]
[null,null,null,2040,null,null,null,null,"Texas"]
[null,null,null,2041,null,null,null,null,"BritishColumbiaCanada"]
[null,null,null,2042,null,null,null,null,"AlbertaCanada"]
[null,null,null,2043,null,null,null,null,"BajaCaliforniaMexico"]
[null,null,null,2044]
[null,null,null,2045]
[null,null,null,2046]
[null,null,null,2047]
[null,null,null,2048]
[null,null,null,2049]
[null,null,null,2050]
[null,null,null,2051]
[null,null,null,2052]
[null,null,null,2053]
[null,null,null,2054]
[null,null,null,2055]
[null,null,null,2056]
[null,null,null,2057]
[null,null,null,2058]
[null,null,null,2059]
[null,null,null,2060]

{"sheet":"btm_pv_forecast","index":7,"n_rows":43,"n_cols":17,"rows_kept":43,"cut":false,"hidden":false,"merged":[]}
[]
[null,null,null,null,null,"Capacity (MW)"]
[null,"Service Area","Type","LSE CPUC ID","LSE Name",2024,2025,2026,2027,2028,2029,2030,2031,2032,2033,2034,2035]
[]
[null,"PGE","IOU","PGE","Pacific Gas and Electric (Bundled)",2483.8068589790723,2670.6038103689802,2858.9074246620553,3056.0035900636071,3256.6374079561342,3468.7628407033926,3666.9481221821034,3882.9316452981288,4089.8779554219054,4313.371000375545,4525.9710006049063,4733.5943482356379]
[null,"PGE","ESP",null,"Pacific Gas and Electric (Direct Access)",1044.2812727718472,1116.2856772500425,1188.7877162783418,1263.803082966863,1341.8643229155455,1417.5187133768627,1491.0134772441515,1560.1180533957549,1628.5101143427687,1691.9805408676923,1751.8540669200165,1806.595437887127]
[null,"PGE","CCA","3CE","Central Coast Community Energy",421.15158866235947,452.41756345284011,484.24656690264459,518.26131780701587,553.24666760565185,588.40650611030662,623.01932056784142,657.26665772916772,690.27502269615002,722.39237653960083,753.19576332979227,782.63020991442545]
[null,"PGE","CCA","CPSF","CleanPowerSF",272.19416399859608,293.24422043725548,314.64319486101334,337.11583948832134,360.59438348444075,384.43336439847536,408.20763606432604,431.73764612373708,454.71495834668525,477.48365101121402,499.30993106673799,522.15571416344596]
[null,"PGE","CCA","EBCE","East Bay Community Energy",617.76959431414195,667.81996111621743,718.63308662617487,771.46593233074759,827.57953531612543,883.45521722999354,939.61924241275983,994.0497540750838,1047.1904037722193,1098.0250495756795,1147.2771116564363,1195.6178051162908]
[null,"PGE","CCA","KCCP","King City Community Power",3.1274358840494534,3.3636520056169532,3.6050746596521281,3.8602955575569933,4.1281791027990744,4.4032289358735328,4.6760213764533942,4.9529948206200691,5.2230105835236342,5.4948898457039075,5.7600678791208466,6.0177562422379056]
[null,"PGE","CCA","MCE","Marin Clean Energy",527.86388071769511,563.93443402414778,600.94246843265171,639.69312653983377,682.55819738465698,725.04097687911815,779.38139222076563,819.26259007070894,863.34478143792842,897.0318566789806,932.88804641092975,967.05580668741084]
[null,"PGE","CCA","PCEA","Peninsula Clean Energy Authority",316.75083019541813,339.10983202487694,364.76233374423686,394.23905047890116,426.38292831492276,456.14532228889948,487.03461529488857,517.71009069627598,550.01922490357629,578.78887456209941,609.02186232936469,639.46893059021602]
[null,"PGE","CCA","PIONEER","Pioneer Community Energy",174.58370029279465,187.74625877084296,201.05464856586698,215.08391009554981,229.8694970939209,244.8625782047807,259.97134575100404,274.72346527719623,289.20527157432571,303.56593207859419,317.5371963463985,331.39997696384302]
[null,"PGE","CCA","RCEA","Redwood Coast Energy Authority",62.138081316377651,66.496059034432207,71.017362202773811,75.665120769114964,80.48241444552616,85.149414717258253,89.681980650495873,93.946685834520423,98.166583975000705,102.08317249026896,105.78473833742601,109.17589388091692]
[null,"PGE","CCA","SJCE","San José Clean Energy",350.21324007670898,376.68297404818878,403.56176136508725,432.00922554326763,461.8896518316966,492.40267793259045,522.9226245202517,553.27567634329318,583.10753624593087,612.88219212544936,641.84777737179513,670.34157413534956]
[null,"PGE","CCA","SVCEA","Silicon Valley Clean Energy Authority",337.44318241651644,362.59051649013793,388.24515038707466,415.37112983413044,443.77395346360737,472.77166743521479,501.68487615834687,530.5496873902905,558.89072034388994,587.07254600964177,614.43748105219868,641.20263112945668]
[null,"PGE","CCA","SOMA","Sonoma Clean Power",204.13485296036629,219.59562436786734,235.2439036449297,251.77557565799594,269.1820112432012,286.89668003285396,304.69389780741091,322.21442833329922,339.42850634791262,356.56934250918135,373.249630782145,389.75397688857419]
[null,"PGE","CCA","VCEA","Valley Clean Energy Alliance",65.848531141168294,71.437151445058674,77.281773889539011,83.386448610861379,90.055275571140967,96.31582884604012,102.91328573756282,109.38630667423828,116.1331870201184,122.13662570100729,128.23331103435945,134.24818004623634]
[]
[null,"SCE","IOU","SCE","Southern California Edison (Bundled)",3045.6552922272008,3285.9745840143787,3536.1960292967306,3798.2790020660741,4067.7244055505175,4348.1989093430002,4638.7565959445928,4940.7488752548306,5249.1653779558428,5563.6355709265245,5882.7329697236801,6204.3137106902432]
[null,"SCE","ESP",null,"Southern California Edison (Direct Access)",258.95906146369924,277.62600208478869,297.02638527422238,316.37784858260233,336.86391331946299,357.73704018578508,379.46587953282386,401.31059926563461,424.5472950956584,447.79511993059907,471.39999159290011,494.98519838813047]
[null,"SCE","CCA","AVCE","Apple Valley Choice Energy",30.105810709839815,32.504098777569489,34.999640542766912,37.614739331637956,40.333183111954085,43.12310859058897,46.028780876911163,48.950928205180396,51.950231455221179,54.992953646411216,58.077081456034364,61.221541257178046]
[null,"SCE","CCA","COBP","Baldwin Park, City of",0,0,0,0,0,0,0,0,0,0,0,0]
[null,"SCE","CCA","3CE","Central Coast Community Energy",32.356121861904604,34.517261561131555,36.74543728673023,38.944289016766014,41.258232396243102,43.594883574977111,46.011355626132783,48.418939402345309,50.967377906025639,54.12182524707773,57.34463397329494,60.639115401868459]
[null,"SCE","CCA","CPASC","Clean Power Alliance",450.60008333015799,486.24333359056698,523.36965046983676,562.17382235511957,602.420790304913,644.08973111529235,687.34816420565483,731.74792995995642,777.23741380376975,823.60382235055727,870.65873870250994,918.28722226338766]
[null,"SCE","CCA","DCE","Desert Community Energy",40.155911659818344,43.376864736966027,46.551308586475862,49.762575063189573,53.202232925325021,56.760100194548706,60.514505244911582,64.356704712958205,68.498466385423498,72.722493312596029,77.094043174101955,81.556600946759119]
[null,"SCE","CCA","PALMDALE","Energy for Palmdale’s Independent Choice",35.840654395407483,38.717773668025728,41.714924374379962,44.850035603148278,48.132406508891798,51.552254902433695,55.097841856349895,58.736857126406697,62.472700596974533,66.296201333130981,70.17896164272689,74.107870100483552]
[null,"SCE","CCA","LCE","Lancaster Choice Energy",73.470263496767444,79.311062182652734,85.390813960405325,91.755651295259938,98.367589469997796,105.19021935636306,112.28423354088909,119.49346715710085,126.88751642609698,134.41155535925506,142.04239713646993,149.7950010427553]
[null,"SCE","CCA","OCPA","Orange County Power Authority",231.53585360591782,250.12237441144057,269.48587689828724,289.73591928475497,310.94494346993008,333.03473425891934,355.94026056294121,379.44347029814105,403.57843760413255,428.2826627755893,453.3604768777987,478.74445052111685]
[null,"SCE","CCA","PRIME","Pico Rivera Innovative Municipal Energy",8.8923952763280738,9.5957720828242277,10.329020981488155,11.094986170340906,11.890104778081755,12.7158536019785,13.572318905283026,14.456504282250519,15.362060028030079,16.286996387416579,17.225860469836483,18.174285396629735]
[null,"SCE","CCA","POMONA","Pomona Choice Energy",7.2880577587742517,7.869595336699347,8.4749206298659043,9.1074951868775251,9.7690306633408159,10.455502185043979,11.16817613280136,11.894906469915695,12.641736220282057,13.404609790860244,14.178771151478042,14.963381478955935]
[null,"SCE","CCA","RMEA","Rancho Mirage Energy Authority",44.304687302455967,47.783423522818374,51.405954035538571,55.192667652781736,59.09813217013734,63.110057941521113,67.284832930406395,71.54118224157564,75.896386230828227,80.314746259163087,84.796122325001576,89.343601107090407]
[null,"SCE","CCA","SJP","San Jacinto Power",23.281495073276332,25.128685117914753,27.048137450882894,29.059803227878838,31.144702770405633,33.284659804525489,35.513193930581281,37.763581278087678,40.069242217898221,42.410318278891964,44.783120013682392,47.199221443893258]
[null,"SCE","CCA","SBCE","Santa Barbara Clean Energy",20.201907875010075,21.809132762762086,23.482680952108943,25.230641871321733,27.053917088533282,28.949848210270375,30.916659468529414,32.936290369029237,35.010241508733159,37.128698349933728,39.280056954004472,41.455877888372136]
[null,"SCE","CCA","WCE","Western Community Energy",0,0,0,0,0,0,0,0,0,0,0,0]
[]
[null,"SDGE","IOU","SDGE","San Diego Gas and Electric (Bundled)",437.78139682417225,467.84549294613203,499.56400126858233,532.59835107237791,565.47146178385049,599.19856840421085,633.04840821344931,667.18813196577651,701.33795975777446,735.50607155309069,769.22680036509394,801.97027864891277]
[null,"SDGE","ESP",null,"San Diego Gas and Electric (Direct Access)",474.14911934452368,506.55513983092959,539.92689089440546,573.93568311217416,608.14132180584556,641.9135161361578,675.20239358561423,707.35052775049087,740.02850320637583,771.59934018399008,803.32713088815751,834.28002302904827]
[null,"SDGE","CCA","CEA","Clean Energy Alliance",178.97203776598533,192.34463513481677,206.13388660007689,220.27452020315263,234.63608054337388,249.07499241226589,263.71028109593857,278.52035746155553,293.15367068089392,307.76427610454715,322.15944295728002,336.53779574392155]
[null,"SDGE","CCA","OCPA","Orange County Power Authority",20.393470210252048,21.917223852047211,23.488452385250447,25.099860562123684,26.736216456575136,28.381537126609626,30.049136316445441,31.736835651642885,33.404204025123718,35.069105858886168,36.709327592816699,38.347653727019953]
[null,"SDGE","CCA","SDCP","San Diego Community Power",954.55604432506641,1025.878297666075,1099.4227056516845,1174.8478000201712,1251.440620840355,1328.4530554207558,1406.5082794585526,1485.5043299005342,1563.5487501298323,1641.4777191694861,1718.2514881266513,1794.9365298510979]
[null," "," "," "," "," "," "," "," "," "," "," "," "," "," "," "," "]
[null,"BEAR","SMJ","BEAR","Bear Valley Electric Services",6.7720883629999999,7.3201908690000002,7.8906317369999996,8.4904644180000002,9.1160487989999996,9.7639140199999996,10.437312873,11.12148865,11.821896943,12.537238436999999,13.262848098999999,14.001250491]

{"sheet":"Reliability","index":8,"n_rows":257,"n_cols":38,"rows_kept":257,"cut":false,"hidden":false,"merged":[]}
["LSE Input"]
[null,null,30,"MMT"]
[]
[]
[null,null,"Reliability Need"]
[null,null,null,null,2024,2025,2026,2027,2028,2029,2030,2031,2032,2033,2034,2035]
[null,null,"CAISO gross peak (MW)",null,53530,54113,54769,55494,56125,56797,57454,58178,58827,59511,60161,60803]
[null,null,"PRM (%)",null,0.14000000000000001,0.14000000000000001,0.14000000000000001,0.14000000000000001,0.14000000000000001,0.14000000000000001,0.14000000000000001,0.14000000000000001,0.14000000000000001,0.14000000000000001,0.14000000000000001,0.14000000000000001]
[null,null,"CAISO total reliability need (TRN) (MW)",null,{"$f":"E7*(1+E8)","v":61024.200000000004},{"$f":"F7*(1+F8)","v":61688.820000000007},62436.66,63263.16,63982.500000000007,64748.580000000009,65497.560000000005,66322.920000000013,67062.780000000013,67842.540000000008,68583.540000000008,69315.420000000013]
[null,null,"MRN/TRN ratio",null,{"$f":"IF($C$2=25,misc!AW3,misc!BK3)","v":0.80029848011116889},{"$f":"IF($C$2=25,misc!AX3,misc!BL3)","v":0.81896333891271367},{"$f":"IF($C$2=25,misc!AY3,misc!BM3)","v":0.83611438362607471},{"$f":"IF($C$2=25,misc!AZ3,misc!BN3)","v":0.79544567238840358},{"$f":"IF($C$2=25,misc!BA3,misc!BO3)","v":0.75709177033813169},{"$f":"IF($C$2=25,misc!BB3,misc!BP3)","v":0.73673303550177849},{"$f":"IF($C$2=25,misc!BC3,misc!BQ3)","v":0.71703757483484865},{"$f":"IF($C$2=25,misc!BD3,misc!BR3)","v":0.69918925792169562},{"$f":"IF($C$2=25,misc!BE3,misc!BS3)","v":0.68264892770624752},{"$f":"IF($C$2=25,misc!BF3,misc!BT3)","v":0.66607760402249072},{"$f":"IF($C$2=25,misc!BG3,misc!BU3)","v":0.65025016398978508},{"$f":"IF($C$2=25,misc!BH3,misc!BV3)","v":0.63484459547384975}]
[null,null,"CAISO marginal reliability need (MRN) (MW)",null,{"$f":"E9*E10","v":48837.574509999999},{"$f":"F9*F10","v":50520.882000785394},52204.189491570796,50322.406843615157,48440.624195659519,47702.417887829753,46964.211579999996,46372.273217999995,45780.334855999994,45188.396493999993,44596.458131999992,44004.519769999999]
[null,null,"LSE managed peak share (%)",null,9.3716884816094862E-3,9.3707314515565302E-3,9.3793199869627638E-3,9.3736509075174022E-3,9.4157441501066357E-3,9.4132053475706919E-3,9.4305141206445474E-3,9.4347296654102315E-3,9.4719548342181784E-3,9.4954475414502758E-3,9.5577630656248046E-3,9.5436128943054838E-3]
[null,null,"LSE MRN (MW)",null,{"$f":"E11*E12","v":457.69053450511205},{"$f":"F11*F12","v":473.41761792513591},489.63979790148147,471.70467457811316,456.10452389779505,449.03265515377086,442.89666047012815,437.50986178237292,433.6292640514161,429.08404839103252,426.24238039171252,419.96210228469255]
[]
[]
[null,null,"BTM PV"]
[null,null,null,null,2024,2025,2026,2027,2028,2029,2030,2031,2032,2033,2034,2035]
[null,null,"Capacity (MW)",null,204.13485296036629,219.59562436786734,235.2439036449297,251.77557565799594,269.1820112432012,286.89668003285396,304.69389780741091,322.21442833329922,339.42850634791262,356.56934250918135,373.249630782145,389.75397688857419]
[]
[]
[null,null,"ELCC (%)"]
[null,null,"Resource Type",null,2024,2025,2026,2027,2028,2029,2030,2031,2032,2033,2034,2035]
[null,null,"in_state_wind_south",null,{"$f":"IF($C$2=25,misc!U3,misc!AI3)","v":0.15102941403529452},{"$f":"IF($C$2=25,misc!V3,misc!AJ3)","v":0.15178846902809942},{"$f":"IF($C$2=25,misc!W3,misc!AK3)","v":0.15254752402090432},{"$f":"IF($C$2=25,misc!X3,misc!AL3)","v":0.11848326121551586},{"$f":"IF($C$2=25,misc!Y3,misc!AM3)","v":8.4418998410127413E-2},{"$f":"IF($C$2=25,misc!Z3,misc!AN3)","v":8.3416882718990337E-2},{"$f":"IF($C$2=25,misc!AA3,misc!AO3)","v":8.2414767027853275E-2},{"$f":"IF($C$2=25,misc!AB3,misc!AP3)","v":7.4829691124404837E-2},{"$f":"IF($C$2=25,misc!AC3,misc!AQ3)","v":6.72446152209564E-2},{"$f":"IF($C$2=25,misc!AD3,misc!AR3)","v":5.9659539317507955E-2},{"$f":"IF($C$2=25,misc!AE3,misc!AS3)","v":5.207446341405951E-2},{"$f":"IF($C$2=25,misc!AF3,misc!AT3)","v":4.4489387510611059E-2}]
[null,null,"in_state_wind_north",null,{"$f":"IF($C$2=25,misc!U4,misc!AI4)","v":0.30205882807058904},{"$f":"IF($C$2=25,misc!V4,misc!AJ4)","v":0.30357693805619884},{"$f":"IF($C$2=25,misc!W4,misc!AK4)","v":0.30509504804180865},{"$f":"IF($C$2=25,misc!X4,misc!AL4)","v":0.23696652243103172},{"$f":"IF($C$2=25,misc!Y4,misc!AM4)","v":0.16883799682025483},{"$f":"IF($C$2=25,misc!Z4,misc!AN4)","v":0.16683376543798067},{"$f":"IF($C$2=25,misc!AA4,misc!AO4)","v":0.16482953405570655},{"$f":"IF($C$2=25,misc!AB4,misc!AP4)","v":0.14965938224880967},{"$f":"IF($C$2=25,misc!AC4,misc!AQ4)","v":0.1344892304419128},{"$f":"IF($C$2=25,misc!AD4,misc!AR4)","v":0.11931907863501591},{"$f":"IF($C$2=25,misc!AE4,misc!AS4)","v":0.10414892682811902},{"$f":"IF($C$2=25,misc!AF4,misc!AT4)","v":8.8978775021222117E-2}]
[null,null,"out_of_state_wind_WYID",null,{"$f":"IF($C$2=25,misc!U5,misc!AI5)","v":0.42559322033898306},{"$f":"IF($C$2=25,misc!V5,misc!AJ5)","v":0.39180370915668034},{"$f":"IF($C$2=25,misc!W5,misc!AK5)","v":0.35801419797437761},{"$f":"IF($C$2=25,misc!X5,misc!AL5)","v":0.37372282962154058},{"$f":"IF($C$2=25,misc!Y5,misc!AM5)","v":0.38943146126870348},{"$f":"IF($C$2=25,misc!Z5,misc!AN5)","v":0.31241064588858902},{"$f":"IF($C$2=25,misc!AA5,misc!AO5)","v":0.23538983050847456},{"$f":"IF($C$2=25,misc!AB5,misc!AP5)","v":0.24842033898305083},{"$f":"IF($C$2=25,misc!AC5,misc!AQ5)","v":0.26145084745762709},{"$f":"IF($C$2=25,misc!AD5,misc!AR5)","v":0.27448135593220335},{"$f":"IF($C$2=25,misc!AE5,misc!AS5)","v":0.28751186440677962},{"$f":"IF($C$2=25,misc!AF5,misc!AT5)","v":0.30054237288135593}]
[null,null,"out_of_state_wind_WAOR",null,{"$f":"IF($C$2=25,misc!U6,misc!AI6)","v":0.26084745762711864},{"$f":"IF($C$2=25,misc!V6,misc!AJ6)","v":0.24013775722506214},{"$f":"IF($C$2=25,misc!W6,misc!AK6)","v":0.21942805682300565},{"$f":"IF($C$2=25,misc!X6,misc!AL6)","v":0.22905592783255713},{"$f":"IF($C$2=25,misc!Y6,misc!AM6)","v":0.23868379884210861},{"$f":"IF($C$2=25,misc!Z6,misc!AN6)","v":0.1914774926413933},{"$f":"IF($C$2=25,misc!AA6,misc!AO6)","v":0.14427118644067796},{"$f":"IF($C$2=25,misc!AB6,misc!AP6)","v":0.15225762711864407},{"$f":"IF($C$2=25,misc!AC6,misc!AQ6)","v":0.16024406779661018},{"$f":"IF($C$2=25,misc!AD6,misc!AR6)","v":0.1682305084745763},{"$f":"IF($C$2=25,misc!AE6,misc!AS6)","v":0.17621694915254241},{"$f":"IF($C$2=25,misc!AF6,misc!AT6)","v":0.18420338983050849}]
[null,null,"out_of_state_wind_AZNM",null,{"$f":"IF($C$2=25,misc!U7,misc!AI7)","v":0.384406779661017},{"$f":"IF($C$2=25,misc!V7,misc!AJ7)","v":0.3538872211737758},{"$f":"IF($C$2=25,misc!W7,misc!AK7)","v":0.32336766268653466},{"$f":"IF($C$2=25,misc!X7,misc!AL7)","v":0.33755610417429471},{"$f":"IF($C$2=25,misc!Y7,misc!AM7)","v":0.35174454566205482},{"$f":"IF($C$2=25,misc!Z7,misc!AN7)","v":0.28217735757679013},{"$f":"IF($C$2=25,misc!AA7,misc!AO7)","v":0.21261016949152545},{"$f":"IF($C$2=25,misc!AB7,misc!AP7)","v":0.22437966101694917},{"$f":"IF($C$2=25,misc!AC7,misc!AQ7)","v":0.2361491525423729},{"$f":"IF($C$2=25,misc!AD7,misc!AR7)","v":0.24791864406779662},{"$f":"IF($C$2=25,misc!AE7,misc!AS7)","v":0.25968813559322035},{"$f":"IF($C$2=25,misc!AF7,misc!AT7)","v":0.27145762711864413}]
[null,null,"offshore_wind",null,{"$f":"IF($C$2=25,misc!U8,misc!AI8)","v":0.54900000000000004},{"$f":"IF($C$2=25,misc!V8,misc!AJ8)","v":0.50668405182051957},{"$f":"IF($C$2=25,misc!W8,misc!AK8)","v":0.46436810364103909},{"$f":"IF($C$2=25,misc!X8,misc!AL8)","v":0.48659667347489211},{"$f":"IF($C$2=25,misc!Y8,misc!AM8)","v":0.50882524330874512},{"$f":"IF($C$2=25,misc!Z8,misc!AN8)","v":0.46741262165437258},{"$f":"IF($C$2=25,misc!AA8,misc!AO8)","v":0.42599999999999999},{"$f":"IF($C$2=25,misc!AB8,misc!AP8)","v":0.40479999999999999},{"$f":"IF($C$2=25,misc!AC8,misc!AQ8)","v":0.3836},{"$f":"IF($C$2=25,misc!AD8,misc!AR8)","v":0.3624},{"$f":"IF($C$2=25,misc!AE8,misc!AS8)","v":0.3412},{"$f":"IF($C$2=25,misc!AF8,misc!AT8)","v":0.32}]
[null,null,"utility_pv",null,{"$f":"IF($C$2=25,misc!U9,misc!AI9)","v":9.6000000000000002E-2},{"$f":"IF($C$2=25,misc!V9,misc!AJ9)","v":0.10220064352589828},{"$f":"IF($C$2=25,misc!W9,misc!AK9)","v":0.10840128705179657},{"$f":"IF($C$2=25,misc!X9,misc!AL9)","v":0.1016803220430352},{"$f":"IF($C$2=25,misc!Y9,misc!AM9)","v":9.4959357034273828E-2},{"$f":"IF($C$2=25,misc!Z9,misc!AN9)","v":7.7479678517136913E-2},{"$f":"IF($C$2=25,misc!AA9,misc!AO9)","v":0.06},{"$f":"IF($C$2=25,misc!AB9,misc!AP9)","v":6.08E-2},{"$f":"IF($C$2=25,misc!AC9,misc!AQ9)","v":6.1600000000000002E-2},{"$f":"IF($C$2=25,misc!AD9,misc!AR9)","v":6.2400000000000004E-2},{"$f":"IF($C$2=25,misc!AE9,misc!AS9)","v":6.3200000000000006E-2},{"$f":"IF($C$2=25,misc!AF9,misc!AT9)","v":6.4000000000000001E-2}]
[null,null,"btm_pv",null,{"$f":"IF($C$2=25,misc!U10,misc!AI10)","v":8.8999999999999996E-2},{"$f":"IF($C$2=25,misc!V10,misc!AJ10)","v":9.3703365409453621E-2},{"$f":"IF($C$2=25,misc!W10,misc!AK10)","v":9.8406730818907232E-2},{"$f":"IF($C$2=25,misc!X10,misc!AL10)","v":8.2703365409453611E-2},{"$f":"IF($C$2=25,misc!Y10,misc!AM10)","v":6.7000000000000004E-2},{"$f":"IF($C$2=25,misc!Z10,misc!AN10)","v":5.6000000000000001E-2},{"$f":"IF($C$2=25,misc!AA10,misc!AO10)","v":4.4999999999999998E-2},{"$f":"IF($C$2=25,misc!AB10,misc!AP10)","v":4.7199999999999999E-2},{"$f":"IF($C$2=25,misc!AC10,misc!AQ10)","v":4.9399999999999999E-2},{"$f":"IF($C$2=25,misc!AD10,misc!AR10)","v":5.16E-2},{"$f":"IF($C$2=25,misc!AE10,misc!AS10)","v":5.3800000000000001E-2},{"$f":"IF($C$2=25,misc!AF10,misc!AT10)","v":5.6000000000000001E-2}]
[null,null,"4hr_batteries",null,{"$f":"IF($C$2=25,misc!U11,misc!AI11)","v":0.88500000000000001},{"$f":"IF($C$2=25,misc!V11,misc!AJ11)","v":0.90149999999999997},{"$f":"IF($C$2=25,misc!W11,misc!AK11)","v":0.91800000000000004},{"$f":"IF($C$2=25,misc!X11,misc!AL11)","v":0.84550000000000003},{"$f":"IF($C$2=25,misc!Y11,misc!AM11)","v":0.77300000000000002},{"$f":"IF($C$2=25,misc!Z11,misc!AN11)","v":0.75900000000000001},{"$f":"IF($C$2=25,misc!AA11,misc!AO11)","v":0.745},{"$f":"IF($C$2=25,misc!AB11,misc!AP11)","v":0.67620000000000002},{"$f":"IF($C$2=25,misc!AC11,misc!AQ11)","v":0.60740000000000005},{"$f":"IF($C$2=25,misc!AD11,misc!AR11)","v":0.53860000000000008},{"$f":"IF($C$2=25,misc!AE11,misc!AS11)","v":0.46980000000000011},{"$f":"IF($C$2=25,misc!AF11,misc!AT11)","v":0.40100000000000002}]
[null,null,"5hr_batteries",null,{"$f":"IF($C$2=25,misc!U12,misc!AI12)","v":0.88675000000000004},{"$f":"IF($C$2=25,misc!V12,misc!AJ12)","v":0.90387499999999998},{"$f":"IF($C$2=25,misc!W12,misc!AK12)","v":0.92100000000000004},{"$f":"IF($C$2=25,misc!X12,misc!AL12)","v":0.85887500000000006},{"$f":"IF($C$2=25,misc!Y12,misc!AM12)","v":0.79675000000000007},{"$f":"IF($C$2=25,misc!Z12,misc!AN12)","v":0.78362500000000002},{"$f":"IF($C$2=25,misc!AA12,misc!AO12)","v":0.77049999999999996},{"$f":"IF($C$2=25,misc!AB12,misc!AP12)","v":0.71135000000000004},{"$f":"IF($C$2=25,misc!AC12,misc!AQ12)","v":0.6522},{"$f":"IF($C$2=25,misc!AD12,misc!AR12)","v":0.59305000000000008},{"$f":"IF($C$2=25,misc!AE12,misc!AS12)","v":0.53390000000000004},{"$f":"IF($C$2=25,misc!AF12,misc!AT12)","v":0.47475000000000001}]
[null,null,"6hr_batteries",null,{"$f":"IF($C$2=25,misc!U13,misc!AI13)","v":0.88850000000000007},{"$f":"IF($C$2=25,misc!V13,misc!AJ13)","v":0.90625},{"$f":"IF($C$2=25,misc!W13,misc!AK13)","v":0.92400000000000004},{"$f":"IF($C$2=25,misc!X13,misc!AL13)","v":0.87225000000000008},{"$f":"IF($C$2=25,misc!Y13,misc!AM13)","v":0.82050000000000001},{"$f":"IF($C$2=25,misc!Z13,misc!AN13)","v":0.80825000000000002},{"$f":"IF($C$2=25,misc!AA13,misc!AO13)","v":0.79599999999999993},{"$f":"IF($C$2=25,misc!AB13,misc!AP13)","v":0.74650000000000005},{"$f":"IF($C$2=25,misc!AC13,misc!AQ13)","v":0.69699999999999995},{"$f":"IF($C$2=25,misc!AD13,misc!AR13)","v":0.64750000000000008},{"$f":"IF($C$2=25,misc!AE13,misc!AS13)","v":0.59799999999999998},{"$f":"IF($C$2=25,misc!AF13,misc!AT13)","v":0.54849999999999999}]
[null,null,"7hr_batteries",null,{"$f":"IF($C$2=25,misc!U14,misc!AI14)","v":0.8902500000000001},{"$f":"IF($C$2=25,misc!V14,misc!AJ14)","v":0.90862500000000002},{"$f":"IF($C$2=25,misc!W14,misc!AK14)","v":0.92700000000000005},{"$f":"IF($C$2=25,misc!X14,misc!AL14)","v":0.88562500000000011},{"$f":"IF($C$2=25,misc!Y14,misc!AM14)","v":0.84424999999999994},{"$f":"IF($C$2=25,misc!Z14,misc!AN14)","v":0.83287500000000003},{"$f":"IF($C$2=25,misc!AA14,misc!AO14)","v":0.8214999999999999},{"$f":"IF($C$2=25,misc!AB14,misc!AP14)","v":0.78165000000000007},{"$f":"IF($C$2=25,misc!AC14,misc!AQ14)","v":0.7417999999999999},{"$f":"IF($C$2=25,misc!AD14,misc!AR14)","v":0.70195000000000007},{"$f":"IF($C$2=25,misc!AE14,misc!AS14)","v":0.66209999999999991},{"$f":"IF($C$2=25,misc!AF14,misc!AT14)","v":0.62224999999999997}]
[null,null,"8hr_batteries",null,{"$f":"IF($C$2=25,misc!U15,misc!AI15)","v":0.89200000000000002},{"$f":"IF($C$2=25,misc!V15,misc!AJ15)","v":0.91100000000000003},{"$f":"IF($C$2=25,misc!W15,misc!AK15)","v":0.93},{"$f":"IF($C$2=25,misc!X15,misc!AL15)","v":0.89900000000000002},{"$f":"IF($C$2=25,misc!Y15,misc!AM15)","v":0.86799999999999999},{"$f":"IF($C$2=25,misc!Z15,misc!AN15)","v":0.85749999999999993},{"$f":"IF($C$2=25,misc!AA15,misc!AO15)","v":0.84699999999999998},{"$f":"IF($C$2=25,misc!AB15,misc!AP15)","v":0.81679999999999997},{"$f":"IF($C$2=25,misc!AC15,misc!AQ15)","v":0.78659999999999997},{"$f":"IF($C$2=25,misc!AD15,misc!AR15)","v":0.75639999999999996},{"$f":"IF($C$2=25,misc!AE15,misc!AS15)","v":0.72619999999999996},{"$f":"IF($C$2=25,misc!AF15,misc!AT15)","v":0.69599999999999995}]
[null,null,"pumped_storage",null,{"$f":"IF($C$2=25,misc!U16,misc!AI16)","v":0.89400000000000002},{"$f":"IF($C$2=25,misc!V16,misc!AJ16)","v":0.91400000000000003},{"$f":"IF($C$2=25,misc!W16,misc!AK16)","v":0.93400000000000005},{"$f":"IF($C$2=25,misc!X16,misc!AL16)","v":0.91300000000000003},{"$f":"IF($C$2=25,misc!Y16,misc!AM16)","v":0.89200000000000002},{"$f":"IF($C$2=25,misc!Z16,misc!AN16)","v":0.89050000000000007},{"$f":"IF($C$2=25,misc!AA16,misc!AO16)","v":0.88900000000000001},{"$f":"IF($C$2=25,misc!AB16,misc!AP16)","v":0.85780000000000001},{"$f":"IF($C$2=25,misc!AC16,misc!AQ16)","v":0.8266},{"$f":"IF($C$2=25,misc!AD16,misc!AR16)","v":0.7954},{"$f":"IF($C$2=25,misc!AE16,misc!AS16)","v":0.76419999999999999},{"$f":"IF($C$2=25,misc!AF16,misc!AT16)","v":0.73299999999999998}]
[null,null,"demand_response",null,{"$f":"IF($C$2=25,misc!U17,misc!AI17)","v":0.89300000000000002},{"$f":"IF($C$2=25,misc!V17,misc!AJ17)","v":0.9083512608449148},{"$f":"IF($C$2=25,misc!W17,misc!AK17)","v":0.92370252168982958},{"$f":"IF($C$2=25,misc!X17,misc!AL17)","v":0.77235126084491479},{"$f":"IF($C$2=25,misc!Y17,misc!AM17)","v":0.621},{"$f":"IF($C$2=25,misc!Z17,misc!AN17)","v":0.60599999999999998},{"$f":"IF($C$2=25,misc!AA17,misc!AO17)","v":0.59099999999999997},{"$f":"IF($C$2=25,misc!AB17,misc!AP17)","v":0.50159999999999993},{"$f":"IF($C$2=25,misc!AC17,misc!AQ17)","v":0.41219999999999996},{"$f":"IF($C$2=25,misc!AD17,misc!AR17)","v":0.32279999999999998},{"$f":"IF($C$2=25,misc!AE17,misc!AS17)","v":0.2334},{"$f":"IF($C$2=25,misc!AF17,misc!AT17)","v":0.14399999999999999}]
[null,null,"hydro",null,{"$f":"IF($C$2=25,misc!U18,misc!AI18)","v":0.56660491660133128},{"$f":"IF($C$2=25,misc!V18,misc!AJ18)","v":0.5639186026863886},{"$f":"IF($C$2=25,misc!W18,misc!AK18)","v":0.56123228877144593},{"$f":"IF($C$2=25,misc!X18,misc!AL18)","v":0.53191654140391154},{"$f":"IF($C$2=25,misc!Y18,misc!AM18)","v":0.50260079403637703},{"$f":"IF($C$2=25,misc!Z18,misc!AN18)","v":0.49249487994717378},{"$f":"IF($C$2=25,misc!AA18,misc!AO18)","v":0.48238896585797048},{"$f":"IF($C$2=25,misc!AB18,misc!AP18)","v":0.47187881520519903},{"$f":"IF($C$2=25,misc!AC18,misc!AQ18)","v":0.46136866455242759},{"$f":"IF($C$2=25,misc!AD18,misc!AR18)","v":0.45085851389965614},{"$f":"IF($C$2=25,misc!AE18,misc!AS18)","v":0.4403483632468847},{"$f":"IF($C$2=25,misc!AF18,misc!AT18)","v":0.42983821259411337}]
[null,null,"small_hydro",null,{"$f":"IF($C$2=25,misc!U19,misc!AI19)","v":0.40636580378868559},{"$f":"IF($C$2=25,misc!V19,misc!AJ19)","v":0.40443919482132551},{"$f":"IF($C$2=25,misc!W19,misc!AK19)","v":0.40251258585396549},{"$f":"IF($C$2=25,misc!X19,misc!AL19)","v":0.38148749960139383},{"$f":"IF($C$2=25,misc!Y19,misc!AM19)","v":0.36046241334882212},{"$f":"IF($C$2=25,misc!Z19,misc!AN19)","v":0.35321450959515949},{"$f":"IF($C$2=25,misc!AA19,misc!AO19)","v":0.34596660584149685},{"$f":"IF($C$2=25,misc!AB19,misc!AP19)","v":0.33842878593768772},{"$f":"IF($C$2=25,misc!AC19,misc!AQ19)","v":0.33089096603387858},{"$f":"IF($C$2=25,misc!AD19,misc!AR19)","v":0.32335314613006944},{"$f":"IF($C$2=25,misc!AE19,misc!AS19)","v":0.3158153262262603},{"$f":"IF($C$2=25,misc!AF19,misc!AT19)","v":0.3082775063224511}]
[null,null,"geothermal",null,{"$f":"IF($C$2=25,misc!U20,misc!AI20)","v":0.86400365575892546},{"$f":"IF($C$2=25,misc!V20,misc!AJ20)","v":0.8782620417931235},{"$f":"IF($C$2=25,misc!W20,misc!AK20)","v":0.89252042782732166},{"$f":"IF($C$2=25,misc!X20,misc!AL20)","v":0.91001836007896375},{"$f":"IF($C$2=25,misc!Y20,misc!AM20)","v":0.92751629233060595},{"$f":"IF($C$2=25,misc!Z20,misc!AN20)","v":0.92280590133888829},{"$f":"IF($C$2=25,misc!AA20,misc!AO20)","v":0.91809551034717063},{"$f":"IF($C$2=25,misc!AB20,misc!AP20)","v":0.92538472229861102},{"$f":"IF($C$2=25,misc!AC20,misc!AQ20)","v":0.93267393425005141},{"$f":"IF($C$2=25,misc!AD20,misc!AR20)","v":0.93996314620149179},{"$f":"IF($C$2=25,misc!AE20,misc!AS20)","v":0.94725235815293218},{"$f":"IF($C$2=25,misc!AF20,misc!AT20)","v":0.95454157010437257}]
[null,null,"biomass_wood",null,{"$f":"IF($C$2=25,misc!U21,misc!AI21)","v":0.78777252109464602},{"$f":"IF($C$2=25,misc!V21,misc!AJ21)","v":0.80873519104432079},{"$f":"IF($C$2=25,misc!W21,misc!AK21)","v":0.82969786099399567},{"$f":"IF($C$2=25,misc!X21,misc!AL21)","v":0.83028460488270484},{"$f":"IF($C$2=25,misc!Y21,misc!AM21)","v":0.83087134877141389},{"$f":"IF($C$2=25,misc!Z21,misc!AN21)","v":0.82344593040995451},{"$f":"IF($C$2=25,misc!AA21,misc!AO21)","v":0.81602051204849513},{"$f":"IF($C$2=25,misc!AB21,misc!AP21)","v":0.83149916107410415},{"$f":"IF($C$2=25,misc!AC21,misc!AQ21)","v":0.84697781009971318},{"$f":"IF($C$2=25,misc!AD21,misc!AR21)","v":0.86245645912532221},{"$f":"IF($C$2=25,misc!AE21,misc!AS21)","v":0.87793510815093123},{"$f":"IF($C$2=25,misc!AF21,misc!AT21)","v":0.89341375717654026}]
[null,null,"biogas",null,{"$f":"IF($C$2=25,misc!U22,misc!AI22)","v":0.75849976538356267},{"$f":"IF($C$2=25,misc!V22,misc!AJ22)","v":0.77833009661414909},{"$f":"IF($C$2=25,misc!W22,misc!AK22)","v":0.79816042784473562},{"$f":"IF($C$2=25,misc!X22,misc!AL22)","v":0.79513379797889616},{"$f":"IF($C$2=25,misc!Y22,misc!AM22)","v":0.7921071681130567},{"$f":"IF($C$2=25,misc!Z22,misc!AN22)","v":0.78251806948180391},{"$f":"IF($C$2=25,misc!AA22,misc!AO22)","v":0.77292897085055123},{"$f":"IF($C$2=25,misc!AB22,misc!AP22)","v":0.79192907385472411},{"$f":"IF($C$2=25,misc!AC22,misc!AQ22)","v":0.81092917685889698},{"$f":"IF($C$2=25,misc!AD22,misc!AR22)","v":0.82992927986306986},{"$f":"IF($C$2=25,misc!AE22,misc!AS22)","v":0.84892938286724273},{"$f":"IF($C$2=25,misc!AF22,misc!AT22)","v":0.86792948587141583}]
[null,null,"nuclear",null,{"$f":"IF($C$2=25,misc!U23,misc!AI23)","v":0.93139197880214852},{"$f":"IF($C$2=25,misc!V23,misc!AJ23)","v":0.93996144395127801},{"$f":"IF($C$2=25,misc!W23,misc!AK23)","v":0.9485309091004076},{"$f":"IF($C$2=25,misc!X23,misc!AL23)","v":0.94333376244952838},{"$f":"IF($C$2=25,misc!Y23,misc!AM23)","v":0.93813661579864904},{"$f":"IF($C$2=25,misc!Z23,misc!AN23)","v":0.93575640725694242},{"$f":"IF($C$2=25,misc!AA23,misc!AO23)","v":0.93337619871523581},{"$f":"IF($C$2=25,misc!AB23,misc!AP23)","v":0.93933118321638243},{"$f":"IF($C$2=25,misc!AC23,misc!AQ23)","v":0.94528616771752905},{"$f":"IF($C$2=25,misc!AD23,misc!AR23)","v":0.95124115221867567},{"$f":"IF($C$2=25,misc!AE23,misc!AS23)","v":0.95719613671982229},{"$f":"IF($C$2=25,misc!AF23,misc!AT23)","v":0.96315112122096869}]
[null,null,"gas_cc",null,{"$f":"IF($C$2=25,misc!U24,misc!AI24)","v":0.84814757974875532},{"$f":"IF($C$2=25,misc!V24,misc!AJ24)","v":0.86263887009961904},{"$f":"IF($C$2=25,misc!W24,misc!AK24)","v":0.87713016045048275},{"$f":"IF($C$2=25,misc!X24,misc!AL24)","v":0.87417936920023021},{"$f":"IF($C$2=25,misc!Y24,misc!AM24)","v":0.87122857794997766},{"$f":"IF($C$2=25,misc!Z24,misc!AN24)","v":0.86089172285515003},{"$f":"IF($C$2=25,misc!AA24,misc!AO24)","v":0.85055486776032241},{"$f":"IF($C$2=25,misc!AB24,misc!AP24)","v":0.86298372454380101},{"$f":"IF($C$2=25,misc!AC24,misc!AQ24)","v":0.87541258132727962},{"$f":"IF($C$2=25,misc!AD24,misc!AR24)","v":0.88784143811075822},{"$f":"IF($C$2=25,misc!AE24,misc!AS24)","v":0.90027029489423682},{"$f":"IF($C$2=25,misc!AF24,misc!AT24)","v":0.91269915167771554}]
[null,null,"gas_ct",null,{"$f":"IF($C$2=25,misc!U25,misc!AI25)","v":0.80210397441153047},{"$f":"IF($C$2=25,misc!V25,misc!AJ25)","v":0.8164055166331512},{"$f":"IF($C$2=25,misc!W25,misc!AK25)","v":0.83070705885477203},{"$f":"IF($C$2=25,misc!X25,misc!AL25)","v":0.82614281229582409},{"$f":"IF($C$2=25,misc!Y25,misc!AM25)","v":0.82157856573687627},{"$f":"IF($C$2=25,misc!Z25,misc!AN25)","v":0.80581095377983025},{"$f":"IF($C$2=25,misc!AA25,misc!AO25)","v":0.79004334182278424},{"$f":"IF($C$2=25,misc!AB25,misc!AP25)","v":0.79962832305535969},{"$f":"IF($C$2=25,misc!AC25,misc!AQ25)","v":0.80921330428793514},{"$f":"IF($C$2=25,misc!AD25,misc!AR25)","v":0.81879828552051059},{"$f":"IF($C$2=25,misc!AE25,misc!AS25)","v":0.82838326675308604},{"$f":"IF($C$2=25,misc!AF25,misc!AT25)","v":0.83796824798566139}]
[null,null,"cogen",null,{"$f":"IF($C$2=25,misc!U26,misc!AI26)","v":0.89510595870195142},{"$f":"IF($C$2=25,misc!V26,misc!AJ26)","v":0.92080923604040321},{"$f":"IF($C$2=25,misc!W26,misc!AK26)","v":0.94651251337885489},{"$f":"IF($C$2=25,misc!X26,misc!AL26)","v":0.91922536104575825},{"$f":"IF($C$2=25,misc!Y26,misc!AM26)","v":0.89193820871266161},{"$f":"IF($C$2=25,misc!Z26,misc!AN26)","v":0.89034739869657353},{"$f":"IF($C$2=25,misc!AA26,misc!AO26)","v":0.88875658868048535},{"$f":"IF($C$2=25,misc!AB26,misc!AP26)","v":0.89657566327297322},{"$f":"IF($C$2=25,misc!AC26,misc!AQ26)","v":0.9043947378654611},{"$f":"IF($C$2=25,misc!AD26,misc!AR26)","v":0.91221381245794897},{"$f":"IF($C$2=25,misc!AE26,misc!AS26)","v":0.92003288705043684},{"$f":"IF($C$2=25,misc!AF26,misc!AT26)","v":0.92785196164292472}]
[null,null,"ice",null,{"$f":"IF($C$2=25,misc!U27,misc!AI27)","v":0.92925750703154864},{"$f":"IF($C$2=25,misc!V27,misc!AJ27)","v":0.90155388721725416},{"$f":"IF($C$2=25,misc!W27,misc!AK27)","v":0.87385026740295979},{"$f":"IF($C$2=25,misc!X27,misc!AL27)","v":0.89802819899977204},{"$f":"IF($C$2=25,misc!Y27,misc!AM27)","v":0.92220613059658441},{"$f":"IF($C$2=25,misc!Z27,misc!AN27)","v":0.91831713786770974},{"$f":"IF($C$2=25,misc!AA27,misc!AO27)","v":0.91442814513883497},{"$f":"IF($C$2=25,misc!AB27,misc!AP27)","v":0.90430189637815794},{"$f":"IF($C$2=25,misc!AC27,misc!AQ27)","v":0.89417564761748092},{"$f":"IF($C$2=25,misc!AD27,misc!AR27)","v":0.88404939885680389},{"$f":"IF($C$2=25,misc!AE27,misc!AS27)","v":0.87392315009612687},{"$f":"IF($C$2=25,misc!AF27,misc!AT27)","v":0.86379690133544973}]
[null,null,"coal",null,{"$f":"IF($C$2=25,misc!U28,misc!AI28)","v":0.6905015932630254},{"$f":"IF($C$2=25,misc!V28,misc!AJ28)","v":0.71720881804551684},{"$f":"IF($C$2=25,misc!W28,misc!AK28)","v":0.74391604282800827},{"$f":"IF($C$2=25,misc!X28,misc!AL28)","v":0.73721266741320757},{"$f":"IF($C$2=25,misc!Y28,misc!AM28)","v":0.73050929199840686},{"$f":"IF($C$2=25,misc!Z28,misc!AN28)","v":0.71015565906334177},{"$f":"IF($C$2=25,misc!AA28,misc!AO28)","v":0.68980202612827657},{"$f":"IF($C$2=25,misc!AB28,misc!AP28)","v":0.71688684336924113},{"$f":"IF($C$2=25,misc!AC28,misc!AQ28)","v":0.7439716606102057},{"$f":"IF($C$2=25,misc!AD28,misc!AR28)","v":0.77105647785117026},{"$f":"IF($C$2=25,misc!AE28,misc!AS28)","v":0.79814129509213483},{"$f":"IF($C$2=25,misc!AF28,misc!AT28)","v":0.82522611233309917}]
[null,null,"steam",null,{"$f":"IF($C$2=25,misc!U29,misc!AI29)","v":0.7804543321668751},{"$f":"IF($C$2=25,misc!V29,misc!AJ29)","v":0.79939935861356859},{"$f":"IF($C$2=25,misc!W29,misc!AK29)","v":0.81834438506026208},{"$f":"IF($C$2=25,misc!X29,misc!AL29)","v":0.81358928131774333},{"$f":"IF($C$2=25,misc!Y29,misc!AM29)","v":0.80883417757522458},{"$f":"IF($C$2=25,misc!Z29,misc!AN29)","v":0.79439613253754293},{"$f":"IF($C$2=25,misc!AA29,misc!AO29)","v":0.77995808749986129},{"$f":"IF($C$2=25,misc!AB29,misc!AP29)","v":0.79917096278409228},{"$f":"IF($C$2=25,misc!AC29,misc!AQ29)","v":0.81838383806832327},{"$f":"IF($C$2=25,misc!AD29,misc!AR29)","v":0.83759671335255426},{"$f":"IF($C$2=25,misc!AE29,misc!AS29)","v":0.85680958863678525},{"$f":"IF($C$2=25,misc!AF29,misc!AT29)","v":0.87602246392101613}]
[null,null,"unspecified_import",null,{"$f":"IF($C$2=25,misc!U30,misc!AI30)","v":1},{"$f":"IF($C$2=25,misc!V30,misc!AJ30)","v":1},{"$f":"IF($C$2=25,misc!W30,misc!AK30)","v":1},{"$f":"IF($C$2=25,misc!X30,misc!AL30)","v":1},{"$f":"IF($C$2=25,misc!Y30,misc!AM30)","v":1},{"$f":"IF($C$2=25,misc!Z30,misc!AN30)","v":1},{"$f":"IF($C$2=25,misc!AA30,misc!AO30)","v":1},{"$f":"IF($C$2=25,misc!AB30,misc!AP30)","v":1},{"$f":"IF($C$2=25,misc!AC30,misc!AQ30)","v":1},{"$f":"IF($C$2=25,misc!AD30,misc!AR30)","v":1},{"$f":"IF($C$2=25,misc!AE30,misc!AS30)","v":1},{"$f":"IF($C$2=25,misc!AF30,misc!AT30)","v":1}]
[]
[]
[]
[null,null,"Contract ELCC (effective MW)"]
[null,null,"Resource Type","Conrtact Status",2024,2025,2026,2027,2028,2029,2030,2031,2032,2033,2034,2035]
[null,null,"hybrid","Online",{"$f":"SUMIFS(Calcs!Z:Z,Calcs!$U:$U,$C56,Calcs!$C:$C,$D56)","v":0},{"$f":"SUMIFS(Calcs!AA:AA,Calcs!$U:$U,$C56,Calcs!$C:$C,$D56)","v":0},{"$f":"SUMIFS(Calcs!AB:AB,Calcs!$U:$U,$C56,Calcs!$C:$C,$D56)","v":0},{"$f":"SUMIFS(Calcs!AC:AC,Calcs!$U:$U,$C56,Calcs!$C:$C,$D56)","v":0},{"$f":"SUMIFS(Calcs!AD:AD,Calcs!$U:$U,$C56,Calcs!$C:$C,$D56)","v":0},{"$f":"SUMIFS(Calcs!AE:AE,Calcs!$U:$U,$C56,Calcs!$C:$C,$D56)","v":0},{"$f":"SUMIFS(Calcs!AF:AF,Calcs!$U:$U,$C56,Calcs!$C:$C,$D56)","v":0},{"$f":"SUMIFS(Calcs!AG:AG,Calcs!$U:$U,$C56,Calcs!$C:$C,$D56)","v":0},{"$f":"SUMIFS(Calcs!AH:AH,Calcs!$U:$U,$C56,Calcs!$C:$C,$D56)","v":0},{"$f":"SUMIFS(Calcs!AI:AI,Calcs!$U:$U,$C56,Calcs!$C:$C,$D56)","v":0},{"$f":"SUMIFS(Calcs!AJ:AJ,Calcs!$U:$U,$C56,Calcs!$C:$C,$D56)","v":0},{"$f":"SUMIFS(Calcs!AK:AK,Calcs!$U:$U,$C56,Calcs!$C:$C,$D56)","v":0}]
[null,null,"in_state_wind_south","Online",{"$f":"SUMIFS(Calcs!Z:Z,Calcs!$U:$U,$C57,Calcs!$C:$C,$D57)","v":0},{"$f":"SUMIFS(Calcs!AA:AA,Calcs!$U:$U,$C57,Calcs!$C:$C,$D57)","v":0},{"$f":"SUMIFS(Calcs!AB:AB,Calcs!$U:$U,$C57,Calcs!$C:$C,$D57)","v":0},{"$f":"SUMIFS(Calcs!AC:AC,Calcs!$U:$U,$C57,Calcs!$C:$C,$D57)","v":0},{"$f":"SUMIFS(Calcs!AD:AD,Calcs!$U:$U,$C57,Calcs!$C:$C,$D57)","v":0},{"$f":"SUMIFS(Calcs!AE:AE,Calcs!$U:$U,$C57,Calcs!$C:$C,$D57)","v":0},{"$f":"SUMIFS(Calcs!AF:AF,Calcs!$U:$U,$C57,Calcs!$C:$C,$D57)","v":0},{"$f":"SUMIFS(Calcs!AG:AG,Calcs!$U:$U,$C57,Calcs!$C:$C,$D57)","v":0},{"$f":"SUMIFS(Calcs!AH:AH,Calcs!$U:$U,$C57,Calcs!$C:$C,$D57)","v":0},{"$f":"SUMIFS(Calcs!AI:AI,Calcs!$U:$U,$C57,Calcs!$C:$C,$D57)","v":0},{"$f":"SUMIFS(Calcs!AJ:AJ,Calcs!$U:$U,$C57,Calcs!$C:$C,$D57)","v":0},{"$f":"SUMIFS(Calcs!AK:AK,Calcs!$U:$U,$C57,Calcs!$C:$C,$D57)","v":0}]
[null,null,"in_state_wind_north","Online",{"$f":"SUMIFS(Calcs!Z:Z,Calcs!$U:$U,$C58,Calcs!$C:$C,$D58)","v":26.871153345159602},{"$f":"SUMIFS(Calcs!AA:AA,Calcs!$U:$U,$C58,Calcs!$C:$C,$D58)","v":13.964539150585146},{"$f":"SUMIFS(Calcs!AB:AB,Calcs!$U:$U,$C58,Calcs!$C:$C,$D58)","v":14.034372209923198},{"$f":"SUMIFS(Calcs!AC:AC,Calcs!$U:$U,$C58,Calcs!$C:$C,$D58)","v":10.900460031827459},{"$f":"SUMIFS(Calcs!AD:AD,Calcs!$U:$U,$C58,Calcs!$C:$C,$D58)","v":7.7665478537317219},{"$f":"SUMIFS(Calcs!AE:AE,Calcs!$U:$U,$C58,Calcs!$C:$C,$D58)","v":7.6743532101471112},{"$f":"SUMIFS(Calcs!AF:AF,Calcs!$U:$U,$C58,Calcs!$C:$C,$D58)","v":7.5821585665625015},{"$f":"SUMIFS(Calcs!AG:AG,Calcs!$U:$U,$C58,Calcs!$C:$C,$D58)","v":6.8843315834452454},{"$f":"SUMIFS(Calcs!AH:AH,Calcs!$U:$U,$C58,Calcs!$C:$C,$D58)","v":6.1865046003279884},{"$f":"SUMIFS(Calcs!AI:AI,Calcs!$U:$U,$C58,Calcs!$C:$C,$D58)","v":5.4886776172107314},{"$f":"SUMIFS(Calcs!AJ:AJ,Calcs!$U:$U,$C58,Calcs!$C:$C,$D58)","v":4.7908506340934753},{"$f":"SUMIFS(Calcs!AK:AK,Calcs!$U:$U,$C58,Calcs!$C:$C,$D58)","v":4.0930236509762175}]
[null,null,"out_of_state_wind_WYID","Online",{"$f":"SUMIFS(Calcs!Z:Z,Calcs!$U:$U,$C59,Calcs!$C:$C,$D59)","v":0},{"$f":"SUMIFS(Calcs!AA:AA,Calcs!$U:$U,$C59,Calcs!$C:$C,$D59)","v":0},{"$f":"SUMIFS(Calcs!AB:AB,Calcs!$U:$U,$C59,Calcs!$C:$C,$D59)","v":0},{"$f":"SUMIFS(Calcs!AC:AC,Calcs!$U:$U,$C59,Calcs!$C:$C,$D59)","v":0},{"$f":"SUMIFS(Calcs!AD:AD,Calcs!$U:$U,$C59,Calcs!$C:$C,$D59)","v":0},{"$f":"SUMIFS(Calcs!AE:AE,Calcs!$U:$U,$C59,Calcs!$C:$C,$D59)","v":0},{"$f":"SUMIFS(Calcs!AF:AF,Calcs!$U:$U,$C59,Calcs!$C:$C,$D59)","v":0},{"$f":"SUMIFS(Calcs!AG:AG,Calcs!$U:$U,$C59,Calcs!$C:$C,$D59)","v":0},{"$f":"SUMIFS(Calcs!AH:AH,Calcs!$U:$U,$C59,Calcs!$C:$C,$D59)","v":0},{"$f":"SUMIFS(Calcs!AI:AI,Calcs!$U:$U,$C59,Calcs!$C:$C,$D59)","v":0},{"$f":"SUMIFS(Calcs!AJ:AJ,Calcs!$U:$U,$C59,Calcs!$C:$C,$D59)","v":0},{"$f":"SUMIFS(Calcs!AK:AK,Calcs!$U:$U,$C59,Calcs!$C:$C,$D59)","v":0}]
[null,null,"out_of_state_wind_WAOR","Online",{"$f":"SUMIFS(Calcs!Z:Z,Calcs!$U:$U,$C60,Calcs!$C:$C,$D60)","v":0},{"$f":"SUMIFS(Calcs!AA:AA,Calcs!$U:$U,$C60,Calcs!$C:$C,$D60)","v":0},{"$f":"SUMIFS(Calcs!AB:AB,Calcs!$U:$U,$C60,Calcs!$C:$C,$D60)","v":0},{"$f":"SUMIFS(Calcs!AC:AC,Calcs!$U:$U,$C60,Calcs!$C:$C,$D60)","v":0},{"$f":"SUMIFS(Calcs!AD:AD,Calcs!$U:$U,$C60,Calcs!$C:$C,$D60)","v":0},{"$f":"SUMIFS(Calcs!AE:AE,Calcs!$U:$U,$C60,Calcs!$C:$C,$D60)","v":0},{"$f":"SUMIFS(Calcs!AF:AF,Calcs!$U:$U,$C60,Calcs!$C:$C,$D60)","v":0},{"$f":"SUMIFS(Calcs!AG:AG,Calcs!$U:$U,$C60,Calcs!$C:$C,$D60)","v":0},{"$f":"SUMIFS(Calcs!AH:AH,Calcs!$U:$U,$C60,Calcs!$C:$C,$D60)","v":0},{"$f":"SUMIFS(Calcs!AI:AI,Calcs!$U:$U,$C60,Calcs!$C:$C,$D60)","v":0},{"$f":"SUMIFS(Calcs!AJ:AJ,Calcs!$U:$U,$C60,Calcs!$C:$C,$D60)","v":0},{"$f":"SUMIFS(Calcs!AK:AK,Calcs!$U:$U,$C60,Calcs!$C:$C,$D60)","v":0}]
[null,null,"out_of_state_wind_AZNM","Online",{"$f":"SUMIFS(Calcs!Z:Z,Calcs!$U:$U,$C61,Calcs!$C:$C,$D61)","v":0},{"$f":"SUMIFS(Calcs!AA:AA,Calcs!$U:$U,$C61,Calcs!$C:$C,$D61)","v":0},{"$f":"SUMIFS(Calcs!AB:AB,Calcs!$U:$U,$C61,Calcs!$C:$C,$D61)","v":0},{"$f":"SUMIFS(Calcs!AC:AC,Calcs!$U:$U,$C61,Calcs!$C:$C,$D61)","v":0},{"$f":"SUMIFS(Calcs!AD:AD,Calcs!$U:$U,$C61,Calcs!$C:$C,$D61)","v":0},{"$f":"SUMIFS(Calcs!AE:AE,Calcs!$U:$U,$C61,Calcs!$C:$C,$D61)","v":0},{"$f":"SUMIFS(Calcs!AF:AF,Calcs!$U:$U,$C61,Calcs!$C:$C,$D61)","v":0},{"$f":"SUMIFS(Calcs!AG:AG,Calcs!$U:$U,$C61,Calcs!$C:$C,$D61)","v":0},{"$f":"SUMIFS(Calcs!AH:AH,Calcs!$U:$U,$C61,Calcs!$C:$C,$D61)","v":0},{"$f":"SUMIFS(Calcs!AI:AI,Calcs!$U:$U,$C61,Calcs!$C:$C,$D61)","v":0},{"$f":"SUMIFS(Calcs!AJ:AJ,Calcs!$U:$U,$C61,Calcs!$C:$C,$D61)","v":0},{"$f":"SUMIFS(Calcs!AK:AK,Calcs!$U:$U,$C61,Calcs!$C:$C,$D61)","v":0}]
[null,null,"offshore_wind","Online",{"$f":"SUMIFS(Calcs!Z:Z,Calcs!$U:$U,$C62,Calcs!$C:$C,$D62)","v":0},{"$f":"SUMIFS(Calcs!AA:AA,Calcs!$U:$U,$C62,Calcs!$C:$C,$D62)","v":0},{"$f":"SUMIFS(Calcs!AB:AB,Calcs!$U:$U,$C62,Calcs!$C:$C,$D62)","v":0},{"$f":"SUMIFS(Calcs!AC:AC,Calcs!$U:$U,$C62,Calcs!$C:$C,$D62)","v":0},{"$f":"SUMIFS(Calcs!AD:AD,Calcs!$U:$U,$C62,Calcs!$C:$C,$D62)","v":0},{"$f":"SUMIFS(Calcs!AE:AE,Calcs!$U:$U,$C62,Calcs!$C:$C,$D62)","v":0},{"$f":"SUMIFS(Calcs!AF:AF,Calcs!$U:$U,$C62,Calcs!$C:$C,$D62)","v":0},{"$f":"SUMIFS(Calcs!AG:AG,Calcs!$U:$U,$C62,Calcs!$C:$C,$D62)","v":0},{"$f":"SUMIFS(Calcs!AH:AH,Calcs!$U:$U,$C62,Calcs!$C:$C,$D62)","v":0},{"$f":"SUMIFS(Calcs!AI:AI,Calcs!$U:$U,$C62,Calcs!$C:$C,$D62)","v":0},{"$f":"SUMIFS(Calcs!AJ:AJ,Calcs!$U:$U,$C62,Calcs!$C:$C,$D62)","v":0},{"$f":"SUMIFS(Calcs!AK:AK,Calcs!$U:$U,$C62,Calcs!$C:$C,$D62)","v":0}]
[null,null,"utility_pv","Online",{"$f":"SUMIFS(Calcs!Z:Z,Calcs!$U:$U,$C63,Calcs!$C:$C,$D63)","v":14.4},{"$f":"SUMIFS(Calcs!AA:AA,Calcs!$U:$U,$C63,Calcs!$C:$C,$D63)","v":4.0880257410359313},{"$f":"SUMIFS(Calcs!AB:AB,Calcs!$U:$U,$C63,Calcs!$C:$C,$D63)","v":4.3360514820718628},{"$f":"SUMIFS(Calcs!AC:AC,Calcs!$U:$U,$C63,Calcs!$C:$C,$D63)","v":4.0672128817214084},{"$f":"SUMIFS(Calcs!AD:AD,Calcs!$U:$U,$C63,Calcs!$C:$C,$D63)","v":3.7983742813709531},{"$f":"SUMIFS(Calcs!AE:AE,Calcs!$U:$U,$C63,Calcs!$C:$C,$D63)","v":3.0991871406854763},{"$f":"SUMIFS(Calcs!AF:AF,Calcs!$U:$U,$C63,Calcs!$C:$C,$D63)","v":2.4},{"$f":"SUMIFS(Calcs!AG:AG,Calcs!$U:$U,$C63,Calcs!$C:$C,$D63)","v":2.4319999999999999},{"$f":"SUMIFS(Calcs!AH:AH,Calcs!$U:$U,$C63,Calcs!$C:$C,$D63)","v":2.464},{"$f":"SUMIFS(Calcs!AI:AI,Calcs!$U:$U,$C63,Calcs!$C:$C,$D63)","v":2.496},{"$f":"SUMIFS(Calcs!AJ:AJ,Calcs!$U:$U,$C63,Calcs!$C:$C,$D63)","v":2.5280000000000005},{"$f":"SUMIFS(Calcs!AK:AK,Calcs!$U:$U,$C63,Calcs!$C:$C,$D63)","v":2.56}]
[null,null,"btm_pv","Online",{"$f":"SUMIFS(Calcs!Z:Z,Calcs!$U:$U,$C64,Calcs!$C:$C,$D64)","v":0},{"$f":"SUMIFS(Calcs!AA:AA,Calcs!$U:$U,$C64,Calcs!$C:$C,$D64)","v":0},{"$f":"SUMIFS(Calcs!AB:AB,Calcs!$U:$U,$C64,Calcs!$C:$C,$D64)","v":0},{"$f":"SUMIFS(Calcs!AC:AC,Calcs!$U:$U,$C64,Calcs!$C:$C,$D64)","v":0},{"$f":"SUMIFS(Calcs!AD:AD,Calcs!$U:$U,$C64,Calcs!$C:$C,$D64)","v":0},{"$f":"SUMIFS(Calcs!AE:AE,Calcs!$U:$U,$C64,Calcs!$C:$C,$D64)","v":0},{"$f":"SUMIFS(Calcs!AF:AF,Calcs!$U:$U,$C64,Calcs!$C:$C,$D64)","v":0},{"$f":"SUMIFS(Calcs!AG:AG,Calcs!$U:$U,$C64,Calcs!$C:$C,$D64)","v":0},{"$f":"SUMIFS(Calcs!AH:AH,Calcs!$U:$U,$C64,Calcs!$C:$C,$D64)","v":0},{"$f":"SUMIFS(Calcs!AI:AI,Calcs!$U:$U,$C64,Calcs!$C:$C,$D64)","v":0},{"$f":"SUMIFS(Calcs!AJ:AJ,Calcs!$U:$U,$C64,Calcs!$C:$C,$D64)","v":0},{"$f":"SUMIFS(Calcs!AK:AK,Calcs!$U:$U,$C64,Calcs!$C:$C,$D64)","v":0}]
[null,null,"4hr_batteries","Online",{"$f":"SUMIFS(Calcs!Z:Z,Calcs!$U:$U,$C65,Calcs!$C:$C,$D65)","v":74.325662999999992},{"$f":"SUMIFS(Calcs!AA:AA,Calcs!$U:$U,$C65,Calcs!$C:$C,$D65)","v":75.711395699999997},{"$f":"SUMIFS(Calcs!AB:AB,Calcs!$U:$U,$C65,Calcs!$C:$C,$D65)","v":77.097128400000003},{"$f":"SUMIFS(Calcs!AC:AC,Calcs!$U:$U,$C65,Calcs!$C:$C,$D65)","v":71.008302900000004},{"$f":"SUMIFS(Calcs!AD:AD,Calcs!$U:$U,$C65,Calcs!$C:$C,$D65)","v":64.919477400000005},{"$f":"SUMIFS(Calcs!AE:AE,Calcs!$U:$U,$C65,Calcs!$C:$C,$D65)","v":63.743704199999996},{"$f":"SUMIFS(Calcs!AF:AF,Calcs!$U:$U,$C65,Calcs!$C:$C,$D65)","v":62.567931000000002},{"$f":"SUMIFS(Calcs!AG:AG,Calcs!$U:$U,$C65,Calcs!$C:$C,$D65)","v":6.0748455599999991},{"$f":"SUMIFS(Calcs!AH:AH,Calcs!$U:$U,$C65,Calcs!$C:$C,$D65)","v":5.4567601199999993},{"$f":"SUMIFS(Calcs!AI:AI,Calcs!$U:$U,$C65,Calcs!$C:$C,$D65)","v":4.8386746799999996},{"$f":"SUMIFS(Calcs!AJ:AJ,Calcs!$U:$U,$C65,Calcs!$C:$C,$D65)","v":4.2205892400000007},{"$f":"SUMIFS(Calcs!AK:AK,Calcs!$U:$U,$C65,Calcs!$C:$C,$D65)","v":3.6025037999999996}]
[null,null,"5hr_batteries","Online",{"$f":"SUMIFS(Calcs!Z:Z,Calcs!$U:$U,$C66,Calcs!$C:$C,$D66)","v":0},{"$f":"SUMIFS(Calcs!AA:AA,Calcs!$U:$U,$C66,Calcs!$C:$C,$D66)","v":0},{"$f":"SUMIFS(Calcs!AB:AB,Calcs!$U:$U,$C66,Calcs!$C:$C,$D66)","v":0},{"$f":"SUMIFS(Calcs!AC:AC,Calcs!$U:$U,$C66,Calcs!$C:$C,$D66)","v":0},{"$f":"SUMIFS(Calcs!AD:AD,Calcs!$U:$U,$C66,Calcs!$C:$C,$D66)","v":0},{"$f":"SUMIFS(Calcs!AE:AE,Calcs!$U:$U,$C66,Calcs!$C:$C,$D66)","v":0},{"$f":"SUMIFS(Calcs!AF:AF,Calcs!$U:$U,$C66,Calcs!$C:$C,$D66)","v":0},{"$f":"SUMIFS(Calcs!AG:AG,Calcs!$U:$U,$C66,Calcs!$C:$C,$D66)","v":0},{"$f":"SUMIFS(Calcs!AH:AH,Calcs!$U:$U,$C66,Calcs!$C:$C,$D66)","v":0},{"$f":"SUMIFS(Calcs!AI:AI,Calcs!$U:$U,$C66,Calcs!$C:$C,$D66)","v":0},{"$f":"SUMIFS(Calcs!AJ:AJ,Calcs!$U:$U,$C66,Calcs!$C:$C,$D66)","v":0},{"$f":"SUMIFS(Calcs!AK:AK,Calcs!$U:$U,$C66,Calcs!$C:$C,$D66)","v":0}]
[null,null,"6hr_batteries","Online",{"$f":"SUMIFS(Calcs!Z:Z,Calcs!$U:$U,$C67,Calcs!$C:$C,$D67)","v":0},{"$f":"SUMIFS(Calcs!AA:AA,Calcs!$U:$U,$C67,Calcs!$C:$C,$D67)","v":0},{"$f":"SUMIFS(Calcs!AB:AB,Calcs!$U:$U,$C67,Calcs!$C:$C,$D67)","v":0},{"$f":"SUMIFS(Calcs!AC:AC,Calcs!$U:$U,$C67,Calcs!$C:$C,$D67)","v":0},{"$f":"SUMIFS(Calcs!AD:AD,Calcs!$U:$U,$C67,Calcs!$C:$C,$D67)","v":0},{"$f":"SUMIFS(Calcs!AE:AE,Calcs!$U:$U,$C67,Calcs!$C:$C,$D67)","v":0},{"$f":"SUMIFS(Calcs!AF:AF,Calcs!$U:$U,$C67,Calcs!$C:$C,$D67)","v":0},{"$f":"SUMIFS(Calcs!AG:AG,Calcs!$U:$U,$C67,Calcs!$C:$C,$D67)","v":0},{"$f":"SUMIFS(Calcs!AH:AH,Calcs!$U:$U,$C67,Calcs!$C:$C,$D67)","v":0},{"$f":"SUMIFS(Calcs!AI:AI,Calcs!$U:$U,$C67,Calcs!$C:$C,$D67)","v":0},{"$f":"SUMIFS(Calcs!AJ:AJ,Calcs!$U:$U,$C67,Calcs!$C:$C,$D67)","v":0},{"$f":"SUMIFS(Calcs!AK:AK,Calcs!$U:$U,$C67,Calcs!$C:$C,$D67)","v":0}]
[null,null,"7hr_batteries","Online",{"$f":"SUMIFS(Calcs!Z:Z,Calcs!$U:$U,$C68,Calcs!$C:$C,$D68)","v":0},{"$f":"SUMIFS(Calcs!AA:AA,Calcs!$U:$U,$C68,Calcs!$C:$C,$D68)","v":0},{"$f":"SUMIFS(Calcs!AB:AB,Calcs!$U:$U,$C68,Calcs!$C:$C,$D68)","v":0},{"$f":"SUMIFS(Calcs!AC:AC,Calcs!$U:$U,$C68,Calcs!$C:$C,$D68)","v":0},{"$f":"SUMIFS(Calcs!AD:AD,Calcs!$U:$U,$C68,Calcs!$C:$C,$D68)","v":0},{"$f":"SUMIFS(Calcs!AE:AE,Calcs!$U:$U,$C68,Calcs!$C:$C,$D68)","v":0},{"$f":"SUMIFS(Calcs!AF:AF,Calcs!$U:$U,$C68,Calcs!$C:$C,$D68)","v":0},{"$f":"SUMIFS(Calcs!AG:AG,Calcs!$U:$U,$C68,Calcs!$C:$C,$D68)","v":0},{"$f":"SUMIFS(Calcs!AH:AH,Calcs!$U:$U,$C68,Calcs!$C:$C,$D68)","v":0},{"$f":"SUMIFS(Calcs!AI:AI,Calcs!$U:$U,$C68,Calcs!$C:$C,$D68)","v":0},{"$f":"SUMIFS(Calcs!AJ:AJ,Calcs!$U:$U,$C68,Calcs!$C:$C,$D68)","v":0},{"$f":"SUMIFS(Calcs!AK:AK,Calcs!$U:$U,$C68,Calcs!$C:$C,$D68)","v":0}]
[null,null,"8hr_batteries","Online",{"$f":"SUMIFS(Calcs!Z:Z,Calcs!$U:$U,$C69,Calcs!$C:$C,$D69)","v":0},{"$f":"SUMIFS(Calcs!AA:AA,Calcs!$U:$U,$C69,Calcs!$C:$C,$D69)","v":0},{"$f":"SUMIFS(Calcs!AB:AB,Calcs!$U:$U,$C69,Calcs!$C:$C,$D69)","v":0},{"$f":"SUMIFS(Calcs!AC:AC,Calcs!$U:$U,$C69,Calcs!$C:$C,$D69)","v":0},{"$f":"SUMIFS(Calcs!AD:AD,Calcs!$U:$U,$C69,Calcs!$C:$C,$D69)","v":0},{"$f":"SUMIFS(Calcs!AE:AE,Calcs!$U:$U,$C69,Calcs!$C:$C,$D69)","v":0},{"$f":"SUMIFS(Calcs!AF:AF,Calcs!$U:$U,$C69,Calcs!$C:$C,$D69)","v":0},{"$f":"SUMIFS(Calcs!AG:AG,Calcs!$U:$U,$C69,Calcs!$C:$C,$D69)","v":0},{"$f":"SUMIFS(Calcs!AH:AH,Calcs!$U:$U,$C69,Calcs!$C:$C,$D69)","v":0},{"$f":"SUMIFS(Calcs!AI:AI,Calcs!$U:$U,$C69,Calcs!$C:$C,$D69)","v":0},{"$f":"SUMIFS(Calcs!AJ:AJ,Calcs!$U:$U,$C69,Calcs!$C:$C,$D69)","v":0},{"$f":"SUMIFS(Calcs!AK:AK,Calcs!$U:$U,$C69,Calcs!$C:$C,$D69)","v":0}]
[null,null,"pumped_storage","Online",{"$f":"SUMIFS(Calcs!Z:Z,Calcs!$U:$U,$C70,Calcs!$C:$C,$D70)","v":0},{"$f":"SUMIFS(Calcs!AA:AA,Calcs!$U:$U,$C70,Calcs!$C:$C,$D70)","v":0},{"$f":"SUMIFS(Calcs!AB:AB,Calcs!$U:$U,$C70,Calcs!$C:$C,$D70)","v":0},{"$f":"SUMIFS(Calcs!AC:AC,Calcs!$U:$U,$C70,Calcs!$C:$C,$D70)","v":0},{"$f":"SUMIFS(Calcs!AD:AD,Calcs!$U:$U,$C70,Calcs!$C:$C,$D70)","v":0},{"$f":"SUMIFS(Calcs!AE:AE,Calcs!$U:$U,$C70,Calcs!$C:$C,$D70)","v":0},{"$f":"SUMIFS(Calcs!AF:AF,Calcs!$U:$U,$C70,Calcs!$C:$C,$D70)","v":0},{"$f":"SUMIFS(Calcs!AG:AG,Calcs!$U:$U,$C70,Calcs!$C:$C,$D70)","v":0},{"$f":"SUMIFS(Calcs!AH:AH,Calcs!$U:$U,$C70,Calcs!$C:$C,$D70)","v":0},{"$f":"SUMIFS(Calcs!AI:AI,Calcs!$U:$U,$C70,Calcs!$C:$C,$D70)","v":0},{"$f":"SUMIFS(Calcs!AJ:AJ,Calcs!$U:$U,$C70,Calcs!$C:$C,$D70)","v":0},{"$f":"SUMIFS(Calcs!AK:AK,Calcs!$U:$U,$C70,Calcs!$C:$C,$D70)","v":0}]
[null,null,"demand_response","Online",{"$f":"SUMIFS(Calcs!Z:Z,Calcs!$U:$U,$C71,Calcs!$C:$C,$D71)","v":0},{"$f":"SUMIFS(Calcs!AA:AA,Calcs!$U:$U,$C71,Calcs!$C:$C,$D71)","v":0},{"$f":"SUMIFS(Calcs!AB:AB,Calcs!$U:$U,$C71,Calcs!$C:$C,$D71)","v":0},{"$f":"SUMIFS(Calcs!AC:AC,Calcs!$U:$U,$C71,Calcs!$C:$C,$D71)","v":0},{"$f":"SUMIFS(Calcs!AD:AD,Calcs!$U:$U,$C71,Calcs!$C:$C,$D71)","v":0},{"$f":"SUMIFS(Calcs!AE:AE,Calcs!$U:$U,$C71,Calcs!$C:$C,$D71)","v":0},{"$f":"SUMIFS(Calcs!AF:AF,Calcs!$U:$U,$C71,Calcs!$C:$C,$D71)","v":0},{"$f":"SUMIFS(Calcs!AG:AG,Calcs!$U:$U,$C71,Calcs!$C:$C,$D71)","v":0},{"$f":"SUMIFS(Calcs!AH:AH,Calcs!$U:$U,$C71,Calcs!$C:$C,$D71)","v":0},{"$f":"SUMIFS(Calcs!AI:AI,Calcs!$U:$U,$C71,Calcs!$C:$C,$D71)","v":0},{"$f":"SUMIFS(Calcs!AJ:AJ,Calcs!$U:$U,$C71,Calcs!$C:$C,$D71)","v":0},{"$f":"SUMIFS(Calcs!AK:AK,Calcs!$U:$U,$C71,Calcs!$C:$C,$D71)","v":0}]
[null,null,"hydro","Online",{"$f":"SUMIFS(Calcs!Z:Z,Calcs!$U:$U,$C72,Calcs!$C:$C,$D72)","v":0},{"$f":"SUMIFS(Calcs!AA:AA,Calcs!$U:$U,$C72,Calcs!$C:$C,$D72)","v":0},{"$f":"SUMIFS(Calcs!AB:AB,Calcs!$U:$U,$C72,Calcs!$C:$C,$D72)","v":0},{"$f":"SUMIFS(Calcs!AC:AC,Calcs!$U:$U,$C72,Calcs!$C:$C,$D72)","v":0},{"$f":"SUMIFS(Calcs!AD:AD,Calcs!$U:$U,$C72,Calcs!$C:$C,$D72)","v":0},{"$f":"SUMIFS(Calcs!AE:AE,Calcs!$U:$U,$C72,Calcs!$C:$C,$D72)","v":0},{"$f":"SUMIFS(Calcs!AF:AF,Calcs!$U:$U,$C72,Calcs!$C:$C,$D72)","v":0},{"$f":"SUMIFS(Calcs!AG:AG,Calcs!$U:$U,$C72,Calcs!$C:$C,$D72)","v":0},{"$f":"SUMIFS(Calcs!AH:AH,Calcs!$U:$U,$C72,Calcs!$C:$C,$D72)","v":0},{"$f":"SUMIFS(Calcs!AI:AI,Calcs!$U:$U,$C72,Calcs!$C:$C,$D72)","v":0},{"$f":"SUMIFS(Calcs!AJ:AJ,Calcs!$U:$U,$C72,Calcs!$C:$C,$D72)","v":0},{"$f":"SUMIFS(Calcs!AK:AK,Calcs!$U:$U,$C72,Calcs!$C:$C,$D72)","v":0}]
[null,null,"small_hydro","Online",{"$f":"SUMIFS(Calcs!Z:Z,Calcs!$U:$U,$C73,Calcs!$C:$C,$D73)","v":0},{"$f":"SUMIFS(Calcs!AA:AA,Calcs!$U:$U,$C73,Calcs!$C:$C,$D73)","v":0},{"$f":"SUMIFS(Calcs!AB:AB,Calcs!$U:$U,$C73,Calcs!$C:$C,$D73)","v":0},{"$f":"SUMIFS(Calcs!AC:AC,Calcs!$U:$U,$C73,Calcs!$C:$C,$D73)","v":0},{"$f":"SUMIFS(Calcs!AD:AD,Calcs!$U:$U,$C73,Calcs!$C:$C,$D73)","v":0},{"$f":"SUMIFS(Calcs!AE:AE,Calcs!$U:$U,$C73,Calcs!$C:$C,$D73)","v":0},{"$f":"SUMIFS(Calcs!AF:AF,Calcs!$U:$U,$C73,Calcs!$C:$C,$D73)","v":0},{"$f":"SUMIFS(Calcs!AG:AG,Calcs!$U:$U,$C73,Calcs!$C:$C,$D73)","v":0},{"$f":"SUMIFS(Calcs!AH:AH,Calcs!$U:$U,$C73,Calcs!$C:$C,$D73)","v":0},{"$f":"SUMIFS(Calcs!AI:AI,Calcs!$U:$U,$C73,Calcs!$C:$C,$D73)","v":0},{"$f":"SUMIFS(Calcs!AJ:AJ,Calcs!$U:$U,$C73,Calcs!$C:$C,$D73)","v":0},{"$f":"SUMIFS(Calcs!AK:AK,Calcs!$U:$U,$C73,Calcs!$C:$C,$D73)","v":0}]
[null,null,"geothermal","Online",{"$f":"SUMIFS(Calcs!Z:Z,Calcs!$U:$U,$C74,Calcs!$C:$C,$D74)","v":43.200182787946275},{"$f":"SUMIFS(Calcs!AA:AA,Calcs!$U:$U,$C74,Calcs!$C:$C,$D74)","v":43.913102089656178},{"$f":"SUMIFS(Calcs!AB:AB,Calcs!$U:$U,$C74,Calcs!$C:$C,$D74)","v":44.626021391366081},{"$f":"SUMIFS(Calcs!AC:AC,Calcs!$U:$U,$C74,Calcs!$C:$C,$D74)","v":0},{"$f":"SUMIFS(Calcs!AD:AD,Calcs!$U:$U,$C74,Calcs!$C:$C,$D74)","v":0},{"$f":"SUMIFS(Calcs!AE:AE,Calcs!$U:$U,$C74,Calcs!$C:$C,$D74)","v":0},{"$f":"SUMIFS(Calcs!AF:AF,Calcs!$U:$U,$C74,Calcs!$C:$C,$D74)","v":0},{"$f":"SUMIFS(Calcs!AG:AG,Calcs!$U:$U,$C74,Calcs!$C:$C,$D74)","v":0},{"$f":"SUMIFS(Calcs!AH:AH,Calcs!$U:$U,$C74,Calcs!$C:$C,$D74)","v":0},{"$f":"SUMIFS(Calcs!AI:AI,Calcs!$U:$U,$C74,Calcs!$C:$C,$D74)","v":0},{"$f":"SUMIFS(Calcs!AJ:AJ,Calcs!$U:$U,$C74,Calcs!$C:$C,$D74)","v":0},{"$f":"SUMIFS(Calcs!AK:AK,Calcs!$U:$U,$C74,Calcs!$C:$C,$D74)","v":0}]
[null,null,"biomass_wood","Online",{"$f":"SUMIFS(Calcs!Z:Z,Calcs!$U:$U,$C75,Calcs!$C:$C,$D75)","v":0},{"$f":"SUMIFS(Calcs!AA:AA,Calcs!$U:$U,$C75,Calcs!$C:$C,$D75)","v":0},{"$f":"SUMIFS(Calcs!AB:AB,Calcs!$U:$U,$C75,Calcs!$C:$C,$D75)","v":0},{"$f":"SUMIFS(Calcs!AC:AC,Calcs!$U:$U,$C75,Calcs!$C:$C,$D75)","v":0},{"$f":"SUMIFS(Calcs!AD:AD,Calcs!$U:$U,$C75,Calcs!$C:$C,$D75)","v":0},{"$f":"SUMIFS(Calcs!AE:AE,Calcs!$U:$U,$C75,Calcs!$C:$C,$D75)","v":0},{"$f":"SUMIFS(Calcs!AF:AF,Calcs!$U:$U,$C75,Calcs!$C:$C,$D75)","v":0},{"$f":"SUMIFS(Calcs!AG:AG,Calcs!$U:$U,$C75,Calcs!$C:$C,$D75)","v":0},{"$f":"SUMIFS(Calcs!AH:AH,Calcs!$U:$U,$C75,Calcs!$C:$C,$D75)","v":0},{"$f":"SUMIFS(Calcs!AI:AI,Calcs!$U:$U,$C75,Calcs!$C:$C,$D75)","v":0},{"$f":"SUMIFS(Calcs!AJ:AJ,Calcs!$U:$U,$C75,Calcs!$C:$C,$D75)","v":0},{"$f":"SUMIFS(Calcs!AK:AK,Calcs!$U:$U,$C75,Calcs!$C:$C,$D75)","v":0}]
[null,null,"biogas","Online",{"$f":"SUMIFS(Calcs!Z:Z,Calcs!$U:$U,$C76,Calcs!$C:$C,$D76)","v":0},{"$f":"SUMIFS(Calcs!AA:AA,Calcs!$U:$U,$C76,Calcs!$C:$C,$D76)","v":0},{"$f":"SUMIFS(Calcs!AB:AB,Calcs!$U:$U,$C76,Calcs!$C:$C,$D76)","v":0},{"$f":"SUMIFS(Calcs!AC:AC,Calcs!$U:$U,$C76,Calcs!$C:$C,$D76)","v":0},{"$f":"SUMIFS(Calcs!AD:AD,Calcs!$U:$U,$C76,Calcs!$C:$C,$D76)","v":0},{"$f":"SUMIFS(Calcs!AE:AE,Calcs!$U:$U,$C76,Calcs!$C:$C,$D76)","v":0},{"$f":"SUMIFS(Calcs!AF:AF,Calcs!$U:$U,$C76,Calcs!$C:$C,$D76)","v":0},{"$f":"SUMIFS(Calcs!AG:AG,Calcs!$U:$U,$C76,Calcs!$C:$C,$D76)","v":0},{"$f":"SUMIFS(Calcs!AH:AH,Calcs!$U:$U,$C76,Calcs!$C:$C,$D76)","v":0},{"$f":"SUMIFS(Calcs!AI:AI,Calcs!$U:$U,$C76,Calcs!$C:$C,$D76)","v":0},{"$f":"SUMIFS(Calcs!AJ:AJ,Calcs!$U:$U,$C76,Calcs!$C:$C,$D76)","v":0},{"$f":"SUMIFS(Calcs!AK:AK,Calcs!$U:$U,$C76,Calcs!$C:$C,$D76)","v":0}]
[null,null,"nuclear","Online",{"$f":"SUMIFS(Calcs!Z:Z,Calcs!$U:$U,$C77,Calcs!$C:$C,$D77)","v":0},{"$f":"SUMIFS(Calcs!AA:AA,Calcs!$U:$U,$C77,Calcs!$C:$C,$D77)","v":0},{"$f":"SUMIFS(Calcs!AB:AB,Calcs!$U:$U,$C77,Calcs!$C:$C,$D77)","v":0},{"$f":"SUMIFS(Calcs!AC:AC,Calcs!$U:$U,$C77,Calcs!$C:$C,$D77)","v":0},{"$f":"SUMIFS(Calcs!AD:AD,Calcs!$U:$U,$C77,Calcs!$C:$C,$D77)","v":0},{"$f":"SUMIFS(Calcs!AE:AE,Calcs!$U:$U,$C77,Calcs!$C:$C,$D77)","v":0},{"$f":"SUMIFS(Calcs!AF:AF,Calcs!$U:$U,$C77,Calcs!$C:$C,$D77)","v":0},{"$f":"SUMIFS(Calcs!AG:AG,Calcs!$U:$U,$C77,Calcs!$C:$C,$D77)","v":0},{"$f":"SUMIFS(Calcs!AH:AH,Calcs!$U:$U,$C77,Calcs!$C:$C,$D77)","v":0},{"$f":"SUMIFS(Calcs!AI:AI,Calcs!$U:$U,$C77,Calcs!$C:$C,$D77)","v":0},{"$f":"SUMIFS(Calcs!AJ:AJ,Calcs!$U:$U,$C77,Calcs!$C:$C,$D77)","v":0},{"$f":"SUMIFS(Calcs!AK:AK,Calcs!$U:$U,$C77,Calcs!$C:$C,$D77)","v":0}]
[null,null,"gas_cc","Online",{"$f":"SUMIFS(Calcs!Z:Z,Calcs!$U:$U,$C78,Calcs!$C:$C,$D78)","v":124.00121171345943},{"$f":"SUMIFS(Calcs!AA:AA,Calcs!$U:$U,$C78,Calcs!$C:$C,$D78)","v":109.26183928681775},{"$f":"SUMIFS(Calcs!AB:AB,Calcs!$U:$U,$C78,Calcs!$C:$C,$D78)","v":12.399111948128024},{"$f":"SUMIFS(Calcs!AC:AC,Calcs!$U:$U,$C78,Calcs!$C:$C,$D78)","v":0},{"$f":"SUMIFS(Calcs!AD:AD,Calcs!$U:$U,$C78,Calcs!$C:$C,$D78)","v":0},{"$f":"SUMIFS(Calcs!AE:AE,Calcs!$U:$U,$C78,Calcs!$C:$C,$D78)","v":0},{"$f":"SUMIFS(Calcs!AF:AF,Calcs!$U:$U,$C78,Calcs!$C:$C,$D78)","v":0},{"$f":"SUMIFS(Calcs!AG:AG,Calcs!$U:$U,$C78,Calcs!$C:$C,$D78)","v":0},{"$f":"SUMIFS(Calcs!AH:AH,Calcs!$U:$U,$C78,Calcs!$C:$C,$D78)","v":0},{"$f":"SUMIFS(Calcs!AI:AI,Calcs!$U:$U,$C78,Calcs!$C:$C,$D78)","v":0},{"$f":"SUMIFS(Calcs!AJ:AJ,Calcs!$U:$U,$C78,Calcs!$C:$C,$D78)","v":0},{"$f":"SUMIFS(Calcs!AK:AK,Calcs!$U:$U,$C78,Calcs!$C:$C,$D78)","v":0}]
[null,null,"gas_ct","Online",{"$f":"SUMIFS(Calcs!Z:Z,Calcs!$U:$U,$C79,Calcs!$C:$C,$D79)","v":0},{"$f":"SUMIFS(Calcs!AA:AA,Calcs!$U:$U,$C79,Calcs!$C:$C,$D79)","v":0},{"$f":"SUMIFS(Calcs!AB:AB,Calcs!$U:$U,$C79,Calcs!$C:$C,$D79)","v":0},{"$f":"SUMIFS(Calcs!AC:AC,Calcs!$U:$U,$C79,Calcs!$C:$C,$D79)","v":0},{"$f":"SUMIFS(Calcs!AD:AD,Calcs!$U:$U,$C79,Calcs!$C:$C,$D79)","v":0},{"$f":"SUMIFS(Calcs!AE:AE,Calcs!$U:$U,$C79,Calcs!$C:$C,$D79)","v":0},{"$f":"SUMIFS(Calcs!AF:AF,Calcs!$U:$U,$C79,Calcs!$C:$C,$D79)","v":0},{"$f":"SUMIFS(Calcs!AG:AG,Calcs!$U:$U,$C79,Calcs!$C:$C,$D79)","v":0},{"$f":"SUMIFS(Calcs!AH:AH,Calcs!$U:$U,$C79,Calcs!$C:$C,$D79)","v":0},{"$f":"SUMIFS(Calcs!AI:AI,Calcs!$U:$U,$C79,Calcs!$C:$C,$D79)","v":0},{"$f":"SUMIFS(Calcs!AJ:AJ,Calcs!$U:$U,$C79,Calcs!$C:$C,$D79)","v":0},{"$f":"SUMIFS(Calcs!AK:AK,Calcs!$U:$U,$C79,Calcs!$C:$C,$D79)","v":0}]
[null,null,"cogen","Online",{"$f":"SUMIFS(Calcs!Z:Z,Calcs!$U:$U,$C80,Calcs!$C:$C,$D80)","v":47.075054537669551},{"$f":"SUMIFS(Calcs!AA:AA,Calcs!$U:$U,$C80,Calcs!$C:$C,$D80)","v":47.353535772613775},{"$f":"SUMIFS(Calcs!AB:AB,Calcs!$U:$U,$C80,Calcs!$C:$C,$D80)","v":0.41078643080642302},{"$f":"SUMIFS(Calcs!AC:AC,Calcs!$U:$U,$C80,Calcs!$C:$C,$D80)","v":0},{"$f":"SUMIFS(Calcs!AD:AD,Calcs!$U:$U,$C80,Calcs!$C:$C,$D80)","v":0},{"$f":"SUMIFS(Calcs!AE:AE,Calcs!$U:$U,$C80,Calcs!$C:$C,$D80)","v":0},{"$f":"SUMIFS(Calcs!AF:AF,Calcs!$U:$U,$C80,Calcs!$C:$C,$D80)","v":0},{"$f":"SUMIFS(Calcs!AG:AG,Calcs!$U:$U,$C80,Calcs!$C:$C,$D80)","v":0},{"$f":"SUMIFS(Calcs!AH:AH,Calcs!$U:$U,$C80,Calcs!$C:$C,$D80)","v":0},{"$f":"SUMIFS(Calcs!AI:AI,Calcs!$U:$U,$C80,Calcs!$C:$C,$D80)","v":0},{"$f":"SUMIFS(Calcs!AJ:AJ,Calcs!$U:$U,$C80,Calcs!$C:$C,$D80)","v":0},{"$f":"SUMIFS(Calcs!AK:AK,Calcs!$U:$U,$C80,Calcs!$C:$C,$D80)","v":0}]
[null,null,"ice","Online",{"$f":"SUMIFS(Calcs!Z:Z,Calcs!$U:$U,$C81,Calcs!$C:$C,$D81)","v":0},{"$f":"SUMIFS(Calcs!AA:AA,Calcs!$U:$U,$C81,Calcs!$C:$C,$D81)","v":0},{"$f":"SUMIFS(Calcs!AB:AB,Calcs!$U:$U,$C81,Calcs!$C:$C,$D81)","v":0},{"$f":"SUMIFS(Calcs!AC:AC,Calcs!$U:$U,$C81,Calcs!$C:$C,$D81)","v":0},{"$f":"SUMIFS(Calcs!AD:AD,Calcs!$U:$U,$C81,Calcs!$C:$C,$D81)","v":0},{"$f":"SUMIFS(Calcs!AE:AE,Calcs!$U:$U,$C81,Calcs!$C:$C,$D81)","v":0},{"$f":"SUMIFS(Calcs!AF:AF,Calcs!$U:$U,$C81,Calcs!$C:$C,$D81)","v":0},{"$f":"SUMIFS(Calcs!AG:AG,Calcs!$U:$U,$C81,Calcs!$C:$C,$D81)","v":0},{"$f":"SUMIFS(Calcs!AH:AH,Calcs!$U:$U,$C81,Calcs!$C:$C,$D81)","v":0},{"$f":"SUMIFS(Calcs!AI:AI,Calcs!$U:$U,$C81,Calcs!$C:$C,$D81)","v":0},{"$f":"SUMIFS(Calcs!AJ:AJ,Calcs!$U:$U,$C81,Calcs!$C:$C,$D81)","v":0},{"$f":"SUMIFS(Calcs!AK:AK,Calcs!$U:$U,$C81,Calcs!$C:$C,$D81)","v":0}]
[null,null,"coal","Online",{"$f":"SUMIFS(Calcs!Z:Z,Calcs!$U:$U,$C82,Calcs!$C:$C,$D82)","v":0},{"$f":"SUMIFS(Calcs!AA:AA,Calcs!$U:$U,$C82,Calcs!$C:$C,$D82)","v":0},{"$f":"SUMIFS(Calcs!AB:AB,Calcs!$U:$U,$C82,Calcs!$C:$C,$D82)","v":0},{"$f":"SUMIFS(Calcs!AC:AC,Calcs!$U:$U,$C82,Calcs!$C:$C,$D82)","v":0},{"$f":"SUMIFS(Calcs!AD:AD,Calcs!$U:$U,$C82,Calcs!$C:$C,$D82)","v":0},{"$f":"SUMIFS(Calcs!AE:AE,Calcs!$U:$U,$C82,Calcs!$C:$C,$D82)","v":0},{"$f":"SUMIFS(Calcs!AF:AF,Calcs!$U:$U,$C82,Calcs!$C:$C,$D82)","v":0},{"$f":"SUMIFS(Calcs!AG:AG,Calcs!$U:$U,$C82,Calcs!$C:$C,$D82)","v":0},{"$f":"SUMIFS(Calcs!AH:AH,Calcs!$U:$U,$C82,Calcs!$C:$C,$D82)","v":0},{"$f":"SUMIFS(Calcs!AI:AI,Calcs!$U:$U,$C82,Calcs!$C:$C,$D82)","v":0},{"$f":"SUMIFS(Calcs!AJ:AJ,Calcs!$U:$U,$C82,Calcs!$C:$C,$D82)","v":0},{"$f":"SUMIFS(Calcs!AK:AK,Calcs!$U:$U,$C82,Calcs!$C:$C,$D82)","v":0}]
[null,null,"steam","Online",{"$f":"SUMIFS(Calcs!Z:Z,Calcs!$U:$U,$C83,Calcs!$C:$C,$D83)","v":0},{"$f":"SUMIFS(Calcs!AA:AA,Calcs!$U:$U,$C83,Calcs!$C:$C,$D83)","v":0},{"$f":"SUMIFS(Calcs!AB:AB,Calcs!$U:$U,$C83,Calcs!$C:$C,$D83)","v":0},{"$f":"SUMIFS(Calcs!AC:AC,Calcs!$U:$U,$C83,Calcs!$C:$C,$D83)","v":0},{"$f":"SUMIFS(Calcs!AD:AD,Calcs!$U:$U,$C83,Calcs!$C:$C,$D83)","v":0},{"$f":"SUMIFS(Calcs!AE:AE,Calcs!$U:$U,$C83,Calcs!$C:$C,$D83)","v":0},{"$f":"SUMIFS(Calcs!AF:AF,Calcs!$U:$U,$C83,Calcs!$C:$C,$D83)","v":0},{"$f":"SUMIFS(Calcs!AG:AG,Calcs!$U:$U,$C83,Calcs!$C:$C,$D83)","v":0},{"$f":"SUMIFS(Calcs!AH:AH,Calcs!$U:$U,$C83,Calcs!$C:$C,$D83)","v":0},{"$f":"SUMIFS(Calcs!AI:AI,Calcs!$U:$U,$C83,Calcs!$C:$C,$D83)","v":0},{"$f":"SUMIFS(Calcs!AJ:AJ,Calcs!$U:$U,$C83,Calcs!$C:$C,$D83)","v":0},{"$f":"SUMIFS(Calcs!AK:AK,Calcs!$U:$U,$C83,Calcs!$C:$C,$D83)","v":0}]
[null,null,"unspecified_import","Online",{"$f":"SUMIFS(Calcs!Z:Z,Calcs!$U:$U,$C84,Calcs!$C:$C,$D84)","v":0},{"$f":"SUMIFS(Calcs!AA:AA,Calcs!$U:$U,$C84,Calcs!$C:$C,$D84)","v":0},{"$f":"SUMIFS(Calcs!AB:AB,Calcs!$U:$U,$C84,Calcs!$C:$C,$D84)","v":0},{"$f":"SUMIFS(Calcs!AC:AC,Calcs!$U:$U,$C84,Calcs!$C:$C,$D84)","v":0},{"$f":"SUMIFS(Calcs!AD:AD,Calcs!$U:$U,$C84,Calcs!$C:$C,$D84)","v":0},{"$f":"SUMIFS(Calcs!AE:AE,Calcs!$U:$U,$C84,Calcs!$C:$C,$D84)","v":0},{"$f":"SUMIFS(Calcs!AF:AF,Calcs!$U:$U,$C84,Calcs!$C:$C,$D84)","v":0},{"$f":"SUMIFS(Calcs!AG:AG,Calcs!$U:$U,$C84,Calcs!$C:$C,$D84)","v":0},{"$f":"SUMIFS(Calcs!AH:AH,Calcs!$U:$U,$C84,Calcs!$C:$C,$D84)","v":0},{"$f":"SUMIFS(Calcs!AI:AI,Calcs!$U:$U,$C84,Calcs!$C:$C,$D84)","v":0},{"$f":"SUMIFS(Calcs!AJ:AJ,Calcs!$U:$U,$C84,Calcs!$C:$C,$D84)","v":0},{"$f":"SUMIFS(Calcs!AK:AK,Calcs!$U:$U,$C84,Calcs!$C:$C,$D84)","v":0}]
[null,null,"hybrid","Development",{"$f":"SUMIFS(Calcs!Z:Z,Calcs!$U:$U,$C85,Calcs!$C:$C,$D85)","v":37.038600000000002},{"$f":"SUMIFS(Calcs!AA:AA,Calcs!$U:$U,$C85,Calcs!$C:$C,$D85)","v":38.015059641195336},{"$f":"SUMIFS(Calcs!AB:AB,Calcs!$U:$U,$C85,Calcs!$C:$C,$D85)","v":38.611519282390674},{"$f":"SUMIFS(Calcs!AC:AC,Calcs!$U:$U,$C85,Calcs!$C:$C,$D85)","v":36.198614278711673},{"$f":"SUMIFS(Calcs!AD:AD,Calcs!$U:$U,$C85,Calcs!$C:$C,$D85)","v":33.257683533996747},{"$f":"SUMIFS(Calcs!AE:AE,Calcs!$U:$U,$C85,Calcs!$C:$C,$D85)","v":31.369341766998371},{"$f":"SUMIFS(Calcs!AF:AF,Calcs!$U:$U,$C85,Calcs!$C:$C,$D85)","v":29.480999999999995},{"$f":"SUMIFS(Calcs!AG:AG,Calcs!$U:$U,$C85,Calcs!$C:$C,$D85)","v":27.275879999999997},{"$f":"SUMIFS(Calcs!AH:AH,Calcs!$U:$U,$C85,Calcs!$C:$C,$D85)","v":25.07076},{"$f":"SUMIFS(Calcs!AI:AI,Calcs!$U:$U,$C85,Calcs!$C:$C,$D85)","v":22.865640000000003},{"$f":"SUMIFS(Calcs!AJ:AJ,Calcs!$U:$U,$C85,Calcs!$C:$C,$D85)","v":20.660520000000005},{"$f":"SUMIFS(Calcs!AK:AK,Calcs!$U:$U,$C85,Calcs!$C:$C,$D85)","v":18.455399999999997}]
[null,null,"in_state_wind_south","Development",{"$f":"SUMIFS(Calcs!Z:Z,Calcs!$U:$U,$C86,Calcs!$C:$C,$D86)","v":0},{"$f":"SUMIFS(Calcs!AA:AA,Calcs!$U:$U,$C86,Calcs!$C:$C,$D86)","v":0},{"$f":"SUMIFS(Calcs!AB:AB,Calcs!$U:$U,$C86,Calcs!$C:$C,$D86)","v":0},{"$f":"SUMIFS(Calcs!AC:AC,Calcs!$U:$U,$C86,Calcs!$C:$C,$D86)","v":0},{"$f":"SUMIFS(Calcs!AD:AD,Calcs!$U:$U,$C86,Calcs!$C:$C,$D86)","v":0},{"$f":"SUMIFS(Calcs!AE:AE,Calcs!$U:$U,$C86,Calcs!$C:$C,$D86)","v":0},{"$f":"SUMIFS(Calcs!AF:AF,Calcs!$U:$U,$C86,Calcs!$C:$C,$D86)","v":0},{"$f":"SUMIFS(Calcs!AG:AG,Calcs!$U:$U,$C86,Calcs!$C:$C,$D86)","v":0},{"$f":"SUMIFS(Calcs!AH:AH,Calcs!$U:$U,$C86,Calcs!$C:$C,$D86)","v":0},{"$f":"SUMIFS(Calcs!AI:AI,Calcs!$U:$U,$C86,Calcs!$C:$C,$D86)","v":0},{"$f":"SUMIFS(Calcs!AJ:AJ,Calcs!$U:$U,$C86,Calcs!$C:$C,$D86)","v":0},{"$f":"SUMIFS(Calcs!AK:AK,Calcs!$U:$U,$C86,Calcs!$C:$C,$D86)","v":0}]
[null,null,"in_state_wind_north","Development",{"$f":"SUMIFS(Calcs!Z:Z,Calcs!$U:$U,$C87,Calcs!$C:$C,$D87)","v":0},{"$f":"SUMIFS(Calcs!AA:AA,Calcs!$U:$U,$C87,Calcs!$C:$C,$D87)","v":0},{"$f":"SUMIFS(Calcs!AB:AB,Calcs!$U:$U,$C87,Calcs!$C:$C,$D87)","v":0},{"$f":"SUMIFS(Calcs!AC:AC,Calcs!$U:$U,$C87,Calcs!$C:$C,$D87)","v":0},{"$f":"SUMIFS(Calcs!AD:AD,Calcs!$U:$U,$C87,Calcs!$C:$C,$D87)","v":0},{"$f":"SUMIFS(Calcs!AE:AE,Calcs!$U:$U,$C87,Calcs!$C:$C,$D87)","v":0},{"$f":"SUMIFS(Calcs!AF:AF,Calcs!$U:$U,$C87,Calcs!$C:$C,$D87)","v":0},{"$f":"SUMIFS(Calcs!AG:AG,Calcs!$U:$U,$C87,Calcs!$C:$C,$D87)","v":0},{"$f":"SUMIFS(Calcs!AH:AH,Calcs!$U:$U,$C87,Calcs!$C:$C,$D87)","v":0},{"$f":"SUMIFS(Calcs!AI:AI,Calcs!$U:$U,$C87,Calcs!$C:$C,$D87)","v":0},{"$f":"SUMIFS(Calcs!AJ:AJ,Calcs!$U:$U,$C87,Calcs!$C:$C,$D87)","v":0},{"$f":"SUMIFS(Calcs!AK:AK,Calcs!$U:$U,$C87,Calcs!$C:$C,$D87)","v":0}]
[null,null,"out_of_state_wind_WYID","Development",{"$f":"SUMIFS(Calcs!Z:Z,Calcs!$U:$U,$C88,Calcs!$C:$C,$D88)","v":0},{"$f":"SUMIFS(Calcs!AA:AA,Calcs!$U:$U,$C88,Calcs!$C:$C,$D88)","v":0},{"$f":"SUMIFS(Calcs!AB:AB,Calcs!$U:$U,$C88,Calcs!$C:$C,$D88)","v":0},{"$f":"SUMIFS(Calcs!AC:AC,Calcs!$U:$U,$C88,Calcs!$C:$C,$D88)","v":0},{"$f":"SUMIFS(Calcs!AD:AD,Calcs!$U:$U,$C88,Calcs!$C:$C,$D88)","v":0},{"$f":"SUMIFS(Calcs!AE:AE,Calcs!$U:$U,$C88,Calcs!$C:$C,$D88)","v":0},{"$f":"SUMIFS(Calcs!AF:AF,Calcs!$U:$U,$C88,Calcs!$C:$C,$D88)","v":0},{"$f":"SUMIFS(Calcs!AG:AG,Calcs!$U:$U,$C88,Calcs!$C:$C,$D88)","v":0},{"$f":"SUMIFS(Calcs!AH:AH,Calcs!$U:$U,$C88,Calcs!$C:$C,$D88)","v":0},{"$f":"SUMIFS(Calcs!AI:AI,Calcs!$U:$U,$C88,Calcs!$C:$C,$D88)","v":0},{"$f":"SUMIFS(Calcs!AJ:AJ,Calcs!$U:$U,$C88,Calcs!$C:$C,$D88)","v":0},{"$f":"SUMIFS(Calcs!AK:AK,Calcs!$U:$U,$C88,Calcs!$C:$C,$D88)","v":0}]
[null,null,"out_of_state_wind_WAOR","Development",{"$f":"SUMIFS(Calcs!Z:Z,Calcs!$U:$U,$C89,Calcs!$C:$C,$D89)","v":0},{"$f":"SUMIFS(Calcs!AA:AA,Calcs!$U:$U,$C89,Calcs!$C:$C,$D89)","v":0},{"$f":"SUMIFS(Calcs!AB:AB,Calcs!$U:$U,$C89,Calcs!$C:$C,$D89)","v":0},{"$f":"SUMIFS(Calcs!AC:AC,Calcs!$U:$U,$C89,Calcs!$C:$C,$D89)","v":0},{"$f":"SUMIFS(Calcs!AD:AD,Calcs!$U:$U,$C89,Calcs!$C:$C,$D89)","v":0},{"$f":"SUMIFS(Calcs!AE:AE,Calcs!$U:$U,$C89,Calcs!$C:$C,$D89)","v":0},{"$f":"SUMIFS(Calcs!AF:AF,Calcs!$U:$U,$C89,Calcs!$C:$C,$D89)","v":0},{"$f":"SUMIFS(Calcs!AG:AG,Calcs!$U:$U,$C89,Calcs!$C:$C,$D89)","v":0},{"$f":"SUMIFS(Calcs!AH:AH,Calcs!$U:$U,$C89,Calcs!$C:$C,$D89)","v":0},{"$f":"SUMIFS(Calcs!AI:AI,Calcs!$U:$U,$C89,Calcs!$C:$C,$D89)","v":0},{"$f":"SUMIFS(Calcs!AJ:AJ,Calcs!$U:$U,$C89,Calcs!$C:$C,$D89)","v":0},{"$f":"SUMIFS(Calcs!AK:AK,Calcs!$U:$U,$C89,Calcs!$C:$C,$D89)","v":0}]
[null,null,"out_of_state_wind_AZNM","Development",{"$f":"SUMIFS(Calcs!Z:Z,Calcs!$U:$U,$C90,Calcs!$C:$C,$D90)","v":0},{"$f":"SUMIFS(Calcs!AA:AA,Calcs!$U:$U,$C90,Calcs!$C:$C,$D90)","v":0},{"$f":"SUMIFS(Calcs!AB:AB,Calcs!$U:$U,$C90,Calcs!$C:$C,$D90)","v":0},{"$f":"SUMIFS(Calcs!AC:AC,Calcs!$U:$U,$C90,Calcs!$C:$C,$D90)","v":0},{"$f":"SUMIFS(Calcs!AD:AD,Calcs!$U:$U,$C90,Calcs!$C:$C,$D90)","v":0},{"$f":"SUMIFS(Calcs!AE:AE,Calcs!$U:$U,$C90,Calcs!$C:$C,$D90)","v":0},{"$f":"SUMIFS(Calcs!AF:AF,Calcs!$U:$U,$C90,Calcs!$C:$C,$D90)","v":0},{"$f":"SUMIFS(Calcs!AG:AG,Calcs!$U:$U,$C90,Calcs!$C:$C,$D90)","v":0},{"$f":"SUMIFS(Calcs!AH:AH,Calcs!$U:$U,$C90,Calcs!$C:$C,$D90)","v":0},{"$f":"SUMIFS(Calcs!AI:AI,Calcs!$U:$U,$C90,Calcs!$C:$C,$D90)","v":0},{"$f":"SUMIFS(Calcs!AJ:AJ,Calcs!$U:$U,$C90,Calcs!$C:$C,$D90)","v":0},{"$f":"SUMIFS(Calcs!AK:AK,Calcs!$U:$U,$C90,Calcs!$C:$C,$D90)","v":0}]
[null,null,"offshore_wind","Development",{"$f":"SUMIFS(Calcs!Z:Z,Calcs!$U:$U,$C91,Calcs!$C:$C,$D91)","v":0},{"$f":"SUMIFS(Calcs!AA:AA,Calcs!$U:$U,$C91,Calcs!$C:$C,$D91)","v":0},{"$f":"SUMIFS(Calcs!AB:AB,Calcs!$U:$U,$C91,Calcs!$C:$C,$D91)","v":0},{"$f":"SUMIFS(Calcs!AC:AC,Calcs!$U:$U,$C91,Calcs!$C:$C,$D91)","v":0},{"$f":"SUMIFS(Calcs!AD:AD,Calcs!$U:$U,$C91,Calcs!$C:$C,$D91)","v":0},{"$f":"SUMIFS(Calcs!AE:AE,Calcs!$U:$U,$C91,Calcs!$C:$C,$D91)","v":0},{"$f":"SUMIFS(Calcs!AF:AF,Calcs!$U:$U,$C91,Calcs!$C:$C,$D91)","v":0},{"$f":"SUMIFS(Calcs!AG:AG,Calcs!$U:$U,$C91,Calcs!$C:$C,$D91)","v":0},{"$f":"SUMIFS(Calcs!AH:AH,Calcs!$U:$U,$C91,Calcs!$C:$C,$D91)","v":0},{"$f":"SUMIFS(Calcs!AI:AI,Calcs!$U:$U,$C91,Calcs!$C:$C,$D91)","v":0},{"$f":"SUMIFS(Calcs!AJ:AJ,Calcs!$U:$U,$C91,Calcs!$C:$C,$D91)","v":0},{"$f":"SUMIFS(Calcs!AK:AK,Calcs!$U:$U,$C91,Calcs!$C:$C,$D91)","v":0}]
[null,null,"utility_pv","Development",{"$f":"SUMIFS(Calcs!Z:Z,Calcs!$U:$U,$C92,Calcs!$C:$C,$D92)","v":0},{"$f":"SUMIFS(Calcs!AA:AA,Calcs!$U:$U,$C92,Calcs!$C:$C,$D92)","v":0},{"$f":"SUMIFS(Calcs!AB:AB,Calcs!$U:$U,$C92,Calcs!$C:$C,$D92)","v":0},{"$f":"SUMIFS(Calcs!AC:AC,Calcs!$U:$U,$C92,Calcs!$C:$C,$D92)","v":0},{"$f":"SUMIFS(Calcs!AD:AD,Calcs!$U:$U,$C92,Calcs!$C:$C,$D92)","v":0},{"$f":"SUMIFS(Calcs!AE:AE,Calcs!$U:$U,$C92,Calcs!$C:$C,$D92)","v":0},{"$f":"SUMIFS(Calcs!AF:AF,Calcs!$U:$U,$C92,Calcs!$C:$C,$D92)","v":0},{"$f":"SUMIFS(Calcs!AG:AG,Calcs!$U:$U,$C92,Calcs!$C:$C,$D92)","v":0},{"$f":"SUMIFS(Calcs!AH:AH,Calcs!$U:$U,$C92,Calcs!$C:$C,$D92)","v":0},{"$f":"SUMIFS(Calcs!AI:AI,Calcs!$U:$U,$C92,Calcs!$C:$C,$D92)","v":0},{"$f":"SUMIFS(Calcs!AJ:AJ,Calcs!$U:$U,$C92,Calcs!$C:$C,$D92)","v":0},{"$f":"SUMIFS(Calcs!AK:AK,Calcs!$U:$U,$C92,Calcs!$C:$C,$D92)","v":0}]
[null,null,"btm_pv","Development",{"$f":"SUMIFS(Calcs!Z:Z,Calcs!$U:$U,$C93,Calcs!$C:$C,$D93)","v":0},{"$f":"SUMIFS(Calcs!AA:AA,Calcs!$U:$U,$C93,Calcs!$C:$C,$D93)","v":0},{"$f":"SUMIFS(Calcs!AB:AB,Calcs!$U:$U,$C93,Calcs!$C:$C,$D93)","v":0},{"$f":"SUMIFS(Calcs!AC:AC,Calcs!$U:$U,$C93,Calcs!$C:$C,$D93)","v":0},{"$f":"SUMIFS(Calcs!AD:AD,Calcs!$U:$U,$C93,Calcs!$C:$C,$D93)","v":0},{"$f":"SUMIFS(Calcs!AE:AE,Calcs!$U:$U,$C93,Calcs!$C:$C,$D93)","v":0},{"$f":"SUMIFS(Calcs!AF:AF,Calcs!$U:$U,$C93,Calcs!$C:$C,$D93)","v":0},{"$f":"SUMIFS(Calcs!AG:AG,Calcs!$U:$U,$C93,Calcs!$C:$C,$D93)","v":0},{"$f":"SUMIFS(Calcs!AH:AH,Calcs!$U:$U,$C93,Calcs!$C:$C,$D93)","v":0},{"$f":"SUMIFS(Calcs!AI:AI,Calcs!$U:$U,$C93,Calcs!$C:$C,$D93)","v":0},{"$f":"SUMIFS(Calcs!AJ:AJ,Calcs!$U:$U,$C93,Calcs!$C:$C,$D93)","v":0},{"$f":"SUMIFS(Calcs!AK:AK,Calcs!$U:$U,$C93,Calcs!$C:$C,$D93)","v":0}]
[null,null,"4hr_batteries","Development",{"$f":"SUMIFS(Calcs!Z:Z,Calcs!$U:$U,$C94,Calcs!$C:$C,$D94)","v":2.1947999999999999E-2},{"$f":"SUMIFS(Calcs!AA:AA,Calcs!$U:$U,$C94,Calcs!$C:$C,$D94)","v":1.6991471999999999},{"$f":"SUMIFS(Calcs!AB:AB,Calcs!$U:$U,$C94,Calcs!$C:$C,$D94)","v":1.7302464},{"$f":"SUMIFS(Calcs!AC:AC,Calcs!$U:$U,$C94,Calcs!$C:$C,$D94)","v":1.5935984000000001},{"$f":"SUMIFS(Calcs!AD:AD,Calcs!$U:$U,$C94,Calcs!$C:$C,$D94)","v":1.4569503999999998},{"$f":"SUMIFS(Calcs!AE:AE,Calcs!$U:$U,$C94,Calcs!$C:$C,$D94)","v":1.4305631999999999},{"$f":"SUMIFS(Calcs!AF:AF,Calcs!$U:$U,$C94,Calcs!$C:$C,$D94)","v":1.4041759999999999},{"$f":"SUMIFS(Calcs!AG:AG,Calcs!$U:$U,$C94,Calcs!$C:$C,$D94)","v":1.2745017599999999},{"$f":"SUMIFS(Calcs!AH:AH,Calcs!$U:$U,$C94,Calcs!$C:$C,$D94)","v":1.14482752},{"$f":"SUMIFS(Calcs!AI:AI,Calcs!$U:$U,$C94,Calcs!$C:$C,$D94)","v":1.01515328},{"$f":"SUMIFS(Calcs!AJ:AJ,Calcs!$U:$U,$C94,Calcs!$C:$C,$D94)","v":0.88547904000000011},{"$f":"SUMIFS(Calcs!AK:AK,Calcs!$U:$U,$C94,Calcs!$C:$C,$D94)","v":0.75580479999999994}]
[null,null,"5hr_batteries","Development",{"$f":"SUMIFS(Calcs!Z:Z,Calcs!$U:$U,$C95,Calcs!$C:$C,$D95)","v":0},{"$f":"SUMIFS(Calcs!AA:AA,Calcs!$U:$U,$C95,Calcs!$C:$C,$D95)","v":0},{"$f":"SUMIFS(Calcs!AB:AB,Calcs!$U:$U,$C95,Calcs!$C:$C,$D95)","v":0},{"$f":"SUMIFS(Calcs!AC:AC,Calcs!$U:$U,$C95,Calcs!$C:$C,$D95)","v":0},{"$f":"SUMIFS(Calcs!AD:AD,Calcs!$U:$U,$C95,Calcs!$C:$C,$D95)","v":0},{"$f":"SUMIFS(Calcs!AE:AE,Calcs!$U:$U,$C95,Calcs!$C:$C,$D95)","v":0},{"$f":"SUMIFS(Calcs!AF:AF,Calcs!$U:$U,$C95,Calcs!$C:$C,$D95)","v":0},{"$f":"SUMIFS(Calcs!AG:AG,Calcs!$U:$U,$C95,Calcs!$C:$C,$D95)","v":0},{"$f":"SUMIFS(Calcs!AH:AH,Calcs!$U:$U,$C95,Calcs!$C:$C,$D95)","v":0},{"$f":"SUMIFS(Calcs!AI:AI,Calcs!$U:$U,$C95,Calcs!$C:$C,$D95)","v":0},{"$f":"SUMIFS(Calcs!AJ:AJ,Calcs!$U:$U,$C95,Calcs!$C:$C,$D95)","v":0},{"$f":"SUMIFS(Calcs!AK:AK,Calcs!$U:$U,$C95,Calcs!$C:$C,$D95)","v":0}]
[null,null,"6hr_batteries","Development",{"$f":"SUMIFS(Calcs!Z:Z,Calcs!$U:$U,$C96,Calcs!$C:$C,$D96)","v":0},{"$f":"SUMIFS(Calcs!AA:AA,Calcs!$U:$U,$C96,Calcs!$C:$C,$D96)","v":0},{"$f":"SUMIFS(Calcs!AB:AB,Calcs!$U:$U,$C96,Calcs!$C:$C,$D96)","v":0},{"$f":"SUMIFS(Calcs!AC:AC,Calcs!$U:$U,$C96,Calcs!$C:$C,$D96)","v":0},{"$f":"SUMIFS(Calcs!AD:AD,Calcs!$U:$U,$C96,Calcs!$C:$C,$D96)","v":0},{"$f":"SUMIFS(Calcs!AE:AE,Calcs!$U:$U,$C96,Calcs!$C:$C,$D96)","v":0},{"$f":"SUMIFS(Calcs!AF:AF,Calcs!$U:$U,$C96,Calcs!$C:$C,$D96)","v":0},{"$f":"SUMIFS(Calcs!AG:AG,Calcs!$U:$U,$C96,Calcs!$C:$C,$D96)","v":0},{"$f":"SUMIFS(Calcs!AH:AH,Calcs!$U:$U,$C96,Calcs!$C:$C,$D96)","v":0},{"$f":"SUMIFS(Calcs!AI:AI,Calcs!$U:$U,$C96,Calcs!$C:$C,$D96)","v":0},{"$f":"SUMIFS(Calcs!AJ:AJ,Calcs!$U:$U,$C96,Calcs!$C:$C,$D96)","v":0},{"$f":"SUMIFS(Calcs!AK:AK,Calcs!$U:$U,$C96,Calcs!$C:$C,$D96)","v":0}]
[null,null,"7hr_batteries","Development",{"$f":"SUMIFS(Calcs!Z:Z,Calcs!$U:$U,$C97,Calcs!$C:$C,$D97)","v":0},{"$f":"SUMIFS(Calcs!AA:AA,Calcs!$U:$U,$C97,Calcs!$C:$C,$D97)","v":0},{"$f":"SUMIFS(Calcs!AB:AB,Calcs!$U:$U,$C97,Calcs!$C:$C,$D97)","v":0},{"$f":"SUMIFS(Calcs!AC:AC,Calcs!$U:$U,$C97,Calcs!$C:$C,$D97)","v":0},{"$f":"SUMIFS(Calcs!AD:AD,Calcs!$U:$U,$C97,Calcs!$C:$C,$D97)","v":0},{"$f":"SUMIFS(Calcs!AE:AE,Calcs!$U:$U,$C97,Calcs!$C:$C,$D97)","v":0},{"$f":"SUMIFS(Calcs!AF:AF,Calcs!$U:$U,$C97,Calcs!$C:$C,$D97)","v":0},{"$f":"SUMIFS(Calcs!AG:AG,Calcs!$U:$U,$C97,Calcs!$C:$C,$D97)","v":0},{"$f":"SUMIFS(Calcs!AH:AH,Calcs!$U:$U,$C97,Calcs!$C:$C,$D97)","v":0},{"$f":"SUMIFS(Calcs!AI:AI,Calcs!$U:$U,$C97,Calcs!$C:$C,$D97)","v":0},{"$f":"SUMIFS(Calcs!AJ:AJ,Calcs!$U:$U,$C97,Calcs!$C:$C,$D97)","v":0},{"$f":"SUMIFS(Calcs!AK:AK,Calcs!$U:$U,$C97,Calcs!$C:$C,$D97)","v":0}]
[null,null,"8hr_batteries","Development",{"$f":"SUMIFS(Calcs!Z:Z,Calcs!$U:$U,$C98,Calcs!$C:$C,$D98)","v":0},{"$f":"SUMIFS(Calcs!AA:AA,Calcs!$U:$U,$C98,Calcs!$C:$C,$D98)","v":7.9074799999999996},{"$f":"SUMIFS(Calcs!AB:AB,Calcs!$U:$U,$C98,Calcs!$C:$C,$D98)","v":16.386600000000001},{"$f":"SUMIFS(Calcs!AC:AC,Calcs!$U:$U,$C98,Calcs!$C:$C,$D98)","v":15.84038},{"$f":"SUMIFS(Calcs!AD:AD,Calcs!$U:$U,$C98,Calcs!$C:$C,$D98)","v":15.294159999999998},{"$f":"SUMIFS(Calcs!AE:AE,Calcs!$U:$U,$C98,Calcs!$C:$C,$D98)","v":15.10915},{"$f":"SUMIFS(Calcs!AF:AF,Calcs!$U:$U,$C98,Calcs!$C:$C,$D98)","v":14.924139999999998},{"$f":"SUMIFS(Calcs!AG:AG,Calcs!$U:$U,$C98,Calcs!$C:$C,$D98)","v":14.392015999999998},{"$f":"SUMIFS(Calcs!AH:AH,Calcs!$U:$U,$C98,Calcs!$C:$C,$D98)","v":13.859891999999999},{"$f":"SUMIFS(Calcs!AI:AI,Calcs!$U:$U,$C98,Calcs!$C:$C,$D98)","v":13.327767999999999},{"$f":"SUMIFS(Calcs!AJ:AJ,Calcs!$U:$U,$C98,Calcs!$C:$C,$D98)","v":12.795643999999999},{"$f":"SUMIFS(Calcs!AK:AK,Calcs!$U:$U,$C98,Calcs!$C:$C,$D98)","v":12.26352}]
[null,null,"pumped_storage","Development",{"$f":"SUMIFS(Calcs!Z:Z,Calcs!$U:$U,$C99,Calcs!$C:$C,$D99)","v":0},{"$f":"SUMIFS(Calcs!AA:AA,Calcs!$U:$U,$C99,Calcs!$C:$C,$D99)","v":0},{"$f":"SUMIFS(Calcs!AB:AB,Calcs!$U:$U,$C99,Calcs!$C:$C,$D99)","v":0},{"$f":"SUMIFS(Calcs!AC:AC,Calcs!$U:$U,$C99,Calcs!$C:$C,$D99)","v":0},{"$f":"SUMIFS(Calcs!AD:AD,Calcs!$U:$U,$C99,Calcs!$C:$C,$D99)","v":0},{"$f":"SUMIFS(Calcs!AE:AE,Calcs!$U:$U,$C99,Calcs!$C:$C,$D99)","v":0},{"$f":"SUMIFS(Calcs!AF:AF,Calcs!$U:$U,$C99,Calcs!$C:$C,$D99)","v":0},{"$f":"SUMIFS(Calcs!AG:AG,Calcs!$U:$U,$C99,Calcs!$C:$C,$D99)","v":0},{"$f":"SUMIFS(Calcs!AH:AH,Calcs!$U:$U,$C99,Calcs!$C:$C,$D99)","v":0},{"$f":"SUMIFS(Calcs!AI:AI,Calcs!$U:$U,$C99,Calcs!$C:$C,$D99)","v":0},{"$f":"SUMIFS(Calcs!AJ:AJ,Calcs!$U:$U,$C99,Calcs!$C:$C,$D99)","v":0},{"$f":"SUMIFS(Calcs!AK:AK,Calcs!$U:$U,$C99,Calcs!$C:$C,$D99)","v":0}]
[null,null,"demand_response","Development",{"$f":"SUMIFS(Calcs!Z:Z,Calcs!$U:$U,$C100,Calcs!$C:$C,$D100)","v":0},{"$f":"SUMIFS(Calcs!AA:AA,Calcs!$U:$U,$C100,Calcs!$C:$C,$D100)","v":0},{"$f":"SUMIFS(Calcs!AB:AB,Calcs!$U:$U,$C100,Calcs!$C:$C,$D100)","v":0},{"$f":"SUMIFS(Calcs!AC:AC,Calcs!$U:$U,$C100,Calcs!$C:$C,$D100)","v":0},{"$f":"SUMIFS(Calcs!AD:AD,Calcs!$U:$U,$C100,Calcs!$C:$C,$D100)","v":0},{"$f":"SUMIFS(Calcs!AE:AE,Calcs!$U:$U,$C100,Calcs!$C:$C,$D100)","v":0},{"$f":"SUMIFS(Calcs!AF:AF,Calcs!$U:$U,$C100,Calcs!$C:$C,$D100)","v":0},{"$f":"SUMIFS(Calcs!AG:AG,Calcs!$U:$U,$C100,Calcs!$C:$C,$D100)","v":0},{"$f":"SUMIFS(Calcs!AH:AH,Calcs!$U:$U,$C100,Calcs!$C:$C,$D100)","v":0},{"$f":"SUMIFS(Calcs!AI:AI,Calcs!$U:$U,$C100,Calcs!$C:$C,$D100)","v":0},{"$f":"SUMIFS(Calcs!AJ:AJ,Calcs!$U:$U,$C100,Calcs!$C:$C,$D100)","v":0},{"$f":"SUMIFS(Calcs!AK:AK,Calcs!$U:$U,$C100,Calcs!$C:$C,$D100)","v":0}]
[null,null,"hydro","Development",{"$f":"SUMIFS(Calcs!Z:Z,Calcs!$U:$U,$C101,Calcs!$C:$C,$D101)","v":0},{"$f":"SUMIFS(Calcs!AA:AA,Calcs!$U:$U,$C101,Calcs!$C:$C,$D101)","v":0},{"$f":"SUMIFS(Calcs!AB:AB,Calcs!$U:$U,$C101,Calcs!$C:$C,$D101)","v":0},{"$f":"SUMIFS(Calcs!AC:AC,Calcs!$U:$U,$C101,Calcs!$C:$C,$D101)","v":0},{"$f":"SUMIFS(Calcs!AD:AD,Calcs!$U:$U,$C101,Calcs!$C:$C,$D101)","v":0},{"$f":"SUMIFS(Calcs!AE:AE,Calcs!$U:$U,$C101,Calcs!$C:$C,$D101)","v":0},{"$f":"SUMIFS(Calcs!AF:AF,Calcs!$U:$U,$C101,Calcs!$C:$C,$D101)","v":0},{"$f":"SUMIFS(Calcs!AG:AG,Calcs!$U:$U,$C101,Calcs!$C:$C,$D101)","v":0},{"$f":"SUMIFS(Calcs!AH:AH,Calcs!$U:$U,$C101,Calcs!$C:$C,$D101)","v":0},{"$f":"SUMIFS(Calcs!AI:AI,Calcs!$U:$U,$C101,Calcs!$C:$C,$D101)","v":0},{"$f":"SUMIFS(Calcs!AJ:AJ,Calcs!$U:$U,$C101,Calcs!$C:$C,$D101)","v":0},{"$f":"SUMIFS(Calcs!AK:AK,Calcs!$U:$U,$C101,Calcs!$C:$C,$D101)","v":0}]
[null,null,"small_hydro","Development",{"$f":"SUMIFS(Calcs!Z:Z,Calcs!$U:$U,$C102,Calcs!$C:$C,$D102)","v":0},{"$f":"SUMIFS(Calcs!AA:AA,Calcs!$U:$U,$C102,Calcs!$C:$C,$D102)","v":0},{"$f":"SUMIFS(Calcs!AB:AB,Calcs!$U:$U,$C102,Calcs!$C:$C,$D102)","v":0},{"$f":"SUMIFS(Calcs!AC:AC,Calcs!$U:$U,$C102,Calcs!$C:$C,$D102)","v":0},{"$f":"SUMIFS(Calcs!AD:AD,Calcs!$U:$U,$C102,Calcs!$C:$C,$D102)","v":0},{"$f":"SUMIFS(Calcs!AE:AE,Calcs!$U:$U,$C102,Calcs!$C:$C,$D102)","v":0},{"$f":"SUMIFS(Calcs!AF:AF,Calcs!$U:$U,$C102,Calcs!$C:$C,$D102)","v":0},{"$f":"SUMIFS(Calcs!AG:AG,Calcs!$U:$U,$C102,Calcs!$C:$C,$D102)","v":0},{"$f":"SUMIFS(Calcs!AH:AH,Calcs!$U:$U,$C102,Calcs!$C:$C,$D102)","v":0},{"$f":"SUMIFS(Calcs!AI:AI,Calcs!$U:$U,$C102,Calcs!$C:$C,$D102)","v":0},{"$f":"SUMIFS(Calcs!AJ:AJ,Calcs!$U:$U,$C102,Calcs!$C:$C,$D102)","v":0},{"$f":"SUMIFS(Calcs!AK:AK,Calcs!$U:$U,$C102,Calcs!$C:$C,$D102)","v":0}]
[null,null,"geothermal","Development",1.3141495604093258,6.6639596191122905,11.770261895377441,14.124394966785598,14.395980373263336,14.322870394680887,14.249760416098438,14.362896274796743,14.476032133495048,14.589167992193357,14.702303850891662,14.81543970958997]
[null,null,"biomass_wood","Development",{"$f":"SUMIFS(Calcs!Z:Z,Calcs!$U:$U,$C104,Calcs!$C:$C,$D104)","v":0},{"$f":"SUMIFS(Calcs!AA:AA,Calcs!$U:$U,$C104,Calcs!$C:$C,$D104)","v":0},{"$f":"SUMIFS(Calcs!AB:AB,Calcs!$U:$U,$C104,Calcs!$C:$C,$D104)","v":0},{"$f":"SUMIFS(Calcs!AC:AC,Calcs!$U:$U,$C104,Calcs!$C:$C,$D104)","v":0},{"$f":"SUMIFS(Calcs!AD:AD,Calcs!$U:$U,$C104,Calcs!$C:$C,$D104)","v":0},{"$f":"SUMIFS(Calcs!AE:AE,Calcs!$U:$U,$C104,Calcs!$C:$C,$D104)","v":0},{"$f":"SUMIFS(Calcs!AF:AF,Calcs!$U:$U,$C104,Calcs!$C:$C,$D104)","v":0},{"$f":"SUMIFS(Calcs!AG:AG,Calcs!$U:$U,$C104,Calcs!$C:$C,$D104)","v":0},{"$f":"SUMIFS(Calcs!AH:AH,Calcs!$U:$U,$C104,Calcs!$C:$C,$D104)","v":0},{"$f":"SUMIFS(Calcs!AI:AI,Calcs!$U:$U,$C104,Calcs!$C:$C,$D104)","v":0},{"$f":"SUMIFS(Calcs!AJ:AJ,Calcs!$U:$U,$C104,Calcs!$C:$C,$D104)","v":0},{"$f":"SUMIFS(Calcs!AK:AK,Calcs!$U:$U,$C104,Calcs!$C:$C,$D104)","v":0}]
[null,null,"biogas","Development",{"$f":"SUMIFS(Calcs!Z:Z,Calcs!$U:$U,$C105,Calcs!$C:$C,$D105)","v":0},{"$f":"SUMIFS(Calcs!AA:AA,Calcs!$U:$U,$C105,Calcs!$C:$C,$D105)","v":0},{"$f":"SUMIFS(Calcs!AB:AB,Calcs!$U:$U,$C105,Calcs!$C:$C,$D105)","v":0},{"$f":"SUMIFS(Calcs!AC:AC,Calcs!$U:$U,$C105,Calcs!$C:$C,$D105)","v":0},{"$f":"SUMIFS(Calcs!AD:AD,Calcs!$U:$U,$C105,Calcs!$C:$C,$D105)","v":0},{"$f":"SUMIFS(Calcs!AE:AE,Calcs!$U:$U,$C105,Calcs!$C:$C,$D105)","v":0},{"$f":"SUMIFS(Calcs!AF:AF,Calcs!$U:$U,$C105,Calcs!$C:$C,$D105)","v":0},{"$f":"SUMIFS(Calcs!AG:AG,Calcs!$U:$U,$C105,Calcs!$C:$C,$D105)","v":0},{"$f":"SUMIFS(Calcs!AH:AH,Calcs!$U:$U,$C105,Calcs!$C:$C,$D105)","v":0},{"$f":"SUMIFS(Calcs!AI:AI,Calcs!$U:$U,$C105,Calcs!$C:$C,$D105)","v":0},{"$f":"SUMIFS(Calcs!AJ:AJ,Calcs!$U:$U,$C105,Calcs!$C:$C,$D105)","v":0},{"$f":"SUMIFS(Calcs!AK:AK,Calcs!$U:$U,$C105,Calcs!$C:$C,$D105)","v":0}]
[null,null,"nuclear","Development",{"$f":"SUMIFS(Calcs!Z:Z,Calcs!$U:$U,$C106,Calcs!$C:$C,$D106)","v":0},{"$f":"SUMIFS(Calcs!AA:AA,Calcs!$U:$U,$C106,Calcs!$C:$C,$D106)","v":0},{"$f":"SUMIFS(Calcs!AB:AB,Calcs!$U:$U,$C106,Calcs!$C:$C,$D106)","v":0},{"$f":"SUMIFS(Calcs!AC:AC,Calcs!$U:$U,$C106,Calcs!$C:$C,$D106)","v":0},{"$f":"SUMIFS(Calcs!AD:AD,Calcs!$U:$U,$C106,Calcs!$C:$C,$D106)","v":0},{"$f":"SUMIFS(Calcs!AE:AE,Calcs!$U:$U,$C106,Calcs!$C:$C,$D106)","v":0},{"$f":"SUMIFS(Calcs!AF:AF,Calcs!$U:$U,$C106,Calcs!$C:$C,$D106)","v":0},{"$f":"SUMIFS(Calcs!AG:AG,Calcs!$U:$U,$C106,Calcs!$C:$C,$D106)","v":0},{"$f":"SUMIFS(Calcs!AH:AH,Calcs!$U:$U,$C106,Calcs!$C:$C,$D106)","v":0},{"$f":"SUMIFS(Calcs!AI:AI,Calcs!$U:$U,$C106,Calcs!$C:$C,$D106)","v":0},{"$f":"SUMIFS(Calcs!AJ:AJ,Calcs!$U:$U,$C106,Calcs!$C:$C,$D106)","v":0},{"$f":"SUMIFS(Calcs!AK:AK,Calcs!$U:$U,$C106,Calcs!$C:$C,$D106)","v":0}]
[null,null,"gas_cc","Development",{"$f":"SUMIFS(Calcs!Z:Z,Calcs!$U:$U,$C107,Calcs!$C:$C,$D107)","v":0},{"$f":"SUMIFS(Calcs!AA:AA,Calcs!$U:$U,$C107,Calcs!$C:$C,$D107)","v":0},{"$f":"SUMIFS(Calcs!AB:AB,Calcs!$U:$U,$C107,Calcs!$C:$C,$D107)","v":0},{"$f":"SUMIFS(Calcs!AC:AC,Calcs!$U:$U,$C107,Calcs!$C:$C,$D107)","v":0},{"$f":"SUMIFS(Calcs!AD:AD,Calcs!$U:$U,$C107,Calcs!$C:$C,$D107)","v":0},{"$f":"SUMIFS(Calcs!AE:AE,Calcs!$U:$U,$C107,Calcs!$C:$C,$D107)","v":0},{"$f":"SUMIFS(Calcs!AF:AF,Calcs!$U:$U,$C107,Calcs!$C:$C,$D107)","v":0},{"$f":"SUMIFS(Calcs!AG:AG,Calcs!$U:$U,$C107,Calcs!$C:$C,$D107)","v":0},{"$f":"SUMIFS(Calcs!AH:AH,Calcs!$U:$U,$C107,Calcs!$C:$C,$D107)","v":0},{"$f":"SUMIFS(Calcs!AI:AI,Calcs!$U:$U,$C107,Calcs!$C:$C,$D107)","v":0},{"$f":"SUMIFS(Calcs!AJ:AJ,Calcs!$U:$U,$C107,Calcs!$C:$C,$D107)","v":0},{"$f":"SUMIFS(Calcs!AK:AK,Calcs!$U:$U,$C107,Calcs!$C:$C,$D107)","v":0}]
[null,null,"gas_ct","Development",{"$f":"SUMIFS(Calcs!Z:Z,Calcs!$U:$U,$C108,Calcs!$C:$C,$D108)","v":0},{"$f":"SUMIFS(Calcs!AA:AA,Calcs!$U:$U,$C108,Calcs!$C:$C,$D108)","v":0},{"$f":"SUMIFS(Calcs!AB:AB,Calcs!$U:$U,$C108,Calcs!$C:$C,$D108)","v":0},{"$f":"SUMIFS(Calcs!AC:AC,Calcs!$U:$U,$C108,Calcs!$C:$C,$D108)","v":0},{"$f":"SUMIFS(Calcs!AD:AD,Calcs!$U:$U,$C108,Calcs!$C:$C,$D108)","v":0},{"$f":"SUMIFS(Calcs!AE:AE,Calcs!$U:$U,$C108,Calcs!$C:$C,$D108)","v":0},{"$f":"SUMIFS(Calcs!AF:AF,Calcs!$U:$U,$C108,Calcs!$C:$C,$D108)","v":0},{"$f":"SUMIFS(Calcs!AG:AG,Calcs!$U:$U,$C108,Calcs!$C:$C,$D108)","v":0},{"$f":"SUMIFS(Calcs!AH:AH,Calcs!$U:$U,$C108,Calcs!$C:$C,$D108)","v":0},{"$f":"SUMIFS(Calcs!AI:AI,Calcs!$U:$U,$C108,Calcs!$C:$C,$D108)","v":0},{"$f":"SUMIFS(Calcs!AJ:AJ,Calcs!$U:$U,$C108,Calcs!$C:$C,$D108)","v":0},{"$f":"SUMIFS(Calcs!AK:AK,Calcs!$U:$U,$C108,Calcs!$C:$C,$D108)","v":0}]
[null,null,"cogen","Development",{"$f":"SUMIFS(Calcs!Z:Z,Calcs!$U:$U,$C109,Calcs!$C:$C,$D109)","v":0},{"$f":"SUMIFS(Calcs!AA:AA,Calcs!$U:$U,$C109,Calcs!$C:$C,$D109)","v":0},{"$f":"SUMIFS(Calcs!AB:AB,Calcs!$U:$U,$C109,Calcs!$C:$C,$D109)","v":0},{"$f":"SUMIFS(Calcs!AC:AC,Calcs!$U:$U,$C109,Calcs!$C:$C,$D109)","v":0},{"$f":"SUMIFS(Calcs!AD:AD,Calcs!$U:$U,$C109,Calcs!$C:$C,$D109)","v":0},{"$f":"SUMIFS(Calcs!AE:AE,Calcs!$U:$U,$C109,Calcs!$C:$C,$D109)","v":0},{"$f":"SUMIFS(Calcs!AF:AF,Calcs!$U:$U,$C109,Calcs!$C:$C,$D109)","v":0},{"$f":"SUMIFS(Calcs!AG:AG,Calcs!$U:$U,$C109,Calcs!$C:$C,$D109)","v":0},{"$f":"SUMIFS(Calcs!AH:AH,Calcs!$U:$U,$C109,Calcs!$C:$C,$D109)","v":0},{"$f":"SUMIFS(Calcs!AI:AI,Calcs!$U:$U,$C109,Calcs!$C:$C,$D109)","v":0},{"$f":"SUMIFS(Calcs!AJ:AJ,Calcs!$U:$U,$C109,Calcs!$C:$C,$D109)","v":0},{"$f":"SUMIFS(Calcs!AK:AK,Calcs!$U:$U,$C109,Calcs!$C:$C,$D109)","v":0}]
[null,null,"ice","Development",{"$f":"SUMIFS(Calcs!Z:Z,Calcs!$U:$U,$C110,Calcs!$C:$C,$D110)","v":0},{"$f":"SUMIFS(Calcs!AA:AA,Calcs!$U:$U,$C110,Calcs!$C:$C,$D110)","v":0},{"$f":"SUMIFS(Calcs!AB:AB,Calcs!$U:$U,$C110,Calcs!$C:$C,$D110)","v":0},{"$f":"SUMIFS(Calcs!AC:AC,Calcs!$U:$U,$C110,Calcs!$C:$C,$D110)","v":0},{"$f":"SUMIFS(Calcs!AD:AD,Calcs!$U:$U,$C110,Calcs!$C:$C,$D110)","v":0},{"$f":"SUMIFS(Calcs!AE:AE,Calcs!$U:$U,$C110,Calcs!$C:$C,$D110)","v":0},{"$f":"SUMIFS(Calcs!AF:AF,Calcs!$U:$U,$C110,Calcs!$C:$C,$D110)","v":0},{"$f":"SUMIFS(Calcs!AG:AG,Calcs!$U:$U,$C110,Calcs!$C:$C,$D110)","v":0},{"$f":"SUMIFS(Calcs!AH:AH,Calcs!$U:$U,$C110,Calcs!$C:$C,$D110)","v":0},{"$f":"SUMIFS(Calcs!AI:AI,Calcs!$U:$U,$C110,Calcs!$C:$C,$D110)","v":0},{"$f":"SUMIFS(Calcs!AJ:AJ,Calcs!$U:$U,$C110,Calcs!$C:$C,$D110)","v":0},{"$f":"SUMIFS(Calcs!AK:AK,Calcs!$U:$U,$C110,Calcs!$C:$C,$D110)","v":0}]
[null,null,"coal","Development",{"$f":"SUMIFS(Calcs!Z:Z,Calcs!$U:$U,$C111,Calcs!$C:$C,$D111)","v":0},{"$f":"SUMIFS(Calcs!AA:AA,Calcs!$U:$U,$C111,Calcs!$C:$C,$D111)","v":0},{"$f":"SUMIFS(Calcs!AB:AB,Calcs!$U:$U,$C111,Calcs!$C:$C,$D111)","v":0},{"$f":"SUMIFS(Calcs!AC:AC,Calcs!$U:$U,$C111,Calcs!$C:$C,$D111)","v":0},{"$f":"SUMIFS(Calcs!AD:AD,Calcs!$U:$U,$C111,Calcs!$C:$C,$D111)","v":0},{"$f":"SUMIFS(Calcs!AE:AE,Calcs!$U:$U,$C111,Calcs!$C:$C,$D111)","v":0},{"$f":"SUMIFS(Calcs!AF:AF,Calcs!$U:$U,$C111,Calcs!$C:$C,$D111)","v":0},{"$f":"SUMIFS(Calcs!AG:AG,Calcs!$U:$U,$C111,Calcs!$C:$C,$D111)","v":0},{"$f":"SUMIFS(Calcs!AH:AH,Calcs!$U:$U,$C111,Calcs!$C:$C,$D111)","v":0},{"$f":"SUMIFS(Calcs!AI:AI,Calcs!$U:$U,$C111,Calcs!$C:$C,$D111)","v":0},{"$f":"SUMIFS(Calcs!AJ:AJ,Calcs!$U:$U,$C111,Calcs!$C:$C,$D111)","v":0},{"$f":"SUMIFS(Calcs!AK:AK,Calcs!$U:$U,$C111,Calcs!$C:$C,$D111)","v":0}]
[null,null,"steam","Development",{"$f":"SUMIFS(Calcs!Z:Z,Calcs!$U:$U,$C112,Calcs!$C:$C,$D112)","v":0},{"$f":"SUMIFS(Calcs!AA:AA,Calcs!$U:$U,$C112,Calcs!$C:$C,$D112)","v":0},{"$f":"SUMIFS(Calcs!AB:AB,Calcs!$U:$U,$C112,Calcs!$C:$C,$D112)","v":0},{"$f":"SUMIFS(Calcs!AC:AC,Calcs!$U:$U,$C112,Calcs!$C:$C,$D112)","v":0},{"$f":"SUMIFS(Calcs!AD:AD,Calcs!$U:$U,$C112,Calcs!$C:$C,$D112)","v":0},{"$f":"SUMIFS(Calcs!AE:AE,Calcs!$U:$U,$C112,Calcs!$C:$C,$D112)","v":0},{"$f":"SUMIFS(Calcs!AF:AF,Calcs!$U:$U,$C112,Calcs!$C:$C,$D112)","v":0},{"$f":"SUMIFS(Calcs!AG:AG,Calcs!$U:$U,$C112,Calcs!$C:$C,$D112)","v":0},{"$f":"SUMIFS(Calcs!AH:AH,Calcs!$U:$U,$C112,Calcs!$C:$C,$D112)","v":0},{"$f":"SUMIFS(Calcs!AI:AI,Calcs!$U:$U,$C112,Calcs!$C:$C,$D112)","v":0},{"$f":"SUMIFS(Calcs!AJ:AJ,Calcs!$U:$U,$C112,Calcs!$C:$C,$D112)","v":0},{"$f":"SUMIFS(Calcs!AK:AK,Calcs!$U:$U,$C112,Calcs!$C:$C,$D112)","v":0}]
[null,null,"unspecified_import","Development",{"$f":"SUMIFS(Calcs!Z:Z,Calcs!$U:$U,$C113,Calcs!$C:$C,$D113)","v":0},{"$f":"SUMIFS(Calcs!AA:AA,Calcs!$U:$U,$C113,Calcs!$C:$C,$D113)","v":0},{"$f":"SUMIFS(Calcs!AB:AB,Calcs!$U:$U,$C113,Calcs!$C:$C,$D113)","v":0},{"$f":"SUMIFS(Calcs!AC:AC,Calcs!$U:$U,$C113,Calcs!$C:$C,$D113)","v":0},{"$f":"SUMIFS(Calcs!AD:AD,Calcs!$U:$U,$C113,Calcs!$C:$C,$D113)","v":0},{"$f":"SUMIFS(Calcs!AE:AE,Calcs!$U:$U,$C113,Calcs!$C:$C,$D113)","v":0},{"$f":"SUMIFS(Calcs!AF:AF,Calcs!$U:$U,$C113,Calcs!$C:$C,$D113)","v":0},{"$f":"SUMIFS(Calcs!AG:AG,Calcs!$U:$U,$C113,Calcs!$C:$C,$D113)","v":0},{"$f":"SUMIFS(Calcs!AH:AH,Calcs!$U:$U,$C113,Calcs!$C:$C,$D113)","v":0},{"$f":"SUMIFS(Calcs!AI:AI,Calcs!$U:$U,$C113,Calcs!$C:$C,$D113)","v":0},{"$f":"SUMIFS(Calcs!AJ:AJ,Calcs!$U:$U,$C113,Calcs!$C:$C,$D113)","v":0},{"$f":"SUMIFS(Calcs!AK:AK,Calcs!$U:$U,$C113,Calcs!$C:$C,$D113)","v":0}]
[null,null,"hybrid","Review",{"$f":"SUMIFS(Calcs!Z:Z,Calcs!$U:$U,$C114,Calcs!$C:$C,$D114)","v":0},{"$f":"SUMIFS(Calcs!AA:AA,Calcs!$U:$U,$C114,Calcs!$C:$C,$D114)","v":0},{"$f":"SUMIFS(Calcs!AB:AB,Calcs!$U:$U,$C114,Calcs!$C:$C,$D114)","v":0},{"$f":"SUMIFS(Calcs!AC:AC,Calcs!$U:$U,$C114,Calcs!$C:$C,$D114)","v":0},{"$f":"SUMIFS(Calcs!AD:AD,Calcs!$U:$U,$C114,Calcs!$C:$C,$D114)","v":0},{"$f":"SUMIFS(Calcs!AE:AE,Calcs!$U:$U,$C114,Calcs!$C:$C,$D114)","v":0},{"$f":"SUMIFS(Calcs!AF:AF,Calcs!$U:$U,$C114,Calcs!$C:$C,$D114)","v":0},{"$f":"SUMIFS(Calcs!AG:AG,Calcs!$U:$U,$C114,Calcs!$C:$C,$D114)","v":0},{"$f":"SUMIFS(Calcs!AH:AH,Calcs!$U:$U,$C114,Calcs!$C:$C,$D114)","v":0},{"$f":"SUMIFS(Calcs!AI:AI,Calcs!$U:$U,$C114,Calcs!$C:$C,$D114)","v":0},{"$f":"SUMIFS(Calcs!AJ:AJ,Calcs!$U:$U,$C114,Calcs!$C:$C,$D114)","v":0},{"$f":"SUMIFS(Calcs!AK:AK,Calcs!$U:$U,$C114,Calcs!$C:$C,$D114)","v":0}]
[null,null,"in_state_wind_south","Review",{"$f":"SUMIFS(Calcs!Z:Z,Calcs!$U:$U,$C115,Calcs!$C:$C,$D115)","v":0},{"$f":"SUMIFS(Calcs!AA:AA,Calcs!$U:$U,$C115,Calcs!$C:$C,$D115)","v":0},{"$f":"SUMIFS(Calcs!AB:AB,Calcs!$U:$U,$C115,Calcs!$C:$C,$D115)","v":0},{"$f":"SUMIFS(Calcs!AC:AC,Calcs!$U:$U,$C115,Calcs!$C:$C,$D115)","v":0},{"$f":"SUMIFS(Calcs!AD:AD,Calcs!$U:$U,$C115,Calcs!$C:$C,$D115)","v":0},{"$f":"SUMIFS(Calcs!AE:AE,Calcs!$U:$U,$C115,Calcs!$C:$C,$D115)","v":0},{"$f":"SUMIFS(Calcs!AF:AF,Calcs!$U:$U,$C115,Calcs!$C:$C,$D115)","v":0},{"$f":"SUMIFS(Calcs!AG:AG,Calcs!$U:$U,$C115,Calcs!$C:$C,$D115)","v":0},{"$f":"SUMIFS(Calcs!AH:AH,Calcs!$U:$U,$C115,Calcs!$C:$C,$D115)","v":0},{"$f":"SUMIFS(Calcs!AI:AI,Calcs!$U:$U,$C115,Calcs!$C:$C,$D115)","v":0},{"$f":"SUMIFS(Calcs!AJ:AJ,Calcs!$U:$U,$C115,Calcs!$C:$C,$D115)","v":0},{"$f":"SUMIFS(Calcs!AK:AK,Calcs!$U:$U,$C115,Calcs!$C:$C,$D115)","v":0}]
[null,null,"in_state_wind_north","Review",{"$f":"SUMIFS(Calcs!Z:Z,Calcs!$U:$U,$C116,Calcs!$C:$C,$D116)","v":0},{"$f":"SUMIFS(Calcs!AA:AA,Calcs!$U:$U,$C116,Calcs!$C:$C,$D116)","v":0},{"$f":"SUMIFS(Calcs!AB:AB,Calcs!$U:$U,$C116,Calcs!$C:$C,$D116)","v":0},{"$f":"SUMIFS(Calcs!AC:AC,Calcs!$U:$U,$C116,Calcs!$C:$C,$D116)","v":0},{"$f":"SUMIFS(Calcs!AD:AD,Calcs!$U:$U,$C116,Calcs!$C:$C,$D116)","v":0},{"$f":"SUMIFS(Calcs!AE:AE,Calcs!$U:$U,$C116,Calcs!$C:$C,$D116)","v":0},{"$f":"SUMIFS(Calcs!AF:AF,Calcs!$U:$U,$C116,Calcs!$C:$C,$D116)","v":0},{"$f":"SUMIFS(Calcs!AG:AG,Calcs!$U:$U,$C116,Calcs!$C:$C,$D116)","v":0},{"$f":"SUMIFS(Calcs!AH:AH,Calcs!$U:$U,$C116,Calcs!$C:$C,$D116)","v":0},{"$f":"SUMIFS(Calcs!AI:AI,Calcs!$U:$U,$C116,Calcs!$C:$C,$D116)","v":0},{"$f":"SUMIFS(Calcs!AJ:AJ,Calcs!$U:$U,$C116,Calcs!$C:$C,$D116)","v":0},{"$f":"SUMIFS(Calcs!AK:AK,Calcs!$U:$U,$C116,Calcs!$C:$C,$D116)","v":0}]
[null,null,"out_of_state_wind_WYID","Review",{"$f":"SUMIFS(Calcs!Z:Z,Calcs!$U:$U,$C117,Calcs!$C:$C,$D117)","v":0},{"$f":"SUMIFS(Calcs!AA:AA,Calcs!$U:$U,$C117,Calcs!$C:$C,$D117)","v":0},{"$f":"SUMIFS(Calcs!AB:AB,Calcs!$U:$U,$C117,Calcs!$C:$C,$D117)","v":0},{"$f":"SUMIFS(Calcs!AC:AC,Calcs!$U:$U,$C117,Calcs!$C:$C,$D117)","v":0},{"$f":"SUMIFS(Calcs!AD:AD,Calcs!$U:$U,$C117,Calcs!$C:$C,$D117)","v":0},{"$f":"SUMIFS(Calcs!AE:AE,Calcs!$U:$U,$C117,Calcs!$C:$C,$D117)","v":0},{"$f":"SUMIFS(Calcs!AF:AF,Calcs!$U:$U,$C117,Calcs!$C:$C,$D117)","v":0},{"$f":"SUMIFS(Calcs!AG:AG,Calcs!$U:$U,$C117,Calcs!$C:$C,$D117)","v":0},{"$f":"SUMIFS(Calcs!AH:AH,Calcs!$U:$U,$C117,Calcs!$C:$C,$D117)","v":0},{"$f":"SUMIFS(Calcs!AI:AI,Calcs!$U:$U,$C117,Calcs!$C:$C,$D117)","v":0},{"$f":"SUMIFS(Calcs!AJ:AJ,Calcs!$U:$U,$C117,Calcs!$C:$C,$D117)","v":0},{"$f":"SUMIFS(Calcs!AK:AK,Calcs!$U:$U,$C117,Calcs!$C:$C,$D117)","v":0}]
[null,null,"out_of_state_wind_WAOR","Review",{"$f":"SUMIFS(Calcs!Z:Z,Calcs!$U:$U,$C118,Calcs!$C:$C,$D118)","v":0},{"$f":"SUMIFS(Calcs!AA:AA,Calcs!$U:$U,$C118,Calcs!$C:$C,$D118)","v":0},{"$f":"SUMIFS(Calcs!AB:AB,Calcs!$U:$U,$C118,Calcs!$C:$C,$D118)","v":0},{"$f":"SUMIFS(Calcs!AC:AC,Calcs!$U:$U,$C118,Calcs!$C:$C,$D118)","v":0},{"$f":"SUMIFS(Calcs!AD:AD,Calcs!$U:$U,$C118,Calcs!$C:$C,$D118)","v":0},{"$f":"SUMIFS(Calcs!AE:AE,Calcs!$U:$U,$C118,Calcs!$C:$C,$D118)","v":0},{"$f":"SUMIFS(Calcs!AF:AF,Calcs!$U:$U,$C118,Calcs!$C:$C,$D118)","v":0},{"$f":"SUMIFS(Calcs!AG:AG,Calcs!$U:$U,$C118,Calcs!$C:$C,$D118)","v":0},{"$f":"SUMIFS(Calcs!AH:AH,Calcs!$U:$U,$C118,Calcs!$C:$C,$D118)","v":0},{"$f":"SUMIFS(Calcs!AI:AI,Calcs!$U:$U,$C118,Calcs!$C:$C,$D118)","v":0},{"$f":"SUMIFS(Calcs!AJ:AJ,Calcs!$U:$U,$C118,Calcs!$C:$C,$D118)","v":0},{"$f":"SUMIFS(Calcs!AK:AK,Calcs!$U:$U,$C118,Calcs!$C:$C,$D118)","v":0}]
[null,null,"out_of_state_wind_AZNM","Review",{"$f":"SUMIFS(Calcs!Z:Z,Calcs!$U:$U,$C119,Calcs!$C:$C,$D119)","v":0},{"$f":"SUMIFS(Calcs!AA:AA,Calcs!$U:$U,$C119,Calcs!$C:$C,$D119)","v":0},{"$f":"SUMIFS(Calcs!AB:AB,Calcs!$U:$U,$C119,Calcs!$C:$C,$D119)","v":0},{"$f":"SUMIFS(Calcs!AC:AC,Calcs!$U:$U,$C119,Calcs!$C:$C,$D119)","v":0},{"$f":"SUMIFS(Calcs!AD:AD,Calcs!$U:$U,$C119,Calcs!$C:$C,$D119)","v":0},{"$f":"SUMIFS(Calcs!AE:AE,Calcs!$U:$U,$C119,Calcs!$C:$C,$D119)","v":0},{"$f":"SUMIFS(Calcs!AF:AF,Calcs!$U:$U,$C119,Calcs!$C:$C,$D119)","v":0},{"$f":"SUMIFS(Calcs!AG:AG,Calcs!$U:$U,$C119,Calcs!$C:$C,$D119)","v":0},{"$f":"SUMIFS(Calcs!AH:AH,Calcs!$U:$U,$C119,Calcs!$C:$C,$D119)","v":0},{"$f":"SUMIFS(Calcs!AI:AI,Calcs!$U:$U,$C119,Calcs!$C:$C,$D119)","v":0},{"$f":"SUMIFS(Calcs!AJ:AJ,Calcs!$U:$U,$C119,Calcs!$C:$C,$D119)","v":0},{"$f":"SUMIFS(Calcs!AK:AK,Calcs!$U:$U,$C119,Calcs!$C:$C,$D119)","v":0}]
[null,null,"offshore_wind","Review",{"$f":"SUMIFS(Calcs!Z:Z,Calcs!$U:$U,$C120,Calcs!$C:$C,$D120)","v":0},{"$f":"SUMIFS(Calcs!AA:AA,Calcs!$U:$U,$C120,Calcs!$C:$C,$D120)","v":0},{"$f":"SUMIFS(Calcs!AB:AB,Calcs!$U:$U,$C120,Calcs!$C:$C,$D120)","v":0},{"$f":"SUMIFS(Calcs!AC:AC,Calcs!$U:$U,$C120,Calcs!$C:$C,$D120)","v":0},{"$f":"SUMIFS(Calcs!AD:AD,Calcs!$U:$U,$C120,Calcs!$C:$C,$D120)","v":0},{"$f":"SUMIFS(Calcs!AE:AE,Calcs!$U:$U,$C120,Calcs!$C:$C,$D120)","v":0},{"$f":"SUMIFS(Calcs!AF:AF,Calcs!$U:$U,$C120,Calcs!$C:$C,$D120)","v":0},{"$f":"SUMIFS(Calcs!AG:AG,Calcs!$U:$U,$C120,Calcs!$C:$C,$D120)","v":0},{"$f":"SUMIFS(Calcs!AH:AH,Calcs!$U:$U,$C120,Calcs!$C:$C,$D120)","v":0},{"$f":"SUMIFS(Calcs!AI:AI,Calcs!$U:$U,$C120,Calcs!$C:$C,$D120)","v":0},{"$f":"SUMIFS(Calcs!AJ:AJ,Calcs!$U:$U,$C120,Calcs!$C:$C,$D120)","v":0},{"$f":"SUMIFS(Calcs!AK:AK,Calcs!$U:$U,$C120,Calcs!$C:$C,$D120)","v":0}]
[null,null,"utility_pv","Review",{"$f":"SUMIFS(Calcs!Z:Z,Calcs!$U:$U,$C121,Calcs!$C:$C,$D121)","v":0},{"$f":"SUMIFS(Calcs!AA:AA,Calcs!$U:$U,$C121,Calcs!$C:$C,$D121)","v":0},{"$f":"SUMIFS(Calcs!AB:AB,Calcs!$U:$U,$C121,Calcs!$C:$C,$D121)","v":0},{"$f":"SUMIFS(Calcs!AC:AC,Calcs!$U:$U,$C121,Calcs!$C:$C,$D121)","v":0},{"$f":"SUMIFS(Calcs!AD:AD,Calcs!$U:$U,$C121,Calcs!$C:$C,$D121)","v":0},{"$f":"SUMIFS(Calcs!AE:AE,Calcs!$U:$U,$C121,Calcs!$C:$C,$D121)","v":0},{"$f":"SUMIFS(Calcs!AF:AF,Calcs!$U:$U,$C121,Calcs!$C:$C,$D121)","v":0},{"$f":"SUMIFS(Calcs!AG:AG,Calcs!$U:$U,$C121,Calcs!$C:$C,$D121)","v":0},{"$f":"SUMIFS(Calcs!AH:AH,Calcs!$U:$U,$C121,Calcs!$C:$C,$D121)","v":0},{"$f":"SUMIFS(Calcs!AI:AI,Calcs!$U:$U,$C121,Calcs!$C:$C,$D121)","v":0},{"$f":"SUMIFS(Calcs!AJ:AJ,Calcs!$U:$U,$C121,Calcs!$C:$C,$D121)","v":0},{"$f":"SUMIFS(Calcs!AK:AK,Calcs!$U:$U,$C121,Calcs!$C:$C,$D121)","v":0}]
[null,null,"btm_pv","Review",{"$f":"SUMIFS(Calcs!Z:Z,Calcs!$U:$U,$C122,Calcs!$C:$C,$D122)","v":0},{"$f":"SUMIFS(Calcs!AA:AA,Calcs!$U:$U,$C122,Calcs!$C:$C,$D122)","v":0},{"$f":"SUMIFS(Calcs!AB:AB,Calcs!$U:$U,$C122,Calcs!$C:$C,$D122)","v":0},{"$f":"SUMIFS(Calcs!AC:AC,Calcs!$U:$U,$C122,Calcs!$C:$C,$D122)","v":0},{"$f":"SUMIFS(Calcs!AD:AD,Calcs!$U:$U,$C122,Calcs!$C:$C,$D122)","v":0},{"$f":"SUMIFS(Calcs!AE:AE,Calcs!$U:$U,$C122,Calcs!$C:$C,$D122)","v":0},{"$f":"SUMIFS(Calcs!AF:AF,Calcs!$U:$U,$C122,Calcs!$C:$C,$D122)","v":0},{"$f":"SUMIFS(Calcs!AG:AG,Calcs!$U:$U,$C122,Calcs!$C:$C,$D122)","v":0},{"$f":"SUMIFS(Calcs!AH:AH,Calcs!$U:$U,$C122,Calcs!$C:$C,$D122)","v":0},{"$f":"SUMIFS(Calcs!AI:AI,Calcs!$U:$U,$C122,Calcs!$C:$C,$D122)","v":0},{"$f":"SUMIFS(Calcs!AJ:AJ,Calcs!$U:$U,$C122,Calcs!$C:$C,$D122)","v":0},{"$f":"SUMIFS(Calcs!AK:AK,Calcs!$U:$U,$C122,Calcs!$C:$C,$D122)","v":0}]
[null,null,"4hr_batteries","Review",{"$f":"SUMIFS(Calcs!Z:Z,Calcs!$U:$U,$C123,Calcs!$C:$C,$D123)","v":0},{"$f":"SUMIFS(Calcs!AA:AA,Calcs!$U:$U,$C123,Calcs!$C:$C,$D123)","v":0},{"$f":"SUMIFS(Calcs!AB:AB,Calcs!$U:$U,$C123,Calcs!$C:$C,$D123)","v":0},{"$f":"SUMIFS(Calcs!AC:AC,Calcs!$U:$U,$C123,Calcs!$C:$C,$D123)","v":0},{"$f":"SUMIFS(Calcs!AD:AD,Calcs!$U:$U,$C123,Calcs!$C:$C,$D123)","v":0},{"$f":"SUMIFS(Calcs!AE:AE,Calcs!$U:$U,$C123,Calcs!$C:$C,$D123)","v":0},{"$f":"SUMIFS(Calcs!AF:AF,Calcs!$U:$U,$C123,Calcs!$C:$C,$D123)","v":0},{"$f":"SUMIFS(Calcs!AG:AG,Calcs!$U:$U,$C123,Calcs!$C:$C,$D123)","v":0},{"$f":"SUMIFS(Calcs!AH:AH,Calcs!$U:$U,$C123,Calcs!$C:$C,$D123)","v":0},{"$f":"SUMIFS(Calcs!AI:AI,Calcs!$U:$U,$C123,Calcs!$C:$C,$D123)","v":0},{"$f":"SUMIFS(Calcs!AJ:AJ,Calcs!$U:$U,$C123,Calcs!$C:$C,$D123)","v":0},{"$f":"SUMIFS(Calcs!AK:AK,Calcs!$U:$U,$C123,Calcs!$C:$C,$D123)","v":0}]
[null,null,"5hr_batteries","Review",{"$f":"SUMIFS(Calcs!Z:Z,Calcs!$U:$U,$C124,Calcs!$C:$C,$D124)","v":0},{"$f":"SUMIFS(Calcs!AA:AA,Calcs!$U:$U,$C124,Calcs!$C:$C,$D124)","v":0},{"$f":"SUMIFS(Calcs!AB:AB,Calcs!$U:$U,$C124,Calcs!$C:$C,$D124)","v":0},{"$f":"SUMIFS(Calcs!AC:AC,Calcs!$U:$U,$C124,Calcs!$C:$C,$D124)","v":0},{"$f":"SUMIFS(Calcs!AD:AD,Calcs!$U:$U,$C124,Calcs!$C:$C,$D124)","v":0},{"$f":"SUMIFS(Calcs!AE:AE,Calcs!$U:$U,$C124,Calcs!$C:$C,$D124)","v":0},{"$f":"SUMIFS(Calcs!AF:AF,Calcs!$U:$U,$C124,Calcs!$C:$C,$D124)","v":0},{"$f":"SUMIFS(Calcs!AG:AG,Calcs!$U:$U,$C124,Calcs!$C:$C,$D124)","v":0},{"$f":"SUMIFS(Calcs!AH:AH,Calcs!$U:$U,$C124,Calcs!$C:$C,$D124)","v":0},{"$f":"SUMIFS(Calcs!AI:AI,Calcs!$U:$U,$C124,Calcs!$C:$C,$D124)","v":0},{"$f":"SUMIFS(Calcs!AJ:AJ,Calcs!$U:$U,$C124,Calcs!$C:$C,$D124)","v":0},{"$f":"SUMIFS(Calcs!AK:AK,Calcs!$U:$U,$C124,Calcs!$C:$C,$D124)","v":0}]
[null,null,"6hr_batteries","Review",{"$f":"SUMIFS(Calcs!Z:Z,Calcs!$U:$U,$C125,Calcs!$C:$C,$D125)","v":0},{"$f":"SUMIFS(Calcs!AA:AA,Calcs!$U:$U,$C125,Calcs!$C:$C,$D125)","v":0},{"$f":"SUMIFS(Calcs!AB:AB,Calcs!$U:$U,$C125,Calcs!$C:$C,$D125)","v":0},{"$f":"SUMIFS(Calcs!AC:AC,Calcs!$U:$U,$C125,Calcs!$C:$C,$D125)","v":0},{"$f":"SUMIFS(Calcs!AD:AD,Calcs!$U:$U,$C125,Calcs!$C:$C,$D125)","v":0},{"$f":"SUMIFS(Calcs!AE:AE,Calcs!$U:$U,$C125,Calcs!$C:$C,$D125)","v":0},{"$f":"SUMIFS(Calcs!AF:AF,Calcs!$U:$U,$C125,Calcs!$C:$C,$D125)","v":0},{"$f":"SUMIFS(Calcs!AG:AG,Calcs!$U:$U,$C125,Calcs!$C:$C,$D125)","v":0},{"$f":"SUMIFS(Calcs!AH:AH,Calcs!$U:$U,$C125,Calcs!$C:$C,$D125)","v":0},{"$f":"SUMIFS(Calcs!AI:AI,Calcs!$U:$U,$C125,Calcs!$C:$C,$D125)","v":0},{"$f":"SUMIFS(Calcs!AJ:AJ,Calcs!$U:$U,$C125,Calcs!$C:$C,$D125)","v":0},{"$f":"SUMIFS(Calcs!AK:AK,Calcs!$U:$U,$C125,Calcs!$C:$C,$D125)","v":0}]
[null,null,"7hr_batteries","Review",{"$f":"SUMIFS(Calcs!Z:Z,Calcs!$U:$U,$C126,Calcs!$C:$C,$D126)","v":0},{"$f":"SUMIFS(Calcs!AA:AA,Calcs!$U:$U,$C126,Calcs!$C:$C,$D126)","v":0},{"$f":"SUMIFS(Calcs!AB:AB,Calcs!$U:$U,$C126,Calcs!$C:$C,$D126)","v":0},{"$f":"SUMIFS(Calcs!AC:AC,Calcs!$U:$U,$C126,Calcs!$C:$C,$D126)","v":0},{"$f":"SUMIFS(Calcs!AD:AD,Calcs!$U:$U,$C126,Calcs!$C:$C,$D126)","v":0},{"$f":"SUMIFS(Calcs!AE:AE,Calcs!$U:$U,$C126,Calcs!$C:$C,$D126)","v":0},{"$f":"SUMIFS(Calcs!AF:AF,Calcs!$U:$U,$C126,Calcs!$C:$C,$D126)","v":0},{"$f":"SUMIFS(Calcs!AG:AG,Calcs!$U:$U,$C126,Calcs!$C:$C,$D126)","v":0},{"$f":"SUMIFS(Calcs!AH:AH,Calcs!$U:$U,$C126,Calcs!$C:$C,$D126)","v":0},{"$f":"SUMIFS(Calcs!AI:AI,Calcs!$U:$U,$C126,Calcs!$C:$C,$D126)","v":0},{"$f":"SUMIFS(Calcs!AJ:AJ,Calcs!$U:$U,$C126,Calcs!$C:$C,$D126)","v":0},{"$f":"SUMIFS(Calcs!AK:AK,Calcs!$U:$U,$C126,Calcs!$C:$C,$D126)","v":0}]
[null,null,"8hr_batteries","Review",{"$f":"SUMIFS(Calcs!Z:Z,Calcs!$U:$U,$C127,Calcs!$C:$C,$D127)","v":0},{"$f":"SUMIFS(Calcs!AA:AA,Calcs!$U:$U,$C127,Calcs!$C:$C,$D127)","v":0},{"$f":"SUMIFS(Calcs!AB:AB,Calcs!$U:$U,$C127,Calcs!$C:$C,$D127)","v":0},{"$f":"SUMIFS(Calcs!AC:AC,Calcs!$U:$U,$C127,Calcs!$C:$C,$D127)","v":0},{"$f":"SUMIFS(Calcs!AD:AD,Calcs!$U:$U,$C127,Calcs!$C:$C,$D127)","v":0},{"$f":"SUMIFS(Calcs!AE:AE,Calcs!$U:$U,$C127,Calcs!$C:$C,$D127)","v":0},{"$f":"SUMIFS(Calcs!AF:AF,Calcs!$U:$U,$C127,Calcs!$C:$C,$D127)","v":0},{"$f":"SUMIFS(Calcs!AG:AG,Calcs!$U:$U,$C127,Calcs!$C:$C,$D127)","v":0},{"$f":"SUMIFS(Calcs!AH:AH,Calcs!$U:$U,$C127,Calcs!$C:$C,$D127)","v":0},{"$f":"SUMIFS(Calcs!AI:AI,Calcs!$U:$U,$C127,Calcs!$C:$C,$D127)","v":0},{"$f":"SUMIFS(Calcs!AJ:AJ,Calcs!$U:$U,$C127,Calcs!$C:$C,$D127)","v":0},{"$f":"SUMIFS(Calcs!AK:AK,Calcs!$U:$U,$C127,Calcs!$C:$C,$D127)","v":0}]
[null,null,"pumped_storage","Review",{"$f":"SUMIFS(Calcs!Z:Z,Calcs!$U:$U,$C128,Calcs!$C:$C,$D128)","v":0},{"$f":"SUMIFS(Calcs!AA:AA,Calcs!$U:$U,$C128,Calcs!$C:$C,$D128)","v":0},{"$f":"SUMIFS(Calcs!AB:AB,Calcs!$U:$U,$C128,Calcs!$C:$C,$D128)","v":0},{"$f":"SUMIFS(Calcs!AC:AC,Calcs!$U:$U,$C128,Calcs!$C:$C,$D128)","v":0},{"$f":"SUMIFS(Calcs!AD:AD,Calcs!$U:$U,$C128,Calcs!$C:$C,$D128)","v":0},{"$f":"SUMIFS(Calcs!AE:AE,Calcs!$U:$U,$C128,Calcs!$C:$C,$D128)","v":0},{"$f":"SUMIFS(Calcs!AF:AF,Calcs!$U:$U,$C128,Calcs!$C:$C,$D128)","v":0},{"$f":"SUMIFS(Calcs!AG:AG,Calcs!$U:$U,$C128,Calcs!$C:$C,$D128)","v":0},{"$f":"SUMIFS(Calcs!AH:AH,Calcs!$U:$U,$C128,Calcs!$C:$C,$D128)","v":0},{"$f":"SUMIFS(Calcs!AI:AI,Calcs!$U:$U,$C128,Calcs!$C:$C,$D128)","v":0},{"$f":"SUMIFS(Calcs!AJ:AJ,Calcs!$U:$U,$C128,Calcs!$C:$C,$D128)","v":0},{"$f":"SUMIFS(Calcs!AK:AK,Calcs!$U:$U,$C128,Calcs!$C:$C,$D128)","v":0}]
[null,null,"demand_response","Review",{"$f":"SUMIFS(Calcs!Z:Z,Calcs!$U:$U,$C129,Calcs!$C:$C,$D129)","v":0},{"$f":"SUMIFS(Calcs!AA:AA,Calcs!$U:$U,$C129,Calcs!$C:$C,$D129)","v":0},{"$f":"SUMIFS(Calcs!AB:AB,Calcs!$U:$U,$C129,Calcs!$C:$C,$D129)","v":0},{"$f":"SUMIFS(Calcs!AC:AC,Calcs!$U:$U,$C129,Calcs!$C:$C,$D129)","v":0},{"$f":"SUMIFS(Calcs!AD:AD,Calcs!$U:$U,$C129,Calcs!$C:$C,$D129)","v":0},{"$f":"SUMIFS(Calcs!AE:AE,Calcs!$U:$U,$C129,Calcs!$C:$C,$D129)","v":0},{"$f":"SUMIFS(Calcs!AF:AF,Calcs!$U:$U,$C129,Calcs!$C:$C,$D129)","v":0},{"$f":"SUMIFS(Calcs!AG:AG,Calcs!$U:$U,$C129,Calcs!$C:$C,$D129)","v":0},{"$f":"SUMIFS(Calcs!AH:AH,Calcs!$U:$U,$C129,Calcs!$C:$C,$D129)","v":0},{"$f":"SUMIFS(Calcs!AI:AI,Calcs!$U:$U,$C129,Calcs!$C:$C,$D129)","v":0},{"$f":"SUMIFS(Calcs!AJ:AJ,Calcs!$U:$U,$C129,Calcs!$C:$C,$D129)","v":0},{"$f":"SUMIFS(Calcs!AK:AK,Calcs!$U:$U,$C129,Calcs!$C:$C,$D129)","v":0}]
[null,null,"hydro","Review",{"$f":"SUMIFS(Calcs!Z:Z,Calcs!$U:$U,$C130,Calcs!$C:$C,$D130)","v":0},{"$f":"SUMIFS(Calcs!AA:AA,Calcs!$U:$U,$C130,Calcs!$C:$C,$D130)","v":0},{"$f":"SUMIFS(Calcs!AB:AB,Calcs!$U:$U,$C130,Calcs!$C:$C,$D130)","v":0},{"$f":"SUMIFS(Calcs!AC:AC,Calcs!$U:$U,$C130,Calcs!$C:$C,$D130)","v":0},{"$f":"SUMIFS(Calcs!AD:AD,Calcs!$U:$U,$C130,Calcs!$C:$C,$D130)","v":0},{"$f":"SUMIFS(Calcs!AE:AE,Calcs!$U:$U,$C130,Calcs!$C:$C,$D130)","v":0},{"$f":"SUMIFS(Calcs!AF:AF,Calcs!$U:$U,$C130,Calcs!$C:$C,$D130)","v":0},{"$f":"SUMIFS(Calcs!AG:AG,Calcs!$U:$U,$C130,Calcs!$C:$C,$D130)","v":0},{"$f":"SUMIFS(Calcs!AH:AH,Calcs!$U:$U,$C130,Calcs!$C:$C,$D130)","v":0},{"$f":"SUMIFS(Calcs!AI:AI,Calcs!$U:$U,$C130,Calcs!$C:$C,$D130)","v":0},{"$f":"SUMIFS(Calcs!AJ:AJ,Calcs!$U:$U,$C130,Calcs!$C:$C,$D130)","v":0},{"$f":"SUMIFS(Calcs!AK:AK,Calcs!$U:$U,$C130,Calcs!$C:$C,$D130)","v":0}]
[null,null,"small_hydro","Review",{"$f":"SUMIFS(Calcs!Z:Z,Calcs!$U:$U,$C131,Calcs!$C:$C,$D131)","v":0},{"$f":"SUMIFS(Calcs!AA:AA,Calcs!$U:$U,$C131,Calcs!$C:$C,$D131)","v":0},{"$f":"SUMIFS(Calcs!AB:AB,Calcs!$U:$U,$C131,Calcs!$C:$C,$D131)","v":0},{"$f":"SUMIFS(Calcs!AC:AC,Calcs!$U:$U,$C131,Calcs!$C:$C,$D131)","v":0},{"$f":"SUMIFS(Calcs!AD:AD,Calcs!$U:$U,$C131,Calcs!$C:$C,$D131)","v":0},{"$f":"SUMIFS(Calcs!AE:AE,Calcs!$U:$U,$C131,Calcs!$C:$C,$D131)","v":0},{"$f":"SUMIFS(Calcs!AF:AF,Calcs!$U:$U,$C131,Calcs!$C:$C,$D131)","v":0},{"$f":"SUMIFS(Calcs!AG:AG,Calcs!$U:$U,$C131,Calcs!$C:$C,$D131)","v":0},{"$f":"SUMIFS(Calcs!AH:AH,Calcs!$U:$U,$C131,Calcs!$C:$C,$D131)","v":0},{"$f":"SUMIFS(Calcs!AI:AI,Calcs!$U:$U,$C131,Calcs!$C:$C,$D131)","v":0},{"$f":"SUMIFS(Calcs!AJ:AJ,Calcs!$U:$U,$C131,Calcs!$C:$C,$D131)","v":0},{"$f":"SUMIFS(Calcs!AK:AK,Calcs!$U:$U,$C131,Calcs!$C:$C,$D131)","v":0}]
[null,null,"geothermal","Review",{"$f":"SUMIFS(Calcs!Z:Z,Calcs!$U:$U,$C132,Calcs!$C:$C,$D132)","v":0},{"$f":"SUMIFS(Calcs!AA:AA,Calcs!$U:$U,$C132,Calcs!$C:$C,$D132)","v":0},{"$f":"SUMIFS(Calcs!AB:AB,Calcs!$U:$U,$C132,Calcs!$C:$C,$D132)","v":0},{"$f":"SUMIFS(Calcs!AC:AC,Calcs!$U:$U,$C132,Calcs!$C:$C,$D132)","v":0},{"$f":"SUMIFS(Calcs!AD:AD,Calcs!$U:$U,$C132,Calcs!$C:$C,$D132)","v":0},{"$f":"SUMIFS(Calcs!AE:AE,Calcs!$U:$U,$C132,Calcs!$C:$C,$D132)","v":0},{"$f":"SUMIFS(Calcs!AF:AF,Calcs!$U:$U,$C132,Calcs!$C:$C,$D132)","v":0},{"$f":"SUMIFS(Calcs!AG:AG,Calcs!$U:$U,$C132,Calcs!$C:$C,$D132)","v":0},{"$f":"SUMIFS(Calcs!AH:AH,Calcs!$U:$U,$C132,Calcs!$C:$C,$D132)","v":0},{"$f":"SUMIFS(Calcs!AI:AI,Calcs!$U:$U,$C132,Calcs!$C:$C,$D132)","v":0},{"$f":"SUMIFS(Calcs!AJ:AJ,Calcs!$U:$U,$C132,Calcs!$C:$C,$D132)","v":0},{"$f":"SUMIFS(Calcs!AK:AK,Calcs!$U:$U,$C132,Calcs!$C:$C,$D132)","v":0}]
[null,null,"biomass_wood","Review",{"$f":"SUMIFS(Calcs!Z:Z,Calcs!$U:$U,$C133,Calcs!$C:$C,$D133)","v":0},{"$f":"SUMIFS(Calcs!AA:AA,Calcs!$U:$U,$C133,Calcs!$C:$C,$D133)","v":0},{"$f":"SUMIFS(Calcs!AB:AB,Calcs!$U:$U,$C133,Calcs!$C:$C,$D133)","v":0},{"$f":"SUMIFS(Calcs!AC:AC,Calcs!$U:$U,$C133,Calcs!$C:$C,$D133)","v":0},{"$f":"SUMIFS(Calcs!AD:AD,Calcs!$U:$U,$C133,Calcs!$C:$C,$D133)","v":0},{"$f":"SUMIFS(Calcs!AE:AE,Calcs!$U:$U,$C133,Calcs!$C:$C,$D133)","v":0},{"$f":"SUMIFS(Calcs!AF:AF,Calcs!$U:$U,$C133,Calcs!$C:$C,$D133)","v":0},{"$f":"SUMIFS(Calcs!AG:AG,Calcs!$U:$U,$C133,Calcs!$C:$C,$D133)","v":0},{"$f":"SUMIFS(Calcs!AH:AH,Calcs!$U:$U,$C133,Calcs!$C:$C,$D133)","v":0},{"$f":"SUMIFS(Calcs!AI:AI,Calcs!$U:$U,$C133,Calcs!$C:$C,$D133)","v":0},{"$f":"SUMIFS(Calcs!AJ:AJ,Calcs!$U:$U,$C133,Calcs!$C:$C,$D133)","v":0},{"$f":"SUMIFS(Calcs!AK:AK,Calcs!$U:$U,$C133,Calcs!$C:$C,$D133)","v":0}]
[null,null,"biogas","Review",{"$f":"SUMIFS(Calcs!Z:Z,Calcs!$U:$U,$C134,Calcs!$C:$C,$D134)","v":0},{"$f":"SUMIFS(Calcs!AA:AA,Calcs!$U:$U,$C134,Calcs!$C:$C,$D134)","v":0},{"$f":"SUMIFS(Calcs!AB:AB,Calcs!$U:$U,$C134,Calcs!$C:$C,$D134)","v":0},{"$f":"SUMIFS(Calcs!AC:AC,Calcs!$U:$U,$C134,Calcs!$C:$C,$D134)","v":0},{"$f":"SUMIFS(Calcs!AD:AD,Calcs!$U:$U,$C134,Calcs!$C:$C,$D134)","v":0},{"$f":"SUMIFS(Calcs!AE:AE,Calcs!$U:$U,$C134,Calcs!$C:$C,$D134)","v":0},{"$f":"SUMIFS(Calcs!AF:AF,Calcs!$U:$U,$C134,Calcs!$C:$C,$D134)","v":0},{"$f":"SUMIFS(Calcs!AG:AG,Calcs!$U:$U,$C134,Calcs!$C:$C,$D134)","v":0},{"$f":"SUMIFS(Calcs!AH:AH,Calcs!$U:$U,$C134,Calcs!$C:$C,$D134)","v":0},{"$f":"SUMIFS(Calcs!AI:AI,Calcs!$U:$U,$C134,Calcs!$C:$C,$D134)","v":0},{"$f":"SUMIFS(Calcs!AJ:AJ,Calcs!$U:$U,$C134,Calcs!$C:$C,$D134)","v":0},{"$f":"SUMIFS(Calcs!AK:AK,Calcs!$U:$U,$C134,Calcs!$C:$C,$D134)","v":0}]
[null,null,"nuclear","Review",{"$f":"SUMIFS(Calcs!Z:Z,Calcs!$U:$U,$C135,Calcs!$C:$C,$D135)","v":0},{"$f":"SUMIFS(Calcs!AA:AA,Calcs!$U:$U,$C135,Calcs!$C:$C,$D135)","v":0},{"$f":"SUMIFS(Calcs!AB:AB,Calcs!$U:$U,$C135,Calcs!$C:$C,$D135)","v":0},{"$f":"SUMIFS(Calcs!AC:AC,Calcs!$U:$U,$C135,Calcs!$C:$C,$D135)","v":0},{"$f":"SUMIFS(Calcs!AD:AD,Calcs!$U:$U,$C135,Calcs!$C:$C,$D135)","v":0},{"$f":"SUMIFS(Calcs!AE:AE,Calcs!$U:$U,$C135,Calcs!$C:$C,$D135)","v":0},{"$f":"SUMIFS(Calcs!AF:AF,Calcs!$U:$U,$C135,Calcs!$C:$C,$D135)","v":0},{"$f":"SUMIFS(Calcs!AG:AG,Calcs!$U:$U,$C135,Calcs!$C:$C,$D135)","v":0},{"$f":"SUMIFS(Calcs!AH:AH,Calcs!$U:$U,$C135,Calcs!$C:$C,$D135)","v":0},{"$f":"SUMIFS(Calcs!AI:AI,Calcs!$U:$U,$C135,Calcs!$C:$C,$D135)","v":0},{"$f":"SUMIFS(Calcs!AJ:AJ,Calcs!$U:$U,$C135,Calcs!$C:$C,$D135)","v":0},{"$f":"SUMIFS(Calcs!AK:AK,Calcs!$U:$U,$C135,Calcs!$C:$C,$D135)","v":0}]
[null,null,"gas_cc","Review",{"$f":"SUMIFS(Calcs!Z:Z,Calcs!$U:$U,$C136,Calcs!$C:$C,$D136)","v":0},{"$f":"SUMIFS(Calcs!AA:AA,Calcs!$U:$U,$C136,Calcs!$C:$C,$D136)","v":0},{"$f":"SUMIFS(Calcs!AB:AB,Calcs!$U:$U,$C136,Calcs!$C:$C,$D136)","v":0},{"$f":"SUMIFS(Calcs!AC:AC,Calcs!$U:$U,$C136,Calcs!$C:$C,$D136)","v":0},{"$f":"SUMIFS(Calcs!AD:AD,Calcs!$U:$U,$C136,Calcs!$C:$C,$D136)","v":0},{"$f":"SUMIFS(Calcs!AE:AE,Calcs!$U:$U,$C136,Calcs!$C:$C,$D136)","v":0},{"$f":"SUMIFS(Calcs!AF:AF,Calcs!$U:$U,$C136,Calcs!$C:$C,$D136)","v":0},{"$f":"SUMIFS(Calcs!AG:AG,Calcs!$U:$U,$C136,Calcs!$C:$C,$D136)","v":0},{"$f":"SUMIFS(Calcs!AH:AH,Calcs!$U:$U,$C136,Calcs!$C:$C,$D136)","v":0},{"$f":"SUMIFS(Calcs!AI:AI,Calcs!$U:$U,$C136,Calcs!$C:$C,$D136)","v":0},{"$f":"SUMIFS(Calcs!AJ:AJ,Calcs!$U:$U,$C136,Calcs!$C:$C,$D136)","v":0},{"$f":"SUMIFS(Calcs!AK:AK,Calcs!$U:$U,$C136,Calcs!$C:$C,$D136)","v":0}]
[null,null,"gas_ct","Review",{"$f":"SUMIFS(Calcs!Z:Z,Calcs!$U:$U,$C137,Calcs!$C:$C,$D137)","v":0},{"$f":"SUMIFS(Calcs!AA:AA,Calcs!$U:$U,$C137,Calcs!$C:$C,$D137)","v":0},{"$f":"SUMIFS(Calcs!AB:AB,Calcs!$U:$U,$C137,Calcs!$C:$C,$D137)","v":0},{"$f":"SUMIFS(Calcs!AC:AC,Calcs!$U:$U,$C137,Calcs!$C:$C,$D137)","v":0},{"$f":"SUMIFS(Calcs!AD:AD,Calcs!$U:$U,$C137,Calcs!$C:$C,$D137)","v":0},{"$f":"SUMIFS(Calcs!AE:AE,Calcs!$U:$U,$C137,Calcs!$C:$C,$D137)","v":0},{"$f":"SUMIFS(Calcs!AF:AF,Calcs!$U:$U,$C137,Calcs!$C:$C,$D137)","v":0},{"$f":"SUMIFS(Calcs!AG:AG,Calcs!$U:$U,$C137,Calcs!$C:$C,$D137)","v":0},{"$f":"SUMIFS(Calcs!AH:AH,Calcs!$U:$U,$C137,Calcs!$C:$C,$D137)","v":0},{"$f":"SUMIFS(Calcs!AI:AI,Calcs!$U:$U,$C137,Calcs!$C:$C,$D137)","v":0},{"$f":"SUMIFS(Calcs!AJ:AJ,Calcs!$U:$U,$C137,Calcs!$C:$C,$D137)","v":0},{"$f":"SUMIFS(Calcs!AK:AK,Calcs!$U:$U,$C137,Calcs!$C:$C,$D137)","v":0}]
[null,null,"cogen","Review",{"$f":"SUMIFS(Calcs!Z:Z,Calcs!$U:$U,$C138,Calcs!$C:$C,$D138)","v":0},{"$f":"SUMIFS(Calcs!AA:AA,Calcs!$U:$U,$C138,Calcs!$C:$C,$D138)","v":0},{"$f":"SUMIFS(Calcs!AB:AB,Calcs!$U:$U,$C138,Calcs!$C:$C,$D138)","v":0},{"$f":"SUMIFS(Calcs!AC:AC,Calcs!$U:$U,$C138,Calcs!$C:$C,$D138)","v":0},{"$f":"SUMIFS(Calcs!AD:AD,Calcs!$U:$U,$C138,Calcs!$C:$C,$D138)","v":0},{"$f":"SUMIFS(Calcs!AE:AE,Calcs!$U:$U,$C138,Calcs!$C:$C,$D138)","v":0},{"$f":"SUMIFS(Calcs!AF:AF,Calcs!$U:$U,$C138,Calcs!$C:$C,$D138)","v":0},{"$f":"SUMIFS(Calcs!AG:AG,Calcs!$U:$U,$C138,Calcs!$C:$C,$D138)","v":0},{"$f":"SUMIFS(Calcs!AH:AH,Calcs!$U:$U,$C138,Calcs!$C:$C,$D138)","v":0},{"$f":"SUMIFS(Calcs!AI:AI,Calcs!$U:$U,$C138,Calcs!$C:$C,$D138)","v":0},{"$f":"SUMIFS(Calcs!AJ:AJ,Calcs!$U:$U,$C138,Calcs!$C:$C,$D138)","v":0},{"$f":"SUMIFS(Calcs!AK:AK,Calcs!$U:$U,$C138,Calcs!$C:$C,$D138)","v":0}]
[null,null,"ice","Review",{"$f":"SUMIFS(Calcs!Z:Z,Calcs!$U:$U,$C139,Calcs!$C:$C,$D139)","v":0},{"$f":"SUMIFS(Calcs!AA:AA,Calcs!$U:$U,$C139,Calcs!$C:$C,$D139)","v":0},{"$f":"SUMIFS(Calcs!AB:AB,Calcs!$U:$U,$C139,Calcs!$C:$C,$D139)","v":0},{"$f":"SUMIFS(Calcs!AC:AC,Calcs!$U:$U,$C139,Calcs!$C:$C,$D139)","v":0},{"$f":"SUMIFS(Calcs!AD:AD,Calcs!$U:$U,$C139,Calcs!$C:$C,$D139)","v":0},{"$f":"SUMIFS(Calcs!AE:AE,Calcs!$U:$U,$C139,Calcs!$C:$C,$D139)","v":0},{"$f":"SUMIFS(Calcs!AF:AF,Calcs!$U:$U,$C139,Calcs!$C:$C,$D139)","v":0},{"$f":"SUMIFS(Calcs!AG:AG,Calcs!$U:$U,$C139,Calcs!$C:$C,$D139)","v":0},{"$f":"SUMIFS(Calcs!AH:AH,Calcs!$U:$U,$C139,Calcs!$C:$C,$D139)","v":0},{"$f":"SUMIFS(Calcs!AI:AI,Calcs!$U:$U,$C139,Calcs!$C:$C,$D139)","v":0},{"$f":"SUMIFS(Calcs!AJ:AJ,Calcs!$U:$U,$C139,Calcs!$C:$C,$D139)","v":0},{"$f":"SUMIFS(Calcs!AK:AK,Calcs!$U:$U,$C139,Calcs!$C:$C,$D139)","v":0}]
[null,null,"coal","Review",{"$f":"SUMIFS(Calcs!Z:Z,Calcs!$U:$U,$C140,Calcs!$C:$C,$D140)","v":0},{"$f":"SUMIFS(Calcs!AA:AA,Calcs!$U:$U,$C140,Calcs!$C:$C,$D140)","v":0},{"$f":"SUMIFS(Calcs!AB:AB,Calcs!$U:$U,$C140,Calcs!$C:$C,$D140)","v":0},{"$f":"SUMIFS(Calcs!AC:AC,Calcs!$U:$U,$C140,Calcs!$C:$C,$D140)","v":0},{"$f":"SUMIFS(Calcs!AD:AD,Calcs!$U:$U,$C140,Calcs!$C:$C,$D140)","v":0},{"$f":"SUMIFS(Calcs!AE:AE,Calcs!$U:$U,$C140,Calcs!$C:$C,$D140)","v":0},{"$f":"SUMIFS(Calcs!AF:AF,Calcs!$U:$U,$C140,Calcs!$C:$C,$D140)","v":0},{"$f":"SUMIFS(Calcs!AG:AG,Calcs!$U:$U,$C140,Calcs!$C:$C,$D140)","v":0},{"$f":"SUMIFS(Calcs!AH:AH,Calcs!$U:$U,$C140,Calcs!$C:$C,$D140)","v":0},{"$f":"SUMIFS(Calcs!AI:AI,Calcs!$U:$U,$C140,Calcs!$C:$C,$D140)","v":0},{"$f":"SUMIFS(Calcs!AJ:AJ,Calcs!$U:$U,$C140,Calcs!$C:$C,$D140)","v":0},{"$f":"SUMIFS(Calcs!AK:AK,Calcs!$U:$U,$C140,Calcs!$C:$C,$D140)","v":0}]
[null,null,"steam","Review",{"$f":"SUMIFS(Calcs!Z:Z,Calcs!$U:$U,$C141,Calcs!$C:$C,$D141)","v":0},{"$f":"SUMIFS(Calcs!AA:AA,Calcs!$U:$U,$C141,Calcs!$C:$C,$D141)","v":0},{"$f":"SUMIFS(Calcs!AB:AB,Calcs!$U:$U,$C141,Calcs!$C:$C,$D141)","v":0},{"$f":"SUMIFS(Calcs!AC:AC,Calcs!$U:$U,$C141,Calcs!$C:$C,$D141)","v":0},{"$f":"SUMIFS(Calcs!AD:AD,Calcs!$U:$U,$C141,Calcs!$C:$C,$D141)","v":0},{"$f":"SUMIFS(Calcs!AE:AE,Calcs!$U:$U,$C141,Calcs!$C:$C,$D141)","v":0},{"$f":"SUMIFS(Calcs!AF:AF,Calcs!$U:$U,$C141,Calcs!$C:$C,$D141)","v":0},{"$f":"SUMIFS(Calcs!AG:AG,Calcs!$U:$U,$C141,Calcs!$C:$C,$D141)","v":0},{"$f":"SUMIFS(Calcs!AH:AH,Calcs!$U:$U,$C141,Calcs!$C:$C,$D141)","v":0},{"$f":"SUMIFS(Calcs!AI:AI,Calcs!$U:$U,$C141,Calcs!$C:$C,$D141)","v":0},{"$f":"SUMIFS(Calcs!AJ:AJ,Calcs!$U:$U,$C141,Calcs!$C:$C,$D141)","v":0},{"$f":"SUMIFS(Calcs!AK:AK,Calcs!$U:$U,$C141,Calcs!$C:$C,$D141)","v":0}]
[null,null,"unspecified_import","Review",{"$f":"SUMIFS(Calcs!Z:Z,Calcs!$U:$U,$C142,Calcs!$C:$C,$D142)","v":0},{"$f":"SUMIFS(Calcs!AA:AA,Calcs!$U:$U,$C142,Calcs!$C:$C,$D142)","v":0},{"$f":"SUMIFS(Calcs!AB:AB,Calcs!$U:$U,$C142,Calcs!$C:$C,$D142)","v":0},{"$f":"SUMIFS(Calcs!AC:AC,Calcs!$U:$U,$C142,Calcs!$C:$C,$D142)","v":0},{"$f":"SUMIFS(Calcs!AD:AD,Calcs!$U:$U,$C142,Calcs!$C:$C,$D142)","v":0},{"$f":"SUMIFS(Calcs!AE:AE,Calcs!$U:$U,$C142,Calcs!$C:$C,$D142)","v":0},{"$f":"SUMIFS(Calcs!AF:AF,Calcs!$U:$U,$C142,Calcs!$C:$C,$D142)","v":0},{"$f":"SUMIFS(Calcs!AG:AG,Calcs!$U:$U,$C142,Calcs!$C:$C,$D142)","v":0},{"$f":"SUMIFS(Calcs!AH:AH,Calcs!$U:$U,$C142,Calcs!$C:$C,$D142)","v":0},{"$f":"SUMIFS(Calcs!AI:AI,Calcs!$U:$U,$C142,Calcs!$C:$C,$D142)","v":0},{"$f":"SUMIFS(Calcs!AJ:AJ,Calcs!$U:$U,$C142,Calcs!$C:$C,$D142)","v":0},{"$f":"SUMIFS(Calcs!AK:AK,Calcs!$U:$U,$C142,Calcs!$C:$C,$D142)","v":0}]
[null,null,"hybrid","PlannedExisting",{"$f":"SUMIFS(Calcs!Z:Z,Calcs!$U:$U,$C143,Calcs!$C:$C,$D143)","v":0},{"$f":"SUMIFS(Calcs!AA:AA,Calcs!$U:$U,$C143,Calcs!$C:$C,$D143)","v":0},{"$f":"SUMIFS(Calcs!AB:AB,Calcs!$U:$U,$C143,Calcs!$C:$C,$D143)","v":0},{"$f":"SUMIFS(Calcs!AC:AC,Calcs!$U:$U,$C143,Calcs!$C:$C,$D143)","v":0},{"$f":"SUMIFS(Calcs!AD:AD,Calcs!$U:$U,$C143,Calcs!$C:$C,$D143)","v":0},{"$f":"SUMIFS(Calcs!AE:AE,Calcs!$U:$U,$C143,Calcs!$C:$C,$D143)","v":0},{"$f":"SUMIFS(Calcs!AF:AF,Calcs!$U:$U,$C143,Calcs!$C:$C,$D143)","v":0},{"$f":"SUMIFS(Calcs!AG:AG,Calcs!$U:$U,$C143,Calcs!$C:$C,$D143)","v":0},{"$f":"SUMIFS(Calcs!AH:AH,Calcs!$U:$U,$C143,Calcs!$C:$C,$D143)","v":0},{"$f":"SUMIFS(Calcs!AI:AI,Calcs!$U:$U,$C143,Calcs!$C:$C,$D143)","v":0},{"$f":"SUMIFS(Calcs!AJ:AJ,Calcs!$U:$U,$C143,Calcs!$C:$C,$D143)","v":0},{"$f":"SUMIFS(Calcs!AK:AK,Calcs!$U:$U,$C143,Calcs!$C:$C,$D143)","v":0}]
[null,null,"in_state_wind_south","PlannedExisting",{"$f":"SUMIFS(Calcs!Z:Z,Calcs!$U:$U,$C144,Calcs!$C:$C,$D144)","v":0},{"$f":"SUMIFS(Calcs!AA:AA,Calcs!$U:$U,$C144,Calcs!$C:$C,$D144)","v":0},{"$f":"SUMIFS(Calcs!AB:AB,Calcs!$U:$U,$C144,Calcs!$C:$C,$D144)","v":0},{"$f":"SUMIFS(Calcs!AC:AC,Calcs!$U:$U,$C144,Calcs!$C:$C,$D144)","v":0},{"$f":"SUMIFS(Calcs!AD:AD,Calcs!$U:$U,$C144,Calcs!$C:$C,$D144)","v":0},{"$f":"SUMIFS(Calcs!AE:AE,Calcs!$U:$U,$C144,Calcs!$C:$C,$D144)","v":0},{"$f":"SUMIFS(Calcs!AF:AF,Calcs!$U:$U,$C144,Calcs!$C:$C,$D144)","v":0},{"$f":"SUMIFS(Calcs!AG:AG,Calcs!$U:$U,$C144,Calcs!$C:$C,$D144)","v":0},{"$f":"SUMIFS(Calcs!AH:AH,Calcs!$U:$U,$C144,Calcs!$C:$C,$D144)","v":0},{"$f":"SUMIFS(Calcs!AI:AI,Calcs!$U:$U,$C144,Calcs!$C:$C,$D144)","v":0},{"$f":"SUMIFS(Calcs!AJ:AJ,Calcs!$U:$U,$C144,Calcs!$C:$C,$D144)","v":0},{"$f":"SUMIFS(Calcs!AK:AK,Calcs!$U:$U,$C144,Calcs!$C:$C,$D144)","v":0}]
[null,null,"in_state_wind_north","PlannedExisting",{"$f":"SUMIFS(Calcs!Z:Z,Calcs!$U:$U,$C145,Calcs!$C:$C,$D145)","v":0},{"$f":"SUMIFS(Calcs!AA:AA,Calcs!$U:$U,$C145,Calcs!$C:$C,$D145)","v":0},{"$f":"SUMIFS(Calcs!AB:AB,Calcs!$U:$U,$C145,Calcs!$C:$C,$D145)","v":0},{"$f":"SUMIFS(Calcs!AC:AC,Calcs!$U:$U,$C145,Calcs!$C:$C,$D145)","v":0},{"$f":"SUMIFS(Calcs!AD:AD,Calcs!$U:$U,$C145,Calcs!$C:$C,$D145)","v":0},{"$f":"SUMIFS(Calcs!AE:AE,Calcs!$U:$U,$C145,Calcs!$C:$C,$D145)","v":0},{"$f":"SUMIFS(Calcs!AF:AF,Calcs!$U:$U,$C145,Calcs!$C:$C,$D145)","v":0},{"$f":"SUMIFS(Calcs!AG:AG,Calcs!$U:$U,$C145,Calcs!$C:$C,$D145)","v":0},{"$f":"SUMIFS(Calcs!AH:AH,Calcs!$U:$U,$C145,Calcs!$C:$C,$D145)","v":0},{"$f":"SUMIFS(Calcs!AI:AI,Calcs!$U:$U,$C145,Calcs!$C:$C,$D145)","v":0},{"$f":"SUMIFS(Calcs!AJ:AJ,Calcs!$U:$U,$C145,Calcs!$C:$C,$D145)","v":0},{"$f":"SUMIFS(Calcs!AK:AK,Calcs!$U:$U,$C145,Calcs!$C:$C,$D145)","v":0}]
[null,null,"out_of_state_wind_WYID","PlannedExisting",{"$f":"SUMIFS(Calcs!Z:Z,Calcs!$U:$U,$C146,Calcs!$C:$C,$D146)","v":0},{"$f":"SUMIFS(Calcs!AA:AA,Calcs!$U:$U,$C146,Calcs!$C:$C,$D146)","v":0},{"$f":"SUMIFS(Calcs!AB:AB,Calcs!$U:$U,$C146,Calcs!$C:$C,$D146)","v":0},{"$f":"SUMIFS(Calcs!AC:AC,Calcs!$U:$U,$C146,Calcs!$C:$C,$D146)","v":0},{"$f":"SUMIFS(Calcs!AD:AD,Calcs!$U:$U,$C146,Calcs!$C:$C,$D146)","v":0},{"$f":"SUMIFS(Calcs!AE:AE,Calcs!$U:$U,$C146,Calcs!$C:$C,$D146)","v":0},{"$f":"SUMIFS(Calcs!AF:AF,Calcs!$U:$U,$C146,Calcs!$C:$C,$D146)","v":0},{"$f":"SUMIFS(Calcs!AG:AG,Calcs!$U:$U,$C146,Calcs!$C:$C,$D146)","v":0},{"$f":"SUMIFS(Calcs!AH:AH,Calcs!$U:$U,$C146,Calcs!$C:$C,$D146)","v":0},{"$f":"SUMIFS(Calcs!AI:AI,Calcs!$U:$U,$C146,Calcs!$C:$C,$D146)","v":0},{"$f":"SUMIFS(Calcs!AJ:AJ,Calcs!$U:$U,$C146,Calcs!$C:$C,$D146)","v":0},{"$f":"SUMIFS(Calcs!AK:AK,Calcs!$U:$U,$C146,Calcs!$C:$C,$D146)","v":0}]
[null,null,"out_of_state_wind_WAOR","PlannedExisting",{"$f":"SUMIFS(Calcs!Z:Z,Calcs!$U:$U,$C147,Calcs!$C:$C,$D147)","v":0},{"$f":"SUMIFS(Calcs!AA:AA,Calcs!$U:$U,$C147,Calcs!$C:$C,$D147)","v":0},{"$f":"SUMIFS(Calcs!AB:AB,Calcs!$U:$U,$C147,Calcs!$C:$C,$D147)","v":0},{"$f":"SUMIFS(Calcs!AC:AC,Calcs!$U:$U,$C147,Calcs!$C:$C,$D147)","v":0},{"$f":"SUMIFS(Calcs!AD:AD,Calcs!$U:$U,$C147,Calcs!$C:$C,$D147)","v":0},{"$f":"SUMIFS(Calcs!AE:AE,Calcs!$U:$U,$C147,Calcs!$C:$C,$D147)","v":0},{"$f":"SUMIFS(Calcs!AF:AF,Calcs!$U:$U,$C147,Calcs!$C:$C,$D147)","v":0},{"$f":"SUMIFS(Calcs!AG:AG,Calcs!$U:$U,$C147,Calcs!$C:$C,$D147)","v":0},{"$f":"SUMIFS(Calcs!AH:AH,Calcs!$U:$U,$C147,Calcs!$C:$C,$D147)","v":0},{"$f":"SUMIFS(Calcs!AI:AI,Calcs!$U:$U,$C147,Calcs!$C:$C,$D147)","v":0},{"$f":"SUMIFS(Calcs!AJ:AJ,Calcs!$U:$U,$C147,Calcs!$C:$C,$D147)","v":0},{"$f":"SUMIFS(Calcs!AK:AK,Calcs!$U:$U,$C147,Calcs!$C:$C,$D147)","v":0}]
[null,null,"out_of_state_wind_AZNM","PlannedExisting",{"$f":"SUMIFS(Calcs!Z:Z,Calcs!$U:$U,$C148,Calcs!$C:$C,$D148)","v":0},{"$f":"SUMIFS(Calcs!AA:AA,Calcs!$U:$U,$C148,Calcs!$C:$C,$D148)","v":0},{"$f":"SUMIFS(Calcs!AB:AB,Calcs!$U:$U,$C148,Calcs!$C:$C,$D148)","v":0},{"$f":"SUMIFS(Calcs!AC:AC,Calcs!$U:$U,$C148,Calcs!$C:$C,$D148)","v":0},{"$f":"SUMIFS(Calcs!AD:AD,Calcs!$U:$U,$C148,Calcs!$C:$C,$D148)","v":0},{"$f":"SUMIFS(Calcs!AE:AE,Calcs!$U:$U,$C148,Calcs!$C:$C,$D148)","v":0},{"$f":"SUMIFS(Calcs!AF:AF,Calcs!$U:$U,$C148,Calcs!$C:$C,$D148)","v":0},{"$f":"SUMIFS(Calcs!AG:AG,Calcs!$U:$U,$C148,Calcs!$C:$C,$D148)","v":0},{"$f":"SUMIFS(Calcs!AH:AH,Calcs!$U:$U,$C148,Calcs!$C:$C,$D148)","v":0},{"$f":"SUMIFS(Calcs!AI:AI,Calcs!$U:$U,$C148,Calcs!$C:$C,$D148)","v":0},{"$f":"SUMIFS(Calcs!AJ:AJ,Calcs!$U:$U,$C148,Calcs!$C:$C,$D148)","v":0},{"$f":"SUMIFS(Calcs!AK:AK,Calcs!$U:$U,$C148,Calcs!$C:$C,$D148)","v":0}]
[null,null,"offshore_wind","PlannedExisting",{"$f":"SUMIFS(Calcs!Z:Z,Calcs!$U:$U,$C149,Calcs!$C:$C,$D149)","v":0},{"$f":"SUMIFS(Calcs!AA:AA,Calcs!$U:$U,$C149,Calcs!$C:$C,$D149)","v":0},{"$f":"SUMIFS(Calcs!AB:AB,Calcs!$U:$U,$C149,Calcs!$C:$C,$D149)","v":0},{"$f":"SUMIFS(Calcs!AC:AC,Calcs!$U:$U,$C149,Calcs!$C:$C,$D149)","v":0},{"$f":"SUMIFS(Calcs!AD:AD,Calcs!$U:$U,$C149,Calcs!$C:$C,$D149)","v":0},{"$f":"SUMIFS(Calcs!AE:AE,Calcs!$U:$U,$C149,Calcs!$C:$C,$D149)","v":0},{"$f":"SUMIFS(Calcs!AF:AF,Calcs!$U:$U,$C149,Calcs!$C:$C,$D149)","v":0},{"$f":"SUMIFS(Calcs!AG:AG,Calcs!$U:$U,$C149,Calcs!$C:$C,$D149)","v":0},{"$f":"SUMIFS(Calcs!AH:AH,Calcs!$U:$U,$C149,Calcs!$C:$C,$D149)","v":0},{"$f":"SUMIFS(Calcs!AI:AI,Calcs!$U:$U,$C149,Calcs!$C:$C,$D149)","v":0},{"$f":"SUMIFS(Calcs!AJ:AJ,Calcs!$U:$U,$C149,Calcs!$C:$C,$D149)","v":0},{"$f":"SUMIFS(Calcs!AK:AK,Calcs!$U:$U,$C149,Calcs!$C:$C,$D149)","v":0}]
[null,null,"utility_pv","PlannedExisting",{"$f":"SUMIFS(Calcs!Z:Z,Calcs!$U:$U,$C150,Calcs!$C:$C,$D150)","v":0},{"$f":"SUMIFS(Calcs!AA:AA,Calcs!$U:$U,$C150,Calcs!$C:$C,$D150)","v":0},{"$f":"SUMIFS(Calcs!AB:AB,Calcs!$U:$U,$C150,Calcs!$C:$C,$D150)","v":0},{"$f":"SUMIFS(Calcs!AC:AC,Calcs!$U:$U,$C150,Calcs!$C:$C,$D150)","v":0},{"$f":"SUMIFS(Calcs!AD:AD,Calcs!$U:$U,$C150,Calcs!$C:$C,$D150)","v":0},{"$f":"SUMIFS(Calcs!AE:AE,Calcs!$U:$U,$C150,Calcs!$C:$C,$D150)","v":0},{"$f":"SUMIFS(Calcs!AF:AF,Calcs!$U:$U,$C150,Calcs!$C:$C,$D150)","v":0},{"$f":"SUMIFS(Calcs!AG:AG,Calcs!$U:$U,$C150,Calcs!$C:$C,$D150)","v":0},{"$f":"SUMIFS(Calcs!AH:AH,Calcs!$U:$U,$C150,Calcs!$C:$C,$D150)","v":0},{"$f":"SUMIFS(Calcs!AI:AI,Calcs!$U:$U,$C150,Calcs!$C:$C,$D150)","v":0},{"$f":"SUMIFS(Calcs!AJ:AJ,Calcs!$U:$U,$C150,Calcs!$C:$C,$D150)","v":0},{"$f":"SUMIFS(Calcs!AK:AK,Calcs!$U:$U,$C150,Calcs!$C:$C,$D150)","v":0}]
[null,null,"btm_pv","PlannedExisting",{"$f":"SUMIFS(Calcs!Z:Z,Calcs!$U:$U,$C151,Calcs!$C:$C,$D151)","v":0},{"$f":"SUMIFS(Calcs!AA:AA,Calcs!$U:$U,$C151,Calcs!$C:$C,$D151)","v":0},{"$f":"SUMIFS(Calcs!AB:AB,Calcs!$U:$U,$C151,Calcs!$C:$C,$D151)","v":0},{"$f":"SUMIFS(Calcs!AC:AC,Calcs!$U:$U,$C151,Calcs!$C:$C,$D151)","v":0},{"$f":"SUMIFS(Calcs!AD:AD,Calcs!$U:$U,$C151,Calcs!$C:$C,$D151)","v":0},{"$f":"SUMIFS(Calcs!AE:AE,Calcs!$U:$U,$C151,Calcs!$C:$C,$D151)","v":0},{"$f":"SUMIFS(Calcs!AF:AF,Calcs!$U:$U,$C151,Calcs!$C:$C,$D151)","v":0},{"$f":"SUMIFS(Calcs!AG:AG,Calcs!$U:$U,$C151,Calcs!$C:$C,$D151)","v":0},{"$f":"SUMIFS(Calcs!AH:AH,Calcs!$U:$U,$C151,Calcs!$C:$C,$D151)","v":0},{"$f":"SUMIFS(Calcs!AI:AI,Calcs!$U:$U,$C151,Calcs!$C:$C,$D151)","v":0},{"$f":"SUMIFS(Calcs!AJ:AJ,Calcs!$U:$U,$C151,Calcs!$C:$C,$D151)","v":0},{"$f":"SUMIFS(Calcs!AK:AK,Calcs!$U:$U,$C151,Calcs!$C:$C,$D151)","v":0}]
[null,null,"4hr_batteries","PlannedExisting",{"$f":"SUMIFS(Calcs!Z:Z,Calcs!$U:$U,$C152,Calcs!$C:$C,$D152)","v":0},{"$f":"SUMIFS(Calcs!AA:AA,Calcs!$U:$U,$C152,Calcs!$C:$C,$D152)","v":0},{"$f":"SUMIFS(Calcs!AB:AB,Calcs!$U:$U,$C152,Calcs!$C:$C,$D152)","v":0},{"$f":"SUMIFS(Calcs!AC:AC,Calcs!$U:$U,$C152,Calcs!$C:$C,$D152)","v":0},{"$f":"SUMIFS(Calcs!AD:AD,Calcs!$U:$U,$C152,Calcs!$C:$C,$D152)","v":0},{"$f":"SUMIFS(Calcs!AE:AE,Calcs!$U:$U,$C152,Calcs!$C:$C,$D152)","v":0},{"$f":"SUMIFS(Calcs!AF:AF,Calcs!$U:$U,$C152,Calcs!$C:$C,$D152)","v":0},{"$f":"SUMIFS(Calcs!AG:AG,Calcs!$U:$U,$C152,Calcs!$C:$C,$D152)","v":0},{"$f":"SUMIFS(Calcs!AH:AH,Calcs!$U:$U,$C152,Calcs!$C:$C,$D152)","v":0},{"$f":"SUMIFS(Calcs!AI:AI,Calcs!$U:$U,$C152,Calcs!$C:$C,$D152)","v":0},{"$f":"SUMIFS(Calcs!AJ:AJ,Calcs!$U:$U,$C152,Calcs!$C:$C,$D152)","v":0},{"$f":"SUMIFS(Calcs!AK:AK,Calcs!$U:$U,$C152,Calcs!$C:$C,$D152)","v":0}]
[null,null,"5hr_batteries","PlannedExisting",{"$f":"SUMIFS(Calcs!Z:Z,Calcs!$U:$U,$C153,Calcs!$C:$C,$D153)","v":0},{"$f":"SUMIFS(Calcs!AA:AA,Calcs!$U:$U,$C153,Calcs!$C:$C,$D153)","v":0},{"$f":"SUMIFS(Calcs!AB:AB,Calcs!$U:$U,$C153,Calcs!$C:$C,$D153)","v":0},{"$f":"SUMIFS(Calcs!AC:AC,Calcs!$U:$U,$C153,Calcs!$C:$C,$D153)","v":0},{"$f":"SUMIFS(Calcs!AD:AD,Calcs!$U:$U,$C153,Calcs!$C:$C,$D153)","v":0},{"$f":"SUMIFS(Calcs!AE:AE,Calcs!$U:$U,$C153,Calcs!$C:$C,$D153)","v":0},{"$f":"SUMIFS(Calcs!AF:AF,Calcs!$U:$U,$C153,Calcs!$C:$C,$D153)","v":0},{"$f":"SUMIFS(Calcs!AG:AG,Calcs!$U:$U,$C153,Calcs!$C:$C,$D153)","v":0},{"$f":"SUMIFS(Calcs!AH:AH,Calcs!$U:$U,$C153,Calcs!$C:$C,$D153)","v":0},{"$f":"SUMIFS(Calcs!AI:AI,Calcs!$U:$U,$C153,Calcs!$C:$C,$D153)","v":0},{"$f":"SUMIFS(Calcs!AJ:AJ,Calcs!$U:$U,$C153,Calcs!$C:$C,$D153)","v":0},{"$f":"SUMIFS(Calcs!AK:AK,Calcs!$U:$U,$C153,Calcs!$C:$C,$D153)","v":0}]
[null,null,"6hr_batteries","PlannedExisting",{"$f":"SUMIFS(Calcs!Z:Z,Calcs!$U:$U,$C154,Calcs!$C:$C,$D154)","v":0},{"$f":"SUMIFS(Calcs!AA:AA,Calcs!$U:$U,$C154,Calcs!$C:$C,$D154)","v":0},{"$f":"SUMIFS(Calcs!AB:AB,Calcs!$U:$U,$C154,Calcs!$C:$C,$D154)","v":0},{"$f":"SUMIFS(Calcs!AC:AC,Calcs!$U:$U,$C154,Calcs!$C:$C,$D154)","v":0},{"$f":"SUMIFS(Calcs!AD:AD,Calcs!$U:$U,$C154,Calcs!$C:$C,$D154)","v":0},{"$f":"SUMIFS(Calcs!AE:AE,Calcs!$U:$U,$C154,Calcs!$C:$C,$D154)","v":0},{"$f":"SUMIFS(Calcs!AF:AF,Calcs!$U:$U,$C154,Calcs!$C:$C,$D154)","v":0},{"$f":"SUMIFS(Calcs!AG:AG,Calcs!$U:$U,$C154,Calcs!$C:$C,$D154)","v":0},{"$f":"SUMIFS(Calcs!AH:AH,Calcs!$U:$U,$C154,Calcs!$C:$C,$D154)","v":0},{"$f":"SUMIFS(Calcs!AI:AI,Calcs!$U:$U,$C154,Calcs!$C:$C,$D154)","v":0},{"$f":"SUMIFS(Calcs!AJ:AJ,Calcs!$U:$U,$C154,Calcs!$C:$C,$D154)","v":0},{"$f":"SUMIFS(Calcs!AK:AK,Calcs!$U:$U,$C154,Calcs!$C:$C,$D154)","v":0}]
[null,null,"7hr_batteries","PlannedExisting",{"$f":"SUMIFS(Calcs!Z:Z,Calcs!$U:$U,$C155,Calcs!$C:$C,$D155)","v":0},{"$f":"SUMIFS(Calcs!AA:AA,Calcs!$U:$U,$C155,Calcs!$C:$C,$D155)","v":0},{"$f":"SUMIFS(Calcs!AB:AB,Calcs!$U:$U,$C155,Calcs!$C:$C,$D155)","v":0},{"$f":"SUMIFS(Calcs!AC:AC,Calcs!$U:$U,$C155,Calcs!$C:$C,$D155)","v":0},{"$f":"SUMIFS(Calcs!AD:AD,Calcs!$U:$U,$C155,Calcs!$C:$C,$D155)","v":0},{"$f":"SUMIFS(Calcs!AE:AE,Calcs!$U:$U,$C155,Calcs!$C:$C,$D155)","v":0},{"$f":"SUMIFS(Calcs!AF:AF,Calcs!$U:$U,$C155,Calcs!$C:$C,$D155)","v":0},{"$f":"SUMIFS(Calcs!AG:AG,Calcs!$U:$U,$C155,Calcs!$C:$C,$D155)","v":0},{"$f":"SUMIFS(Calcs!AH:AH,Calcs!$U:$U,$C155,Calcs!$C:$C,$D155)","v":0},{"$f":"SUMIFS(Calcs!AI:AI,Calcs!$U:$U,$C155,Calcs!$C:$C,$D155)","v":0},{"$f":"SUMIFS(Calcs!AJ:AJ,Calcs!$U:$U,$C155,Calcs!$C:$C,$D155)","v":0},{"$f":"SUMIFS(Calcs!AK:AK,Calcs!$U:$U,$C155,Calcs!$C:$C,$D155)","v":0}]
[null,null,"8hr_batteries","PlannedExisting",{"$f":"SUMIFS(Calcs!Z:Z,Calcs!$U:$U,$C156,Calcs!$C:$C,$D156)","v":0},{"$f":"SUMIFS(Calcs!AA:AA,Calcs!$U:$U,$C156,Calcs!$C:$C,$D156)","v":0},{"$f":"SUMIFS(Calcs!AB:AB,Calcs!$U:$U,$C156,Calcs!$C:$C,$D156)","v":0},{"$f":"SUMIFS(Calcs!AC:AC,Calcs!$U:$U,$C156,Calcs!$C:$C,$D156)","v":0},{"$f":"SUMIFS(Calcs!AD:AD,Calcs!$U:$U,$C156,Calcs!$C:$C,$D156)","v":0},{"$f":"SUMIFS(Calcs!AE:AE,Calcs!$U:$U,$C156,Calcs!$C:$C,$D156)","v":0},{"$f":"SUMIFS(Calcs!AF:AF,Calcs!$U:$U,$C156,Calcs!$C:$C,$D156)","v":0},{"$f":"SUMIFS(Calcs!AG:AG,Calcs!$U:$U,$C156,Calcs!$C:$C,$D156)","v":0},{"$f":"SUMIFS(Calcs!AH:AH,Calcs!$U:$U,$C156,Calcs!$C:$C,$D156)","v":0},{"$f":"SUMIFS(Calcs!AI:AI,Calcs!$U:$U,$C156,Calcs!$C:$C,$D156)","v":0},{"$f":"SUMIFS(Calcs!AJ:AJ,Calcs!$U:$U,$C156,Calcs!$C:$C,$D156)","v":0},{"$f":"SUMIFS(Calcs!AK:AK,Calcs!$U:$U,$C156,Calcs!$C:$C,$D156)","v":0}]
[null,null,"pumped_storage","PlannedExisting",{"$f":"SUMIFS(Calcs!Z:Z,Calcs!$U:$U,$C157,Calcs!$C:$C,$D157)","v":0},{"$f":"SUMIFS(Calcs!AA:AA,Calcs!$U:$U,$C157,Calcs!$C:$C,$D157)","v":0},{"$f":"SUMIFS(Calcs!AB:AB,Calcs!$U:$U,$C157,Calcs!$C:$C,$D157)","v":0},{"$f":"SUMIFS(Calcs!AC:AC,Calcs!$U:$U,$C157,Calcs!$C:$C,$D157)","v":0},{"$f":"SUMIFS(Calcs!AD:AD,Calcs!$U:$U,$C157,Calcs!$C:$C,$D157)","v":0},{"$f":"SUMIFS(Calcs!AE:AE,Calcs!$U:$U,$C157,Calcs!$C:$C,$D157)","v":0},{"$f":"SUMIFS(Calcs!AF:AF,Calcs!$U:$U,$C157,Calcs!$C:$C,$D157)","v":0},{"$f":"SUMIFS(Calcs!AG:AG,Calcs!$U:$U,$C157,Calcs!$C:$C,$D157)","v":0},{"$f":"SUMIFS(Calcs!AH:AH,Calcs!$U:$U,$C157,Calcs!$C:$C,$D157)","v":0},{"$f":"SUMIFS(Calcs!AI:AI,Calcs!$U:$U,$C157,Calcs!$C:$C,$D157)","v":0},{"$f":"SUMIFS(Calcs!AJ:AJ,Calcs!$U:$U,$C157,Calcs!$C:$C,$D157)","v":0},{"$f":"SUMIFS(Calcs!AK:AK,Calcs!$U:$U,$C157,Calcs!$C:$C,$D157)","v":0}]
[null,null,"demand_response","PlannedExisting",{"$f":"SUMIFS(Calcs!Z:Z,Calcs!$U:$U,$C158,Calcs!$C:$C,$D158)","v":5.2932575000000019},{"$f":"SUMIFS(Calcs!AA:AA,Calcs!$U:$U,$C158,Calcs!$C:$C,$D158)","v":5.3842520986582345},{"$f":"SUMIFS(Calcs!AB:AB,Calcs!$U:$U,$C158,Calcs!$C:$C,$D158)","v":5.4752466973164671},{"$f":"SUMIFS(Calcs!AC:AC,Calcs!$U:$U,$C158,Calcs!$C:$C,$D158)","v":4.5781120986582335},{"$f":"SUMIFS(Calcs!AD:AD,Calcs!$U:$U,$C158,Calcs!$C:$C,$D158)","v":3.6809775000000013},{"$f":"SUMIFS(Calcs!AE:AE,Calcs!$U:$U,$C158,Calcs!$C:$C,$D158)","v":3.5920650000000012},{"$f":"SUMIFS(Calcs!AF:AF,Calcs!$U:$U,$C158,Calcs!$C:$C,$D158)","v":3.503152500000001},{"$f":"SUMIFS(Calcs!AG:AG,Calcs!$U:$U,$C158,Calcs!$C:$C,$D158)","v":2.9732340000000006},{"$f":"SUMIFS(Calcs!AH:AH,Calcs!$U:$U,$C158,Calcs!$C:$C,$D158)","v":2.4433155000000006},{"$f":"SUMIFS(Calcs!AI:AI,Calcs!$U:$U,$C158,Calcs!$C:$C,$D158)","v":1.9133970000000005},{"$f":"SUMIFS(Calcs!AJ:AJ,Calcs!$U:$U,$C158,Calcs!$C:$C,$D158)","v":1.3834785000000005},{"$f":"SUMIFS(Calcs!AK:AK,Calcs!$U:$U,$C158,Calcs!$C:$C,$D158)","v":0.85356000000000021}]
[null,null,"hydro","PlannedExisting",{"$f":"SUMIFS(Calcs!Z:Z,Calcs!$U:$U,$C159,Calcs!$C:$C,$D159)","v":0},{"$f":"SUMIFS(Calcs!AA:AA,Calcs!$U:$U,$C159,Calcs!$C:$C,$D159)","v":0},{"$f":"SUMIFS(Calcs!AB:AB,Calcs!$U:$U,$C159,Calcs!$C:$C,$D159)","v":0},{"$f":"SUMIFS(Calcs!AC:AC,Calcs!$U:$U,$C159,Calcs!$C:$C,$D159)","v":0},{"$f":"SUMIFS(Calcs!AD:AD,Calcs!$U:$U,$C159,Calcs!$C:$C,$D159)","v":0},{"$f":"SUMIFS(Calcs!AE:AE,Calcs!$U:$U,$C159,Calcs!$C:$C,$D159)","v":0},{"$f":"SUMIFS(Calcs!AF:AF,Calcs!$U:$U,$C159,Calcs!$C:$C,$D159)","v":0},{"$f":"SUMIFS(Calcs!AG:AG,Calcs!$U:$U,$C159,Calcs!$C:$C,$D159)","v":0},{"$f":"SUMIFS(Calcs!AH:AH,Calcs!$U:$U,$C159,Calcs!$C:$C,$D159)","v":0},{"$f":"SUMIFS(Calcs!AI:AI,Calcs!$U:$U,$C159,Calcs!$C:$C,$D159)","v":0},{"$f":"SUMIFS(Calcs!AJ:AJ,Calcs!$U:$U,$C159,Calcs!$C:$C,$D159)","v":0},{"$f":"SUMIFS(Calcs!AK:AK,Calcs!$U:$U,$C159,Calcs!$C:$C,$D159)","v":0}]
[null,null,"small_hydro","PlannedExisting",{"$f":"SUMIFS(Calcs!Z:Z,Calcs!$U:$U,$C160,Calcs!$C:$C,$D160)","v":0},{"$f":"SUMIFS(Calcs!AA:AA,Calcs!$U:$U,$C160,Calcs!$C:$C,$D160)","v":0},{"$f":"SUMIFS(Calcs!AB:AB,Calcs!$U:$U,$C160,Calcs!$C:$C,$D160)","v":0},{"$f":"SUMIFS(Calcs!AC:AC,Calcs!$U:$U,$C160,Calcs!$C:$C,$D160)","v":0},{"$f":"SUMIFS(Calcs!AD:AD,Calcs!$U:$U,$C160,Calcs!$C:$C,$D160)","v":0},{"$f":"SUMIFS(Calcs!AE:AE,Calcs!$U:$U,$C160,Calcs!$C:$C,$D160)","v":0},{"$f":"SUMIFS(Calcs!AF:AF,Calcs!$U:$U,$C160,Calcs!$C:$C,$D160)","v":0},{"$f":"SUMIFS(Calcs!AG:AG,Calcs!$U:$U,$C160,Calcs!$C:$C,$D160)","v":0},{"$f":"SUMIFS(Calcs!AH:AH,Calcs!$U:$U,$C160,Calcs!$C:$C,$D160)","v":0},{"$f":"SUMIFS(Calcs!AI:AI,Calcs!$U:$U,$C160,Calcs!$C:$C,$D160)","v":0},{"$f":"SUMIFS(Calcs!AJ:AJ,Calcs!$U:$U,$C160,Calcs!$C:$C,$D160)","v":0},{"$f":"SUMIFS(Calcs!AK:AK,Calcs!$U:$U,$C160,Calcs!$C:$C,$D160)","v":0}]
[null,null,"geothermal","PlannedExisting",{"$f":"SUMIFS(Calcs!Z:Z,Calcs!$U:$U,$C161,Calcs!$C:$C,$D161)","v":0},{"$f":"SUMIFS(Calcs!AA:AA,Calcs!$U:$U,$C161,Calcs!$C:$C,$D161)","v":0},{"$f":"SUMIFS(Calcs!AB:AB,Calcs!$U:$U,$C161,Calcs!$C:$C,$D161)","v":0},{"$f":"SUMIFS(Calcs!AC:AC,Calcs!$U:$U,$C161,Calcs!$C:$C,$D161)","v":36.400734403158552},{"$f":"SUMIFS(Calcs!AD:AD,Calcs!$U:$U,$C161,Calcs!$C:$C,$D161)","v":37.100651693224236},{"$f":"SUMIFS(Calcs!AE:AE,Calcs!$U:$U,$C161,Calcs!$C:$C,$D161)","v":36.912236053555532},{"$f":"SUMIFS(Calcs!AF:AF,Calcs!$U:$U,$C161,Calcs!$C:$C,$D161)","v":36.723820413886827},{"$f":"SUMIFS(Calcs!AG:AG,Calcs!$U:$U,$C161,Calcs!$C:$C,$D161)","v":37.01538889194444},{"$f":"SUMIFS(Calcs!AH:AH,Calcs!$U:$U,$C161,Calcs!$C:$C,$D161)","v":37.306957370002053},{"$f":"SUMIFS(Calcs!AI:AI,Calcs!$U:$U,$C161,Calcs!$C:$C,$D161)","v":37.598525848059673},{"$f":"SUMIFS(Calcs!AJ:AJ,Calcs!$U:$U,$C161,Calcs!$C:$C,$D161)","v":37.890094326117286},{"$f":"SUMIFS(Calcs!AK:AK,Calcs!$U:$U,$C161,Calcs!$C:$C,$D161)","v":38.181662804174906}]
[null,null,"biomass_wood","PlannedExisting",{"$f":"SUMIFS(Calcs!Z:Z,Calcs!$U:$U,$C162,Calcs!$C:$C,$D162)","v":0},{"$f":"SUMIFS(Calcs!AA:AA,Calcs!$U:$U,$C162,Calcs!$C:$C,$D162)","v":0},{"$f":"SUMIFS(Calcs!AB:AB,Calcs!$U:$U,$C162,Calcs!$C:$C,$D162)","v":0},{"$f":"SUMIFS(Calcs!AC:AC,Calcs!$U:$U,$C162,Calcs!$C:$C,$D162)","v":0},{"$f":"SUMIFS(Calcs!AD:AD,Calcs!$U:$U,$C162,Calcs!$C:$C,$D162)","v":0},{"$f":"SUMIFS(Calcs!AE:AE,Calcs!$U:$U,$C162,Calcs!$C:$C,$D162)","v":0},{"$f":"SUMIFS(Calcs!AF:AF,Calcs!$U:$U,$C162,Calcs!$C:$C,$D162)","v":0},{"$f":"SUMIFS(Calcs!AG:AG,Calcs!$U:$U,$C162,Calcs!$C:$C,$D162)","v":0},{"$f":"SUMIFS(Calcs!AH:AH,Calcs!$U:$U,$C162,Calcs!$C:$C,$D162)","v":0},{"$f":"SUMIFS(Calcs!AI:AI,Calcs!$U:$U,$C162,Calcs!$C:$C,$D162)","v":0},{"$f":"SUMIFS(Calcs!AJ:AJ,Calcs!$U:$U,$C162,Calcs!$C:$C,$D162)","v":0},{"$f":"SUMIFS(Calcs!AK:AK,Calcs!$U:$U,$C162,Calcs!$C:$C,$D162)","v":0}]
[null,null,"biogas","PlannedExisting",{"$f":"SUMIFS(Calcs!Z:Z,Calcs!$U:$U,$C163,Calcs!$C:$C,$D163)","v":0},{"$f":"SUMIFS(Calcs!AA:AA,Calcs!$U:$U,$C163,Calcs!$C:$C,$D163)","v":0},{"$f":"SUMIFS(Calcs!AB:AB,Calcs!$U:$U,$C163,Calcs!$C:$C,$D163)","v":0},{"$f":"SUMIFS(Calcs!AC:AC,Calcs!$U:$U,$C163,Calcs!$C:$C,$D163)","v":0},{"$f":"SUMIFS(Calcs!AD:AD,Calcs!$U:$U,$C163,Calcs!$C:$C,$D163)","v":0},{"$f":"SUMIFS(Calcs!AE:AE,Calcs!$U:$U,$C163,Calcs!$C:$C,$D163)","v":0},{"$f":"SUMIFS(Calcs!AF:AF,Calcs!$U:$U,$C163,Calcs!$C:$C,$D163)","v":0},{"$f":"SUMIFS(Calcs!AG:AG,Calcs!$U:$U,$C163,Calcs!$C:$C,$D163)","v":0},{"$f":"SUMIFS(Calcs!AH:AH,Calcs!$U:$U,$C163,Calcs!$C:$C,$D163)","v":0},{"$f":"SUMIFS(Calcs!AI:AI,Calcs!$U:$U,$C163,Calcs!$C:$C,$D163)","v":0},{"$f":"SUMIFS(Calcs!AJ:AJ,Calcs!$U:$U,$C163,Calcs!$C:$C,$D163)","v":0},{"$f":"SUMIFS(Calcs!AK:AK,Calcs!$U:$U,$C163,Calcs!$C:$C,$D163)","v":0}]
[null,null,"nuclear","PlannedExisting",{"$f":"SUMIFS(Calcs!Z:Z,Calcs!$U:$U,$C164,Calcs!$C:$C,$D164)","v":0},{"$f":"SUMIFS(Calcs!AA:AA,Calcs!$U:$U,$C164,Calcs!$C:$C,$D164)","v":0},{"$f":"SUMIFS(Calcs!AB:AB,Calcs!$U:$U,$C164,Calcs!$C:$C,$D164)","v":0},{"$f":"SUMIFS(Calcs!AC:AC,Calcs!$U:$U,$C164,Calcs!$C:$C,$D164)","v":0},{"$f":"SUMIFS(Calcs!AD:AD,Calcs!$U:$U,$C164,Calcs!$C:$C,$D164)","v":0},{"$f":"SUMIFS(Calcs!AE:AE,Calcs!$U:$U,$C164,Calcs!$C:$C,$D164)","v":0},{"$f":"SUMIFS(Calcs!AF:AF,Calcs!$U:$U,$C164,Calcs!$C:$C,$D164)","v":0},{"$f":"SUMIFS(Calcs!AG:AG,Calcs!$U:$U,$C164,Calcs!$C:$C,$D164)","v":0},{"$f":"SUMIFS(Calcs!AH:AH,Calcs!$U:$U,$C164,Calcs!$C:$C,$D164)","v":0},{"$f":"SUMIFS(Calcs!AI:AI,Calcs!$U:$U,$C164,Calcs!$C:$C,$D164)","v":0},{"$f":"SUMIFS(Calcs!AJ:AJ,Calcs!$U:$U,$C164,Calcs!$C:$C,$D164)","v":0},{"$f":"SUMIFS(Calcs!AK:AK,Calcs!$U:$U,$C164,Calcs!$C:$C,$D164)","v":0}]
[null,null,"gas_cc","PlannedExisting",{"$f":"SUMIFS(Calcs!Z:Z,Calcs!$U:$U,$C165,Calcs!$C:$C,$D165)","v":65.088312146995278},{"$f":"SUMIFS(Calcs!AA:AA,Calcs!$U:$U,$C165,Calcs!$C:$C,$D165)","v":96.15337881046716},{"$f":"SUMIFS(Calcs!AB:AB,Calcs!$U:$U,$C165,Calcs!$C:$C,$D165)","v":199.19293585543886},{"$f":"SUMIFS(Calcs!AC:AC,Calcs!$U:$U,$C165,Calcs!$C:$C,$D165)","v":175.50422251264155},{"$f":"SUMIFS(Calcs!AD:AD,Calcs!$U:$U,$C165,Calcs!$C:$C,$D165)","v":175.53953155244608},{"$f":"SUMIFS(Calcs!AE:AE,Calcs!$U:$U,$C165,Calcs!$C:$C,$D165)","v":177.21703010442025},{"$f":"SUMIFS(Calcs!AF:AF,Calcs!$U:$U,$C165,Calcs!$C:$C,$D165)","v":154.7952327568064},{"$f":"SUMIFS(Calcs!AG:AG,Calcs!$U:$U,$C165,Calcs!$C:$C,$D165)","v":213.32330241534027},{"$f":"SUMIFS(Calcs!AH:AH,Calcs!$U:$U,$C165,Calcs!$C:$C,$D165)","v":195.30870000211956},{"$f":"SUMIFS(Calcs!AI:AI,Calcs!$U:$U,$C165,Calcs!$C:$C,$D165)","v":177.08957917514408},{"$f":"SUMIFS(Calcs!AJ:AJ,Calcs!$U:$U,$C165,Calcs!$C:$C,$D165)","v":158.46056964103855},{"$f":"SUMIFS(Calcs!AK:AK,Calcs!$U:$U,$C165,Calcs!$C:$C,$D165)","v":160.36940949215796}]
[null,null,"gas_ct","PlannedExisting",{"$f":"SUMIFS(Calcs!Z:Z,Calcs!$U:$U,$C166,Calcs!$C:$C,$D166)","v":0},{"$f":"SUMIFS(Calcs!AA:AA,Calcs!$U:$U,$C166,Calcs!$C:$C,$D166)","v":0},{"$f":"SUMIFS(Calcs!AB:AB,Calcs!$U:$U,$C166,Calcs!$C:$C,$D166)","v":0},{"$f":"SUMIFS(Calcs!AC:AC,Calcs!$U:$U,$C166,Calcs!$C:$C,$D166)","v":0},{"$f":"SUMIFS(Calcs!AD:AD,Calcs!$U:$U,$C166,Calcs!$C:$C,$D166)","v":0},{"$f":"SUMIFS(Calcs!AE:AE,Calcs!$U:$U,$C166,Calcs!$C:$C,$D166)","v":0},{"$f":"SUMIFS(Calcs!AF:AF,Calcs!$U:$U,$C166,Calcs!$C:$C,$D166)","v":0},{"$f":"SUMIFS(Calcs!AG:AG,Calcs!$U:$U,$C166,Calcs!$C:$C,$D166)","v":0},{"$f":"SUMIFS(Calcs!AH:AH,Calcs!$U:$U,$C166,Calcs!$C:$C,$D166)","v":0},{"$f":"SUMIFS(Calcs!AI:AI,Calcs!$U:$U,$C166,Calcs!$C:$C,$D166)","v":0},{"$f":"SUMIFS(Calcs!AJ:AJ,Calcs!$U:$U,$C166,Calcs!$C:$C,$D166)","v":0},{"$f":"SUMIFS(Calcs!AK:AK,Calcs!$U:$U,$C166,Calcs!$C:$C,$D166)","v":0}]
[null,null,"cogen","PlannedExisting",{"$f":"SUMIFS(Calcs!Z:Z,Calcs!$U:$U,$C167,Calcs!$C:$C,$D167)","v":0},{"$f":"SUMIFS(Calcs!AA:AA,Calcs!$U:$U,$C167,Calcs!$C:$C,$D167)","v":0},{"$f":"SUMIFS(Calcs!AB:AB,Calcs!$U:$U,$C167,Calcs!$C:$C,$D167)","v":0},{"$f":"SUMIFS(Calcs!AC:AC,Calcs!$U:$U,$C167,Calcs!$C:$C,$D167)","v":0},{"$f":"SUMIFS(Calcs!AD:AD,Calcs!$U:$U,$C167,Calcs!$C:$C,$D167)","v":0},{"$f":"SUMIFS(Calcs!AE:AE,Calcs!$U:$U,$C167,Calcs!$C:$C,$D167)","v":0},{"$f":"SUMIFS(Calcs!AF:AF,Calcs!$U:$U,$C167,Calcs!$C:$C,$D167)","v":0},{"$f":"SUMIFS(Calcs!AG:AG,Calcs!$U:$U,$C167,Calcs!$C:$C,$D167)","v":0},{"$f":"SUMIFS(Calcs!AH:AH,Calcs!$U:$U,$C167,Calcs!$C:$C,$D167)","v":0},{"$f":"SUMIFS(Calcs!AI:AI,Calcs!$U:$U,$C167,Calcs!$C:$C,$D167)","v":0},{"$f":"SUMIFS(Calcs!AJ:AJ,Calcs!$U:$U,$C167,Calcs!$C:$C,$D167)","v":0},{"$f":"SUMIFS(Calcs!AK:AK,Calcs!$U:$U,$C167,Calcs!$C:$C,$D167)","v":0}]
[null,null,"ice","PlannedExisting",{"$f":"SUMIFS(Calcs!Z:Z,Calcs!$U:$U,$C168,Calcs!$C:$C,$D168)","v":0},{"$f":"SUMIFS(Calcs!AA:AA,Calcs!$U:$U,$C168,Calcs!$C:$C,$D168)","v":0},{"$f":"SUMIFS(Calcs!AB:AB,Calcs!$U:$U,$C168,Calcs!$C:$C,$D168)","v":0},{"$f":"SUMIFS(Calcs!AC:AC,Calcs!$U:$U,$C168,Calcs!$C:$C,$D168)","v":0},{"$f":"SUMIFS(Calcs!AD:AD,Calcs!$U:$U,$C168,Calcs!$C:$C,$D168)","v":0},{"$f":"SUMIFS(Calcs!AE:AE,Calcs!$U:$U,$C168,Calcs!$C:$C,$D168)","v":0},{"$f":"SUMIFS(Calcs!AF:AF,Calcs!$U:$U,$C168,Calcs!$C:$C,$D168)","v":0},{"$f":"SUMIFS(Calcs!AG:AG,Calcs!$U:$U,$C168,Calcs!$C:$C,$D168)","v":0},{"$f":"SUMIFS(Calcs!AH:AH,Calcs!$U:$U,$C168,Calcs!$C:$C,$D168)","v":0},{"$f":"SUMIFS(Calcs!AI:AI,Calcs!$U:$U,$C168,Calcs!$C:$C,$D168)","v":0},{"$f":"SUMIFS(Calcs!AJ:AJ,Calcs!$U:$U,$C168,Calcs!$C:$C,$D168)","v":0},{"$f":"SUMIFS(Calcs!AK:AK,Calcs!$U:$U,$C168,Calcs!$C:$C,$D168)","v":0}]
[null,null,"coal","PlannedExisting",{"$f":"SUMIFS(Calcs!Z:Z,Calcs!$U:$U,$C169,Calcs!$C:$C,$D169)","v":0},{"$f":"SUMIFS(Calcs!AA:AA,Calcs!$U:$U,$C169,Calcs!$C:$C,$D169)","v":0},{"$f":"SUMIFS(Calcs!AB:AB,Calcs!$U:$U,$C169,Calcs!$C:$C,$D169)","v":0},{"$f":"SUMIFS(Calcs!AC:AC,Calcs!$U:$U,$C169,Calcs!$C:$C,$D169)","v":0},{"$f":"SUMIFS(Calcs!AD:AD,Calcs!$U:$U,$C169,Calcs!$C:$C,$D169)","v":0},{"$f":"SUMIFS(Calcs!AE:AE,Calcs!$U:$U,$C169,Calcs!$C:$C,$D169)","v":0},{"$f":"SUMIFS(Calcs!AF:AF,Calcs!$U:$U,$C169,Calcs!$C:$C,$D169)","v":0},{"$f":"SUMIFS(Calcs!AG:AG,Calcs!$U:$U,$C169,Calcs!$C:$C,$D169)","v":0},{"$f":"SUMIFS(Calcs!AH:AH,Calcs!$U:$U,$C169,Calcs!$C:$C,$D169)","v":0},{"$f":"SUMIFS(Calcs!AI:AI,Calcs!$U:$U,$C169,Calcs!$C:$C,$D169)","v":0},{"$f":"SUMIFS(Calcs!AJ:AJ,Calcs!$U:$U,$C169,Calcs!$C:$C,$D169)","v":0},{"$f":"SUMIFS(Calcs!AK:AK,Calcs!$U:$U,$C169,Calcs!$C:$C,$D169)","v":0}]
[null,null,"steam","PlannedExisting",{"$f":"SUMIFS(Calcs!Z:Z,Calcs!$U:$U,$C170,Calcs!$C:$C,$D170)","v":0},{"$f":"SUMIFS(Calcs!AA:AA,Calcs!$U:$U,$C170,Calcs!$C:$C,$D170)","v":0},{"$f":"SUMIFS(Calcs!AB:AB,Calcs!$U:$U,$C170,Calcs!$C:$C,$D170)","v":0},{"$f":"SUMIFS(Calcs!AC:AC,Calcs!$U:$U,$C170,Calcs!$C:$C,$D170)","v":0},{"$f":"SUMIFS(Calcs!AD:AD,Calcs!$U:$U,$C170,Calcs!$C:$C,$D170)","v":0},{"$f":"SUMIFS(Calcs!AE:AE,Calcs!$U:$U,$C170,Calcs!$C:$C,$D170)","v":0},{"$f":"SUMIFS(Calcs!AF:AF,Calcs!$U:$U,$C170,Calcs!$C:$C,$D170)","v":0},{"$f":"SUMIFS(Calcs!AG:AG,Calcs!$U:$U,$C170,Calcs!$C:$C,$D170)","v":0},{"$f":"SUMIFS(Calcs!AH:AH,Calcs!$U:$U,$C170,Calcs!$C:$C,$D170)","v":0},{"$f":"SUMIFS(Calcs!AI:AI,Calcs!$U:$U,$C170,Calcs!$C:$C,$D170)","v":0},{"$f":"SUMIFS(Calcs!AJ:AJ,Calcs!$U:$U,$C170,Calcs!$C:$C,$D170)","v":0},{"$f":"SUMIFS(Calcs!AK:AK,Calcs!$U:$U,$C170,Calcs!$C:$C,$D170)","v":0}]
[null,null,"unspecified_import","PlannedExisting",{"$f":"SUMIFS(Calcs!Z:Z,Calcs!$U:$U,$C171,Calcs!$C:$C,$D171)","v":0},{"$f":"SUMIFS(Calcs!AA:AA,Calcs!$U:$U,$C171,Calcs!$C:$C,$D171)","v":0},{"$f":"SUMIFS(Calcs!AB:AB,Calcs!$U:$U,$C171,Calcs!$C:$C,$D171)","v":0},{"$f":"SUMIFS(Calcs!AC:AC,Calcs!$U:$U,$C171,Calcs!$C:$C,$D171)","v":0},{"$f":"SUMIFS(Calcs!AD:AD,Calcs!$U:$U,$C171,Calcs!$C:$C,$D171)","v":0},{"$f":"SUMIFS(Calcs!AE:AE,Calcs!$U:$U,$C171,Calcs!$C:$C,$D171)","v":0},{"$f":"SUMIFS(Calcs!AF:AF,Calcs!$U:$U,$C171,Calcs!$C:$C,$D171)","v":0},{"$f":"SUMIFS(Calcs!AG:AG,Calcs!$U:$U,$C171,Calcs!$C:$C,$D171)","v":0},{"$f":"SUMIFS(Calcs!AH:AH,Calcs!$U:$U,$C171,Calcs!$C:$C,$D171)","v":0},{"$f":"SUMIFS(Calcs!AI:AI,Calcs!$U:$U,$C171,Calcs!$C:$C,$D171)","v":0},{"$f":"SUMIFS(Calcs!AJ:AJ,Calcs!$U:$U,$C171,Calcs!$C:$C,$D171)","v":0},{"$f":"SUMIFS(Calcs!AK:AK,Calcs!$U:$U,$C171,Calcs!$C:$C,$D171)","v":0}]
[null,null,"hybrid","PlannedNew",{"$f":"SUMIFS(Calcs!Z:Z,Calcs!$U:$U,$C172,Calcs!$C:$C,$D172)","v":0},{"$f":"SUMIFS(Calcs!AA:AA,Calcs!$U:$U,$C172,Calcs!$C:$C,$D172)","v":0},{"$f":"SUMIFS(Calcs!AB:AB,Calcs!$U:$U,$C172,Calcs!$C:$C,$D172)","v":0},{"$f":"SUMIFS(Calcs!AC:AC,Calcs!$U:$U,$C172,Calcs!$C:$C,$D172)","v":37.88721288172141},{"$f":"SUMIFS(Calcs!AD:AD,Calcs!$U:$U,$C172,Calcs!$C:$C,$D172)","v":34.718374281370956},{"$f":"SUMIFS(Calcs!AE:AE,Calcs!$U:$U,$C172,Calcs!$C:$C,$D172)","v":33.459187140685472},{"$f":"SUMIFS(Calcs!AF:AF,Calcs!$U:$U,$C172,Calcs!$C:$C,$D172)","v":32.200000000000003},{"$f":"SUMIFS(Calcs!AG:AG,Calcs!$U:$U,$C172,Calcs!$C:$C,$D172)","v":29.48},{"$f":"SUMIFS(Calcs!AH:AH,Calcs!$U:$U,$C172,Calcs!$C:$C,$D172)","v":26.76},{"$f":"SUMIFS(Calcs!AI:AI,Calcs!$U:$U,$C172,Calcs!$C:$C,$D172)","v":24.040000000000003},{"$f":"SUMIFS(Calcs!AJ:AJ,Calcs!$U:$U,$C172,Calcs!$C:$C,$D172)","v":42.640000000000015},{"$f":"SUMIFS(Calcs!AK:AK,Calcs!$U:$U,$C172,Calcs!$C:$C,$D172)","v":37.199999999999996}]
[null,null,"in_state_wind_south","PlannedNew",{"$f":"SUMIFS(Calcs!Z:Z,Calcs!$U:$U,$C173,Calcs!$C:$C,$D173)","v":0},{"$f":"SUMIFS(Calcs!AA:AA,Calcs!$U:$U,$C173,Calcs!$C:$C,$D173)","v":0},{"$f":"SUMIFS(Calcs!AB:AB,Calcs!$U:$U,$C173,Calcs!$C:$C,$D173)","v":0},{"$f":"SUMIFS(Calcs!AC:AC,Calcs!$U:$U,$C173,Calcs!$C:$C,$D173)","v":0},{"$f":"SUMIFS(Calcs!AD:AD,Calcs!$U:$U,$C173,Calcs!$C:$C,$D173)","v":4.2209499205063707},{"$f":"SUMIFS(Calcs!AE:AE,Calcs!$U:$U,$C173,Calcs!$C:$C,$D173)","v":8.3416882718990344},{"$f":"SUMIFS(Calcs!AF:AF,Calcs!$U:$U,$C173,Calcs!$C:$C,$D173)","v":12.362215054177991},{"$f":"SUMIFS(Calcs!AG:AG,Calcs!$U:$U,$C173,Calcs!$C:$C,$D173)","v":11.224453668660725},{"$f":"SUMIFS(Calcs!AH:AH,Calcs!$U:$U,$C173,Calcs!$C:$C,$D173)","v":10.08669228314346},{"$f":"SUMIFS(Calcs!AI:AI,Calcs!$U:$U,$C173,Calcs!$C:$C,$D173)","v":8.9489308976261928},{"$f":"SUMIFS(Calcs!AJ:AJ,Calcs!$U:$U,$C173,Calcs!$C:$C,$D173)","v":7.8111695121089255},{"$f":"SUMIFS(Calcs!AK:AK,Calcs!$U:$U,$C173,Calcs!$C:$C,$D173)","v":6.6734081265916583}]
[null,null,"in_state_wind_north","PlannedNew",{"$f":"SUMIFS(Calcs!Z:Z,Calcs!$U:$U,$C174,Calcs!$C:$C,$D174)","v":0},{"$f":"SUMIFS(Calcs!AA:AA,Calcs!$U:$U,$C174,Calcs!$C:$C,$D174)","v":0},{"$f":"SUMIFS(Calcs!AB:AB,Calcs!$U:$U,$C174,Calcs!$C:$C,$D174)","v":0},{"$f":"SUMIFS(Calcs!AC:AC,Calcs!$U:$U,$C174,Calcs!$C:$C,$D174)","v":0},{"$f":"SUMIFS(Calcs!AD:AD,Calcs!$U:$U,$C174,Calcs!$C:$C,$D174)","v":0},{"$f":"SUMIFS(Calcs!AE:AE,Calcs!$U:$U,$C174,Calcs!$C:$C,$D174)","v":0},{"$f":"SUMIFS(Calcs!AF:AF,Calcs!$U:$U,$C174,Calcs!$C:$C,$D174)","v":0},{"$f":"SUMIFS(Calcs!AG:AG,Calcs!$U:$U,$C174,Calcs!$C:$C,$D174)","v":0},{"$f":"SUMIFS(Calcs!AH:AH,Calcs!$U:$U,$C174,Calcs!$C:$C,$D174)","v":0},{"$f":"SUMIFS(Calcs!AI:AI,Calcs!$U:$U,$C174,Calcs!$C:$C,$D174)","v":0},{"$f":"SUMIFS(Calcs!AJ:AJ,Calcs!$U:$U,$C174,Calcs!$C:$C,$D174)","v":0},{"$f":"SUMIFS(Calcs!AK:AK,Calcs!$U:$U,$C174,Calcs!$C:$C,$D174)","v":0}]
[null,null,"out_of_state_wind_WYID","PlannedNew",{"$f":"SUMIFS([1]Calcs!Z:Z,[1]Calcs!$U:$U,$C175,[1]Calcs!$C:$C,$D175)","v":0},{"$f":"SUMIFS([1]Calcs!AA:AA,[1]Calcs!$U:$U,$C175,[1]Calcs!$C:$C,$D175)","v":0},{"$f":"SUMIFS([1]Calcs!AB:AB,[1]Calcs!$U:$U,$C175,[1]Calcs!$C:$C,$D175)","v":35.801419797437759},{"$f":"SUMIFS([1]Calcs!AC:AC,[1]Calcs!$U:$U,$C175,[1]Calcs!$C:$C,$D175)","v":37.37228296215406},{"$f":"SUMIFS([1]Calcs!AD:AD,[1]Calcs!$U:$U,$C175,[1]Calcs!$C:$C,$D175)","v":38.943146126870346},{"$f":"SUMIFS([1]Calcs!AE:AE,[1]Calcs!$U:$U,$C175,[1]Calcs!$C:$C,$D175)","v":31.241064588858901},{"$f":"SUMIFS([1]Calcs!AF:AF,[1]Calcs!$U:$U,$C175,[1]Calcs!$C:$C,$D175)","v":23.538983050847456},{"$f":"SUMIFS([1]Calcs!AG:AG,[1]Calcs!$U:$U,$C175,[1]Calcs!$C:$C,$D175)","v":24.842033898305083},{"$f":"SUMIFS([1]Calcs!AH:AH,[1]Calcs!$U:$U,$C175,[1]Calcs!$C:$C,$D175)","v":26.145084745762709},{"$f":"SUMIFS([1]Calcs!AI:AI,[1]Calcs!$U:$U,$C175,[1]Calcs!$C:$C,$D175)","v":27.448135593220336},{"$f":"SUMIFS([1]Calcs!AJ:AJ,[1]Calcs!$U:$U,$C175,[1]Calcs!$C:$C,$D175)","v":28.751186440677962},{"$f":"SUMIFS([1]Calcs!AK:AK,[1]Calcs!$U:$U,$C175,[1]Calcs!$C:$C,$D175)","v":30.054237288135592}]
[null,null,"out_of_state_wind_WAOR","PlannedNew",{"$f":"SUMIFS(Calcs!Z:Z,Calcs!$U:$U,$C176,Calcs!$C:$C,$D176)","v":0},{"$f":"SUMIFS(Calcs!AA:AA,Calcs!$U:$U,$C176,Calcs!$C:$C,$D176)","v":0},{"$f":"SUMIFS(Calcs!AB:AB,Calcs!$U:$U,$C176,Calcs!$C:$C,$D176)","v":0},{"$f":"SUMIFS(Calcs!AC:AC,Calcs!$U:$U,$C176,Calcs!$C:$C,$D176)","v":0},{"$f":"SUMIFS(Calcs!AD:AD,Calcs!$U:$U,$C176,Calcs!$C:$C,$D176)","v":0},{"$f":"SUMIFS(Calcs!AE:AE,Calcs!$U:$U,$C176,Calcs!$C:$C,$D176)","v":0},{"$f":"SUMIFS(Calcs!AF:AF,Calcs!$U:$U,$C176,Calcs!$C:$C,$D176)","v":0},{"$f":"SUMIFS(Calcs!AG:AG,Calcs!$U:$U,$C176,Calcs!$C:$C,$D176)","v":0},{"$f":"SUMIFS(Calcs!AH:AH,Calcs!$U:$U,$C176,Calcs!$C:$C,$D176)","v":0},{"$f":"SUMIFS(Calcs!AI:AI,Calcs!$U:$U,$C176,Calcs!$C:$C,$D176)","v":0},{"$f":"SUMIFS(Calcs!AJ:AJ,Calcs!$U:$U,$C176,Calcs!$C:$C,$D176)","v":0},{"$f":"SUMIFS(Calcs!AK:AK,Calcs!$U:$U,$C176,Calcs!$C:$C,$D176)","v":0}]
[null,null,"out_of_state_wind_AZNM","PlannedNew",{"$f":"SUMIFS(Calcs!Z:Z,Calcs!$U:$U,$C177,Calcs!$C:$C,$D177)","v":0},{"$f":"SUMIFS(Calcs!AA:AA,Calcs!$U:$U,$C177,Calcs!$C:$C,$D177)","v":0},{"$f":"SUMIFS(Calcs!AB:AB,Calcs!$U:$U,$C177,Calcs!$C:$C,$D177)","v":0},{"$f":"SUMIFS(Calcs!AC:AC,Calcs!$U:$U,$C177,Calcs!$C:$C,$D177)","v":0},{"$f":"SUMIFS(Calcs!AD:AD,Calcs!$U:$U,$C177,Calcs!$C:$C,$D177)","v":0},{"$f":"SUMIFS(Calcs!AE:AE,Calcs!$U:$U,$C177,Calcs!$C:$C,$D177)","v":0},{"$f":"SUMIFS(Calcs!AF:AF,Calcs!$U:$U,$C177,Calcs!$C:$C,$D177)","v":0},{"$f":"SUMIFS(Calcs!AG:AG,Calcs!$U:$U,$C177,Calcs!$C:$C,$D177)","v":0},{"$f":"SUMIFS(Calcs!AH:AH,Calcs!$U:$U,$C177,Calcs!$C:$C,$D177)","v":0},{"$f":"SUMIFS(Calcs!AI:AI,Calcs!$U:$U,$C177,Calcs!$C:$C,$D177)","v":0},{"$f":"SUMIFS(Calcs!AJ:AJ,Calcs!$U:$U,$C177,Calcs!$C:$C,$D177)","v":0},{"$f":"SUMIFS(Calcs!AK:AK,Calcs!$U:$U,$C177,Calcs!$C:$C,$D177)","v":0}]
[null,null,"offshore_wind","PlannedNew",{"$f":"SUMIFS(Calcs!Z:Z,Calcs!$U:$U,$C178,Calcs!$C:$C,$D178)","v":0},{"$f":"SUMIFS(Calcs!AA:AA,Calcs!$U:$U,$C178,Calcs!$C:$C,$D178)","v":0},{"$f":"SUMIFS(Calcs!AB:AB,Calcs!$U:$U,$C178,Calcs!$C:$C,$D178)","v":0},{"$f":"SUMIFS(Calcs!AC:AC,Calcs!$U:$U,$C178,Calcs!$C:$C,$D178)","v":0},{"$f":"SUMIFS(Calcs!AD:AD,Calcs!$U:$U,$C178,Calcs!$C:$C,$D178)","v":0},{"$f":"SUMIFS(Calcs!AE:AE,Calcs!$U:$U,$C178,Calcs!$C:$C,$D178)","v":0},{"$f":"SUMIFS(Calcs!AF:AF,Calcs!$U:$U,$C178,Calcs!$C:$C,$D178)","v":0},{"$f":"SUMIFS(Calcs!AG:AG,Calcs!$U:$U,$C178,Calcs!$C:$C,$D178)","v":0},{"$f":"SUMIFS(Calcs!AH:AH,Calcs!$U:$U,$C178,Calcs!$C:$C,$D178)","v":0},{"$f":"SUMIFS(Calcs!AI:AI,Calcs!$U:$U,$C178,Calcs!$C:$C,$D178)","v":0},{"$f":"SUMIFS(Calcs!AJ:AJ,Calcs!$U:$U,$C178,Calcs!$C:$C,$D178)","v":0},{"$f":"SUMIFS(Calcs!AK:AK,Calcs!$U:$U,$C178,Calcs!$C:$C,$D178)","v":0}]
[null,null,"utility_pv","PlannedNew",{"$f":"SUMIFS(Calcs!Z:Z,Calcs!$U:$U,$C179,Calcs!$C:$C,$D179)","v":0},{"$f":"SUMIFS(Calcs!AA:AA,Calcs!$U:$U,$C179,Calcs!$C:$C,$D179)","v":0},{"$f":"SUMIFS(Calcs!AB:AB,Calcs!$U:$U,$C179,Calcs!$C:$C,$D179)","v":0},{"$f":"SUMIFS(Calcs!AC:AC,Calcs!$U:$U,$C179,Calcs!$C:$C,$D179)","v":0},{"$f":"SUMIFS(Calcs!AD:AD,Calcs!$U:$U,$C179,Calcs!$C:$C,$D179)","v":0},{"$f":"SUMIFS(Calcs!AE:AE,Calcs!$U:$U,$C179,Calcs!$C:$C,$D179)","v":0},{"$f":"SUMIFS(Calcs!AF:AF,Calcs!$U:$U,$C179,Calcs!$C:$C,$D179)","v":0},{"$f":"SUMIFS(Calcs!AG:AG,Calcs!$U:$U,$C179,Calcs!$C:$C,$D179)","v":0},{"$f":"SUMIFS(Calcs!AH:AH,Calcs!$U:$U,$C179,Calcs!$C:$C,$D179)","v":0},{"$f":"SUMIFS(Calcs!AI:AI,Calcs!$U:$U,$C179,Calcs!$C:$C,$D179)","v":0},{"$f":"SUMIFS(Calcs!AJ:AJ,Calcs!$U:$U,$C179,Calcs!$C:$C,$D179)","v":0},{"$f":"SUMIFS(Calcs!AK:AK,Calcs!$U:$U,$C179,Calcs!$C:$C,$D179)","v":0}]
[null,null,"btm_pv","PlannedNew",{"$f":"SUMIFS(Calcs!Z:Z,Calcs!$U:$U,$C180,Calcs!$C:$C,$D180)","v":0},{"$f":"SUMIFS(Calcs!AA:AA,Calcs!$U:$U,$C180,Calcs!$C:$C,$D180)","v":0},{"$f":"SUMIFS(Calcs!AB:AB,Calcs!$U:$U,$C180,Calcs!$C:$C,$D180)","v":0},{"$f":"SUMIFS(Calcs!AC:AC,Calcs!$U:$U,$C180,Calcs!$C:$C,$D180)","v":0},{"$f":"SUMIFS(Calcs!AD:AD,Calcs!$U:$U,$C180,Calcs!$C:$C,$D180)","v":0},{"$f":"SUMIFS(Calcs!AE:AE,Calcs!$U:$U,$C180,Calcs!$C:$C,$D180)","v":0},{"$f":"SUMIFS(Calcs!AF:AF,Calcs!$U:$U,$C180,Calcs!$C:$C,$D180)","v":0},{"$f":"SUMIFS(Calcs!AG:AG,Calcs!$U:$U,$C180,Calcs!$C:$C,$D180)","v":0},{"$f":"SUMIFS(Calcs!AH:AH,Calcs!$U:$U,$C180,Calcs!$C:$C,$D180)","v":0},{"$f":"SUMIFS(Calcs!AI:AI,Calcs!$U:$U,$C180,Calcs!$C:$C,$D180)","v":0},{"$f":"SUMIFS(Calcs!AJ:AJ,Calcs!$U:$U,$C180,Calcs!$C:$C,$D180)","v":0},{"$f":"SUMIFS(Calcs!AK:AK,Calcs!$U:$U,$C180,Calcs!$C:$C,$D180)","v":0}]
[null,null,"4hr_batteries","PlannedNew",{"$f":"SUMIFS(Calcs!Z:Z,Calcs!$U:$U,$C181,Calcs!$C:$C,$D181)","v":0},{"$f":"SUMIFS(Calcs!AA:AA,Calcs!$U:$U,$C181,Calcs!$C:$C,$D181)","v":0},{"$f":"SUMIFS(Calcs!AB:AB,Calcs!$U:$U,$C181,Calcs!$C:$C,$D181)","v":0},{"$f":"SUMIFS(Calcs!AC:AC,Calcs!$U:$U,$C181,Calcs!$C:$C,$D181)","v":0},{"$f":"SUMIFS(Calcs!AD:AD,Calcs!$U:$U,$C181,Calcs!$C:$C,$D181)","v":0},{"$f":"SUMIFS(Calcs!AE:AE,Calcs!$U:$U,$C181,Calcs!$C:$C,$D181)","v":0},{"$f":"SUMIFS(Calcs!AF:AF,Calcs!$U:$U,$C181,Calcs!$C:$C,$D181)","v":0},{"$f":"SUMIFS(Calcs!AG:AG,Calcs!$U:$U,$C181,Calcs!$C:$C,$D181)","v":0},{"$f":"SUMIFS(Calcs!AH:AH,Calcs!$U:$U,$C181,Calcs!$C:$C,$D181)","v":0},{"$f":"SUMIFS(Calcs!AI:AI,Calcs!$U:$U,$C181,Calcs!$C:$C,$D181)","v":0},{"$f":"SUMIFS(Calcs!AJ:AJ,Calcs!$U:$U,$C181,Calcs!$C:$C,$D181)","v":0},{"$f":"SUMIFS(Calcs!AK:AK,Calcs!$U:$U,$C181,Calcs!$C:$C,$D181)","v":0}]
[null,null,"5hr_batteries","PlannedNew",{"$f":"SUMIFS(Calcs!Z:Z,Calcs!$U:$U,$C182,Calcs!$C:$C,$D182)","v":0},{"$f":"SUMIFS(Calcs!AA:AA,Calcs!$U:$U,$C182,Calcs!$C:$C,$D182)","v":0},{"$f":"SUMIFS(Calcs!AB:AB,Calcs!$U:$U,$C182,Calcs!$C:$C,$D182)","v":0},{"$f":"SUMIFS(Calcs!AC:AC,Calcs!$U:$U,$C182,Calcs!$C:$C,$D182)","v":0},{"$f":"SUMIFS(Calcs!AD:AD,Calcs!$U:$U,$C182,Calcs!$C:$C,$D182)","v":0},{"$f":"SUMIFS(Calcs!AE:AE,Calcs!$U:$U,$C182,Calcs!$C:$C,$D182)","v":0},{"$f":"SUMIFS(Calcs!AF:AF,Calcs!$U:$U,$C182,Calcs!$C:$C,$D182)","v":0},{"$f":"SUMIFS(Calcs!AG:AG,Calcs!$U:$U,$C182,Calcs!$C:$C,$D182)","v":0},{"$f":"SUMIFS(Calcs!AH:AH,Calcs!$U:$U,$C182,Calcs!$C:$C,$D182)","v":0},{"$f":"SUMIFS(Calcs!AI:AI,Calcs!$U:$U,$C182,Calcs!$C:$C,$D182)","v":0},{"$f":"SUMIFS(Calcs!AJ:AJ,Calcs!$U:$U,$C182,Calcs!$C:$C,$D182)","v":0},{"$f":"SUMIFS(Calcs!AK:AK,Calcs!$U:$U,$C182,Calcs!$C:$C,$D182)","v":0}]
[null,null,"6hr_batteries","PlannedNew",{"$f":"SUMIFS(Calcs!Z:Z,Calcs!$U:$U,$C183,Calcs!$C:$C,$D183)","v":0},{"$f":"SUMIFS(Calcs!AA:AA,Calcs!$U:$U,$C183,Calcs!$C:$C,$D183)","v":0},{"$f":"SUMIFS(Calcs!AB:AB,Calcs!$U:$U,$C183,Calcs!$C:$C,$D183)","v":0},{"$f":"SUMIFS(Calcs!AC:AC,Calcs!$U:$U,$C183,Calcs!$C:$C,$D183)","v":0},{"$f":"SUMIFS(Calcs!AD:AD,Calcs!$U:$U,$C183,Calcs!$C:$C,$D183)","v":0},{"$f":"SUMIFS(Calcs!AE:AE,Calcs!$U:$U,$C183,Calcs!$C:$C,$D183)","v":0},{"$f":"SUMIFS(Calcs!AF:AF,Calcs!$U:$U,$C183,Calcs!$C:$C,$D183)","v":0},{"$f":"SUMIFS(Calcs!AG:AG,Calcs!$U:$U,$C183,Calcs!$C:$C,$D183)","v":0},{"$f":"SUMIFS(Calcs!AH:AH,Calcs!$U:$U,$C183,Calcs!$C:$C,$D183)","v":0},{"$f":"SUMIFS(Calcs!AI:AI,Calcs!$U:$U,$C183,Calcs!$C:$C,$D183)","v":0},{"$f":"SUMIFS(Calcs!AJ:AJ,Calcs!$U:$U,$C183,Calcs!$C:$C,$D183)","v":0},{"$f":"SUMIFS(Calcs!AK:AK,Calcs!$U:$U,$C183,Calcs!$C:$C,$D183)","v":0}]
[null,null,"7hr_batteries","PlannedNew",{"$f":"SUMIFS(Calcs!Z:Z,Calcs!$U:$U,$C184,Calcs!$C:$C,$D184)","v":0},{"$f":"SUMIFS(Calcs!AA:AA,Calcs!$U:$U,$C184,Calcs!$C:$C,$D184)","v":0},{"$f":"SUMIFS(Calcs!AB:AB,Calcs!$U:$U,$C184,Calcs!$C:$C,$D184)","v":0},{"$f":"SUMIFS(Calcs!AC:AC,Calcs!$U:$U,$C184,Calcs!$C:$C,$D184)","v":0},{"$f":"SUMIFS(Calcs!AD:AD,Calcs!$U:$U,$C184,Calcs!$C:$C,$D184)","v":0},{"$f":"SUMIFS(Calcs!AE:AE,Calcs!$U:$U,$C184,Calcs!$C:$C,$D184)","v":0},{"$f":"SUMIFS(Calcs!AF:AF,Calcs!$U:$U,$C184,Calcs!$C:$C,$D184)","v":0},{"$f":"SUMIFS(Calcs!AG:AG,Calcs!$U:$U,$C184,Calcs!$C:$C,$D184)","v":0},{"$f":"SUMIFS(Calcs!AH:AH,Calcs!$U:$U,$C184,Calcs!$C:$C,$D184)","v":0},{"$f":"SUMIFS(Calcs!AI:AI,Calcs!$U:$U,$C184,Calcs!$C:$C,$D184)","v":0},{"$f":"SUMIFS(Calcs!AJ:AJ,Calcs!$U:$U,$C184,Calcs!$C:$C,$D184)","v":0},{"$f":"SUMIFS(Calcs!AK:AK,Calcs!$U:$U,$C184,Calcs!$C:$C,$D184)","v":0}]
[null,null,"8hr_batteries","PlannedNew",{"$f":"SUMIFS(Calcs!Z:Z,Calcs!$U:$U,$C185,Calcs!$C:$C,$D185)","v":0},{"$f":"SUMIFS(Calcs!AA:AA,Calcs!$U:$U,$C185,Calcs!$C:$C,$D185)","v":0},{"$f":"SUMIFS(Calcs!AB:AB,Calcs!$U:$U,$C185,Calcs!$C:$C,$D185)","v":0},{"$f":"SUMIFS(Calcs!AC:AC,Calcs!$U:$U,$C185,Calcs!$C:$C,$D185)","v":0},{"$f":"SUMIFS(Calcs!AD:AD,Calcs!$U:$U,$C185,Calcs!$C:$C,$D185)","v":0},{"$f":"SUMIFS(Calcs!AE:AE,Calcs!$U:$U,$C185,Calcs!$C:$C,$D185)","v":0},{"$f":"SUMIFS(Calcs!AF:AF,Calcs!$U:$U,$C185,Calcs!$C:$C,$D185)","v":0},{"$f":"SUMIFS(Calcs!AG:AG,Calcs!$U:$U,$C185,Calcs!$C:$C,$D185)","v":0},{"$f":"SUMIFS(Calcs!AH:AH,Calcs!$U:$U,$C185,Calcs!$C:$C,$D185)","v":0},{"$f":"SUMIFS(Calcs!AI:AI,Calcs!$U:$U,$C185,Calcs!$C:$C,$D185)","v":0},{"$f":"SUMIFS(Calcs!AJ:AJ,Calcs!$U:$U,$C185,Calcs!$C:$C,$D185)","v":0},{"$f":"SUMIFS(Calcs!AK:AK,Calcs!$U:$U,$C185,Calcs!$C:$C,$D185)","v":0}]
[null,null,"pumped_storage","PlannedNew",{"$f":"SUMIFS(Calcs!Z:Z,Calcs!$U:$U,$C186,Calcs!$C:$C,$D186)","v":0},{"$f":"SUMIFS(Calcs!AA:AA,Calcs!$U:$U,$C186,Calcs!$C:$C,$D186)","v":0},{"$f":"SUMIFS(Calcs!AB:AB,Calcs!$U:$U,$C186,Calcs!$C:$C,$D186)","v":0},{"$f":"SUMIFS(Calcs!AC:AC,Calcs!$U:$U,$C186,Calcs!$C:$C,$D186)","v":0},{"$f":"SUMIFS(Calcs!AD:AD,Calcs!$U:$U,$C186,Calcs!$C:$C,$D186)","v":0},{"$f":"SUMIFS(Calcs!AE:AE,Calcs!$U:$U,$C186,Calcs!$C:$C,$D186)","v":0},{"$f":"SUMIFS(Calcs!AF:AF,Calcs!$U:$U,$C186,Calcs!$C:$C,$D186)","v":0},{"$f":"SUMIFS(Calcs!AG:AG,Calcs!$U:$U,$C186,Calcs!$C:$C,$D186)","v":0},{"$f":"SUMIFS(Calcs!AH:AH,Calcs!$U:$U,$C186,Calcs!$C:$C,$D186)","v":0},{"$f":"SUMIFS(Calcs!AI:AI,Calcs!$U:$U,$C186,Calcs!$C:$C,$D186)","v":0},{"$f":"SUMIFS(Calcs!AJ:AJ,Calcs!$U:$U,$C186,Calcs!$C:$C,$D186)","v":0},{"$f":"SUMIFS(Calcs!AK:AK,Calcs!$U:$U,$C186,Calcs!$C:$C,$D186)","v":0}]
[null,null,"demand_response","PlannedNew",{"$f":"SUMIFS(Calcs!Z:Z,Calcs!$U:$U,$C187,Calcs!$C:$C,$D187)","v":0.89300000000000002},{"$f":"SUMIFS(Calcs!AA:AA,Calcs!$U:$U,$C187,Calcs!$C:$C,$D187)","v":2.7250537825347445},{"$f":"SUMIFS(Calcs!AB:AB,Calcs!$U:$U,$C187,Calcs!$C:$C,$D187)","v":4.6185126084491479},{"$f":"SUMIFS(Calcs!AC:AC,Calcs!$U:$U,$C187,Calcs!$C:$C,$D187)","v":5.4064588259144033},{"$f":"SUMIFS(Calcs!AD:AD,Calcs!$U:$U,$C187,Calcs!$C:$C,$D187)","v":4.968},{"$f":"SUMIFS(Calcs!AE:AE,Calcs!$U:$U,$C187,Calcs!$C:$C,$D187)","v":5.4539999999999997},{"$f":"SUMIFS(Calcs!AF:AF,Calcs!$U:$U,$C187,Calcs!$C:$C,$D187)","v":5.910000000000001},{"$f":"SUMIFS(Calcs!AG:AG,Calcs!$U:$U,$C187,Calcs!$C:$C,$D187)","v":5.0159999999999991},{"$f":"SUMIFS(Calcs!AH:AH,Calcs!$U:$U,$C187,Calcs!$C:$C,$D187)","v":4.1219999999999999},{"$f":"SUMIFS(Calcs!AI:AI,Calcs!$U:$U,$C187,Calcs!$C:$C,$D187)","v":3.2279999999999998},{"$f":"SUMIFS(Calcs!AJ:AJ,Calcs!$U:$U,$C187,Calcs!$C:$C,$D187)","v":2.3340000000000001},{"$f":"SUMIFS(Calcs!AK:AK,Calcs!$U:$U,$C187,Calcs!$C:$C,$D187)","v":1.4399999999999997}]
[null,null,"hydro","PlannedNew",{"$f":"SUMIFS(Calcs!Z:Z,Calcs!$U:$U,$C188,Calcs!$C:$C,$D188)","v":0},{"$f":"SUMIFS(Calcs!AA:AA,Calcs!$U:$U,$C188,Calcs!$C:$C,$D188)","v":0},{"$f":"SUMIFS(Calcs!AB:AB,Calcs!$U:$U,$C188,Calcs!$C:$C,$D188)","v":0},{"$f":"SUMIFS(Calcs!AC:AC,Calcs!$U:$U,$C188,Calcs!$C:$C,$D188)","v":0},{"$f":"SUMIFS(Calcs!AD:AD,Calcs!$U:$U,$C188,Calcs!$C:$C,$D188)","v":0},{"$f":"SUMIFS(Calcs!AE:AE,Calcs!$U:$U,$C188,Calcs!$C:$C,$D188)","v":0},{"$f":"SUMIFS(Calcs!AF:AF,Calcs!$U:$U,$C188,Calcs!$C:$C,$D188)","v":0},{"$f":"SUMIFS(Calcs!AG:AG,Calcs!$U:$U,$C188,Calcs!$C:$C,$D188)","v":0},{"$f":"SUMIFS(Calcs!AH:AH,Calcs!$U:$U,$C188,Calcs!$C:$C,$D188)","v":0},{"$f":"SUMIFS(Calcs!AI:AI,Calcs!$U:$U,$C188,Calcs!$C:$C,$D188)","v":0},{"$f":"SUMIFS(Calcs!AJ:AJ,Calcs!$U:$U,$C188,Calcs!$C:$C,$D188)","v":0},{"$f":"SUMIFS(Calcs!AK:AK,Calcs!$U:$U,$C188,Calcs!$C:$C,$D188)","v":0}]
[null,null,"small_hydro","PlannedNew",{"$f":"SUMIFS(Calcs!Z:Z,Calcs!$U:$U,$C189,Calcs!$C:$C,$D189)","v":0},{"$f":"SUMIFS(Calcs!AA:AA,Calcs!$U:$U,$C189,Calcs!$C:$C,$D189)","v":0},{"$f":"SUMIFS(Calcs!AB:AB,Calcs!$U:$U,$C189,Calcs!$C:$C,$D189)","v":0},{"$f":"SUMIFS(Calcs!AC:AC,Calcs!$U:$U,$C189,Calcs!$C:$C,$D189)","v":0},{"$f":"SUMIFS(Calcs!AD:AD,Calcs!$U:$U,$C189,Calcs!$C:$C,$D189)","v":0},{"$f":"SUMIFS(Calcs!AE:AE,Calcs!$U:$U,$C189,Calcs!$C:$C,$D189)","v":0},{"$f":"SUMIFS(Calcs!AF:AF,Calcs!$U:$U,$C189,Calcs!$C:$C,$D189)","v":0},{"$f":"SUMIFS(Calcs!AG:AG,Calcs!$U:$U,$C189,Calcs!$C:$C,$D189)","v":0},{"$f":"SUMIFS(Calcs!AH:AH,Calcs!$U:$U,$C189,Calcs!$C:$C,$D189)","v":0},{"$f":"SUMIFS(Calcs!AI:AI,Calcs!$U:$U,$C189,Calcs!$C:$C,$D189)","v":0},{"$f":"SUMIFS(Calcs!AJ:AJ,Calcs!$U:$U,$C189,Calcs!$C:$C,$D189)","v":0},{"$f":"SUMIFS(Calcs!AK:AK,Calcs!$U:$U,$C189,Calcs!$C:$C,$D189)","v":0}]
[null,null,"geothermal","PlannedNew",{"$f":"SUMIFS(Calcs!Z:Z,Calcs!$U:$U,$C190,Calcs!$C:$C,$D190)","v":0},{"$f":"SUMIFS(Calcs!AA:AA,Calcs!$U:$U,$C190,Calcs!$C:$C,$D190)","v":0},{"$f":"SUMIFS(Calcs!AB:AB,Calcs!$U:$U,$C190,Calcs!$C:$C,$D190)","v":0},{"$f":"SUMIFS(Calcs!AC:AC,Calcs!$U:$U,$C190,Calcs!$C:$C,$D190)","v":0},{"$f":"SUMIFS(Calcs!AD:AD,Calcs!$U:$U,$C190,Calcs!$C:$C,$D190)","v":0},{"$f":"SUMIFS(Calcs!AE:AE,Calcs!$U:$U,$C190,Calcs!$C:$C,$D190)","v":0},{"$f":"SUMIFS(Calcs!AF:AF,Calcs!$U:$U,$C190,Calcs!$C:$C,$D190)","v":27.54286531041512},{"$f":"SUMIFS(Calcs!AG:AG,Calcs!$U:$U,$C190,Calcs!$C:$C,$D190)","v":27.76154166895833},{"$f":"SUMIFS(Calcs!AH:AH,Calcs!$U:$U,$C190,Calcs!$C:$C,$D190)","v":46.633696712502569},{"$f":"SUMIFS(Calcs!AI:AI,Calcs!$U:$U,$C190,Calcs!$C:$C,$D190)","v":65.797420234104422},{"$f":"SUMIFS(Calcs!AJ:AJ,Calcs!$U:$U,$C190,Calcs!$C:$C,$D190)","v":66.307665070705255},{"$f":"SUMIFS(Calcs!AK:AK,Calcs!$U:$U,$C190,Calcs!$C:$C,$D190)","v":66.817909907306074}]
[null,null,"biomass_wood","PlannedNew",{"$f":"SUMIFS(Calcs!Z:Z,Calcs!$U:$U,$C191,Calcs!$C:$C,$D191)","v":0},{"$f":"SUMIFS(Calcs!AA:AA,Calcs!$U:$U,$C191,Calcs!$C:$C,$D191)","v":0},{"$f":"SUMIFS(Calcs!AB:AB,Calcs!$U:$U,$C191,Calcs!$C:$C,$D191)","v":0},{"$f":"SUMIFS(Calcs!AC:AC,Calcs!$U:$U,$C191,Calcs!$C:$C,$D191)","v":0},{"$f":"SUMIFS(Calcs!AD:AD,Calcs!$U:$U,$C191,Calcs!$C:$C,$D191)","v":0},{"$f":"SUMIFS(Calcs!AE:AE,Calcs!$U:$U,$C191,Calcs!$C:$C,$D191)","v":0},{"$f":"SUMIFS(Calcs!AF:AF,Calcs!$U:$U,$C191,Calcs!$C:$C,$D191)","v":0},{"$f":"SUMIFS(Calcs!AG:AG,Calcs!$U:$U,$C191,Calcs!$C:$C,$D191)","v":0},{"$f":"SUMIFS(Calcs!AH:AH,Calcs!$U:$U,$C191,Calcs!$C:$C,$D191)","v":0},{"$f":"SUMIFS(Calcs!AI:AI,Calcs!$U:$U,$C191,Calcs!$C:$C,$D191)","v":0},{"$f":"SUMIFS(Calcs!AJ:AJ,Calcs!$U:$U,$C191,Calcs!$C:$C,$D191)","v":0},{"$f":"SUMIFS(Calcs!AK:AK,Calcs!$U:$U,$C191,Calcs!$C:$C,$D191)","v":0}]
[null,null,"biogas","PlannedNew",{"$f":"SUMIFS(Calcs!Z:Z,Calcs!$U:$U,$C192,Calcs!$C:$C,$D192)","v":0},{"$f":"SUMIFS(Calcs!AA:AA,Calcs!$U:$U,$C192,Calcs!$C:$C,$D192)","v":0},{"$f":"SUMIFS(Calcs!AB:AB,Calcs!$U:$U,$C192,Calcs!$C:$C,$D192)","v":0},{"$f":"SUMIFS(Calcs!AC:AC,Calcs!$U:$U,$C192,Calcs!$C:$C,$D192)","v":0},{"$f":"SUMIFS(Calcs!AD:AD,Calcs!$U:$U,$C192,Calcs!$C:$C,$D192)","v":0},{"$f":"SUMIFS(Calcs!AE:AE,Calcs!$U:$U,$C192,Calcs!$C:$C,$D192)","v":0},{"$f":"SUMIFS(Calcs!AF:AF,Calcs!$U:$U,$C192,Calcs!$C:$C,$D192)","v":0},{"$f":"SUMIFS(Calcs!AG:AG,Calcs!$U:$U,$C192,Calcs!$C:$C,$D192)","v":0},{"$f":"SUMIFS(Calcs!AH:AH,Calcs!$U:$U,$C192,Calcs!$C:$C,$D192)","v":0},{"$f":"SUMIFS(Calcs!AI:AI,Calcs!$U:$U,$C192,Calcs!$C:$C,$D192)","v":0},{"$f":"SUMIFS(Calcs!AJ:AJ,Calcs!$U:$U,$C192,Calcs!$C:$C,$D192)","v":0},{"$f":"SUMIFS(Calcs!AK:AK,Calcs!$U:$U,$C192,Calcs!$C:$C,$D192)","v":0}]
[null,null,"nuclear","PlannedNew",{"$f":"SUMIFS(Calcs!Z:Z,Calcs!$U:$U,$C193,Calcs!$C:$C,$D193)","v":0},{"$f":"SUMIFS(Calcs!AA:AA,Calcs!$U:$U,$C193,Calcs!$C:$C,$D193)","v":0},{"$f":"SUMIFS(Calcs!AB:AB,Calcs!$U:$U,$C193,Calcs!$C:$C,$D193)","v":0},{"$f":"SUMIFS(Calcs!AC:AC,Calcs!$U:$U,$C193,Calcs!$C:$C,$D193)","v":0},{"$f":"SUMIFS(Calcs!AD:AD,Calcs!$U:$U,$C193,Calcs!$C:$C,$D193)","v":0},{"$f":"SUMIFS(Calcs!AE:AE,Calcs!$U:$U,$C193,Calcs!$C:$C,$D193)","v":0},{"$f":"SUMIFS(Calcs!AF:AF,Calcs!$U:$U,$C193,Calcs!$C:$C,$D193)","v":0},{"$f":"SUMIFS(Calcs!AG:AG,Calcs!$U:$U,$C193,Calcs!$C:$C,$D193)","v":0},{"$f":"SUMIFS(Calcs!AH:AH,Calcs!$U:$U,$C193,Calcs!$C:$C,$D193)","v":0},{"$f":"SUMIFS(Calcs!AI:AI,Calcs!$U:$U,$C193,Calcs!$C:$C,$D193)","v":0},{"$f":"SUMIFS(Calcs!AJ:AJ,Calcs!$U:$U,$C193,Calcs!$C:$C,$D193)","v":0},{"$f":"SUMIFS(Calcs!AK:AK,Calcs!$U:$U,$C193,Calcs!$C:$C,$D193)","v":0}]
[null,null,"gas_cc","PlannedNew",{"$f":"SUMIFS(Calcs!Z:Z,Calcs!$U:$U,$C194,Calcs!$C:$C,$D194)","v":0},{"$f":"SUMIFS(Calcs!AA:AA,Calcs!$U:$U,$C194,Calcs!$C:$C,$D194)","v":0},{"$f":"SUMIFS(Calcs!AB:AB,Calcs!$U:$U,$C194,Calcs!$C:$C,$D194)","v":0},{"$f":"SUMIFS(Calcs!AC:AC,Calcs!$U:$U,$C194,Calcs!$C:$C,$D194)","v":0},{"$f":"SUMIFS(Calcs!AD:AD,Calcs!$U:$U,$C194,Calcs!$C:$C,$D194)","v":0},{"$f":"SUMIFS(Calcs!AE:AE,Calcs!$U:$U,$C194,Calcs!$C:$C,$D194)","v":0},{"$f":"SUMIFS(Calcs!AF:AF,Calcs!$U:$U,$C194,Calcs!$C:$C,$D194)","v":0},{"$f":"SUMIFS(Calcs!AG:AG,Calcs!$U:$U,$C194,Calcs!$C:$C,$D194)","v":0},{"$f":"SUMIFS(Calcs!AH:AH,Calcs!$U:$U,$C194,Calcs!$C:$C,$D194)","v":0},{"$f":"SUMIFS(Calcs!AI:AI,Calcs!$U:$U,$C194,Calcs!$C:$C,$D194)","v":0},{"$f":"SUMIFS(Calcs!AJ:AJ,Calcs!$U:$U,$C194,Calcs!$C:$C,$D194)","v":0},{"$f":"SUMIFS(Calcs!AK:AK,Calcs!$U:$U,$C194,Calcs!$C:$C,$D194)","v":0}]
[null,null,"gas_ct","PlannedNew",{"$f":"SUMIFS(Calcs!Z:Z,Calcs!$U:$U,$C195,Calcs!$C:$C,$D195)","v":0},{"$f":"SUMIFS(Calcs!AA:AA,Calcs!$U:$U,$C195,Calcs!$C:$C,$D195)","v":0},{"$f":"SUMIFS(Calcs!AB:AB,Calcs!$U:$U,$C195,Calcs!$C:$C,$D195)","v":0},{"$f":"SUMIFS(Calcs!AC:AC,Calcs!$U:$U,$C195,Calcs!$C:$C,$D195)","v":0},{"$f":"SUMIFS(Calcs!AD:AD,Calcs!$U:$U,$C195,Calcs!$C:$C,$D195)","v":0},{"$f":"SUMIFS(Calcs!AE:AE,Calcs!$U:$U,$C195,Calcs!$C:$C,$D195)","v":0},{"$f":"SUMIFS(Calcs!AF:AF,Calcs!$U:$U,$C195,Calcs!$C:$C,$D195)","v":0},{"$f":"SUMIFS(Calcs!AG:AG,Calcs!$U:$U,$C195,Calcs!$C:$C,$D195)","v":0},{"$f":"SUMIFS(Calcs!AH:AH,Calcs!$U:$U,$C195,Calcs!$C:$C,$D195)","v":0},{"$f":"SUMIFS(Calcs!AI:AI,Calcs!$U:$U,$C195,Calcs!$C:$C,$D195)","v":0},{"$f":"SUMIFS(Calcs!AJ:AJ,Calcs!$U:$U,$C195,Calcs!$C:$C,$D195)","v":0},{"$f":"SUMIFS(Calcs!AK:AK,Calcs!$U:$U,$C195,Calcs!$C:$C,$D195)","v":0}]
[null,null,"cogen","PlannedNew",{"$f":"SUMIFS(Calcs!Z:Z,Calcs!$U:$U,$C196,Calcs!$C:$C,$D196)","v":0},{"$f":"SUMIFS(Calcs!AA:AA,Calcs!$U:$U,$C196,Calcs!$C:$C,$D196)","v":0},{"$f":"SUMIFS(Calcs!AB:AB,Calcs!$U:$U,$C196,Calcs!$C:$C,$D196)","v":0},{"$f":"SUMIFS(Calcs!AC:AC,Calcs!$U:$U,$C196,Calcs!$C:$C,$D196)","v":0},{"$f":"SUMIFS(Calcs!AD:AD,Calcs!$U:$U,$C196,Calcs!$C:$C,$D196)","v":0},{"$f":"SUMIFS(Calcs!AE:AE,Calcs!$U:$U,$C196,Calcs!$C:$C,$D196)","v":0},{"$f":"SUMIFS(Calcs!AF:AF,Calcs!$U:$U,$C196,Calcs!$C:$C,$D196)","v":0},{"$f":"SUMIFS(Calcs!AG:AG,Calcs!$U:$U,$C196,Calcs!$C:$C,$D196)","v":0},{"$f":"SUMIFS(Calcs!AH:AH,Calcs!$U:$U,$C196,Calcs!$C:$C,$D196)","v":0},{"$f":"SUMIFS(Calcs!AI:AI,Calcs!$U:$U,$C196,Calcs!$C:$C,$D196)","v":0},{"$f":"SUMIFS(Calcs!AJ:AJ,Calcs!$U:$U,$C196,Calcs!$C:$C,$D196)","v":0},{"$f":"SUMIFS(Calcs!AK:AK,Calcs!$U:$U,$C196,Calcs!$C:$C,$D196)","v":0}]
[null,null,"ice","PlannedNew",{"$f":"SUMIFS(Calcs!Z:Z,Calcs!$U:$U,$C197,Calcs!$C:$C,$D197)","v":0},{"$f":"SUMIFS(Calcs!AA:AA,Calcs!$U:$U,$C197,Calcs!$C:$C,$D197)","v":0},{"$f":"SUMIFS(Calcs!AB:AB,Calcs!$U:$U,$C197,Calcs!$C:$C,$D197)","v":0},{"$f":"SUMIFS(Calcs!AC:AC,Calcs!$U:$U,$C197,Calcs!$C:$C,$D197)","v":0},{"$f":"SUMIFS(Calcs!AD:AD,Calcs!$U:$U,$C197,Calcs!$C:$C,$D197)","v":0},{"$f":"SUMIFS(Calcs!AE:AE,Calcs!$U:$U,$C197,Calcs!$C:$C,$D197)","v":0},{"$f":"SUMIFS(Calcs!AF:AF,Calcs!$U:$U,$C197,Calcs!$C:$C,$D197)","v":0},{"$f":"SUMIFS(Calcs!AG:AG,Calcs!$U:$U,$C197,Calcs!$C:$C,$D197)","v":0},{"$f":"SUMIFS(Calcs!AH:AH,Calcs!$U:$U,$C197,Calcs!$C:$C,$D197)","v":0},{"$f":"SUMIFS(Calcs!AI:AI,Calcs!$U:$U,$C197,Calcs!$C:$C,$D197)","v":0},{"$f":"SUMIFS(Calcs!AJ:AJ,Calcs!$U:$U,$C197,Calcs!$C:$C,$D197)","v":0},{"$f":"SUMIFS(Calcs!AK:AK,Calcs!$U:$U,$C197,Calcs!$C:$C,$D197)","v":0}]
[null,null,"coal","PlannedNew",{"$f":"SUMIFS(Calcs!Z:Z,Calcs!$U:$U,$C198,Calcs!$C:$C,$D198)","v":0},{"$f":"SUMIFS(Calcs!AA:AA,Calcs!$U:$U,$C198,Calcs!$C:$C,$D198)","v":0},{"$f":"SUMIFS(Calcs!AB:AB,Calcs!$U:$U,$C198,Calcs!$C:$C,$D198)","v":0},{"$f":"SUMIFS(Calcs!AC:AC,Calcs!$U:$U,$C198,Calcs!$C:$C,$D198)","v":0},{"$f":"SUMIFS(Calcs!AD:AD,Calcs!$U:$U,$C198,Calcs!$C:$C,$D198)","v":0},{"$f":"SUMIFS(Calcs!AE:AE,Calcs!$U:$U,$C198,Calcs!$C:$C,$D198)","v":0},{"$f":"SUMIFS(Calcs!AF:AF,Calcs!$U:$U,$C198,Calcs!$C:$C,$D198)","v":0},{"$f":"SUMIFS(Calcs!AG:AG,Calcs!$U:$U,$C198,Calcs!$C:$C,$D198)","v":0},{"$f":"SUMIFS(Calcs!AH:AH,Calcs!$U:$U,$C198,Calcs!$C:$C,$D198)","v":0},{"$f":"SUMIFS(Calcs!AI:AI,Calcs!$U:$U,$C198,Calcs!$C:$C,$D198)","v":0},{"$f":"SUMIFS(Calcs!AJ:AJ,Calcs!$U:$U,$C198,Calcs!$C:$C,$D198)","v":0},{"$f":"SUMIFS(Calcs!AK:AK,Calcs!$U:$U,$C198,Calcs!$C:$C,$D198)","v":0}]
[null,null,"steam","PlannedNew",{"$f":"SUMIFS(Calcs!Z:Z,Calcs!$U:$U,$C199,Calcs!$C:$C,$D199)","v":0},{"$f":"SUMIFS(Calcs!AA:AA,Calcs!$U:$U,$C199,Calcs!$C:$C,$D199)","v":0},{"$f":"SUMIFS(Calcs!AB:AB,Calcs!$U:$U,$C199,Calcs!$C:$C,$D199)","v":0},{"$f":"SUMIFS(Calcs!AC:AC,Calcs!$U:$U,$C199,Calcs!$C:$C,$D199)","v":0},{"$f":"SUMIFS(Calcs!AD:AD,Calcs!$U:$U,$C199,Calcs!$C:$C,$D199)","v":0},{"$f":"SUMIFS(Calcs!AE:AE,Calcs!$U:$U,$C199,Calcs!$C:$C,$D199)","v":0},{"$f":"SUMIFS(Calcs!AF:AF,Calcs!$U:$U,$C199,Calcs!$C:$C,$D199)","v":0},{"$f":"SUMIFS(Calcs!AG:AG,Calcs!$U:$U,$C199,Calcs!$C:$C,$D199)","v":0},{"$f":"SUMIFS(Calcs!AH:AH,Calcs!$U:$U,$C199,Calcs!$C:$C,$D199)","v":0},{"$f":"SUMIFS(Calcs!AI:AI,Calcs!$U:$U,$C199,Calcs!$C:$C,$D199)","v":0},{"$f":"SUMIFS(Calcs!AJ:AJ,Calcs!$U:$U,$C199,Calcs!$C:$C,$D199)","v":0},{"$f":"SUMIFS(Calcs!AK:AK,Calcs!$U:$U,$C199,Calcs!$C:$C,$D199)","v":0}]
[null,null,"unspecified_import","PlannedNew",{"$f":"SUMIFS(Calcs!Z:Z,Calcs!$U:$U,$C200,Calcs!$C:$C,$D200)","v":0},{"$f":"SUMIFS(Calcs!AA:AA,Calcs!$U:$U,$C200,Calcs!$C:$C,$D200)","v":0},{"$f":"SUMIFS(Calcs!AB:AB,Calcs!$U:$U,$C200,Calcs!$C:$C,$D200)","v":0},{"$f":"SUMIFS(Calcs!AC:AC,Calcs!$U:$U,$C200,Calcs!$C:$C,$D200)","v":0},{"$f":"SUMIFS(Calcs!AD:AD,Calcs!$U:$U,$C200,Calcs!$C:$C,$D200)","v":0},{"$f":"SUMIFS(Calcs!AE:AE,Calcs!$U:$U,$C200,Calcs!$C:$C,$D200)","v":0},{"$f":"SUMIFS(Calcs!AF:AF,Calcs!$U:$U,$C200,Calcs!$C:$C,$D200)","v":0},{"$f":"SUMIFS(Calcs!AG:AG,Calcs!$U:$U,$C200,Calcs!$C:$C,$D200)","v":0},{"$f":"SUMIFS(Calcs!AH:AH,Calcs!$U:$U,$C200,Calcs!$C:$C,$D200)","v":0},{"$f":"SUMIFS(Calcs!AI:AI,Calcs!$U:$U,$C200,Calcs!$C:$C,$D200)","v":0},{"$f":"SUMIFS(Calcs!AJ:AJ,Calcs!$U:$U,$C200,Calcs!$C:$C,$D200)","v":0},{"$f":"SUMIFS(Calcs!AK:AK,Calcs!$U:$U,$C200,Calcs!$C:$C,$D200)","v":0}]
[null,null,"LSE total supply (effective MW)",null,439.52253259163939,452.84076889267664,466.49021439870586,450.88198714329434,440.0608049167808,432.966441071931,429.18543506879467,424.33242572145087,417.4652229873534,410.68507031755888,406.16155025563302,398.13587957893242]
[]
[]
[]
[null,null,"Load and Resource Table by Resource Type"]
[null,null,null,null,2024,2025,2026,2027,2028,2029,2030,2031,2032,2033,2034,2035]
[null,null,"LSE reliability need (MW)",null,{"$f":"E13","v":457.69053450511205},473.41761792513591,489.63979790148147,471.70467457811316,456.10452389779505,449.03265515377086,442.89666047012815,437.50986178237292,433.6292640514161,429.08404839103252,426.24238039171252,419.96210228469255]
[null,null,"ELCC by resource type (effective MW)"]
[null,null,"hybrid",null,{"$f":"SUMIFS(E$56:E$200,$C$56:$C$200,$C209)+IF($C209=\"btm_pv\",E$18*E$30,0)","v":37.038600000000002},{"$f":"SUMIFS(F$56:F$200,$C$56:$C$200,$C209)+IF($C209=\"btm_pv\",F$18*F$30,0)","v":38.015059641195336},38.611519282390674,74.085827160433084,67.97605781536771,64.828528907683847,61.680999999999997,56.755879999999998,51.830759999999998,46.905640000000005,63.30052000000002,55.655399999999993]
[null,null,"in_state_wind_south",null,{"$f":"SUMIFS(E$56:E$200,$C$56:$C$200,$C210)+IF($C210=\"btm_pv\",E$18*E$30,0)","v":0},0,0,0,4.2209499205063707,8.3416882718990344,12.362215054177991,11.224453668660725,10.08669228314346,8.9489308976261928,7.8111695121089255,6.6734081265916583,null,null,null,null,null,null,null,null,null,null,null,null,null,null,null,null,null,null,null,null,13.381726538171144,-7.1407637312408365]
[null,null,"in_state_wind_north",null,26.871153345159602,13.964539150585146,{"$f":"SUMIFS(G$56:G$200,$C$56:$C$200,$C211)+IF($C211=\"btm_pv\",G$18*G$30,0)","v":14.034372209923198},10.900460031827459,7.7665478537317219,7.6743532101471112,7.5821585665625015,6.8843315834452454,6.1865046003279884,5.4886776172107314,4.7908506340934753,4.0930236509762175,null,null,null,null,null,null,null,null,null,null,null,null,null,null,null,null,null,null,null,null,8.4513202824996636,-2.2097141072105324]
[null,null,"out_of_state_wind_WYID",null,0,0,35.801419797437759,37.37228296215406,38.943146126870346,31.241064588858901,23.538983050847456,24.842033898305083,26.145084745762709,27.448135593220336,28.751186440677962,30.054237288135592,null,null,null,null,null,null,null,null,null,null,null,null,null,null,null,null,null,null,null,null,14.317906569105361,-8.0756782839618371]
[null,null,"out_of_state_wind_WAOR",null,0,0,0,0,0,0,0,0,0,0,0,0,null,null,null,null,null,null,null,null,null,null,null,null,null,null,null,null,null,null,null,null,7.2493464147081799,-2.0123066721132372]
[null,null,"out_of_state_wind_AZNM",null,0,0,0,0,0,0,0,0,0,0,0,0,null,null,null,null,null,null,null,null,null,null,null,null,null,null,null,null,null,null,null,null,4.9587163201610052,0]
[null,null,"offshore_wind",null,0,0,0,0,0,0,0,0,0,0,0,0,null,null,null,null,null,null,null,null,null,null,null,null,null,null,null,null,null,null,null,null,5.978131702360705,-1.8056383392151336]
[null,null,"utility_pv",null,14.4,4.0880257410359313,4.3360514820718628,4.0672128817214084,3.7983742813709531,3.0991871406854763,2.4,2.4319999999999999,2.464,2.496,2.5280000000000005,2.56,null,null,null,null,null,null,null,null,null,null,null,null,null,null,null,null,null,null,null,null,12.484693930711128,-8.3660266550485449]
[null,null,"btm_pv",null,18.168001913472597,20.576849032459393,23.149583502775545,20.822687434818771,18.035194753294483,16.066214081839821,13.71122540133349,15.208521017331723,16.767768213586884,18.398978073473756,20.080830136079403,21.826222705760156,null,null,null,null,null,null,null,null,null,null,null,null,null,null,null,null,null,null,null,null,4.9491455135740079,0]
[null,null,"4hr_batteries",null,74.347610999999986,77.410542899999996,78.827374800000001,72.601901300000009,66.376427800000002,65.174267399999991,63.972107000000001,7.3493473199999988,6.6015876399999991,5.8538279599999994,5.1060682800000006,4.3583085999999991,null,null,null,null,null,null,null,null,null,null,null,null,null,null,null,null,null,null,null,null,3.9076100163439369,0]
[null,null,"5hr_batteries",null,0,0,0,0,0,0,0,0,0,0,0,0,null,null,null,null,null,null,null,null,null,null,null,null,null,null,null,null,null,null,null,null,3.1266405518086211,-0.97152938232826069]
[null,null,"6hr_batteries",null,0,0,0,0,0,0,0,0,0,0,0,0,null,null,null,null,null,null,null,null,null,null,null,null,null,null,null,null,null,null,null,null,5.8618662887153521,-4.3251294799522952]
[null,null,"7hr_batteries",null,0,0,0,0,0,0,0,0,0,0,0,0,null,null,null,null,null,null,null,null,null,null,null,null,null,null,null,null,null,null,null,null,5.7484747218051746,-4.8132706094412328]
[null,null,"8hr_batteries",null,0,7.9074799999999996,16.386600000000001,15.84038,15.294159999999998,15.10915,14.924139999999998,14.392015999999998,13.859891999999999,13.327767999999999,12.795643999999999,12.26352]
[null,null,"pumped_storage",null,0,0,0,0,0,0,0,0,0,0,0,0]
[null,null,"demand_response",null,6.1862575000000017,8.109305881192979,10.093759305765616,9.9845709245726368,8.6489775000000009,9.0460650000000005,9.4131525000000025,7.9892339999999997,6.5653155000000005,5.1413970000000004,3.7174785000000004,2.2935599999999998]
[null,null,"hydro",null,0,0,0,0,0,0,0,0,0,0,0,0]
[null,null,"small_hydro",null,0,0,0,0,0,0,0,0,0,0,0,0]
[null,null,"geothermal",null,44.514332348355602,50.577061708768468,56.396283286743525,50.525129369944153,51.496632066487571,51.235106448236422,78.51644614040039,79.139826835699509,98.416686215999675,117.98511407435745,118.9000632477142,119.81501242107095]
[null,null,"biomass_wood",null,0,0,0,0,0,0,0,0,0,0,0,0]
[null,null,"biogas",null,0,0,0,0,0,0,0,0,0,0,0,0]
[null,null,"nuclear",null,0,0,0,0,0,0,0,0,0,0,0,0]
[null,null,"gas_cc",null,189.0895238604547,205.41521809728491,211.59204780356689,175.50422251264155,175.53953155244608,177.21703010442025,154.7952327568064,213.32330241534027,195.30870000211956,177.08957917514408,158.46056964103855,160.36940949215796]
[null,null,"gas_ct",null,0,0,0,0,0,0,0,0,0,0,0,0]
[null,null,"cogen",null,47.075054537669551,47.353535772613775,0.41078643080642302,0,0,0,0,0,0,0,0,0]
[null,null,"ice",null,0,0,0,0,0,0,0,0,0,0,0,0]
[null,null,"coal",null,0,0,0,0,0,0,0,0,0,0,0,0]
[null,null,"steam",null,0,0,0,0,0,0,0,0,0,0,0,0]
[null,null,"unspecified_import",null,0,0,0,0,0,0,0,0,0,0,0,{"$f":"SUMIFS(P$56:P$200,$C$56:$C$200,$C237)+IF($C237=\"btm_pv\",P$18*P$30,0)","v":0}]
[null,null,"LSE total supply (effective MW)",null,457.69053450511205,473.41761792513591,489.63979790148153,471.70467457811316,458.09599967007529,449.03265515377086,442.89666047012821,439.54094673878257,434.23299120094032,429.08404839103252,426.24238039171252,419.96210228469255]
[null,null,"Net capacity position (+ve = excess, -ve = shortfall) (effective MW)",null,0,0,0,0,1.9914757722802392,0,0,2.0310849564096429,0.60372714952421802,0,0,0]
[]
[]
[]
[]
[]
[]
[null,null,"Load and Resource Table by Contract Status"]
[null,null,null,null,2024,2025,2026,2027,2028,2029,2030,2031,2032,2033,2034,2035]
[null,null,"LSE reliability need (MW)",null,{"$f":"E13","v":457.69053450511205},473.41761792513591,489.63979790148147,471.70467457811316,456.10452389779505,449.03265515377086,442.89666047012815,437.50986178237292,433.6292640514161,429.08404839103252,426.24238039171252,419.96210228469255]
[null,null,"ELCC by contract status (effective MW)"]
[null,null,"Online",null,{"$f":"IF($C250=\"BTM PV\",E$18*E$30,SUMIFS(E$56:E$200,$D$56:$D$200,$C250))","v":329.87326538423486},{"$f":"IF($C250=\"BTM PV\",F$18*F$30,SUMIFS(F$56:F$200,$D$56:$D$200,$C250))","v":294.29243774070875},152.90347186229556,85.975975813548871,76.484399535102682,74.517244550832586,72.550089566562505,15.391177143445244,14.107264720327986,12.823352297210732,11.539439874093476,10.255527450976217]
[null,null,"Development",null,38.374697560409331,54.285646460307625,68.498627577768119,67.756987645497276,64.404774307260084,62.231925361679259,60.059076416098435,57.305294034796731,54.551511653495048,51.797729272193351,49.043946890891668,46.290164509589971]
[null,null,"Review",null,{"$f":"IF($C252=\"BTM PV\",E$18*E$30,SUMIFS(E$56:E$200,$D$56:$D$200,$C252))","v":0},0,0,0,0,0,0,0,0,0,0,0]
[null,null,"PlannedExisting",null,70.381569646995274,101.5376309091254,204.66818255275533,216.48306901445832,216.32116074567031,217.72133115797578,195.02220567069321,253.3119253072847,235.05897287212161,216.60150202320375,197.73414246715583,199.40463229633286]
[null,null,"PlannedNew",null,0.89300000000000002,2.7250537825347445,40.419932405886911,80.665954669789869,82.850470328747676,78.495940001443401,101.55406341544057,98.324029235924144,113.74747374140874,129.46248672495096,147.84402102349216,142.18555532203334]
[null,null,"BTM PV",null,18.168001913472597,20.576849032459393,23.149583502775545,20.822687434818771,18.035194753294483,16.066214081839821,13.71122540133349,15.208521017331723,16.767768213586884,18.398978073473756,20.080830136079403,{"$f":"IF($C255=\"BTM PV\",P$18*P$30,SUMIFS(P$56:P$200,$D$56:$D$200,$C255))","v":21.826222705760156}]
[null,null,"LSE total supply (effective MW)",null,{"$f":"SUM(E250:E255)","v":457.69053450511205},{"$f":"SUM(F250:F255)","v":473.41761792513591},489.63979790148147,471.7046745781131,458.09599967007529,449.0326551537708,442.89666047012821,439.54094673878257,434.23299120094026,429.08404839103258,426.24238039171257,{"$f":"SUM(P250:P255)","v":419.96210228469255}]
[null,null,"Net capacity position (+ve = excess, -ve = shortfall) (effective MW)",null,0,0,0,0,1.9914757722802392,0,0,2.0310849564096429,0.60372714952416118,0,0,0]

{"sheet":"CSPReportSheet","index":9,"n_rows":38,"n_cols":22,"rows_kept":38,"cut":false,"hidden":false,"merged":[[2,10,2,13],[2,14,2,17],[2,18,2,21],[1,10,1,21]]}
[]
[null,null,null,null,null,null,null,null,null,null,"NOTE: the below data is provided for troubleshooting purposes only."]
[null,null,null,null,null,null,null,null,null,null,"Bought/Owned",null,null,null,"Sold",null,null,null,"Net\n(GWh, MW, or MWh Energy Capacity)"]
[null,"Resource",2024,2026,2030,2035,"Units","Type",null,null,2024,2026,2030,2035,2024,2026,2030,2035,2024,2026,2030,2035]
[null,"Large Hydro",{"$f":"S5","v":758.55628999999999},{"$f":"T5","v":242.30160000000001},242.30160000000001,242.30160000000001,"GWh","GHG-Free",null,null,{"$f":"SUM(SUMIFS(unique_contracts!BT:BT,unique_contracts!$AB:$AB,{\"Buy\",\"Owned\"},unique_contracts!$BS:$BS,\"=\"&$B5&\" (\"&$G5&\")\",unique_contracts!$AM:$AM,\"<=\"&C$4,unique_contracts!$AP:$AP,\">=\"&C$4), SUMIFS(unique_contracts!BT:BT,unique_contracts!$AB:$AB,\"=\"&\"\",unique_contracts!$BS:$BS,\"=\"&$B5&\" (\"&$G5&\")\",unique_contracts!$AM:$AM,\"<=\"&C$4,unique_contracts!$AP:$AP,\">=\"&C$4))","v":758.55628999999999},{"$f":"SUM(SUMIFS(unique_contracts!BU:BU,unique_contracts!$AB:$AB,{\"Buy\",\"Owned\"},unique_contracts!$BS:$BS,\"=\"&$B5&\" (\"&$G5&\")\",unique_contracts!$AM:$AM,\"<=\"&D$4,unique_contracts!$AP:$AP,\">=\"&D$4), SUMIFS(unique_contracts!BU:BU,unique_contracts!$AB:$AB,\"=\"&\"\",unique_contracts!$BS:$BS,\"=\"&$B5&\" (\"&$G5&\")\",unique_contracts!$AM:$AM,\"<=\"&D$4,unique_contracts!$AP:$AP,\">=\"&D$4))","v":242.30160000000001},{"$f":"SUM(SUMIFS(unique_contracts!BV:BV,unique_contracts!$AB:$AB,{\"Buy\",\"Owned\"},unique_contracts!$BS:$BS,\"=\"&$B5&\" (\"&$G5&\")\",unique_contracts!$AM:$AM,\"<=\"&E$4,unique_contracts!$AP:$AP,\">=\"&E$4), SUMIFS(unique_contracts!BV:BV,unique_contracts!$AB:$AB,\"=\"&\"\",unique_contracts!$BS:$BS,\"=\"&$B5&\" (\"&$G5&\")\",unique_contracts!$AM:$AM,\"<=\"&E$4,unique_contracts!$AP:$AP,\">=\"&E$4))","v":242.30160000000001},{"$f":"SUM(SUMIFS(unique_contracts!BW:BW,unique_contracts!$AB:$AB,{\"Buy\",\"Owned\"},unique_contracts!$BS:$BS,\"=\"&$B5&\" (\"&$G5&\")\",unique_contracts!$AM:$AM,\"<=\"&F$4,unique_contracts!$AP:$AP,\">=\"&F$4), SUMIFS(unique_contracts!BW:BW,unique_contracts!$AB:$AB,\"=\"&\"\",unique_contracts!$BS:$BS,\"=\"&$B5&\" (\"&$G5&\")\",unique_contracts!$AM:$AM,\"<=\"&F$4,unique_contracts!$AP:$AP,\">=\"&F$4))","v":242.30160000000001},{"$f":"SUMIFS(unique_contracts!BT:BT,unique_contracts!$AB:$AB,\"=Sell\",unique_contracts!$BS:$BS,\"=\"&$B5&\" (\"&$G5&\")\",unique_contracts!$AM:$AM,\"<=\"&C$4,unique_contracts!$AP:$AP,\">=\"&C$4)","v":0},{"$f":"SUMIFS(unique_contracts!BU:BU,unique_contracts!$AB:$AB,\"=Sell\",unique_contracts!$BS:$BS,\"=\"&$B5&\" (\"&$G5&\")\",unique_contracts!$AM:$AM,\"<=\"&D$4,unique_contracts!$AP:$AP,\">=\"&D$4)","v":0},{"$f":"SUMIFS(unique_contracts!BV:BV,unique_contracts!$AB:$AB,\"=Sell\",unique_contracts!$BS:$BS,\"=\"&$B5&\" (\"&$G5&\")\",unique_contracts!$AM:$AM,\"<=\"&E$4,unique_contracts!$AP:$AP,\">=\"&E$4)","v":0},{"$f":"SUMIFS(unique_contracts!BW:BW,unique_contracts!$AB:$AB,\"=Sell\",unique_contracts!$BS:$BS,\"=\"&$B5&\" (\"&$G5&\")\",unique_contracts!$AM:$AM,\"<=\"&F$4,unique_contracts!$AP:$AP,\">=\"&F$4)","v":0},{"$f":"K5-O5","v":758.55628999999999},{"$f":"L5-P5","v":242.30160000000001},242.30160000000001,242.30160000000001]
[null,"Imported Hydro",{"$f":"S6","v":0},{"$f":"T6","v":394.2},201.48,26.28,"GWh","GHG-Free",null,null,{"$f":"SUM(SUMIFS(unique_contracts!BT:BT,unique_contracts!$AB:$AB,{\"Buy\",\"Owned\"},unique_contracts!$BS:$BS,\"=\"&$B6&\" (\"&$G6&\")\",unique_contracts!$AM:$AM,\"<=\"&C$4,unique_contracts!$AP:$AP,\">=\"&C$4), SUMIFS(unique_contracts!BT:BT,unique_contracts!$AB:$AB,\"=\"&\"\",unique_contracts!$BS:$BS,\"=\"&$B6&\" (\"&$G6&\")\",unique_contracts!$AM:$AM,\"<=\"&C$4,unique_contracts!$AP:$AP,\">=\"&C$4))","v":0},{"$f":"SUM(SUMIFS(unique_contracts!BU:BU,unique_contracts!$AB:$AB,{\"Buy\",\"Owned\"},unique_contracts!$BS:$BS,\"=\"&$B6&\" (\"&$G6&\")\",unique_contracts!$AM:$AM,\"<=\"&D$4,unique_contracts!$AP:$AP,\">=\"&D$4), SUMIFS(unique_contracts!BU:BU,unique_contracts!$AB:$AB,\"=\"&\"\",unique_contracts!$BS:$BS,\"=\"&$B6&\" (\"&$G6&\")\",unique_contracts!$AM:$AM,\"<=\"&D$4,unique_contracts!$AP:$AP,\">=\"&D$4))","v":394.2},{"$f":"SUM(SUMIFS(unique_contracts!BV:BV,unique_contracts!$AB:$AB,{\"Buy\",\"Owned\"},unique_contracts!$BS:$BS,\"=\"&$B6&\" (\"&$G6&\")\",unique_contracts!$AM:$AM,\"<=\"&E$4,unique_contracts!$AP:$AP,\">=\"&E$4), SUMIFS(unique_contracts!BV:BV,unique_contracts!$AB:$AB,\"=\"&\"\",unique_contracts!$BS:$BS,\"=\"&$B6&\" (\"&$G6&\")\",unique_contracts!$AM:$AM,\"<=\"&E$4,unique_contracts!$AP:$AP,\">=\"&E$4))","v":201.48},{"$f":"SUM(SUMIFS(unique_contracts!BW:BW,unique_contracts!$AB:$AB,{\"Buy\",\"Owned\"},unique_contracts!$BS:$BS,\"=\"&$B6&\" (\"&$G6&\")\",unique_contracts!$AM:$AM,\"<=\"&F$4,unique_contracts!$AP:$AP,\">=\"&F$4), SUMIFS(unique_contracts!BW:BW,unique_contracts!$AB:$AB,\"=\"&\"\",unique_contracts!$BS:$BS,\"=\"&$B6&\" (\"&$G6&\")\",unique_contracts!$AM:$AM,\"<=\"&F$4,unique_contracts!$AP:$AP,\">=\"&F$4))","v":26.28},{"$f":"SUMIFS(unique_contracts!BT:BT,unique_contracts!$AB:$AB,\"=Sell\",unique_contracts!$BS:$BS,\"=\"&$B6&\" (\"&$G6&\")\",unique_contracts!$AM:$AM,\"<=\"&C$4,unique_contracts!$AP:$AP,\">=\"&C$4)","v":0},{"$f":"SUMIFS(unique_contracts!BU:BU,unique_contracts!$AB:$AB,\"=Sell\",unique_contracts!$BS:$BS,\"=\"&$B6&\" (\"&$G6&\")\",unique_contracts!$AM:$AM,\"<=\"&D$4,unique_contracts!$AP:$AP,\">=\"&D$4)","v":0},{"$f":"SUMIFS(unique_contracts!BV:BV,unique_contracts!$AB:$AB,\"=Sell\",unique_contracts!$BS:$BS,\"=\"&$B6&\" (\"&$G6&\")\",unique_contracts!$AM:$AM,\"<=\"&E$4,unique_contracts!$AP:$AP,\">=\"&E$4)","v":0},{"$f":"SUMIFS(unique_contracts!BW:BW,unique_contracts!$AB:$AB,\"=Sell\",unique_contracts!$BS:$BS,\"=\"&$B6&\" (\"&$G6&\")\",unique_contracts!$AM:$AM,\"<=\"&F$4,unique_contracts!$AP:$AP,\">=\"&F$4)","v":0},{"$f":"K6-O6","v":0},{"$f":"L6-P6","v":394.2},{"$f":"M6-Q6","v":201.48},{"$f":"N6-R6","v":26.28}]
[null,"Asset Controlling Supplier",{"$f":"S7","v":100},0,0,0,"GWh","GHG-Free (Partial)",null,null,{"$f":"SUM(SUMIFS(unique_contracts!BT:BT,unique_contracts!$AB:$AB,{\"Buy\",\"Owned\"},unique_contracts!$BS:$BS,\"=\"&$B7&\" (\"&$G7&\")\",unique_contracts!$AM:$AM,\"<=\"&C$4,unique_contracts!$AP:$AP,\">=\"&C$4), SUMIFS(unique_contracts!BT:BT,unique_contracts!$AB:$AB,\"=\"&\"\",unique_contracts!$BS:$BS,\"=\"&$B7&\" (\"&$G7&\")\",unique_contracts!$AM:$AM,\"<=\"&C$4,unique_contracts!$AP:$AP,\">=\"&C$4))","v":100},{"$f":"SUM(SUMIFS(unique_contracts!BU:BU,unique_contracts!$AB:$AB,{\"Buy\",\"Owned\"},unique_contracts!$BS:$BS,\"=\"&$B7&\" (\"&$G7&\")\",unique_contracts!$AM:$AM,\"<=\"&D$4,unique_contracts!$AP:$AP,\">=\"&D$4), SUMIFS(unique_contracts!BU:BU,unique_contracts!$AB:$AB,\"=\"&\"\",unique_contracts!$BS:$BS,\"=\"&$B7&\" (\"&$G7&\")\",unique_contracts!$AM:$AM,\"<=\"&D$4,unique_contracts!$AP:$AP,\">=\"&D$4))","v":0},{"$f":"SUM(SUMIFS(unique_contracts!BV:BV,unique_contracts!$AB:$AB,{\"Buy\",\"Owned\"},unique_contracts!$BS:$BS,\"=\"&$B7&\" (\"&$G7&\")\",unique_contracts!$AM:$AM,\"<=\"&E$4,unique_contracts!$AP:$AP,\">=\"&E$4), SUMIFS(unique_contracts!BV:BV,unique_contracts!$AB:$AB,\"=\"&\"\",unique_contracts!$BS:$BS,\"=\"&$B7&\" (\"&$G7&\")\",unique_contracts!$AM:$AM,\"<=\"&E$4,unique_contracts!$AP:$AP,\">=\"&E$4))","v":0},{"$f":"SUM(SUMIFS(unique_contracts!BW:BW,unique_contracts!$AB:$AB,{\"Buy\",\"Owned\"},unique_contracts!$BS:$BS,\"=\"&$B7&\" (\"&$G7&\")\",unique_contracts!$AM:$AM,\"<=\"&F$4,unique_contracts!$AP:$AP,\">=\"&F$4), SUMIFS(unique_contracts!BW:BW,unique_contracts!$AB:$AB,\"=\"&\"\",unique_contracts!$BS:$BS,\"=\"&$B7&\" (\"&$G7&\")\",unique_contracts!$AM:$AM,\"<=\"&F$4,unique_contracts!$AP:$AP,\">=\"&F$4))","v":0},{"$f":"SUMIFS(unique_contracts!BT:BT,unique_contracts!$AB:$AB,\"=Sell\",unique_contracts!$BS:$BS,\"=\"&$B7&\" (\"&$G7&\")\",unique_contracts!$AM:$AM,\"<=\"&C$4,unique_contracts!$AP:$AP,\">=\"&C$4)","v":0},{"$f":"SUMIFS(unique_contracts!BU:BU,unique_contracts!$AB:$AB,\"=Sell\",unique_contracts!$BS:$BS,\"=\"&$B7&\" (\"&$G7&\")\",unique_contracts!$AM:$AM,\"<=\"&D$4,unique_contracts!$AP:$AP,\">=\"&D$4)","v":0},{"$f":"SUMIFS(unique_contracts!BV:BV,unique_contracts!$AB:$AB,\"=Sell\",unique_contracts!$BS:$BS,\"=\"&$B7&\" (\"&$G7&\")\",unique_contracts!$AM:$AM,\"<=\"&E$4,unique_contracts!$AP:$AP,\">=\"&E$4)","v":0},{"$f":"SUMIFS(unique_contracts!BW:BW,unique_contracts!$AB:$AB,\"=Sell\",unique_contracts!$BS:$BS,\"=\"&$B7&\" (\"&$G7&\")\",unique_contracts!$AM:$AM,\"<=\"&F$4,unique_contracts!$AP:$AP,\">=\"&F$4)","v":0},{"$f":"K7-O7","v":100},{"$f":"L7-P7","v":0},{"$f":"M7-Q7","v":0},{"$f":"N7-R7","v":0}]
[null,"Nuclear",{"$f":"S8","v":0},{"$f":"T8","v":0},{"$f":"U8","v":0},{"$f":"V8","v":0},"GWh","GHG-Free",null,null,{"$f":"SUM(SUMIFS(unique_contracts!BT:BT,unique_contracts!$AB:$AB,{\"Buy\",\"Owned\"},unique_contracts!$BS:$BS,\"=\"&$B8&\" (\"&$G8&\")\",unique_contracts!$AM:$AM,\"<=\"&C$4,unique_contracts!$AP:$AP,\">=\"&C$4), SUMIFS(unique_contracts!BT:BT,unique_contracts!$AB:$AB,\"=\"&\"\",unique_contracts!$BS:$BS,\"=\"&$B8&\" (\"&$G8&\")\",unique_contracts!$AM:$AM,\"<=\"&C$4,unique_contracts!$AP:$AP,\">=\"&C$4))","v":0},{"$f":"SUM(SUMIFS(unique_contracts!BU:BU,unique_contracts!$AB:$AB,{\"Buy\",\"Owned\"},unique_contracts!$BS:$BS,\"=\"&$B8&\" (\"&$G8&\")\",unique_contracts!$AM:$AM,\"<=\"&D$4,unique_contracts!$AP:$AP,\">=\"&D$4), SUMIFS(unique_contracts!BU:BU,unique_contracts!$AB:$AB,\"=\"&\"\",unique_contracts!$BS:$BS,\"=\"&$B8&\" (\"&$G8&\")\",unique_contracts!$AM:$AM,\"<=\"&D$4,unique_contracts!$AP:$AP,\">=\"&D$4))","v":0},{"$f":"SUM(SUMIFS(unique_contracts!BV:BV,unique_contracts!$AB:$AB,{\"Buy\",\"Owned\"},unique_contracts!$BS:$BS,\"=\"&$B8&\" (\"&$G8&\")\",unique_contracts!$AM:$AM,\"<=\"&E$4,unique_contracts!$AP:$AP,\">=\"&E$4), SUMIFS(unique_contracts!BV:BV,unique_contracts!$AB:$AB,\"=\"&\"\",unique_contracts!$BS:$BS,\"=\"&$B8&\" (\"&$G8&\")\",unique_contracts!$AM:$AM,\"<=\"&E$4,unique_contracts!$AP:$AP,\">=\"&E$4))","v":0},{"$f":"SUM(SUMIFS(unique_contracts!BW:BW,unique_contracts!$AB:$AB,{\"Buy\",\"Owned\"},unique_contracts!$BS:$BS,\"=\"&$B8&\" (\"&$G8&\")\",unique_contracts!$AM:$AM,\"<=\"&F$4,unique_contracts!$AP:$AP,\">=\"&F$4), SUMIFS(unique_contracts!BW:BW,unique_contracts!$AB:$AB,\"=\"&\"\",unique_contracts!$BS:$BS,\"=\"&$B8&\" (\"&$G8&\")\",unique_contracts!$AM:$AM,\"<=\"&F$4,unique_contracts!$AP:$AP,\">=\"&F$4))","v":0},{"$f":"SUMIFS(unique_contracts!BT:BT,unique_contracts!$AB:$AB,\"=Sell\",unique_contracts!$BS:$BS,\"=\"&$B8&\" (\"&$G8&\")\",unique_contracts!$AM:$AM,\"<=\"&C$4,unique_contracts!$AP:$AP,\">=\"&C$4)","v":0},{"$f":"SUMIFS(unique_contracts!BU:BU,unique_contracts!$AB:$AB,\"=Sell\",unique_contracts!$BS:$BS,\"=\"&$B8&\" (\"&$G8&\")\",unique_contracts!$AM:$AM,\"<=\"&D$4,unique_contracts!$AP:$AP,\">=\"&D$4)","v":0},{"$f":"SUMIFS(unique_contracts!BV:BV,unique_contracts!$AB:$AB,\"=Sell\",unique_contracts!$BS:$BS,\"=\"&$B8&\" (\"&$G8&\")\",unique_contracts!$AM:$AM,\"<=\"&E$4,unique_contracts!$AP:$AP,\">=\"&E$4)","v":0},{"$f":"SUMIFS(unique_contracts!BW:BW,unique_contracts!$AB:$AB,\"=Sell\",unique_contracts!$BS:$BS,\"=\"&$B8&\" (\"&$G8&\")\",unique_contracts!$AM:$AM,\"<=\"&F$4,unique_contracts!$AP:$AP,\">=\"&F$4)","v":0},0,0,0,0]
[null,"Biogas",0,0,0,0,"GWh","RPS Eligible",null,null,{"$f":"SUM(SUMIFS(unique_contracts!BT:BT,unique_contracts!$AB:$AB,{\"Buy\",\"Owned\"},unique_contracts!$BS:$BS,\"=\"&$B9&\" (\"&$G9&\")\",unique_contracts!$AM:$AM,\"<=\"&C$4,unique_contracts!$AP:$AP,\">=\"&C$4), SUMIFS(unique_contracts!BT:BT,unique_contracts!$AB:$AB,\"=\"&\"\",unique_contracts!$BS:$BS,\"=\"&$B9&\" (\"&$G9&\")\",unique_contracts!$AM:$AM,\"<=\"&C$4,unique_contracts!$AP:$AP,\">=\"&C$4))","v":0},{"$f":"SUM(SUMIFS(unique_contracts!BU:BU,unique_contracts!$AB:$AB,{\"Buy\",\"Owned\"},unique_contracts!$BS:$BS,\"=\"&$B9&\" (\"&$G9&\")\",unique_contracts!$AM:$AM,\"<=\"&D$4,unique_contracts!$AP:$AP,\">=\"&D$4), SUMIFS(unique_contracts!BU:BU,unique_contracts!$AB:$AB,\"=\"&\"\",unique_contracts!$BS:$BS,\"=\"&$B9&\" (\"&$G9&\")\",unique_contracts!$AM:$AM,\"<=\"&D$4,unique_contracts!$AP:$AP,\">=\"&D$4))","v":0},{"$f":"SUM(SUMIFS(unique_contracts!BV:BV,unique_contracts!$AB:$AB,{\"Buy\",\"Owned\"},unique_contracts!$BS:$BS,\"=\"&$B9&\" (\"&$G9&\")\",unique_contracts!$AM:$AM,\"<=\"&E$4,unique_contracts!$AP:$AP,\">=\"&E$4), SUMIFS(unique_contracts!BV:BV,unique_contracts!$AB:$AB,\"=\"&\"\",unique_contracts!$BS:$BS,\"=\"&$B9&\" (\"&$G9&\")\",unique_contracts!$AM:$AM,\"<=\"&E$4,unique_contracts!$AP:$AP,\">=\"&E$4))","v":0},{"$f":"SUM(SUMIFS(unique_contracts!BW:BW,unique_contracts!$AB:$AB,{\"Buy\",\"Owned\"},unique_contracts!$BS:$BS,\"=\"&$B9&\" (\"&$G9&\")\",unique_contracts!$AM:$AM,\"<=\"&F$4,unique_contracts!$AP:$AP,\">=\"&F$4), SUMIFS(unique_contracts!BW:BW,unique_contracts!$AB:$AB,\"=\"&\"\",unique_contracts!$BS:$BS,\"=\"&$B9&\" (\"&$G9&\")\",unique_contracts!$AM:$AM,\"<=\"&F$4,unique_contracts!$AP:$AP,\">=\"&F$4))","v":0},{"$f":"SUMIFS(unique_contracts!BT:BT,unique_contracts!$AB:$AB,\"=Sell\",unique_contracts!$BS:$BS,\"=\"&$B9&\" (\"&$G9&\")\",unique_contracts!$AM:$AM,\"<=\"&C$4,unique_contracts!$AP:$AP,\">=\"&C$4)","v":0},{"$f":"SUMIFS(unique_contracts!BU:BU,unique_contracts!$AB:$AB,\"=Sell\",unique_contracts!$BS:$BS,\"=\"&$B9&\" (\"&$G9&\")\",unique_contracts!$AM:$AM,\"<=\"&D$4,unique_contracts!$AP:$AP,\">=\"&D$4)","v":0},{"$f":"SUMIFS(unique_contracts!BV:BV,unique_contracts!$AB:$AB,\"=Sell\",unique_contracts!$BS:$BS,\"=\"&$B9&\" (\"&$G9&\")\",unique_contracts!$AM:$AM,\"<=\"&E$4,unique_contracts!$AP:$AP,\">=\"&E$4)","v":0},{"$f":"SUMIFS(unique_contracts!BW:BW,unique_contracts!$AB:$AB,\"=Sell\",unique_contracts!$BS:$BS,\"=\"&$B9&\" (\"&$G9&\")\",unique_contracts!$AM:$AM,\"<=\"&F$4,unique_contracts!$AP:$AP,\">=\"&F$4)","v":0},0,0,0,0]
[null,"Biomass",150.43899999999999,0,0,0,"GWh","RPS Eligible",null,null,{"$f":"SUM(SUMIFS(unique_contracts!BT:BT,unique_contracts!$AB:$AB,{\"Buy\",\"Owned\"},unique_contracts!$BS:$BS,\"=\"&$B10&\" (\"&$G10&\")\",unique_contracts!$AM:$AM,\"<=\"&C$4,unique_contracts!$AP:$AP,\">=\"&C$4), SUMIFS(unique_contracts!BT:BT,unique_contracts!$AB:$AB,\"=\"&\"\",unique_contracts!$BS:$BS,\"=\"&$B10&\" (\"&$G10&\")\",unique_contracts!$AM:$AM,\"<=\"&C$4,unique_contracts!$AP:$AP,\">=\"&C$4))","v":150.43899999999999},{"$f":"SUM(SUMIFS(unique_contracts!BU:BU,unique_contracts!$AB:$AB,{\"Buy\",\"Owned\"},unique_contracts!$BS:$BS,\"=\"&$B10&\" (\"&$G10&\")\",unique_contracts!$AM:$AM,\"<=\"&D$4,unique_contracts!$AP:$AP,\">=\"&D$4), SUMIFS(unique_contracts!BU:BU,unique_contracts!$AB:$AB,\"=\"&\"\",unique_contracts!$BS:$BS,\"=\"&$B10&\" (\"&$G10&\")\",unique_contracts!$AM:$AM,\"<=\"&D$4,unique_contracts!$AP:$AP,\">=\"&D$4))","v":0},{"$f":"SUM(SUMIFS(unique_contracts!BV:BV,unique_contracts!$AB:$AB,{\"Buy\",\"Owned\"},unique_contracts!$BS:$BS,\"=\"&$B10&\" (\"&$G10&\")\",unique_contracts!$AM:$AM,\"<=\"&E$4,unique_contracts!$AP:$AP,\">=\"&E$4), SUMIFS(unique_contracts!BV:BV,unique_contracts!$AB:$AB,\"=\"&\"\",unique_contracts!$BS:$BS,\"=\"&$B10&\" (\"&$G10&\")\",unique_contracts!$AM:$AM,\"<=\"&E$4,unique_contracts!$AP:$AP,\">=\"&E$4))","v":0},{"$f":"SUM(SUMIFS(unique_contracts!BW:BW,unique_contracts!$AB:$AB,{\"Buy\",\"Owned\"},unique_contracts!$BS:$BS,\"=\"&$B10&\" (\"&$G10&\")\",unique_contracts!$AM:$AM,\"<=\"&F$4,unique_contracts!$AP:$AP,\">=\"&F$4), SUMIFS(unique_contracts!BW:BW,unique_contracts!$AB:$AB,\"=\"&\"\",unique_contracts!$BS:$BS,\"=\"&$B10&\" (\"&$G10&\")\",unique_contracts!$AM:$AM,\"<=\"&F$4,unique_contracts!$AP:$AP,\">=\"&F$4))","v":0},{"$f":"SUMIFS(unique_contracts!BT:BT,unique_contracts!$AB:$AB,\"=Sell\",unique_contracts!$BS:$BS,\"=\"&$B10&\" (\"&$G10&\")\",unique_contracts!$AM:$AM,\"<=\"&C$4,unique_contracts!$AP:$AP,\">=\"&C$4)","v":0},{"$f":"SUMIFS(unique_contracts!BU:BU,unique_contracts!$AB:$AB,\"=Sell\",unique_contracts!$BS:$BS,\"=\"&$B10&\" (\"&$G10&\")\",unique_contracts!$AM:$AM,\"<=\"&D$4,unique_contracts!$AP:$AP,\">=\"&D$4)","v":0},{"$f":"SUMIFS(unique_contracts!BV:BV,unique_contracts!$AB:$AB,\"=Sell\",unique_contracts!$BS:$BS,\"=\"&$B10&\" (\"&$G10&\")\",unique_contracts!$AM:$AM,\"<=\"&E$4,unique_contracts!$AP:$AP,\">=\"&E$4)","v":0},{"$f":"SUMIFS(unique_contracts!BW:BW,unique_contracts!$AB:$AB,\"=Sell\",unique_contracts!$BS:$BS,\"=\"&$B10&\" (\"&$G10&\")\",unique_contracts!$AM:$AM,\"<=\"&F$4,unique_contracts!$AP:$AP,\">=\"&F$4)","v":0},150.43899999999999,0,0,0]
[null,"Geothermal",449.74241357022117,552.97985359574318,741.00948581549483,1084.2454858154947,"GWh","RPS Eligible",null,null,{"$f":"SUM(SUMIFS(unique_contracts!BT:BT,unique_contracts!$AB:$AB,{\"Buy\",\"Owned\"},unique_contracts!$BS:$BS,\"=\"&$B11&\" (\"&$G11&\")\",unique_contracts!$AM:$AM,\"<=\"&C$4,unique_contracts!$AP:$AP,\">=\"&C$4), SUMIFS(unique_contracts!BT:BT,unique_contracts!$AB:$AB,\"=\"&\"\",unique_contracts!$BS:$BS,\"=\"&$B11&\" (\"&$G11&\")\",unique_contracts!$AM:$AM,\"<=\"&C$4,unique_contracts!$AP:$AP,\">=\"&C$4))","v":445.267762637678},{"$f":"SUM(SUMIFS(unique_contracts!BU:BU,unique_contracts!$AB:$AB,{\"Buy\",\"Owned\"},unique_contracts!$BS:$BS,\"=\"&$B11&\" (\"&$G11&\")\",unique_contracts!$AM:$AM,\"<=\"&D$4,unique_contracts!$AP:$AP,\">=\"&D$4), SUMIFS(unique_contracts!BU:BU,unique_contracts!$AB:$AB,\"=\"&\"\",unique_contracts!$BS:$BS,\"=\"&$B11&\" (\"&$G11&\")\",unique_contracts!$AM:$AM,\"<=\"&D$4,unique_contracts!$AP:$AP,\">=\"&D$4))","v":450.83298488133738},{"$f":"SUM(SUMIFS(unique_contracts!BV:BV,unique_contracts!$AB:$AB,{\"Buy\",\"Owned\"},unique_contracts!$BS:$BS,\"=\"&$B11&\" (\"&$G11&\")\",unique_contracts!$AM:$AM,\"<=\"&E$4,unique_contracts!$AP:$AP,\">=\"&E$4), SUMIFS(unique_contracts!BV:BV,unique_contracts!$AB:$AB,\"=\"&\"\",unique_contracts!$BS:$BS,\"=\"&$B11&\" (\"&$G11&\")\",unique_contracts!$AM:$AM,\"<=\"&E$4,unique_contracts!$AP:$AP,\">=\"&E$4))","v":620.65898488133735},{"$f":"SUM(SUMIFS(unique_contracts!BW:BW,unique_contracts!$AB:$AB,{\"Buy\",\"Owned\"},unique_contracts!$BS:$BS,\"=\"&$B11&\" (\"&$G11&\")\",unique_contracts!$AM:$AM,\"<=\"&F$4,unique_contracts!$AP:$AP,\">=\"&F$4), SUMIFS(unique_contracts!BW:BW,unique_contracts!$AB:$AB,\"=\"&\"\",unique_contracts!$BS:$BS,\"=\"&$B11&\" (\"&$G11&\")\",unique_contracts!$AM:$AM,\"<=\"&F$4,unique_contracts!$AP:$AP,\">=\"&F$4))","v":963.89498488133722},{"$f":"SUMIFS(unique_contracts!BT:BT,unique_contracts!$AB:$AB,\"=Sell\",unique_contracts!$BS:$BS,\"=\"&$B11&\" (\"&$G11&\")\",unique_contracts!$AM:$AM,\"<=\"&C$4,unique_contracts!$AP:$AP,\">=\"&C$4)","v":0},{"$f":"SUMIFS(unique_contracts!BU:BU,unique_contracts!$AB:$AB,\"=Sell\",unique_contracts!$BS:$BS,\"=\"&$B11&\" (\"&$G11&\")\",unique_contracts!$AM:$AM,\"<=\"&D$4,unique_contracts!$AP:$AP,\">=\"&D$4)","v":0},{"$f":"SUMIFS(unique_contracts!BV:BV,unique_contracts!$AB:$AB,\"=Sell\",unique_contracts!$BS:$BS,\"=\"&$B11&\" (\"&$G11&\")\",unique_contracts!$AM:$AM,\"<=\"&E$4,unique_contracts!$AP:$AP,\">=\"&E$4)","v":0},{"$f":"SUMIFS(unique_contracts!BW:BW,unique_contracts!$AB:$AB,\"=Sell\",unique_contracts!$BS:$BS,\"=\"&$B11&\" (\"&$G11&\")\",unique_contracts!$AM:$AM,\"<=\"&F$4,unique_contracts!$AP:$AP,\">=\"&F$4)","v":0},445.267762637678,450.83298488133738,620.65898488133735,963.89498488133722]
[null,"Small Hydro",0,0,0,0,"GWh","RPS Eligible",null,null,{"$f":"SUM(SUMIFS(unique_contracts!BT:BT,unique_contracts!$AB:$AB,{\"Buy\",\"Owned\"},unique_contracts!$BS:$BS,\"=\"&$B12&\" (\"&$G12&\")\",unique_contracts!$AM:$AM,\"<=\"&C$4,unique_contracts!$AP:$AP,\">=\"&C$4), SUMIFS(unique_contracts!BT:BT,unique_contracts!$AB:$AB,\"=\"&\"\",unique_contracts!$BS:$BS,\"=\"&$B12&\" (\"&$G12&\")\",unique_contracts!$AM:$AM,\"<=\"&C$4,unique_contracts!$AP:$AP,\">=\"&C$4))","v":0},{"$f":"SUM(SUMIFS(unique_contracts!BU:BU,unique_contracts!$AB:$AB,{\"Buy\",\"Owned\"},unique_contracts!$BS:$BS,\"=\"&$B12&\" (\"&$G12&\")\",unique_contracts!$AM:$AM,\"<=\"&D$4,unique_contracts!$AP:$AP,\">=\"&D$4), SUMIFS(unique_contracts!BU:BU,unique_contracts!$AB:$AB,\"=\"&\"\",unique_contracts!$BS:$BS,\"=\"&$B12&\" (\"&$G12&\")\",unique_contracts!$AM:$AM,\"<=\"&D$4,unique_contracts!$AP:$AP,\">=\"&D$4))","v":0},{"$f":"SUM(SUMIFS(unique_contracts!BV:BV,unique_contracts!$AB:$AB,{\"Buy\",\"Owned\"},unique_contracts!$BS:$BS,\"=\"&$B12&\" (\"&$G12&\")\",unique_contracts!$AM:$AM,\"<=\"&E$4,unique_contracts!$AP:$AP,\">=\"&E$4), SUMIFS(unique_contracts!BV:BV,unique_contracts!$AB:$AB,\"=\"&\"\",unique_contracts!$BS:$BS,\"=\"&$B12&\" (\"&$G12&\")\",unique_contracts!$AM:$AM,\"<=\"&E$4,unique_contracts!$AP:$AP,\">=\"&E$4))","v":0},{"$f":"SUM(SUMIFS(unique_contracts!BW:BW,unique_contracts!$AB:$AB,{\"Buy\",\"Owned\"},unique_contracts!$BS:$BS,\"=\"&$B12&\" (\"&$G12&\")\",unique_contracts!$AM:$AM,\"<=\"&F$4,unique_contracts!$AP:$AP,\">=\"&F$4), SUMIFS(unique_contracts!BW:BW,unique_contracts!$AB:$AB,\"=\"&\"\",unique_contracts!$BS:$BS,\"=\"&$B12&\" (\"&$G12&\")\",unique_contracts!$AM:$AM,\"<=\"&F$4,unique_contracts!$AP:$AP,\">=\"&F$4))","v":0},{"$f":"SUMIFS(unique_contracts!BT:BT,unique_contracts!$AB:$AB,\"=Sell\",unique_contracts!$BS:$BS,\"=\"&$B12&\" (\"&$G12&\")\",unique_contracts!$AM:$AM,\"<=\"&C$4,unique_contracts!$AP:$AP,\">=\"&C$4)","v":0},{"$f":"SUMIFS(unique_contracts!BU:BU,unique_contracts!$AB:$AB,\"=Sell\",unique_contracts!$BS:$BS,\"=\"&$B12&\" (\"&$G12&\")\",unique_contracts!$AM:$AM,\"<=\"&D$4,unique_contracts!$AP:$AP,\">=\"&D$4)","v":0},{"$f":"SUMIFS(unique_contracts!BV:BV,unique_contracts!$AB:$AB,\"=Sell\",unique_contracts!$BS:$BS,\"=\"&$B12&\" (\"&$G12&\")\",unique_contracts!$AM:$AM,\"<=\"&E$4,unique_contracts!$AP:$AP,\">=\"&E$4)","v":0},{"$f":"SUMIFS(unique_contracts!BW:BW,unique_contracts!$AB:$AB,\"=Sell\",unique_contracts!$BS:$BS,\"=\"&$B12&\" (\"&$G12&\")\",unique_contracts!$AM:$AM,\"<=\"&F$4,unique_contracts!$AP:$AP,\">=\"&F$4)","v":0},0,0,0,0]
[null,"Wind Resources"]
[null,"Wind Baseline California",{"$f":"S14","v":0},{"$f":"T14","v":0},{"$f":"U14","v":0},{"$f":"V14","v":0},"GWh","RPS Eligible",null,null,{"$f":"SUM(SUMIFS(unique_contracts!BT:BT,unique_contracts!$AB:$AB,{\"Buy\",\"Owned\"},unique_contracts!$BS:$BS,\"=\"&$B14&\" (\"&$G14&\")\",unique_contracts!$AM:$AM,\"<=\"&C$4,unique_contracts!$AP:$AP,\">=\"&C$4), SUMIFS(unique_contracts!BT:BT,unique_contracts!$AB:$AB,\"=\"&\"\",unique_contracts!$BS:$BS,\"=\"&$B14&\" (\"&$G14&\")\",unique_contracts!$AM:$AM,\"<=\"&C$4,unique_contracts!$AP:$AP,\">=\"&C$4))","v":0},{"$f":"SUM(SUMIFS(unique_contracts!BU:BU,unique_contracts!$AB:$AB,{\"Buy\",\"Owned\"},unique_contracts!$BS:$BS,\"=\"&$B14&\" (\"&$G14&\")\",unique_contracts!$AM:$AM,\"<=\"&D$4,unique_contracts!$AP:$AP,\">=\"&D$4), SUMIFS(unique_contracts!BU:BU,unique_contracts!$AB:$AB,\"=\"&\"\",unique_contracts!$BS:$BS,\"=\"&$B14&\" (\"&$G14&\")\",unique_contracts!$AM:$AM,\"<=\"&D$4,unique_contracts!$AP:$AP,\">=\"&D$4))","v":0},{"$f":"SUM(SUMIFS(unique_contracts!BV:BV,unique_contracts!$AB:$AB,{\"Buy\",\"Owned\"},unique_contracts!$BS:$BS,\"=\"&$B14&\" (\"&$G14&\")\",unique_contracts!$AM:$AM,\"<=\"&E$4,unique_contracts!$AP:$AP,\">=\"&E$4), SUMIFS(unique_contracts!BV:BV,unique_contracts!$AB:$AB,\"=\"&\"\",unique_contracts!$BS:$BS,\"=\"&$B14&\" (\"&$G14&\")\",unique_contracts!$AM:$AM,\"<=\"&E$4,unique_contracts!$AP:$AP,\">=\"&E$4))","v":0},{"$f":"SUM(SUMIFS(unique_contracts!BW:BW,unique_contracts!$AB:$AB,{\"Buy\",\"Owned\"},unique_contracts!$BS:$BS,\"=\"&$B14&\" (\"&$G14&\")\",unique_contracts!$AM:$AM,\"<=\"&F$4,unique_contracts!$AP:$AP,\">=\"&F$4), SUMIFS(unique_contracts!BW:BW,unique_contracts!$AB:$AB,\"=\"&\"\",unique_contracts!$BS:$BS,\"=\"&$B14&\" (\"&$G14&\")\",unique_contracts!$AM:$AM,\"<=\"&F$4,unique_contracts!$AP:$AP,\">=\"&F$4))","v":0},{"$f":"SUMIFS(unique_contracts!BT:BT,unique_contracts!$AB:$AB,\"=Sell\",unique_contracts!$BS:$BS,\"=\"&$B14&\" (\"&$G14&\")\",unique_contracts!$AM:$AM,\"<=\"&C$4,unique_contracts!$AP:$AP,\">=\"&C$4)","v":0},{"$f":"SUMIFS(unique_contracts!BU:BU,unique_contracts!$AB:$AB,\"=Sell\",unique_contracts!$BS:$BS,\"=\"&$B14&\" (\"&$G14&\")\",unique_contracts!$AM:$AM,\"<=\"&D$4,unique_contracts!$AP:$AP,\">=\"&D$4)","v":0},{"$f":"SUMIFS(unique_contracts!BV:BV,unique_contracts!$AB:$AB,\"=Sell\",unique_contracts!$BS:$BS,\"=\"&$B14&\" (\"&$G14&\")\",unique_contracts!$AM:$AM,\"<=\"&E$4,unique_contracts!$AP:$AP,\">=\"&E$4)","v":0},{"$f":"SUMIFS(unique_contracts!BW:BW,unique_contracts!$AB:$AB,\"=Sell\",unique_contracts!$BS:$BS,\"=\"&$B14&\" (\"&$G14&\")\",unique_contracts!$AM:$AM,\"<=\"&F$4,unique_contracts!$AP:$AP,\">=\"&F$4)","v":0},0,0,0,0]
[null,"Wind New PG&E",0,0,0,0,"GWh","RPS Eligible",null,null,{"$f":"SUM(SUMIFS(unique_contracts!BT:BT,unique_contracts!$AB:$AB,{\"Buy\",\"Owned\"},unique_contracts!$BS:$BS,\"=\"&$B15&\" (\"&$G15&\")\",unique_contracts!$AM:$AM,\"<=\"&C$4,unique_contracts!$AP:$AP,\">=\"&C$4), SUMIFS(unique_contracts!BT:BT,unique_contracts!$AB:$AB,\"=\"&\"\",unique_contracts!$BS:$BS,\"=\"&$B15&\" (\"&$G15&\")\",unique_contracts!$AM:$AM,\"<=\"&C$4,unique_contracts!$AP:$AP,\">=\"&C$4))","v":0},{"$f":"SUM(SUMIFS(unique_contracts!BU:BU,unique_contracts!$AB:$AB,{\"Buy\",\"Owned\"},unique_contracts!$BS:$BS,\"=\"&$B15&\" (\"&$G15&\")\",unique_contracts!$AM:$AM,\"<=\"&D$4,unique_contracts!$AP:$AP,\">=\"&D$4), SUMIFS(unique_contracts!BU:BU,unique_contracts!$AB:$AB,\"=\"&\"\",unique_contracts!$BS:$BS,\"=\"&$B15&\" (\"&$G15&\")\",unique_contracts!$AM:$AM,\"<=\"&D$4,unique_contracts!$AP:$AP,\">=\"&D$4))","v":0},{"$f":"SUM(SUMIFS(unique_contracts!BV:BV,unique_contracts!$AB:$AB,{\"Buy\",\"Owned\"},unique_contracts!$BS:$BS,\"=\"&$B15&\" (\"&$G15&\")\",unique_contracts!$AM:$AM,\"<=\"&E$4,unique_contracts!$AP:$AP,\">=\"&E$4), SUMIFS(unique_contracts!BV:BV,unique_contracts!$AB:$AB,\"=\"&\"\",unique_contracts!$BS:$BS,\"=\"&$B15&\" (\"&$G15&\")\",unique_contracts!$AM:$AM,\"<=\"&E$4,unique_contracts!$AP:$AP,\">=\"&E$4))","v":0},{"$f":"SUM(SUMIFS(unique_contracts!BW:BW,unique_contracts!$AB:$AB,{\"Buy\",\"Owned\"},unique_contracts!$BS:$BS,\"=\"&$B15&\" (\"&$G15&\")\",unique_contracts!$AM:$AM,\"<=\"&F$4,unique_contracts!$AP:$AP,\">=\"&F$4), SUMIFS(unique_contracts!BW:BW,unique_contracts!$AB:$AB,\"=\"&\"\",unique_contracts!$BS:$BS,\"=\"&$B15&\" (\"&$G15&\")\",unique_contracts!$AM:$AM,\"<=\"&F$4,unique_contracts!$AP:$AP,\">=\"&F$4))","v":0},{"$f":"SUMIFS(unique_contracts!BT:BT,unique_contracts!$AB:$AB,\"=Sell\",unique_contracts!$BS:$BS,\"=\"&$B15&\" (\"&$G15&\")\",unique_contracts!$AM:$AM,\"<=\"&C$4,unique_contracts!$AP:$AP,\">=\"&C$4)","v":0},{"$f":"SUMIFS(unique_contracts!BU:BU,unique_contracts!$AB:$AB,\"=Sell\",unique_contracts!$BS:$BS,\"=\"&$B15&\" (\"&$G15&\")\",unique_contracts!$AM:$AM,\"<=\"&D$4,unique_contracts!$AP:$AP,\">=\"&D$4)","v":0},{"$f":"SUMIFS(unique_contracts!BV:BV,unique_contracts!$AB:$AB,\"=Sell\",unique_contracts!$BS:$BS,\"=\"&$B15&\" (\"&$G15&\")\",unique_contracts!$AM:$AM,\"<=\"&E$4,unique_contracts!$AP:$AP,\">=\"&E$4)","v":0},{"$f":"SUMIFS(unique_contracts!BW:BW,unique_contracts!$AB:$AB,\"=Sell\",unique_contracts!$BS:$BS,\"=\"&$B15&\" (\"&$G15&\")\",unique_contracts!$AM:$AM,\"<=\"&F$4,unique_contracts!$AP:$AP,\">=\"&F$4)","v":0},0,0,0,0]
[null,"Wind New SCE SDG&E",0,0,424.48199999999997,424.48199999999997,"GWh","RPS Eligible",null,null,{"$f":"SUM(SUMIFS(unique_contracts!BT:BT,unique_contracts!$AB:$AB,{\"Buy\",\"Owned\"},unique_contracts!$BS:$BS,\"=\"&$B16&\" (\"&$G16&\")\",unique_contracts!$AM:$AM,\"<=\"&C$4,unique_contracts!$AP:$AP,\">=\"&C$4), SUMIFS(unique_contracts!BT:BT,unique_contracts!$AB:$AB,\"=\"&\"\",unique_contracts!$BS:$BS,\"=\"&$B16&\" (\"&$G16&\")\",unique_contracts!$AM:$AM,\"<=\"&C$4,unique_contracts!$AP:$AP,\">=\"&C$4))","v":0},{"$f":"SUM(SUMIFS(unique_contracts!BU:BU,unique_contracts!$AB:$AB,{\"Buy\",\"Owned\"},unique_contracts!$BS:$BS,\"=\"&$B16&\" (\"&$G16&\")\",unique_contracts!$AM:$AM,\"<=\"&D$4,unique_contracts!$AP:$AP,\">=\"&D$4), SUMIFS(unique_contracts!BU:BU,unique_contracts!$AB:$AB,\"=\"&\"\",unique_contracts!$BS:$BS,\"=\"&$B16&\" (\"&$G16&\")\",unique_contracts!$AM:$AM,\"<=\"&D$4,unique_contracts!$AP:$AP,\">=\"&D$4))","v":0},{"$f":"SUM(SUMIFS(unique_contracts!BV:BV,unique_contracts!$AB:$AB,{\"Buy\",\"Owned\"},unique_contracts!$BS:$BS,\"=\"&$B16&\" (\"&$G16&\")\",unique_contracts!$AM:$AM,\"<=\"&E$4,unique_contracts!$AP:$AP,\">=\"&E$4), SUMIFS(unique_contracts!BV:BV,unique_contracts!$AB:$AB,\"=\"&\"\",unique_contracts!$BS:$BS,\"=\"&$B16&\" (\"&$G16&\")\",unique_contracts!$AM:$AM,\"<=\"&E$4,unique_contracts!$AP:$AP,\">=\"&E$4))","v":424.48199999999997},{"$f":"SUM(SUMIFS(unique_contracts!BW:BW,unique_contracts!$AB:$AB,{\"Buy\",\"Owned\"},unique_contracts!$BS:$BS,\"=\"&$B16&\" (\"&$G16&\")\",unique_contracts!$AM:$AM,\"<=\"&F$4,unique_contracts!$AP:$AP,\">=\"&F$4), SUMIFS(unique_contracts!BW:BW,unique_contracts!$AB:$AB,\"=\"&\"\",unique_contracts!$BS:$BS,\"=\"&$B16&\" (\"&$G16&\")\",unique_contracts!$AM:$AM,\"<=\"&F$4,unique_contracts!$AP:$AP,\">=\"&F$4))","v":424.48199999999997},{"$f":"SUMIFS(unique_contracts!BT:BT,unique_contracts!$AB:$AB,\"=Sell\",unique_contracts!$BS:$BS,\"=\"&$B16&\" (\"&$G16&\")\",unique_contracts!$AM:$AM,\"<=\"&C$4,unique_contracts!$AP:$AP,\">=\"&C$4)","v":0},{"$f":"SUMIFS(unique_contracts!BU:BU,unique_contracts!$AB:$AB,\"=Sell\",unique_contracts!$BS:$BS,\"=\"&$B16&\" (\"&$G16&\")\",unique_contracts!$AM:$AM,\"<=\"&D$4,unique_contracts!$AP:$AP,\">=\"&D$4)","v":0},{"$f":"SUMIFS(unique_contracts!BV:BV,unique_contracts!$AB:$AB,\"=Sell\",unique_contracts!$BS:$BS,\"=\"&$B16&\" (\"&$G16&\")\",unique_contracts!$AM:$AM,\"<=\"&E$4,unique_contracts!$AP:$AP,\">=\"&E$4)","v":0},{"$f":"SUMIFS(unique_contracts!BW:BW,unique_contracts!$AB:$AB,\"=Sell\",unique_contracts!$BS:$BS,\"=\"&$B16&\" (\"&$G16&\")\",unique_contracts!$AM:$AM,\"<=\"&F$4,unique_contracts!$AP:$AP,\">=\"&F$4)","v":0},0,0,424.48199999999997,424.48199999999997]
[null,"Wind Pacific Northwest",0,0,0,0,"GWh","RPS Eligible",null,null,{"$f":"SUM(SUMIFS(unique_contracts!BT:BT,unique_contracts!$AB:$AB,{\"Buy\",\"Owned\"},unique_contracts!$BS:$BS,\"=\"&$B17&\" (\"&$G17&\")\",unique_contracts!$AM:$AM,\"<=\"&C$4,unique_contracts!$AP:$AP,\">=\"&C$4), SUMIFS(unique_contracts!BT:BT,unique_contracts!$AB:$AB,\"=\"&\"\",unique_contracts!$BS:$BS,\"=\"&$B17&\" (\"&$G17&\")\",unique_contracts!$AM:$AM,\"<=\"&C$4,unique_contracts!$AP:$AP,\">=\"&C$4))","v":0},{"$f":"SUM(SUMIFS(unique_contracts!BU:BU,unique_contracts!$AB:$AB,{\"Buy\",\"Owned\"},unique_contracts!$BS:$BS,\"=\"&$B17&\" (\"&$G17&\")\",unique_contracts!$AM:$AM,\"<=\"&D$4,unique_contracts!$AP:$AP,\">=\"&D$4), SUMIFS(unique_contracts!BU:BU,unique_contracts!$AB:$AB,\"=\"&\"\",unique_contracts!$BS:$BS,\"=\"&$B17&\" (\"&$G17&\")\",unique_contracts!$AM:$AM,\"<=\"&D$4,unique_contracts!$AP:$AP,\">=\"&D$4))","v":0},{"$f":"SUM(SUMIFS(unique_contracts!BV:BV,unique_contracts!$AB:$AB,{\"Buy\",\"Owned\"},unique_contracts!$BS:$BS,\"=\"&$B17&\" (\"&$G17&\")\",unique_contracts!$AM:$AM,\"<=\"&E$4,unique_contracts!$AP:$AP,\">=\"&E$4), SUMIFS(unique_contracts!BV:BV,unique_contracts!$AB:$AB,\"=\"&\"\",unique_contracts!$BS:$BS,\"=\"&$B17&\" (\"&$G17&\")\",unique_contracts!$AM:$AM,\"<=\"&E$4,unique_contracts!$AP:$AP,\">=\"&E$4))","v":0},{"$f":"SUM(SUMIFS(unique_contracts!BW:BW,unique_contracts!$AB:$AB,{\"Buy\",\"Owned\"},unique_contracts!$BS:$BS,\"=\"&$B17&\" (\"&$G17&\")\",unique_contracts!$AM:$AM,\"<=\"&F$4,unique_contracts!$AP:$AP,\">=\"&F$4), SUMIFS(unique_contracts!BW:BW,unique_contracts!$AB:$AB,\"=\"&\"\",unique_contracts!$BS:$BS,\"=\"&$B17&\" (\"&$G17&\")\",unique_contracts!$AM:$AM,\"<=\"&F$4,unique_contracts!$AP:$AP,\">=\"&F$4))","v":0},{"$f":"SUMIFS(unique_contracts!BT:BT,unique_contracts!$AB:$AB,\"=Sell\",unique_contracts!$BS:$BS,\"=\"&$B17&\" (\"&$G17&\")\",unique_contracts!$AM:$AM,\"<=\"&C$4,unique_contracts!$AP:$AP,\">=\"&C$4)","v":0},{"$f":"SUMIFS(unique_contracts!BU:BU,unique_contracts!$AB:$AB,\"=Sell\",unique_contracts!$BS:$BS,\"=\"&$B17&\" (\"&$G17&\")\",unique_contracts!$AM:$AM,\"<=\"&D$4,unique_contracts!$AP:$AP,\">=\"&D$4)","v":0},{"$f":"SUMIFS(unique_contracts!BV:BV,unique_contracts!$AB:$AB,\"=Sell\",unique_contracts!$BS:$BS,\"=\"&$B17&\" (\"&$G17&\")\",unique_contracts!$AM:$AM,\"<=\"&E$4,unique_contracts!$AP:$AP,\">=\"&E$4)","v":0},{"$f":"SUMIFS(unique_contracts!BW:BW,unique_contracts!$AB:$AB,\"=Sell\",unique_contracts!$BS:$BS,\"=\"&$B17&\" (\"&$G17&\")\",unique_contracts!$AM:$AM,\"<=\"&F$4,unique_contracts!$AP:$AP,\">=\"&F$4)","v":0},0,0,0,0]
[null,"Wind Wyoming",0,331.48559999999998,336.90965,335.21659999999997,"GWh","RPS Eligible",null,null,{"$f":"SUM(SUMIFS(unique_contracts!BT:BT,unique_contracts!$AB:$AB,{\"Buy\",\"Owned\"},unique_contracts!$BS:$BS,\"=\"&$B18&\" (\"&$G18&\")\",unique_contracts!$AM:$AM,\"<=\"&C$4,unique_contracts!$AP:$AP,\">=\"&C$4), SUMIFS(unique_contracts!BT:BT,unique_contracts!$AB:$AB,\"=\"&\"\",unique_contracts!$BS:$BS,\"=\"&$B18&\" (\"&$G18&\")\",unique_contracts!$AM:$AM,\"<=\"&C$4,unique_contracts!$AP:$AP,\">=\"&C$4))","v":0},{"$f":"SUM(SUMIFS(unique_contracts!BU:BU,unique_contracts!$AB:$AB,{\"Buy\",\"Owned\"},unique_contracts!$BS:$BS,\"=\"&$B18&\" (\"&$G18&\")\",unique_contracts!$AM:$AM,\"<=\"&D$4,unique_contracts!$AP:$AP,\">=\"&D$4), SUMIFS(unique_contracts!BU:BU,unique_contracts!$AB:$AB,\"=\"&\"\",unique_contracts!$BS:$BS,\"=\"&$B18&\" (\"&$G18&\")\",unique_contracts!$AM:$AM,\"<=\"&D$4,unique_contracts!$AP:$AP,\">=\"&D$4))","v":0},{"$f":"SUM(SUMIFS(unique_contracts!BV:BV,unique_contracts!$AB:$AB,{\"Buy\",\"Owned\"},unique_contracts!$BS:$BS,\"=\"&$B18&\" (\"&$G18&\")\",unique_contracts!$AM:$AM,\"<=\"&E$4,unique_contracts!$AP:$AP,\">=\"&E$4), SUMIFS(unique_contracts!BV:BV,unique_contracts!$AB:$AB,\"=\"&\"\",unique_contracts!$BS:$BS,\"=\"&$B18&\" (\"&$G18&\")\",unique_contracts!$AM:$AM,\"<=\"&E$4,unique_contracts!$AP:$AP,\">=\"&E$4))","v":0},{"$f":"SUM(SUMIFS(unique_contracts!BW:BW,unique_contracts!$AB:$AB,{\"Buy\",\"Owned\"},unique_contracts!$BS:$BS,\"=\"&$B18&\" (\"&$G18&\")\",unique_contracts!$AM:$AM,\"<=\"&F$4,unique_contracts!$AP:$AP,\">=\"&F$4), SUMIFS(unique_contracts!BW:BW,unique_contracts!$AB:$AB,\"=\"&\"\",unique_contracts!$BS:$BS,\"=\"&$B18&\" (\"&$G18&\")\",unique_contracts!$AM:$AM,\"<=\"&F$4,unique_contracts!$AP:$AP,\">=\"&F$4))","v":0},{"$f":"SUMIFS(unique_contracts!BT:BT,unique_contracts!$AB:$AB,\"=Sell\",unique_contracts!$BS:$BS,\"=\"&$B18&\" (\"&$G18&\")\",unique_contracts!$AM:$AM,\"<=\"&C$4,unique_contracts!$AP:$AP,\">=\"&C$4)","v":0},{"$f":"SUMIFS(unique_contracts!BU:BU,unique_contracts!$AB:$AB,\"=Sell\",unique_contracts!$BS:$BS,\"=\"&$B18&\" (\"&$G18&\")\",unique_contracts!$AM:$AM,\"<=\"&D$4,unique_contracts!$AP:$AP,\">=\"&D$4)","v":0},{"$f":"SUMIFS(unique_contracts!BV:BV,unique_contracts!$AB:$AB,\"=Sell\",unique_contracts!$BS:$BS,\"=\"&$B18&\" (\"&$G18&\")\",unique_contracts!$AM:$AM,\"<=\"&E$4,unique_contracts!$AP:$AP,\">=\"&E$4)","v":0},{"$f":"SUMIFS(unique_contracts!BW:BW,unique_contracts!$AB:$AB,\"=Sell\",unique_contracts!$BS:$BS,\"=\"&$B18&\" (\"&$G18&\")\",unique_contracts!$AM:$AM,\"<=\"&F$4,unique_contracts!$AP:$AP,\">=\"&F$4)","v":0},0,0,0,0]
[null,"Wind New Mexico",0,0,0,0,"GWh","RPS Eligible",null,null,{"$f":"SUM(SUMIFS(unique_contracts!BT:BT,unique_contracts!$AB:$AB,{\"Buy\",\"Owned\"},unique_contracts!$BS:$BS,\"=\"&$B19&\" (\"&$G19&\")\",unique_contracts!$AM:$AM,\"<=\"&C$4,unique_contracts!$AP:$AP,\">=\"&C$4), SUMIFS(unique_contracts!BT:BT,unique_contracts!$AB:$AB,\"=\"&\"\",unique_contracts!$BS:$BS,\"=\"&$B19&\" (\"&$G19&\")\",unique_contracts!$AM:$AM,\"<=\"&C$4,unique_contracts!$AP:$AP,\">=\"&C$4))","v":0},{"$f":"SUM(SUMIFS(unique_contracts!BU:BU,unique_contracts!$AB:$AB,{\"Buy\",\"Owned\"},unique_contracts!$BS:$BS,\"=\"&$B19&\" (\"&$G19&\")\",unique_contracts!$AM:$AM,\"<=\"&D$4,unique_contracts!$AP:$AP,\">=\"&D$4), SUMIFS(unique_contracts!BU:BU,unique_contracts!$AB:$AB,\"=\"&\"\",unique_contracts!$BS:$BS,\"=\"&$B19&\" (\"&$G19&\")\",unique_contracts!$AM:$AM,\"<=\"&D$4,unique_contracts!$AP:$AP,\">=\"&D$4))","v":0},{"$f":"SUM(SUMIFS(unique_contracts!BV:BV,unique_contracts!$AB:$AB,{\"Buy\",\"Owned\"},unique_contracts!$BS:$BS,\"=\"&$B19&\" (\"&$G19&\")\",unique_contracts!$AM:$AM,\"<=\"&E$4,unique_contracts!$AP:$AP,\">=\"&E$4), SUMIFS(unique_contracts!BV:BV,unique_contracts!$AB:$AB,\"=\"&\"\",unique_contracts!$BS:$BS,\"=\"&$B19&\" (\"&$G19&\")\",unique_contracts!$AM:$AM,\"<=\"&E$4,unique_contracts!$AP:$AP,\">=\"&E$4))","v":0},{"$f":"SUM(SUMIFS(unique_contracts!BW:BW,unique_contracts!$AB:$AB,{\"Buy\",\"Owned\"},unique_contracts!$BS:$BS,\"=\"&$B19&\" (\"&$G19&\")\",unique_contracts!$AM:$AM,\"<=\"&F$4,unique_contracts!$AP:$AP,\">=\"&F$4), SUMIFS(unique_contracts!BW:BW,unique_contracts!$AB:$AB,\"=\"&\"\",unique_contracts!$BS:$BS,\"=\"&$B19&\" (\"&$G19&\")\",unique_contracts!$AM:$AM,\"<=\"&F$4,unique_contracts!$AP:$AP,\">=\"&F$4))","v":0},{"$f":"SUMIFS(unique_contracts!BT:BT,unique_contracts!$AB:$AB,\"=Sell\",unique_contracts!$BS:$BS,\"=\"&$B19&\" (\"&$G19&\")\",unique_contracts!$AM:$AM,\"<=\"&C$4,unique_contracts!$AP:$AP,\">=\"&C$4)","v":0},{"$f":"SUMIFS(unique_contracts!BU:BU,unique_contracts!$AB:$AB,\"=Sell\",unique_contracts!$BS:$BS,\"=\"&$B19&\" (\"&$G19&\")\",unique_contracts!$AM:$AM,\"<=\"&D$4,unique_contracts!$AP:$AP,\">=\"&D$4)","v":0},{"$f":"SUMIFS(unique_contracts!BV:BV,unique_contracts!$AB:$AB,\"=Sell\",unique_contracts!$BS:$BS,\"=\"&$B19&\" (\"&$G19&\")\",unique_contracts!$AM:$AM,\"<=\"&E$4,unique_contracts!$AP:$AP,\">=\"&E$4)","v":0},{"$f":"SUMIFS(unique_contracts!BW:BW,unique_contracts!$AB:$AB,\"=Sell\",unique_contracts!$BS:$BS,\"=\"&$B19&\" (\"&$G19&\")\",unique_contracts!$AM:$AM,\"<=\"&F$4,unique_contracts!$AP:$AP,\">=\"&F$4)","v":0},0,0,0,0]
[null,"Wind Offshore Morro Bay",0,0,0,0,"GWh","RPS Eligible",null,null,{"$f":"SUM(SUMIFS(unique_contracts!BT:BT,unique_contracts!$AB:$AB,{\"Buy\",\"Owned\"},unique_contracts!$BS:$BS,\"=\"&$B20&\" (\"&$G20&\")\",unique_contracts!$AM:$AM,\"<=\"&C$4,unique_contracts!$AP:$AP,\">=\"&C$4), SUMIFS(unique_contracts!BT:BT,unique_contracts!$AB:$AB,\"=\"&\"\",unique_contracts!$BS:$BS,\"=\"&$B20&\" (\"&$G20&\")\",unique_contracts!$AM:$AM,\"<=\"&C$4,unique_contracts!$AP:$AP,\">=\"&C$4))","v":0},{"$f":"SUM(SUMIFS(unique_contracts!BU:BU,unique_contracts!$AB:$AB,{\"Buy\",\"Owned\"},unique_contracts!$BS:$BS,\"=\"&$B20&\" (\"&$G20&\")\",unique_contracts!$AM:$AM,\"<=\"&D$4,unique_contracts!$AP:$AP,\">=\"&D$4), SUMIFS(unique_contracts!BU:BU,unique_contracts!$AB:$AB,\"=\"&\"\",unique_contracts!$BS:$BS,\"=\"&$B20&\" (\"&$G20&\")\",unique_contracts!$AM:$AM,\"<=\"&D$4,unique_contracts!$AP:$AP,\">=\"&D$4))","v":0},{"$f":"SUM(SUMIFS(unique_contracts!BV:BV,unique_contracts!$AB:$AB,{\"Buy\",\"Owned\"},unique_contracts!$BS:$BS,\"=\"&$B20&\" (\"&$G20&\")\",unique_contracts!$AM:$AM,\"<=\"&E$4,unique_contracts!$AP:$AP,\">=\"&E$4), SUMIFS(unique_contracts!BV:BV,unique_contracts!$AB:$AB,\"=\"&\"\",unique_contracts!$BS:$BS,\"=\"&$B20&\" (\"&$G20&\")\",unique_contracts!$AM:$AM,\"<=\"&E$4,unique_contracts!$AP:$AP,\">=\"&E$4))","v":0},{"$f":"SUM(SUMIFS(unique_contracts!BW:BW,unique_contracts!$AB:$AB,{\"Buy\",\"Owned\"},unique_contracts!$BS:$BS,\"=\"&$B20&\" (\"&$G20&\")\",unique_contracts!$AM:$AM,\"<=\"&F$4,unique_contracts!$AP:$AP,\">=\"&F$4), SUMIFS(unique_contracts!BW:BW,unique_contracts!$AB:$AB,\"=\"&\"\",unique_contracts!$BS:$BS,\"=\"&$B20&\" (\"&$G20&\")\",unique_contracts!$AM:$AM,\"<=\"&F$4,unique_contracts!$AP:$AP,\">=\"&F$4))","v":0},{"$f":"SUMIFS(unique_contracts!BT:BT,unique_contracts!$AB:$AB,\"=Sell\",unique_contracts!$BS:$BS,\"=\"&$B20&\" (\"&$G20&\")\",unique_contracts!$AM:$AM,\"<=\"&C$4,unique_contracts!$AP:$AP,\">=\"&C$4)","v":0},{"$f":"SUMIFS(unique_contracts!BU:BU,unique_contracts!$AB:$AB,\"=Sell\",unique_contracts!$BS:$BS,\"=\"&$B20&\" (\"&$G20&\")\",unique_contracts!$AM:$AM,\"<=\"&D$4,unique_contracts!$AP:$AP,\">=\"&D$4)","v":0},{"$f":"SUMIFS(unique_contracts!BV:BV,unique_contracts!$AB:$AB,\"=Sell\",unique_contracts!$BS:$BS,\"=\"&$B20&\" (\"&$G20&\")\",unique_contracts!$AM:$AM,\"<=\"&E$4,unique_contracts!$AP:$AP,\">=\"&E$4)","v":0},{"$f":"SUMIFS(unique_contracts!BW:BW,unique_contracts!$AB:$AB,\"=Sell\",unique_contracts!$BS:$BS,\"=\"&$B20&\" (\"&$G20&\")\",unique_contracts!$AM:$AM,\"<=\"&F$4,unique_contracts!$AP:$AP,\">=\"&F$4)","v":0},0,0,0,0]
[null,"Wind Offshore Humboldt",0,0,0,0,"GWh","RPS Eligible",null,null,{"$f":"SUM(SUMIFS(unique_contracts!BT:BT,unique_contracts!$AB:$AB,{\"Buy\",\"Owned\"},unique_contracts!$BS:$BS,\"=\"&$B21&\" (\"&$G21&\")\",unique_contracts!$AM:$AM,\"<=\"&C$4,unique_contracts!$AP:$AP,\">=\"&C$4), SUMIFS(unique_contracts!BT:BT,unique_contracts!$AB:$AB,\"=\"&\"\",unique_contracts!$BS:$BS,\"=\"&$B21&\" (\"&$G21&\")\",unique_contracts!$AM:$AM,\"<=\"&C$4,unique_contracts!$AP:$AP,\">=\"&C$4))","v":0},{"$f":"SUM(SUMIFS(unique_contracts!BU:BU,unique_contracts!$AB:$AB,{\"Buy\",\"Owned\"},unique_contracts!$BS:$BS,\"=\"&$B21&\" (\"&$G21&\")\",unique_contracts!$AM:$AM,\"<=\"&D$4,unique_contracts!$AP:$AP,\">=\"&D$4), SUMIFS(unique_contracts!BU:BU,unique_contracts!$AB:$AB,\"=\"&\"\",unique_contracts!$BS:$BS,\"=\"&$B21&\" (\"&$G21&\")\",unique_contracts!$AM:$AM,\"<=\"&D$4,unique_contracts!$AP:$AP,\">=\"&D$4))","v":0},{"$f":"SUM(SUMIFS(unique_contracts!BV:BV,unique_contracts!$AB:$AB,{\"Buy\",\"Owned\"},unique_contracts!$BS:$BS,\"=\"&$B21&\" (\"&$G21&\")\",unique_contracts!$AM:$AM,\"<=\"&E$4,unique_contracts!$AP:$AP,\">=\"&E$4), SUMIFS(unique_contracts!BV:BV,unique_contracts!$AB:$AB,\"=\"&\"\",unique_contracts!$BS:$BS,\"=\"&$B21&\" (\"&$G21&\")\",unique_contracts!$AM:$AM,\"<=\"&E$4,unique_contracts!$AP:$AP,\">=\"&E$4))","v":0},{"$f":"SUM(SUMIFS(unique_contracts!BW:BW,unique_contracts!$AB:$AB,{\"Buy\",\"Owned\"},unique_contracts!$BS:$BS,\"=\"&$B21&\" (\"&$G21&\")\",unique_contracts!$AM:$AM,\"<=\"&F$4,unique_contracts!$AP:$AP,\">=\"&F$4), SUMIFS(unique_contracts!BW:BW,unique_contracts!$AB:$AB,\"=\"&\"\",unique_contracts!$BS:$BS,\"=\"&$B21&\" (\"&$G21&\")\",unique_contracts!$AM:$AM,\"<=\"&F$4,unique_contracts!$AP:$AP,\">=\"&F$4))","v":0},{"$f":"SUMIFS(unique_contracts!BT:BT,unique_contracts!$AB:$AB,\"=Sell\",unique_contracts!$BS:$BS,\"=\"&$B21&\" (\"&$G21&\")\",unique_contracts!$AM:$AM,\"<=\"&C$4,unique_contracts!$AP:$AP,\">=\"&C$4)","v":0},{"$f":"SUMIFS(unique_contracts!BU:BU,unique_contracts!$AB:$AB,\"=Sell\",unique_contracts!$BS:$BS,\"=\"&$B21&\" (\"&$G21&\")\",unique_contracts!$AM:$AM,\"<=\"&D$4,unique_contracts!$AP:$AP,\">=\"&D$4)","v":0},{"$f":"SUMIFS(unique_contracts!BV:BV,unique_contracts!$AB:$AB,\"=Sell\",unique_contracts!$BS:$BS,\"=\"&$B21&\" (\"&$G21&\")\",unique_contracts!$AM:$AM,\"<=\"&E$4,unique_contracts!$AP:$AP,\">=\"&E$4)","v":0},{"$f":"SUMIFS(unique_contracts!BW:BW,unique_contracts!$AB:$AB,\"=Sell\",unique_contracts!$BS:$BS,\"=\"&$B21&\" (\"&$G21&\")\",unique_contracts!$AM:$AM,\"<=\"&F$4,unique_contracts!$AP:$AP,\">=\"&F$4)","v":0},0,0,0,0]
[null,"Solar Resources"]
[null,"Solar Baseline California",0,0,0,0,"GWh","RPS Eligible",null,null,{"$f":"SUM(SUMIFS(unique_contracts!BT:BT,unique_contracts!$AB:$AB,{\"Buy\",\"Owned\"},unique_contracts!$BS:$BS,\"=\"&$B23&\" (\"&$G23&\")\",unique_contracts!$AM:$AM,\"<=\"&C$4,unique_contracts!$AP:$AP,\">=\"&C$4), SUMIFS(unique_contracts!BT:BT,unique_contracts!$AB:$AB,\"=\"&\"\",unique_contracts!$BS:$BS,\"=\"&$B23&\" (\"&$G23&\")\",unique_contracts!$AM:$AM,\"<=\"&C$4,unique_contracts!$AP:$AP,\">=\"&C$4))","v":0},{"$f":"SUM(SUMIFS(unique_contracts!BU:BU,unique_contracts!$AB:$AB,{\"Buy\",\"Owned\"},unique_contracts!$BS:$BS,\"=\"&$B23&\" (\"&$G23&\")\",unique_contracts!$AM:$AM,\"<=\"&D$4,unique_contracts!$AP:$AP,\">=\"&D$4), SUMIFS(unique_contracts!BU:BU,unique_contracts!$AB:$AB,\"=\"&\"\",unique_contracts!$BS:$BS,\"=\"&$B23&\" (\"&$G23&\")\",unique_contracts!$AM:$AM,\"<=\"&D$4,unique_contracts!$AP:$AP,\">=\"&D$4))","v":0},{"$f":"SUM(SUMIFS(unique_contracts!BV:BV,unique_contracts!$AB:$AB,{\"Buy\",\"Owned\"},unique_contracts!$BS:$BS,\"=\"&$B23&\" (\"&$G23&\")\",unique_contracts!$AM:$AM,\"<=\"&E$4,unique_contracts!$AP:$AP,\">=\"&E$4), SUMIFS(unique_contracts!BV:BV,unique_contracts!$AB:$AB,\"=\"&\"\",unique_contracts!$BS:$BS,\"=\"&$B23&\" (\"&$G23&\")\",unique_contracts!$AM:$AM,\"<=\"&E$4,unique_contracts!$AP:$AP,\">=\"&E$4))","v":0},{"$f":"SUM(SUMIFS(unique_contracts!BW:BW,unique_contracts!$AB:$AB,{\"Buy\",\"Owned\"},unique_contracts!$BS:$BS,\"=\"&$B23&\" (\"&$G23&\")\",unique_contracts!$AM:$AM,\"<=\"&F$4,unique_contracts!$AP:$AP,\">=\"&F$4), SUMIFS(unique_contracts!BW:BW,unique_contracts!$AB:$AB,\"=\"&\"\",unique_contracts!$BS:$BS,\"=\"&$B23&\" (\"&$G23&\")\",unique_contracts!$AM:$AM,\"<=\"&F$4,unique_contracts!$AP:$AP,\">=\"&F$4))","v":0},{"$f":"SUMIFS(unique_contracts!BT:BT,unique_contracts!$AB:$AB,\"=Sell\",unique_contracts!$BS:$BS,\"=\"&$B23&\" (\"&$G23&\")\",unique_contracts!$AM:$AM,\"<=\"&C$4,unique_contracts!$AP:$AP,\">=\"&C$4)","v":0},{"$f":"SUMIFS(unique_contracts!BU:BU,unique_contracts!$AB:$AB,\"=Sell\",unique_contracts!$BS:$BS,\"=\"&$B23&\" (\"&$G23&\")\",unique_contracts!$AM:$AM,\"<=\"&D$4,unique_contracts!$AP:$AP,\">=\"&D$4)","v":0},{"$f":"SUMIFS(unique_contracts!BV:BV,unique_contracts!$AB:$AB,\"=Sell\",unique_contracts!$BS:$BS,\"=\"&$B23&\" (\"&$G23&\")\",unique_contracts!$AM:$AM,\"<=\"&E$4,unique_contracts!$AP:$AP,\">=\"&E$4)","v":0},{"$f":"SUMIFS(unique_contracts!BW:BW,unique_contracts!$AB:$AB,\"=Sell\",unique_contracts!$BS:$BS,\"=\"&$B23&\" (\"&$G23&\")\",unique_contracts!$AM:$AM,\"<=\"&F$4,unique_contracts!$AP:$AP,\">=\"&F$4)","v":0},0,0,0,0]
[null,"Solar New PG&E",0,0,0,0,"GWh","RPS Eligible",null,null,{"$f":"SUM(SUMIFS(unique_contracts!BT:BT,unique_contracts!$AB:$AB,{\"Buy\",\"Owned\"},unique_contracts!$BS:$BS,\"=\"&$B24&\" (\"&$G24&\")\",unique_contracts!$AM:$AM,\"<=\"&C$4,unique_contracts!$AP:$AP,\">=\"&C$4), SUMIFS(unique_contracts!BT:BT,unique_contracts!$AB:$AB,\"=\"&\"\",unique_contracts!$BS:$BS,\"=\"&$B24&\" (\"&$G24&\")\",unique_contracts!$AM:$AM,\"<=\"&C$4,unique_contracts!$AP:$AP,\">=\"&C$4))","v":0},{"$f":"SUM(SUMIFS(unique_contracts!BU:BU,unique_contracts!$AB:$AB,{\"Buy\",\"Owned\"},unique_contracts!$BS:$BS,\"=\"&$B24&\" (\"&$G24&\")\",unique_contracts!$AM:$AM,\"<=\"&D$4,unique_contracts!$AP:$AP,\">=\"&D$4), SUMIFS(unique_contracts!BU:BU,unique_contracts!$AB:$AB,\"=\"&\"\",unique_contracts!$BS:$BS,\"=\"&$B24&\" (\"&$G24&\")\",unique_contracts!$AM:$AM,\"<=\"&D$4,unique_contracts!$AP:$AP,\">=\"&D$4))","v":0},{"$f":"SUM(SUMIFS(unique_contracts!BV:BV,unique_contracts!$AB:$AB,{\"Buy\",\"Owned\"},unique_contracts!$BS:$BS,\"=\"&$B24&\" (\"&$G24&\")\",unique_contracts!$AM:$AM,\"<=\"&E$4,unique_contracts!$AP:$AP,\">=\"&E$4), SUMIFS(unique_contracts!BV:BV,unique_contracts!$AB:$AB,\"=\"&\"\",unique_contracts!$BS:$BS,\"=\"&$B24&\" (\"&$G24&\")\",unique_contracts!$AM:$AM,\"<=\"&E$4,unique_contracts!$AP:$AP,\">=\"&E$4))","v":0},{"$f":"SUM(SUMIFS(unique_contracts!BW:BW,unique_contracts!$AB:$AB,{\"Buy\",\"Owned\"},unique_contracts!$BS:$BS,\"=\"&$B24&\" (\"&$G24&\")\",unique_contracts!$AM:$AM,\"<=\"&F$4,unique_contracts!$AP:$AP,\">=\"&F$4), SUMIFS(unique_contracts!BW:BW,unique_contracts!$AB:$AB,\"=\"&\"\",unique_contracts!$BS:$BS,\"=\"&$B24&\" (\"&$G24&\")\",unique_contracts!$AM:$AM,\"<=\"&F$4,unique_contracts!$AP:$AP,\">=\"&F$4))","v":0},{"$f":"SUMIFS(unique_contracts!BT:BT,unique_contracts!$AB:$AB,\"=Sell\",unique_contracts!$BS:$BS,\"=\"&$B24&\" (\"&$G24&\")\",unique_contracts!$AM:$AM,\"<=\"&C$4,unique_contracts!$AP:$AP,\">=\"&C$4)","v":0},{"$f":"SUMIFS(unique_contracts!BU:BU,unique_contracts!$AB:$AB,\"=Sell\",unique_contracts!$BS:$BS,\"=\"&$B24&\" (\"&$G24&\")\",unique_contracts!$AM:$AM,\"<=\"&D$4,unique_contracts!$AP:$AP,\">=\"&D$4)","v":0},{"$f":"SUMIFS(unique_contracts!BV:BV,unique_contracts!$AB:$AB,\"=Sell\",unique_contracts!$BS:$BS,\"=\"&$B24&\" (\"&$G24&\")\",unique_contracts!$AM:$AM,\"<=\"&E$4,unique_contracts!$AP:$AP,\">=\"&E$4)","v":0},{"$f":"SUMIFS(unique_contracts!BW:BW,unique_contracts!$AB:$AB,\"=Sell\",unique_contracts!$BS:$BS,\"=\"&$B24&\" (\"&$G24&\")\",unique_contracts!$AM:$AM,\"<=\"&F$4,unique_contracts!$AP:$AP,\">=\"&F$4)","v":0},0,0,0,0]
[null,"Solar New SCE SDG&E",0,0,0,0,"GWh","RPS Eligible",null,null,{"$f":"SUM(SUMIFS(unique_contracts!BT:BT,unique_contracts!$AB:$AB,{\"Buy\",\"Owned\"},unique_contracts!$BS:$BS,\"=\"&$B25&\" (\"&$G25&\")\",unique_contracts!$AM:$AM,\"<=\"&C$4,unique_contracts!$AP:$AP,\">=\"&C$4), SUMIFS(unique_contracts!BT:BT,unique_contracts!$AB:$AB,\"=\"&\"\",unique_contracts!$BS:$BS,\"=\"&$B25&\" (\"&$G25&\")\",unique_contracts!$AM:$AM,\"<=\"&C$4,unique_contracts!$AP:$AP,\">=\"&C$4))","v":0},{"$f":"SUM(SUMIFS(unique_contracts!BU:BU,unique_contracts!$AB:$AB,{\"Buy\",\"Owned\"},unique_contracts!$BS:$BS,\"=\"&$B25&\" (\"&$G25&\")\",unique_contracts!$AM:$AM,\"<=\"&D$4,unique_contracts!$AP:$AP,\">=\"&D$4), SUMIFS(unique_contracts!BU:BU,unique_contracts!$AB:$AB,\"=\"&\"\",unique_contracts!$BS:$BS,\"=\"&$B25&\" (\"&$G25&\")\",unique_contracts!$AM:$AM,\"<=\"&D$4,unique_contracts!$AP:$AP,\">=\"&D$4))","v":0},{"$f":"SUM(SUMIFS(unique_contracts!BV:BV,unique_contracts!$AB:$AB,{\"Buy\",\"Owned\"},unique_contracts!$BS:$BS,\"=\"&$B25&\" (\"&$G25&\")\",unique_contracts!$AM:$AM,\"<=\"&E$4,unique_contracts!$AP:$AP,\">=\"&E$4), SUMIFS(unique_contracts!BV:BV,unique_contracts!$AB:$AB,\"=\"&\"\",unique_contracts!$BS:$BS,\"=\"&$B25&\" (\"&$G25&\")\",unique_contracts!$AM:$AM,\"<=\"&E$4,unique_contracts!$AP:$AP,\">=\"&E$4))","v":0},{"$f":"SUM(SUMIFS(unique_contracts!BW:BW,unique_contracts!$AB:$AB,{\"Buy\",\"Owned\"},unique_contracts!$BS:$BS,\"=\"&$B25&\" (\"&$G25&\")\",unique_contracts!$AM:$AM,\"<=\"&F$4,unique_contracts!$AP:$AP,\">=\"&F$4), SUMIFS(unique_contracts!BW:BW,unique_contracts!$AB:$AB,\"=\"&\"\",unique_contracts!$BS:$BS,\"=\"&$B25&\" (\"&$G25&\")\",unique_contracts!$AM:$AM,\"<=\"&F$4,unique_contracts!$AP:$AP,\">=\"&F$4))","v":0},{"$f":"SUMIFS(unique_contracts!BT:BT,unique_contracts!$AB:$AB,\"=Sell\",unique_contracts!$BS:$BS,\"=\"&$B25&\" (\"&$G25&\")\",unique_contracts!$AM:$AM,\"<=\"&C$4,unique_contracts!$AP:$AP,\">=\"&C$4)","v":0},{"$f":"SUMIFS(unique_contracts!BU:BU,unique_contracts!$AB:$AB,\"=Sell\",unique_contracts!$BS:$BS,\"=\"&$B25&\" (\"&$G25&\")\",unique_contracts!$AM:$AM,\"<=\"&D$4,unique_contracts!$AP:$AP,\">=\"&D$4)","v":0},{"$f":"SUMIFS(unique_contracts!BV:BV,unique_contracts!$AB:$AB,\"=Sell\",unique_contracts!$BS:$BS,\"=\"&$B25&\" (\"&$G25&\")\",unique_contracts!$AM:$AM,\"<=\"&E$4,unique_contracts!$AP:$AP,\">=\"&E$4)","v":0},{"$f":"SUMIFS(unique_contracts!BW:BW,unique_contracts!$AB:$AB,\"=Sell\",unique_contracts!$BS:$BS,\"=\"&$B25&\" (\"&$G25&\")\",unique_contracts!$AM:$AM,\"<=\"&F$4,unique_contracts!$AP:$AP,\">=\"&F$4)","v":0},0,0,0,0]
[null,"Solar Distributed",0,0,0,0,"GWh","RPS Eligible",null,null,{"$f":"SUM(SUMIFS(unique_contracts!BT:BT,unique_contracts!$AB:$AB,{\"Buy\",\"Owned\"},unique_contracts!$BS:$BS,\"=\"&$B26&\" (\"&$G26&\")\",unique_contracts!$AM:$AM,\"<=\"&C$4,unique_contracts!$AP:$AP,\">=\"&C$4), SUMIFS(unique_contracts!BT:BT,unique_contracts!$AB:$AB,\"=\"&\"\",unique_contracts!$BS:$BS,\"=\"&$B26&\" (\"&$G26&\")\",unique_contracts!$AM:$AM,\"<=\"&C$4,unique_contracts!$AP:$AP,\">=\"&C$4))","v":0},{"$f":"SUM(SUMIFS(unique_contracts!BU:BU,unique_contracts!$AB:$AB,{\"Buy\",\"Owned\"},unique_contracts!$BS:$BS,\"=\"&$B26&\" (\"&$G26&\")\",unique_contracts!$AM:$AM,\"<=\"&D$4,unique_contracts!$AP:$AP,\">=\"&D$4), SUMIFS(unique_contracts!BU:BU,unique_contracts!$AB:$AB,\"=\"&\"\",unique_contracts!$BS:$BS,\"=\"&$B26&\" (\"&$G26&\")\",unique_contracts!$AM:$AM,\"<=\"&D$4,unique_contracts!$AP:$AP,\">=\"&D$4))","v":0},{"$f":"SUM(SUMIFS(unique_contracts!BV:BV,unique_contracts!$AB:$AB,{\"Buy\",\"Owned\"},unique_contracts!$BS:$BS,\"=\"&$B26&\" (\"&$G26&\")\",unique_contracts!$AM:$AM,\"<=\"&E$4,unique_contracts!$AP:$AP,\">=\"&E$4), SUMIFS(unique_contracts!BV:BV,unique_contracts!$AB:$AB,\"=\"&\"\",unique_contracts!$BS:$BS,\"=\"&$B26&\" (\"&$G26&\")\",unique_contracts!$AM:$AM,\"<=\"&E$4,unique_contracts!$AP:$AP,\">=\"&E$4))","v":0},{"$f":"SUM(SUMIFS(unique_contracts!BW:BW,unique_contracts!$AB:$AB,{\"Buy\",\"Owned\"},unique_contracts!$BS:$BS,\"=\"&$B26&\" (\"&$G26&\")\",unique_contracts!$AM:$AM,\"<=\"&F$4,unique_contracts!$AP:$AP,\">=\"&F$4), SUMIFS(unique_contracts!BW:BW,unique_contracts!$AB:$AB,\"=\"&\"\",unique_contracts!$BS:$BS,\"=\"&$B26&\" (\"&$G26&\")\",unique_contracts!$AM:$AM,\"<=\"&F$4,unique_contracts!$AP:$AP,\">=\"&F$4))","v":0},{"$f":"SUMIFS(unique_contracts!BT:BT,unique_contracts!$AB:$AB,\"=Sell\",unique_contracts!$BS:$BS,\"=\"&$B26&\" (\"&$G26&\")\",unique_contracts!$AM:$AM,\"<=\"&C$4,unique_contracts!$AP:$AP,\">=\"&C$4)","v":0},{"$f":"SUMIFS(unique_contracts!BU:BU,unique_contracts!$AB:$AB,\"=Sell\",unique_contracts!$BS:$BS,\"=\"&$B26&\" (\"&$G26&\")\",unique_contracts!$AM:$AM,\"<=\"&D$4,unique_contracts!$AP:$AP,\">=\"&D$4)","v":0},{"$f":"SUMIFS(unique_contracts!BV:BV,unique_contracts!$AB:$AB,\"=Sell\",unique_contracts!$BS:$BS,\"=\"&$B26&\" (\"&$G26&\")\",unique_contracts!$AM:$AM,\"<=\"&E$4,unique_contracts!$AP:$AP,\">=\"&E$4)","v":0},{"$f":"SUMIFS(unique_contracts!BW:BW,unique_contracts!$AB:$AB,\"=Sell\",unique_contracts!$BS:$BS,\"=\"&$B26&\" (\"&$G26&\")\",unique_contracts!$AM:$AM,\"<=\"&F$4,unique_contracts!$AP:$AP,\">=\"&F$4)","v":0},0,0,0,0]
[null,"Hybrid",null,null,null,null,null,null,null,null,{"$f":"SUM(SUMIFS(unique_contracts!BT:BT,unique_contracts!$AB:$AB,{\"Buy\",\"Owned\"},unique_contracts!$BS:$BS,\"=\"&$B27&\" (\"&$G27&\")\",unique_contracts!$AM:$AM,\"<=\"&C$4,unique_contracts!$AP:$AP,\">=\"&C$4), SUMIFS(unique_contracts!BT:BT,unique_contracts!$AB:$AB,\"=\"&\"\",unique_contracts!$BS:$BS,\"=\"&$B27&\" (\"&$G27&\")\",unique_contracts!$AM:$AM,\"<=\"&C$4,unique_contracts!$AP:$AP,\">=\"&C$4))","v":0},{"$f":"SUM(SUMIFS(unique_contracts!BU:BU,unique_contracts!$AB:$AB,{\"Buy\",\"Owned\"},unique_contracts!$BS:$BS,\"=\"&$B27&\" (\"&$G27&\")\",unique_contracts!$AM:$AM,\"<=\"&D$4,unique_contracts!$AP:$AP,\">=\"&D$4), SUMIFS(unique_contracts!BU:BU,unique_contracts!$AB:$AB,\"=\"&\"\",unique_contracts!$BS:$BS,\"=\"&$B27&\" (\"&$G27&\")\",unique_contracts!$AM:$AM,\"<=\"&D$4,unique_contracts!$AP:$AP,\">=\"&D$4))","v":0},{"$f":"SUM(SUMIFS(unique_contracts!BV:BV,unique_contracts!$AB:$AB,{\"Buy\",\"Owned\"},unique_contracts!$BS:$BS,\"=\"&$B27&\" (\"&$G27&\")\",unique_contracts!$AM:$AM,\"<=\"&E$4,unique_contracts!$AP:$AP,\">=\"&E$4), SUMIFS(unique_contracts!BV:BV,unique_contracts!$AB:$AB,\"=\"&\"\",unique_contracts!$BS:$BS,\"=\"&$B27&\" (\"&$G27&\")\",unique_contracts!$AM:$AM,\"<=\"&E$4,unique_contracts!$AP:$AP,\">=\"&E$4))","v":0},{"$f":"SUM(SUMIFS(unique_contracts!BW:BW,unique_contracts!$AB:$AB,{\"Buy\",\"Owned\"},unique_contracts!$BS:$BS,\"=\"&$B27&\" (\"&$G27&\")\",unique_contracts!$AM:$AM,\"<=\"&F$4,unique_contracts!$AP:$AP,\">=\"&F$4), SUMIFS(unique_contracts!BW:BW,unique_contracts!$AB:$AB,\"=\"&\"\",unique_contracts!$BS:$BS,\"=\"&$B27&\" (\"&$G27&\")\",unique_contracts!$AM:$AM,\"<=\"&F$4,unique_contracts!$AP:$AP,\">=\"&F$4))","v":0},{"$f":"SUMIFS(unique_contracts!BT:BT,unique_contracts!$AB:$AB,\"=Sell\",unique_contracts!$BS:$BS,\"=\"&$B27&\" (\"&$G27&\")\",unique_contracts!$AM:$AM,\"<=\"&C$4,unique_contracts!$AP:$AP,\">=\"&C$4)","v":0},{"$f":"SUMIFS(unique_contracts!BU:BU,unique_contracts!$AB:$AB,\"=Sell\",unique_contracts!$BS:$BS,\"=\"&$B27&\" (\"&$G27&\")\",unique_contracts!$AM:$AM,\"<=\"&D$4,unique_contracts!$AP:$AP,\">=\"&D$4)","v":0},{"$f":"SUMIFS(unique_contracts!BV:BV,unique_contracts!$AB:$AB,\"=Sell\",unique_contracts!$BS:$BS,\"=\"&$B27&\" (\"&$G27&\")\",unique_contracts!$AM:$AM,\"<=\"&E$4,unique_contracts!$AP:$AP,\">=\"&E$4)","v":0},{"$f":"SUMIFS(unique_contracts!BW:BW,unique_contracts!$AB:$AB,\"=Sell\",unique_contracts!$BS:$BS,\"=\"&$B27&\" (\"&$G27&\")\",unique_contracts!$AM:$AM,\"<=\"&F$4,unique_contracts!$AP:$AP,\">=\"&F$4)","v":0},0,0,0,0]
[null,"Hybrid_or_Paired_Solar_and_Battery",133.10060000000001,211.58024,312.63013999999998,412.59554000000003,"GWh","RPS Eligible",null,null,{"$f":"SUM(SUMIFS(unique_contracts!BT:BT,unique_contracts!$AB:$AB,{\"Buy\",\"Owned\"},unique_contracts!$BS:$BS,\"=\"&$B28&\" (\"&$G28&\")\",unique_contracts!$AM:$AM,\"<=\"&C$4,unique_contracts!$AP:$AP,\">=\"&C$4), SUMIFS(unique_contracts!BT:BT,unique_contracts!$AB:$AB,\"=\"&\"\",unique_contracts!$BS:$BS,\"=\"&$B28&\" (\"&$G28&\")\",unique_contracts!$AM:$AM,\"<=\"&C$4,unique_contracts!$AP:$AP,\">=\"&C$4))","v":133.10060000000001},{"$f":"SUM(SUMIFS(unique_contracts!BU:BU,unique_contracts!$AB:$AB,{\"Buy\",\"Owned\"},unique_contracts!$BS:$BS,\"=\"&$B28&\" (\"&$G28&\")\",unique_contracts!$AM:$AM,\"<=\"&D$4,unique_contracts!$AP:$AP,\">=\"&D$4), SUMIFS(unique_contracts!BU:BU,unique_contracts!$AB:$AB,\"=\"&\"\",unique_contracts!$BS:$BS,\"=\"&$B28&\" (\"&$G28&\")\",unique_contracts!$AM:$AM,\"<=\"&D$4,unique_contracts!$AP:$AP,\">=\"&D$4))","v":211.58024},{"$f":"SUM(SUMIFS(unique_contracts!BV:BV,unique_contracts!$AB:$AB,{\"Buy\",\"Owned\"},unique_contracts!$BS:$BS,\"=\"&$B28&\" (\"&$G28&\")\",unique_contracts!$AM:$AM,\"<=\"&E$4,unique_contracts!$AP:$AP,\">=\"&E$4), SUMIFS(unique_contracts!BV:BV,unique_contracts!$AB:$AB,\"=\"&\"\",unique_contracts!$BS:$BS,\"=\"&$B28&\" (\"&$G28&\")\",unique_contracts!$AM:$AM,\"<=\"&E$4,unique_contracts!$AP:$AP,\">=\"&E$4))","v":312.63013999999998},{"$f":"SUM(SUMIFS(unique_contracts!BW:BW,unique_contracts!$AB:$AB,{\"Buy\",\"Owned\"},unique_contracts!$BS:$BS,\"=\"&$B28&\" (\"&$G28&\")\",unique_contracts!$AM:$AM,\"<=\"&F$4,unique_contracts!$AP:$AP,\">=\"&F$4), SUMIFS(unique_contracts!BW:BW,unique_contracts!$AB:$AB,\"=\"&\"\",unique_contracts!$BS:$BS,\"=\"&$B28&\" (\"&$G28&\")\",unique_contracts!$AM:$AM,\"<=\"&F$4,unique_contracts!$AP:$AP,\">=\"&F$4))","v":412.59554000000003},{"$f":"SUMIFS(unique_contracts!BT:BT,unique_contracts!$AB:$AB,\"=Sell\",unique_contracts!$BS:$BS,\"=\"&$B28&\" (\"&$G28&\")\",unique_contracts!$AM:$AM,\"<=\"&C$4,unique_contracts!$AP:$AP,\">=\"&C$4)","v":0},{"$f":"SUMIFS(unique_contracts!BU:BU,unique_contracts!$AB:$AB,\"=Sell\",unique_contracts!$BS:$BS,\"=\"&$B28&\" (\"&$G28&\")\",unique_contracts!$AM:$AM,\"<=\"&D$4,unique_contracts!$AP:$AP,\">=\"&D$4)","v":0},{"$f":"SUMIFS(unique_contracts!BV:BV,unique_contracts!$AB:$AB,\"=Sell\",unique_contracts!$BS:$BS,\"=\"&$B28&\" (\"&$G28&\")\",unique_contracts!$AM:$AM,\"<=\"&E$4,unique_contracts!$AP:$AP,\">=\"&E$4)","v":0},{"$f":"SUMIFS(unique_contracts!BW:BW,unique_contracts!$AB:$AB,\"=Sell\",unique_contracts!$BS:$BS,\"=\"&$B28&\" (\"&$G28&\")\",unique_contracts!$AM:$AM,\"<=\"&F$4,unique_contracts!$AP:$AP,\">=\"&F$4)","v":0},133.10060000000001,211.58024,312.63013999999998,412.59554000000003]
[null,"Storage & DR"]
[null,"Shed DR",1,5,10,10,"MW","GHG-Free",null,null,{"$f":"SUM(SUMIFS(unique_contracts!BT:BT,unique_contracts!$AB:$AB,{\"Buy\",\"Owned\"},unique_contracts!$BS:$BS,\"=\"&$B30&\" (\"&$G30&\")\",unique_contracts!$AM:$AM,\"<=\"&C$4,unique_contracts!$AP:$AP,\">=\"&C$4), SUMIFS(unique_contracts!BT:BT,unique_contracts!$AB:$AB,\"=\"&\"\",unique_contracts!$BS:$BS,\"=\"&$B30&\" (\"&$G30&\")\",unique_contracts!$AM:$AM,\"<=\"&C$4,unique_contracts!$AP:$AP,\">=\"&C$4))","v":1},{"$f":"SUM(SUMIFS(unique_contracts!BU:BU,unique_contracts!$AB:$AB,{\"Buy\",\"Owned\"},unique_contracts!$BS:$BS,\"=\"&$B30&\" (\"&$G30&\")\",unique_contracts!$AM:$AM,\"<=\"&D$4,unique_contracts!$AP:$AP,\">=\"&D$4), SUMIFS(unique_contracts!BU:BU,unique_contracts!$AB:$AB,\"=\"&\"\",unique_contracts!$BS:$BS,\"=\"&$B30&\" (\"&$G30&\")\",unique_contracts!$AM:$AM,\"<=\"&D$4,unique_contracts!$AP:$AP,\">=\"&D$4))","v":5},{"$f":"SUM(SUMIFS(unique_contracts!BV:BV,unique_contracts!$AB:$AB,{\"Buy\",\"Owned\"},unique_contracts!$BS:$BS,\"=\"&$B30&\" (\"&$G30&\")\",unique_contracts!$AM:$AM,\"<=\"&E$4,unique_contracts!$AP:$AP,\">=\"&E$4), SUMIFS(unique_contracts!BV:BV,unique_contracts!$AB:$AB,\"=\"&\"\",unique_contracts!$BS:$BS,\"=\"&$B30&\" (\"&$G30&\")\",unique_contracts!$AM:$AM,\"<=\"&E$4,unique_contracts!$AP:$AP,\">=\"&E$4))","v":10},{"$f":"SUM(SUMIFS(unique_contracts!BW:BW,unique_contracts!$AB:$AB,{\"Buy\",\"Owned\"},unique_contracts!$BS:$BS,\"=\"&$B30&\" (\"&$G30&\")\",unique_contracts!$AM:$AM,\"<=\"&F$4,unique_contracts!$AP:$AP,\">=\"&F$4), SUMIFS(unique_contracts!BW:BW,unique_contracts!$AB:$AB,\"=\"&\"\",unique_contracts!$BS:$BS,\"=\"&$B30&\" (\"&$G30&\")\",unique_contracts!$AM:$AM,\"<=\"&F$4,unique_contracts!$AP:$AP,\">=\"&F$4))","v":10},{"$f":"SUMIFS(unique_contracts!BT:BT,unique_contracts!$AB:$AB,\"=Sell\",unique_contracts!$BS:$BS,\"=\"&$B30&\" (\"&$G30&\")\",unique_contracts!$AM:$AM,\"<=\"&C$4,unique_contracts!$AP:$AP,\">=\"&C$4)","v":0},{"$f":"SUMIFS(unique_contracts!BU:BU,unique_contracts!$AB:$AB,\"=Sell\",unique_contracts!$BS:$BS,\"=\"&$B30&\" (\"&$G30&\")\",unique_contracts!$AM:$AM,\"<=\"&D$4,unique_contracts!$AP:$AP,\">=\"&D$4)","v":0},{"$f":"SUMIFS(unique_contracts!BV:BV,unique_contracts!$AB:$AB,\"=Sell\",unique_contracts!$BS:$BS,\"=\"&$B30&\" (\"&$G30&\")\",unique_contracts!$AM:$AM,\"<=\"&E$4,unique_contracts!$AP:$AP,\">=\"&E$4)","v":0},{"$f":"SUMIFS(unique_contracts!BW:BW,unique_contracts!$AB:$AB,\"=Sell\",unique_contracts!$BS:$BS,\"=\"&$B30&\" (\"&$G30&\")\",unique_contracts!$AM:$AM,\"<=\"&F$4,unique_contracts!$AP:$AP,\">=\"&F$4)","v":0},1,5,10,10]
[null,"Pumped Storage",0,0,0,0,"MW","n/a",null,null,{"$f":"SUM(SUMIFS(unique_contracts!BT:BT,unique_contracts!$AB:$AB,{\"Buy\",\"Owned\"},unique_contracts!$BS:$BS,\"=\"&$B31&\" (\"&$G31&\")\",unique_contracts!$AM:$AM,\"<=\"&C$4,unique_contracts!$AP:$AP,\">=\"&C$4), SUMIFS(unique_contracts!BT:BT,unique_contracts!$AB:$AB,\"=\"&\"\",unique_contracts!$BS:$BS,\"=\"&$B31&\" (\"&$G31&\")\",unique_contracts!$AM:$AM,\"<=\"&C$4,unique_contracts!$AP:$AP,\">=\"&C$4))","v":0},{"$f":"SUM(SUMIFS(unique_contracts!BU:BU,unique_contracts!$AB:$AB,{\"Buy\",\"Owned\"},unique_contracts!$BS:$BS,\"=\"&$B31&\" (\"&$G31&\")\",unique_contracts!$AM:$AM,\"<=\"&D$4,unique_contracts!$AP:$AP,\">=\"&D$4), SUMIFS(unique_contracts!BU:BU,unique_contracts!$AB:$AB,\"=\"&\"\",unique_contracts!$BS:$BS,\"=\"&$B31&\" (\"&$G31&\")\",unique_contracts!$AM:$AM,\"<=\"&D$4,unique_contracts!$AP:$AP,\">=\"&D$4))","v":0},{"$f":"SUM(SUMIFS(unique_contracts!BV:BV,unique_contracts!$AB:$AB,{\"Buy\",\"Owned\"},unique_contracts!$BS:$BS,\"=\"&$B31&\" (\"&$G31&\")\",unique_contracts!$AM:$AM,\"<=\"&E$4,unique_contracts!$AP:$AP,\">=\"&E$4), SUMIFS(unique_contracts!BV:BV,unique_contracts!$AB:$AB,\"=\"&\"\",unique_contracts!$BS:$BS,\"=\"&$B31&\" (\"&$G31&\")\",unique_contracts!$AM:$AM,\"<=\"&E$4,unique_contracts!$AP:$AP,\">=\"&E$4))","v":0},{"$f":"SUM(SUMIFS(unique_contracts!BW:BW,unique_contracts!$AB:$AB,{\"Buy\",\"Owned\"},unique_contracts!$BS:$BS,\"=\"&$B31&\" (\"&$G31&\")\",unique_contracts!$AM:$AM,\"<=\"&F$4,unique_contracts!$AP:$AP,\">=\"&F$4), SUMIFS(unique_contracts!BW:BW,unique_contracts!$AB:$AB,\"=\"&\"\",unique_contracts!$BS:$BS,\"=\"&$B31&\" (\"&$G31&\")\",unique_contracts!$AM:$AM,\"<=\"&F$4,unique_contracts!$AP:$AP,\">=\"&F$4))","v":0},{"$f":"SUMIFS(unique_contracts!BT:BT,unique_contracts!$AB:$AB,\"=Sell\",unique_contracts!$BS:$BS,\"=\"&$B31&\" (\"&$G31&\")\",unique_contracts!$AM:$AM,\"<=\"&C$4,unique_contracts!$AP:$AP,\">=\"&C$4)","v":0},{"$f":"SUMIFS(unique_contracts!BU:BU,unique_contracts!$AB:$AB,\"=Sell\",unique_contracts!$BS:$BS,\"=\"&$B31&\" (\"&$G31&\")\",unique_contracts!$AM:$AM,\"<=\"&D$4,unique_contracts!$AP:$AP,\">=\"&D$4)","v":0},{"$f":"SUMIFS(unique_contracts!BV:BV,unique_contracts!$AB:$AB,\"=Sell\",unique_contracts!$BS:$BS,\"=\"&$B31&\" (\"&$G31&\")\",unique_contracts!$AM:$AM,\"<=\"&E$4,unique_contracts!$AP:$AP,\">=\"&E$4)","v":0},{"$f":"SUMIFS(unique_contracts!BW:BW,unique_contracts!$AB:$AB,\"=Sell\",unique_contracts!$BS:$BS,\"=\"&$B31&\" (\"&$G31&\")\",unique_contracts!$AM:$AM,\"<=\"&F$4,unique_contracts!$AP:$AP,\">=\"&F$4)","v":0},0,0,0,0]
[null,"Battery Storage",356.38700799999998,492.89200799999998,950.76700800000015,650.76700800000015,"MWh Energy Capacity","n/a",null,null,{"$f":"SUM(SUMIFS(unique_contracts!BT:BT,unique_contracts!$AB:$AB,{\"Buy\",\"Owned\"},unique_contracts!$BS:$BS,\"=\"&$B32&\" (\"&$G32&\")\",unique_contracts!$AM:$AM,\"<=\"&C$4,unique_contracts!$AP:$AP,\">=\"&C$4), SUMIFS(unique_contracts!BT:BT,unique_contracts!$AB:$AB,\"=\"&\"\",unique_contracts!$BS:$BS,\"=\"&$B32&\" (\"&$G32&\")\",unique_contracts!$AM:$AM,\"<=\"&C$4,unique_contracts!$AP:$AP,\">=\"&C$4))","v":347.987008},{"$f":"SUM(SUMIFS(unique_contracts!BU:BU,unique_contracts!$AB:$AB,{\"Buy\",\"Owned\"},unique_contracts!$BS:$BS,\"=\"&$B32&\" (\"&$G32&\")\",unique_contracts!$AM:$AM,\"<=\"&D$4,unique_contracts!$AP:$AP,\">=\"&D$4), SUMIFS(unique_contracts!BU:BU,unique_contracts!$AB:$AB,\"=\"&\"\",unique_contracts!$BS:$BS,\"=\"&$B32&\" (\"&$G32&\")\",unique_contracts!$AM:$AM,\"<=\"&D$4,unique_contracts!$AP:$AP,\">=\"&D$4))","v":478.492008},{"$f":"SUM(SUMIFS(unique_contracts!BV:BV,unique_contracts!$AB:$AB,{\"Buy\",\"Owned\"},unique_contracts!$BS:$BS,\"=\"&$B32&\" (\"&$G32&\")\",unique_contracts!$AM:$AM,\"<=\"&E$4,unique_contracts!$AP:$AP,\">=\"&E$4), SUMIFS(unique_contracts!BV:BV,unique_contracts!$AB:$AB,\"=\"&\"\",unique_contracts!$BS:$BS,\"=\"&$B32&\" (\"&$G32&\")\",unique_contracts!$AM:$AM,\"<=\"&E$4,unique_contracts!$AP:$AP,\">=\"&E$4))","v":936.36700800000017},{"$f":"SUM(SUMIFS(unique_contracts!BW:BW,unique_contracts!$AB:$AB,{\"Buy\",\"Owned\"},unique_contracts!$BS:$BS,\"=\"&$B32&\" (\"&$G32&\")\",unique_contracts!$AM:$AM,\"<=\"&F$4,unique_contracts!$AP:$AP,\">=\"&F$4), SUMIFS(unique_contracts!BW:BW,unique_contracts!$AB:$AB,\"=\"&\"\",unique_contracts!$BS:$BS,\"=\"&$B32&\" (\"&$G32&\")\",unique_contracts!$AM:$AM,\"<=\"&F$4,unique_contracts!$AP:$AP,\">=\"&F$4))","v":636.36700800000017},{"$f":"SUMIFS(unique_contracts!BT:BT,unique_contracts!$AB:$AB,\"=Sell\",unique_contracts!$BS:$BS,\"=\"&$B32&\" (\"&$G32&\")\",unique_contracts!$AM:$AM,\"<=\"&C$4,unique_contracts!$AP:$AP,\">=\"&C$4)","v":0},{"$f":"SUMIFS(unique_contracts!BU:BU,unique_contracts!$AB:$AB,\"=Sell\",unique_contracts!$BS:$BS,\"=\"&$B32&\" (\"&$G32&\")\",unique_contracts!$AM:$AM,\"<=\"&D$4,unique_contracts!$AP:$AP,\">=\"&D$4)","v":0},{"$f":"SUMIFS(unique_contracts!BV:BV,unique_contracts!$AB:$AB,\"=Sell\",unique_contracts!$BS:$BS,\"=\"&$B32&\" (\"&$G32&\")\",unique_contracts!$AM:$AM,\"<=\"&E$4,unique_contracts!$AP:$AP,\">=\"&E$4)","v":0},{"$f":"SUMIFS(unique_contracts!BW:BW,unique_contracts!$AB:$AB,\"=Sell\",unique_contracts!$BS:$BS,\"=\"&$B32&\" (\"&$G32&\")\",unique_contracts!$AM:$AM,\"<=\"&F$4,unique_contracts!$AP:$AP,\">=\"&F$4)","v":0},347.987008,478.492008,936.36700800000017,636.36700800000017]
[null,"User-Specified Profies"]
[null,"Storage Resource Custom Profile",0,{"$f":"T34","v":0},{"$f":"U34","v":0},{"$f":"V34","v":0},"MW","n/a",null,null,{"$f":"SUM(SUMIFS(unique_contracts!BT:BT,unique_contracts!$AB:$AB,{\"Buy\",\"Owned\"},unique_contracts!$BS:$BS,\"=\"&$B34&\" (\"&$G34&\")\",unique_contracts!$AM:$AM,\"<=\"&C$4,unique_contracts!$AP:$AP,\">=\"&C$4), SUMIFS(unique_contracts!BT:BT,unique_contracts!$AB:$AB,\"=\"&\"\",unique_contracts!$BS:$BS,\"=\"&$B34&\" (\"&$G34&\")\",unique_contracts!$AM:$AM,\"<=\"&C$4,unique_contracts!$AP:$AP,\">=\"&C$4))","v":0},{"$f":"SUM(SUMIFS(unique_contracts!BU:BU,unique_contracts!$AB:$AB,{\"Buy\",\"Owned\"},unique_contracts!$BS:$BS,\"=\"&$B34&\" (\"&$G34&\")\",unique_contracts!$AM:$AM,\"<=\"&D$4,unique_contracts!$AP:$AP,\">=\"&D$4), SUMIFS(unique_contracts!BU:BU,unique_contracts!$AB:$AB,\"=\"&\"\",unique_contracts!$BS:$BS,\"=\"&$B34&\" (\"&$G34&\")\",unique_contracts!$AM:$AM,\"<=\"&D$4,unique_contracts!$AP:$AP,\">=\"&D$4))","v":0},{"$f":"SUM(SUMIFS(unique_contracts!BV:BV,unique_contracts!$AB:$AB,{\"Buy\",\"Owned\"},unique_contracts!$BS:$BS,\"=\"&$B34&\" (\"&$G34&\")\",unique_contracts!$AM:$AM,\"<=\"&E$4,unique_contracts!$AP:$AP,\">=\"&E$4), SUMIFS(unique_contracts!BV:BV,unique_contracts!$AB:$AB,\"=\"&\"\",unique_contracts!$BS:$BS,\"=\"&$B34&\" (\"&$G34&\")\",unique_contracts!$AM:$AM,\"<=\"&E$4,unique_contracts!$AP:$AP,\">=\"&E$4))","v":0},{"$f":"SUM(SUMIFS(unique_contracts!BW:BW,unique_contracts!$AB:$AB,{\"Buy\",\"Owned\"},unique_contracts!$BS:$BS,\"=\"&$B34&\" (\"&$G34&\")\",unique_contracts!$AM:$AM,\"<=\"&F$4,unique_contracts!$AP:$AP,\">=\"&F$4), SUMIFS(unique_contracts!BW:BW,unique_contracts!$AB:$AB,\"=\"&\"\",unique_contracts!$BS:$BS,\"=\"&$B34&\" (\"&$G34&\")\",unique_contracts!$AM:$AM,\"<=\"&F$4,unique_contracts!$AP:$AP,\">=\"&F$4))","v":0},{"$f":"SUMIFS(unique_contracts!BT:BT,unique_contracts!$AB:$AB,\"=Sell\",unique_contracts!$BS:$BS,\"=\"&$B34&\" (\"&$G34&\")\",unique_contracts!$AM:$AM,\"<=\"&C$4,unique_contracts!$AP:$AP,\">=\"&C$4)","v":0},{"$f":"SUMIFS(unique_contracts!BU:BU,unique_contracts!$AB:$AB,\"=Sell\",unique_contracts!$BS:$BS,\"=\"&$B34&\" (\"&$G34&\")\",unique_contracts!$AM:$AM,\"<=\"&D$4,unique_contracts!$AP:$AP,\">=\"&D$4)","v":0},{"$f":"SUMIFS(unique_contracts!BV:BV,unique_contracts!$AB:$AB,\"=Sell\",unique_contracts!$BS:$BS,\"=\"&$B34&\" (\"&$G34&\")\",unique_contracts!$AM:$AM,\"<=\"&E$4,unique_contracts!$AP:$AP,\">=\"&E$4)","v":0},{"$f":"SUMIFS(unique_contracts!BW:BW,unique_contracts!$AB:$AB,\"=Sell\",unique_contracts!$BS:$BS,\"=\"&$B34&\" (\"&$G34&\")\",unique_contracts!$AM:$AM,\"<=\"&F$4,unique_contracts!$AP:$AP,\">=\"&F$4)","v":0},{"$f":"K34-O34","v":0},{"$f":"L34-P34","v":0},{"$f":"M34-Q34","v":0},{"$f":"N34-R34","v":0}]
[null,"RPS Resource Custom Profile ",0,0,0,0,"GWh","RPS Eligible",null,null,{"$f":"SUM(SUMIFS(unique_contracts!BT:BT,unique_contracts!$AB:$AB,{\"Buy\",\"Owned\"},unique_contracts!$BS:$BS,\"=\"&$B35&\" (\"&$G35&\")\",unique_contracts!$AM:$AM,\"<=\"&C$4,unique_contracts!$AP:$AP,\">=\"&C$4), SUMIFS(unique_contracts!BT:BT,unique_contracts!$AB:$AB,\"=\"&\"\",unique_contracts!$BS:$BS,\"=\"&$B35&\" (\"&$G35&\")\",unique_contracts!$AM:$AM,\"<=\"&C$4,unique_contracts!$AP:$AP,\">=\"&C$4))","v":0},{"$f":"SUM(SUMIFS(unique_contracts!BU:BU,unique_contracts!$AB:$AB,{\"Buy\",\"Owned\"},unique_contracts!$BS:$BS,\"=\"&$B35&\" (\"&$G35&\")\",unique_contracts!$AM:$AM,\"<=\"&D$4,unique_contracts!$AP:$AP,\">=\"&D$4), SUMIFS(unique_contracts!BU:BU,unique_contracts!$AB:$AB,\"=\"&\"\",unique_contracts!$BS:$BS,\"=\"&$B35&\" (\"&$G35&\")\",unique_contracts!$AM:$AM,\"<=\"&D$4,unique_contracts!$AP:$AP,\">=\"&D$4))","v":0},{"$f":"SUM(SUMIFS(unique_contracts!BV:BV,unique_contracts!$AB:$AB,{\"Buy\",\"Owned\"},unique_contracts!$BS:$BS,\"=\"&$B35&\" (\"&$G35&\")\",unique_contracts!$AM:$AM,\"<=\"&E$4,unique_contracts!$AP:$AP,\">=\"&E$4), SUMIFS(unique_contracts!BV:BV,unique_contracts!$AB:$AB,\"=\"&\"\",unique_contracts!$BS:$BS,\"=\"&$B35&\" (\"&$G35&\")\",unique_contracts!$AM:$AM,\"<=\"&E$4,unique_contracts!$AP:$AP,\">=\"&E$4))","v":0},{"$f":"SUM(SUMIFS(unique_contracts!BW:BW,unique_contracts!$AB:$AB,{\"Buy\",\"Owned\"},unique_contracts!$BS:$BS,\"=\"&$B35&\" (\"&$G35&\")\",unique_contracts!$AM:$AM,\"<=\"&F$4,unique_contracts!$AP:$AP,\">=\"&F$4), SUMIFS(unique_contracts!BW:BW,unique_contracts!$AB:$AB,\"=\"&\"\",unique_contracts!$BS:$BS,\"=\"&$B35&\" (\"&$G35&\")\",unique_contracts!$AM:$AM,\"<=\"&F$4,unique_contracts!$AP:$AP,\">=\"&F$4))","v":0},{"$f":"SUMIFS(unique_contracts!BT:BT,unique_contracts!$AB:$AB,\"=Sell\",unique_contracts!$BS:$BS,\"=\"&$B35&\" (\"&$G35&\")\",unique_contracts!$AM:$AM,\"<=\"&C$4,unique_contracts!$AP:$AP,\">=\"&C$4)","v":0},{"$f":"SUMIFS(unique_contracts!BU:BU,unique_contracts!$AB:$AB,\"=Sell\",unique_contracts!$BS:$BS,\"=\"&$B35&\" (\"&$G35&\")\",unique_contracts!$AM:$AM,\"<=\"&D$4,unique_contracts!$AP:$AP,\">=\"&D$4)","v":0},{"$f":"SUMIFS(unique_contracts!BV:BV,unique_contracts!$AB:$AB,\"=Sell\",unique_contracts!$BS:$BS,\"=\"&$B35&\" (\"&$G35&\")\",unique_contracts!$AM:$AM,\"<=\"&E$4,unique_contracts!$AP:$AP,\">=\"&E$4)","v":0},{"$f":"SUMIFS(unique_contracts!BW:BW,unique_contracts!$AB:$AB,\"=Sell\",unique_contracts!$BS:$BS,\"=\"&$B35&\" (\"&$G35&\")\",unique_contracts!$AM:$AM,\"<=\"&F$4,unique_contracts!$AP:$AP,\">=\"&F$4)","v":0},0,0,0,0]
[null,"GHG-free non-RPS Resource",0,0,0,0,"GWh","GHG-Free",null,null,{"$f":"SUM(SUMIFS(unique_contracts!BT:BT,unique_contracts!$AB:$AB,{\"Buy\",\"Owned\"},unique_contracts!$BS:$BS,\"=\"&$B36&\" (\"&$G36&\")\",unique_contracts!$AM:$AM,\"<=\"&C$4,unique_contracts!$AP:$AP,\">=\"&C$4), SUMIFS(unique_contracts!BT:BT,unique_contracts!$AB:$AB,\"=\"&\"\",unique_contracts!$BS:$BS,\"=\"&$B36&\" (\"&$G36&\")\",unique_contracts!$AM:$AM,\"<=\"&C$4,unique_contracts!$AP:$AP,\">=\"&C$4))","v":0},{"$f":"SUM(SUMIFS(unique_contracts!BU:BU,unique_contracts!$AB:$AB,{\"Buy\",\"Owned\"},unique_contracts!$BS:$BS,\"=\"&$B36&\" (\"&$G36&\")\",unique_contracts!$AM:$AM,\"<=\"&D$4,unique_contracts!$AP:$AP,\">=\"&D$4), SUMIFS(unique_contracts!BU:BU,unique_contracts!$AB:$AB,\"=\"&\"\",unique_contracts!$BS:$BS,\"=\"&$B36&\" (\"&$G36&\")\",unique_contracts!$AM:$AM,\"<=\"&D$4,unique_contracts!$AP:$AP,\">=\"&D$4))","v":0},{"$f":"SUM(SUMIFS(unique_contracts!BV:BV,unique_contracts!$AB:$AB,{\"Buy\",\"Owned\"},unique_contracts!$BS:$BS,\"=\"&$B36&\" (\"&$G36&\")\",unique_contracts!$AM:$AM,\"<=\"&E$4,unique_contracts!$AP:$AP,\">=\"&E$4), SUMIFS(unique_contracts!BV:BV,unique_contracts!$AB:$AB,\"=\"&\"\",unique_contracts!$BS:$BS,\"=\"&$B36&\" (\"&$G36&\")\",unique_contracts!$AM:$AM,\"<=\"&E$4,unique_contracts!$AP:$AP,\">=\"&E$4))","v":0},{"$f":"SUM(SUMIFS(unique_contracts!BW:BW,unique_contracts!$AB:$AB,{\"Buy\",\"Owned\"},unique_contracts!$BS:$BS,\"=\"&$B36&\" (\"&$G36&\")\",unique_contracts!$AM:$AM,\"<=\"&F$4,unique_contracts!$AP:$AP,\">=\"&F$4), SUMIFS(unique_contracts!BW:BW,unique_contracts!$AB:$AB,\"=\"&\"\",unique_contracts!$BS:$BS,\"=\"&$B36&\" (\"&$G36&\")\",unique_contracts!$AM:$AM,\"<=\"&F$4,unique_contracts!$AP:$AP,\">=\"&F$4))","v":0},{"$f":"SUMIFS(unique_contracts!BT:BT,unique_contracts!$AB:$AB,\"=Sell\",unique_contracts!$BS:$BS,\"=\"&$B36&\" (\"&$G36&\")\",unique_contracts!$AM:$AM,\"<=\"&C$4,unique_contracts!$AP:$AP,\">=\"&C$4)","v":0},{"$f":"SUMIFS(unique_contracts!BU:BU,unique_contracts!$AB:$AB,\"=Sell\",unique_contracts!$BS:$BS,\"=\"&$B36&\" (\"&$G36&\")\",unique_contracts!$AM:$AM,\"<=\"&D$4,unique_contracts!$AP:$AP,\">=\"&D$4)","v":0},{"$f":"SUMIFS(unique_contracts!BV:BV,unique_contracts!$AB:$AB,\"=Sell\",unique_contracts!$BS:$BS,\"=\"&$B36&\" (\"&$G36&\")\",unique_contracts!$AM:$AM,\"<=\"&E$4,unique_contracts!$AP:$AP,\">=\"&E$4)","v":0},{"$f":"SUMIFS(unique_contracts!BW:BW,unique_contracts!$AB:$AB,\"=Sell\",unique_contracts!$BS:$BS,\"=\"&$B36&\" (\"&$G36&\")\",unique_contracts!$AM:$AM,\"<=\"&F$4,unique_contracts!$AP:$AP,\">=\"&F$4)","v":0},0,0,0,0]
[null,"Coal"]
[null,"Coal",0,0,0,0,"GWh","n/a",null,null,{"$f":"SUM(SUMIFS(unique_contracts!BT:BT,unique_contracts!$AB:$AB,{\"Buy\",\"Owned\"},unique_contracts!$BS:$BS,\"=\"&$B38&\" (\"&$G38&\")\",unique_contracts!$AM:$AM,\"<=\"&C$4,unique_contracts!$AP:$AP,\">=\"&C$4), SUMIFS(unique_contracts!BT:BT,unique_contracts!$AB:$AB,\"=\"&\"\",unique_contracts!$BS:$BS,\"=\"&$B38&\" (\"&$G38&\")\",unique_contracts!$AM:$AM,\"<=\"&C$4,unique_contracts!$AP:$AP,\">=\"&C$4))","v":0},{"$f":"SUM(SUMIFS(unique_contracts!BU:BU,unique_contracts!$AB:$AB,{\"Buy\",\"Owned\"},unique_contracts!$BS:$BS,\"=\"&$B38&\" (\"&$G38&\")\",unique_contracts!$AM:$AM,\"<=\"&D$4,unique_contracts!$AP:$AP,\">=\"&D$4), SUMIFS(unique_contracts!BU:BU,unique_contracts!$AB:$AB,\"=\"&\"\",unique_contracts!$BS:$BS,\"=\"&$B38&\" (\"&$G38&\")\",unique_contracts!$AM:$AM,\"<=\"&D$4,unique_contracts!$AP:$AP,\">=\"&D$4))","v":0},{"$f":"SUM(SUMIFS(unique_contracts!BV:BV,unique_contracts!$AB:$AB,{\"Buy\",\"Owned\"},unique_contracts!$BS:$BS,\"=\"&$B38&\" (\"&$G38&\")\",unique_contracts!$AM:$AM,\"<=\"&E$4,unique_contracts!$AP:$AP,\">=\"&E$4), SUMIFS(unique_contracts!BV:BV,unique_contracts!$AB:$AB,\"=\"&\"\",unique_contracts!$BS:$BS,\"=\"&$B38&\" (\"&$G38&\")\",unique_contracts!$AM:$AM,\"<=\"&E$4,unique_contracts!$AP:$AP,\">=\"&E$4))","v":0},{"$f":"SUM(SUMIFS(unique_contracts!BW:BW,unique_contracts!$AB:$AB,{\"Buy\",\"Owned\"},unique_contracts!$BS:$BS,\"=\"&$B38&\" (\"&$G38&\")\",unique_contracts!$AM:$AM,\"<=\"&F$4,unique_contracts!$AP:$AP,\">=\"&F$4), SUMIFS(unique_contracts!BW:BW,unique_contracts!$AB:$AB,\"=\"&\"\",unique_contracts!$BS:$BS,\"=\"&$B38&\" (\"&$G38&\")\",unique_contracts!$AM:$AM,\"<=\"&F$4,unique_contracts!$AP:$AP,\">=\"&F$4))","v":0},{"$f":"SUMIFS(unique_contracts!BT:BT,unique_contracts!$AB:$AB,\"=Sell\",unique_contracts!$BS:$BS,\"=\"&$B38&\" (\"&$G38&\")\",unique_contracts!$AM:$AM,\"<=\"&C$4,unique_contracts!$AP:$AP,\">=\"&C$4)","v":0},{"$f":"SUMIFS(unique_contracts!BU:BU,unique_contracts!$AB:$AB,\"=Sell\",unique_contracts!$BS:$BS,\"=\"&$B38&\" (\"&$G38&\")\",unique_contracts!$AM:$AM,\"<=\"&D$4,unique_contracts!$AP:$AP,\">=\"&D$4)","v":0},{"$f":"SUMIFS(unique_contracts!BV:BV,unique_contracts!$AB:$AB,\"=Sell\",unique_contracts!$BS:$BS,\"=\"&$B38&\" (\"&$G38&\")\",unique_contracts!$AM:$AM,\"<=\"&E$4,unique_contracts!$AP:$AP,\">=\"&E$4)","v":0},{"$f":"SUMIFS(unique_contracts!BW:BW,unique_contracts!$AB:$AB,\"=Sell\",unique_contracts!$BS:$BS,\"=\"&$B38&\" (\"&$G38&\")\",unique_contracts!$AM:$AM,\"<=\"&F$4,unique_contracts!$AP:$AP,\">=\"&F$4)","v":0},0,0,0,0]

{"sheet":"ReportSheet","index":10,"n_rows":3,"n_cols":11,"rows_kept":3,"cut":false,"hidden":false,"merged":[]}
["Duplicated Contract IDs:","Entry with non-positive values:","Invalid resource error rows:","Rows missing required project viability associated data:","Rows missing required hybrid associated data:","Supertype Contract Status Error or Null Rows:","Transaction counterparty error rows:","Rows missing CSP GWh:","Rows with invalid buying_energy_capacity and csp_resource_category:","Rows missing MTR NQC:","Warning-total capacity is equal to or greater then generator plus storage MWs for rows:"]
[null,null,null,95]
[null,null,null,96]